{"text_format":"1","workbook":"xlsx","n_sheets":2,"sheets":["CrediAltoque (SI)","Calculos CrediAltoque"],"not_rendered":{"charts":0,"images":1,"macros":1,"external_links":0,"defined_names":0,"comments":0,"pivot_tables":0},"unopened":[],"bounds":{"document_bytes":16777216,"sheet_cells":100000,"rows_first":2000,"rows_last":500,"rows_between":2000,"halvings":0,"cell_chars":16384,"cell_head_chars":4096},"cells_cut":0,"cells_raw":0,"read":"whole","date_system":"1900"}

{"sheet":"CrediAltoque (SI)","index":0,"n_rows":89,"n_cols":46,"rows_kept":89,"cut":false,"hidden":false,"merged":[[33,36,33,37],[30,18,30,19],[1,10,1,31],[2,10,2,23]]}
[]
[null,null,null,null,null,null,null,null,null,null,"SIMULADOR DE CUOTAS -CREDIALTOQUE"]
[null,null,null,null,null,null,null,null,null,null,"¡Hola! Usa este simulador para conocer el valor referencial de tu Pago Total de Cuota (P) mensual cuando compres en Tiendas Carsa, Marcimex y El Gallo más Gallo con tu Credialtoque. \nRecuerda que:\n- Electro hasta 30 meses\n- Motos has 36 meses"]
[]
[null,null,"Moneda",null,null,null,null,null,null,null,null,"Soles"]
[null,null,"Importe Solicitado (soles S/.)",null,null,null,null,null,null,null,null,3500,null,null,null,null,null,"Fecha Desembolso",null,null,null,null,null,{"$f":"TODAY()","v":"2023-02-01"}]
[null,null,"Saldo de Capital",null,null,null,null,null,null,null,null,{"$f":"L6","v":3500},null,null,null,null,null,"Fecha de la 1° cuota",null,null,null,null,null,{"$f":"IF(R9<=15,DATE(YEAR(EDATE(W9,1)),MONTH(EDATE(W9,1)),DAY(15)),DATE(YEAR(EDATE(W9,2)),MONTH(EDATE(W9,1)),DAY(3)))","v":"2023-03-15"}]
[null,null,"Saldo de Interes",null,null,null,null,null,null,null,null,0,null,null,null,null,null,"Fecha final de vencimiento",null,null,null,null,null,{"$f":"IF(OR($H$18>0,$H$19>0),VLOOKUP($L$15,$A$35:$C$74,3,0),DATE(YEAR(EDATE(W9,L15)),MONTH(EDATE(W9,L15)),DAY(EDATE(W9,L15))))","v":"2024-02-15"}]
[null,null,"Tasa Anual (TEA) - Fija",null,null,null,null,null,null,null,null,83,"Fecha Final de Gracia",null,null,null,null,{"$f":"DAY(X6)","v":1},null,null,null,null,{"$f":"IF(R9<=15,DATE(YEAR(EDATE(X6+H17,1)),MONTH(EDATE(X6,0)),DAY(15)),DATE(YEAR(EDATE(X6+H17,1)),MONTH(EDATE(X6,1)),DAY(3)))","v":"2023-02-15"}]
[null,null,"Tasa de Seguro de Desgravamen",null,null,null,null,null,null,null,null,"Seguro Con Retorno",null,null,null,null,null,null,null,null,null,null,360]
[null,null,"Tasa Anual (TEA) - Ajustada",null,null,null,null,null,null,null,null,{"$f":"+L9","v":83},"Frecuencia pago en días",null,null,null,null,null,null,null,null,null,30]
[null,null,"Comision por Env. Inf",null,null,null,null,null,null,null,null,0,"Tasa Equivalente - Ajustada",null,null,null,null,{"$f":"ROUND((((L11/100+1)^(1/(W10/W11))-1)*W10/W11)*100,6)","v":61.979121999999997},"tea conv. A tem luego nominal anual"]
[null,null,"Valor Asegurable",null,null,null,null,null,null,null,null,0,"Días entre cuotas",null,null,null,null,{"$f":"(X8-W9)/L15","v":30.416666666666668},"dias promedio entre cuotas"]
[null,null,"Tasa de Seguro Todo Riesgo",null,null,null,null,null,null,{"$f":"+L14*12","v":0},null,0,"Factor Aplicado - Ajustada",null,null,null,null,{"$f":"ROUND(($R$12/100)/($W$10/$R$13),8)","v":5.2366620000000003E-2},"tem convertida de manera nominal a los dias entre cuotas"]
[null,null,"Plazo y  Nro. Cuotas",null,null,null,null,null,null,{"$f":"L15","v":12},null,12,"Factor Aplicado para la cuota - Ajustada",null,null,null,null,{"$f":"1/((1-((1+$R$14)^(-1*$L$15)))/$R$14)","v":0.11433633410663963},"Factor de cuota (ok)"]
[null,null,"Tasa de Costo Efectivo Anual",null,null,null,null,null,null,null,null,{"$f":"AI22*100","v":95.745608788597721}]
[null,null,"Días de Gracia",null,null,null,null,0,null,null,null,null,"Interes de Gracia  (Se considera la TEA Normal)",null,null,null,null,{"$f":"IF(H17>0,ROUND(L7*(((1+L9/100)^(ABS(H17)/W10))-1),4),ROUND(L7*(((1+L9/100)^(ABS(H17)/W10))-1),4) * -1)","v":0},"Ok"]
[null,null,"Mes de No Pago 1",null,null,null,null,0,null,null,null,null,"Saldo Interes +/- Interes Gracia",null,null,null,null,{"$f":"IF(L8 + R17>0,L8+ R17,0)","v":0}]
[null,null,"Mes de No Pago 2",null,null,null,null,0,null,null,null,null,"Seg Desg de Gracia",null,null,null,null,{"$f":"IF(H17>0,ROUNDDOWN(L6*L10/30*H17,2),ROUNDDOWN(L6*L10/30*H17,2)*0)","v":{"$error":"#VALUE!"}}]
[null,null,"Mes Cuota Doble 1",null,null,null,null,0,null,null,null,null,"TCEA",null,null,null,null,{"$f":"+$AI$33","v":0.95745608788597725}]
[null,null,"Mes Cuota Doble 2",null,null,null," ",0]
[null,null,null,null,null,null,null,null,null,null,null,null,null,null,null,null,null,null,null,null,null,null,null,null,null,null,null,null,null,null,null,null,null,"TIR",{"$f":"(1+XIRR(AI34:AI74,AH34:AH74))^(360/365)-1","v":0.95745608788597725}]
[null,null,null,null,null,null,null,null,null,null,null,null,null,null,null,"Suavización",null,null,null,null,null,"Validador Cuota Doble"]
[null,null,null,null,null,null,null,null,null,null,null,null,null,null,null,"Ultimo saldo de Principal",null,{"$f":"VLOOKUP(J15,$F$34:$X$74,18,FALSE)","v":423.55500000000478},null,null,null,"Cuota Simple",null,{"$f":"+VLOOKUP(\"\",$D$35:$W$74,19,0)","v":0}]
[null,null,3.5000000000000001E-3,"Seguro Sin Retorno",null,"Valor de cuota por dias de gracia",null,null,null,{"$f":"+ROUND(IF(OR(H18+H19>0,H20+H21>0),R18/VLOOKUP(L15,'Calculos CrediAltoque'!$A$3:$G$243,7,FALSE),'CrediAltoque (SI)'!R18*'CrediAltoque (SI)'!$R$15),2)","v":0},{"$f":"R18/SUM(AO35:INDIRECT(CONCATENATE(\"AE\",32+J15-1)))","v":{"$error":"#REF!"}},null,null,null,null,"Numero de Dias",null,{"$f":"X8-W9","v":365},null,null,null,"Cuota Doble",null,{"$f":"+IFERROR(VLOOKUP(\"D\",$D$35:$W$74,19,0),\" \")","v":" "}]
[null,null,1.0999999999999999E-2,"Seguro Con Retorno",null,"Valor de cuota por capital",null,null,null,{"$f":"ROUND(IF(OR(H18 + H19 > 0,H20 + H21>0), ROUNDUP(L7/VLOOKUP(L15,'Calculos CrediAltoque'!$A$3:$G$243,7,FALSE),2),L7*$R$15),2)","v":400.18},null,null,"sin desgravamen",null,null,"Valor de Cuota Nivelada",null,{"$f":"ROUND(+R24/ROUND(1*(((1+L11/100)^(R25/W10))-1),4),2)","v":501.01},null,null,null,"Factor",null,{"$f":"+IFERROR(X25/X24,\" \")","v":" "}]
[null,null,0,"Endoso",null,"Valor de Seg Desg por dia de gracia",null,null,null,{"$f":"$R$19/(($J$15+COUNTIF(D35:INDIRECT(CONCATENATE(\"C\",32+J15-1)),\"D\"))*(1/((1+0)^($W$11/$W$10))))","v":{"$error":"#VALUE!"}}]
[null,null,{"$f":"INDEX(C25:C27,MATCH(L10,D25:D27,0))","v":1.0999999999999999E-2},null,null,"Seguro de Desgravamen (FPF)",null,null,null,{"$f":"$L$6*$L$10","v":{"$error":"#VALUE!"}},null,null,null,null,null,"Factor Ajuste",null,{"$f":"R26*R15","v":57.283646750767517},null,"Se copia LO DEL COSTADO  a partir de la primera corrida",null,"Calce de Capital"]
[null,null,null,null,null,"Comision por Env.Inf",null,null,null,0,null,null,null,null,null,"Exceso de Int + Gracia",null,{"$f":"SUM(Y35:Y74)","v":0},{"$f":"ROUND(IF(OR(H18+ H19> 0,H20 + H21>0),ROUNDUP($R$29/VLOOKUP(L15,'Calculos CrediAltoque'!$A$3:$G$243,7,FALSE),2),$R$29*$R$15),2)","v":0},0,null,"Suma Capital (K)",null,{"$f":"+SUM($K$35:$K$74)","v":3500.0000000000573}]
[null,null,null,null,null,"Seguro Todo Riesgo",null,null,null,{"$f":"ROUND($L$13*$L$14,2)","v":0},null,null,null,null,null,"Factor Ajuste 2",null,{"$f":"+R24/L15","v":35.296250000000398},null,null,null,"Validador",null,{"$f":"+$L$6-X29","v":-5.7298166211694479E-11},null,null,null,"<- El valor tiene que ser cercano a cero."]
[null,null,null,null,null,"Cuota",null,null,null,{"$f":"J25+J26+J28+J29+ J30+J27","v":{"$error":"#VALUE!"}},null,null,null,null,null,"Digite Factor de Ajuste Anterior  mas El Actual",null,23.375000000004775,"Se actualiza en cada simulación (Validar que la celda W28 sea cero)"]
[]
[null,null,"si",null,null,"si",null,null,null,null,null,"si","si",null,null,null,null,"si",null,null,null,null,"Si","si",null,null,null,null,null,null,null,null,null,"TIR",{"$f":"(1+XIRR(AI34:AI74,AH34:AH74))^(360/365)-1","v":0.95745608788597725},null,null,null,null,"Minicronograma de Gracia"]
[null,null,"Fecha Vcto.","Marca","Nro. Cuota (De acuerdo a Plazo)","Nro. Cuota","Periodo Base","Tasa","Nro. Dias","Principal*","Capital","Capital","Interes","Interes de Gracia","Interes Total","Valor Cuota (variable)","Comision por Env. Inf","Tasa de Seguro de Desgravamen*","Importe de Gracia Desgravamen","Importe Desgravamen por No Pago","Seg. Desgravamen Total","Seguro Todo Riesgo","Cuota","Saldo Principal","Exceso ","Nuevo Interes I","Nuevo Desgravamen  I (no se utiliza)","Nuevo Interes (SF2INT)\nreplica columna L","Nuevo Desgravamen (SF2GRV)\nreplica columna Q","Desgravamen Gracia\nreplica columna R","Desgravamen No Pago S","Total Cuota (SF2PAG)\nigual a columna V",null,{"$f":"+X6","v":"2023-02-01"},{"$f":"-L6","v":-3500},null,"VALIDADORES",null,null,"Dias Transcurridos Acumulados","Factor Simple Actualizacion","Principal","Capital","Interes","Cuota Gracia","Saldo Deuda"]
[1,{"$f":"IF(A35=\"\",\"\",IF(A35<=$H$24,0,1))","v":1},{"$f":"IF(OR(MONTH(EDATE($W$9,E35))=$H$18,MONTH(EDATE($W$9,E35))=$H$19),IF(ABS($H$19-$H$18)=1,EDATE($W$9,E35+2),EDATE($W$9,E35+1)),EDATE($W$9,E35))","v":"2023-03-15"},{"$f":"IF(B35=\"\",\"\",IF(OR(MONTH(C35)=$H$20,MONTH(C35)=$H$21),\"D\",\"\"))","v":""},{"$f":"IF(OR(MONTH(X7)=H18, MONTH(X7)=H19),IF(ABS(H19-H18)=1,3,2),1)","v":1},{"$f":"1","v":1},{"$f":"$W$10","v":360},{"$f":"IF(B35=\"\",\"\",$L$11)","v":83},{"$f":"IF(OR((C35-W9)=28,(C35-W9)=31),30,30)","v":30},{"$f":"L7","v":3500},{"$f":"IF(B35=\"\",\"\",IF((IF(ISERROR(MATCH(MONTH(C35),$H$20:$H$21,0))=FALSE,$J$26 + $R$31,0) + $J$26+$R$31+$T$29)-M35<0,0.01,IF(ISERROR(MATCH(MONTH(C35),$H$20:$H$21,0))=FALSE,$J$26 + $R$31,0)+ ($J$26+$R$31+$T$29)-M35)- S35 -T35-R35)","v":204.28500000000477},{"$f":"K35","v":204.28500000000477},{"$f":"IF(B35=\"\",\"\",IF($J$26+$R$31<ROUND(ROUND(J35*(((1+(H35/100))^(I35/G35))-1),4),2),$J$26+$R$31 +-0.01,IF(ROUND(ROUND(J35*(((1+(H35/100))^(I35/G35))-1),4),2)>$J$26,$J$26+ -0.01,ROUND(ROUND(J35*(((1+(H35/100))^(I35/G35))-1),4),2))))","v":180.77},{"$f":"IF(B35=\"\",\"\",IF(ISERROR(MATCH(MONTH(C35),$H$20:$H$21,0))=FALSE,$J$25,0)  + $J$25)","v":0},{"$f":"IF(B35=\"\",\"\",M35+N35)","v":180.77},{"$f":"IF(B35=\"\",\"\",K35+O35)","v":385.05500000000478},{"$f":"IF(B35=\"\",\"\",$J$29)","v":0},{"$f":"IF(B35=\"\",\"\",ROUND($C$28*J35,2))","v":38.5},{"$f":"IF(B35=\"\",\"\",(E35-F35)*ROUNDDOWN($L$6*$C$28/30*30,2) + ROUNDDOWN($L$6*$C$28/30*H17,2))","v":0},{"$f":"IF(B35=\"\",\"\",IF(E35-0>1,ROUNDDOWN($J35*$L$10/30*(DATE(YEAR($C35),MONTH($C35)-1,DAY($C35))-C34),2),0))","v":0},{"$f":"IF(B35=\"\",\"\",R35+S35+T35)","v":38.5},{"$f":"IF(B35=\"\",\"\",$J$30)","v":0},{"$f":"IF(B35=\"\",\"\",P35+Q35+R35+S35+T35+V35)","v":423.55500000000478},{"$f":"IF(B35=\"\",\"\",(ROUND(J35-L35,2)))","v":3295.72},{"$f":"IF(B35=\"\",\"\",IF(ROUND(ROUND(J35*(((1+(H35/100))^(I35/G35))-1),4),2) - $J$26<0,0,ROUND(ROUND(J35*(((1+(H35/100))^(I35/G35))-1),4),2) - $J$26))","v":0},null,{"$f":"SUM(L35:N35)","v":385.05500000000478},{"$f":"+M35","v":180.77},{"$f":"+R35","v":38.5},{"$f":"+S35","v":0},{"$f":"+T35","v":0},{"$f":"IFERROR(AB35+K35 + Q35 + V35+AC35 + N35 + AD35 + AE35,\"\")","v":423.55500000000478},{"$f":"IFERROR(IF(D35=\"D\",$J$26*2,$J$26)+R35,0)","v":438.68},{"$f":"+IF(C35=\"\",0,C35)","v":"2023-03-15"},{"$f":"+IF(AF35=\"\",0,AF35)","v":423.55500000000478},null,{"$f":"+IFERROR(AF35-W35,0)","v":0},{"$f":"+IFERROR(AB35-M35,0)","v":0},null,{"$f":"I35","v":30},{"$f":"(1/((1+(#REF!/100))^(AN35/$W$10))*1) * IF(D35=\"D\",2,1)","v":{"$error":"#REF!"}},{"$f":"R18","v":0},{"$f":"AS35-AR35","v":{"$error":"#REF!"}},{"$f":"(((1+(#REF!/100))^((K35)/$W$10))-1)*AP35","v":{"$error":"#REF!"}},{"$f":"IF(D35=\"D\",$K$25,0)+ $K$25","v":{"$error":"#REF!"}},{"$f":"AP35-AQ35","v":{"$error":"#REF!"}}]
[{"$f":"+IF(A35>=$L$15,\"\",A35+1)","v":2},{"$f":"IF(A36=\"\",\"\",IF(A36<=$H$24,0,1))","v":1},{"$f":"IF(B36=\"\",\"\",IF(OR(MONTH(EDATE($W$9,E36))=$H$18,MONTH(EDATE($W$9,E36))=$H$19),IF(ABS($H$19-$H$18)=1,EDATE($W$9,E36+2),EDATE($W$9,E36+1)),EDATE($W$9,E36)))","v":"2023-04-15"},"",{"$f":"+IF(B36=\"\",\"\",IF(OR(MONTH(DATE(YEAR(C35)+0.0833333333333333,MONTH(C35)+1,DAY(C35)))=$H$18,MONTH(DATE(YEAR(C35)+0.5,MONTH(C35)+1,DAY(C35)))=$H$19),IF(ABS($H$19-$H$18)=1,E35+1,E35+2),E35+1))","v":2},{"$f":"+IF(B36=\"\",\"\",F35+1)","v":2},{"$f":"IF(B36=\"\",\"\",$W$10)","v":360},83,{"$f":"IF(B36=\"\",\"\",IF(OR((C36-C35)=28,(C36-C35)=31),30,30))","v":30},{"$f":"IF(B36=\"\",\"\",X35)","v":3295.72},{"$f":"IF(B36=\"\",\"\",IF((IF(ISERROR(MATCH(MONTH(C36),$H$20:$H$21,0))=FALSE,$J$26 + $R$31,0) + $J$26+$R$31+$T$29)-M36<0,0.01,IF(ISERROR(MATCH(MONTH(C36),$H$20:$H$21,0))=FALSE,$J$26 + $R$31,0)+ ($J$26+$R$31+$T$29)-M36)- S36 -T36-R36)","v":217.08500000000478},{"$f":"K36","v":217.08500000000478},170.22,0,170.22,387.30500000000478,0,36.25,null,{"$f":"IF(B36=\"\",\"\",IF(E36-E35>1,ROUNDDOWN($J36*$L$10/30*(DATE(YEAR($C36),MONTH($C36)-1,DAY($C36))-C35),2),0))","v":0},36.25,0,423.55500000000478,{"$f":"IF(B36=\"\",\"\",(ROUND(J36-L36,2)))","v":3078.64},0,null,{"$f":"SUM(L36:N36)","v":387.30500000000478},{"$f":"+M36","v":170.22},{"$f":"+R36","v":36.25},{"$f":"+S36","v":0},{"$f":"+T36","v":0},423.55500000000478,436.43,"2023-04-15",423.55500000000478,null,0,0,null,{"$f":"I36 + AN35","v":60},{"$f":"(1/((1+(#REF!/100))^(AN36/$W$10))*1) * IF(D36=\"D\",2,1)","v":{"$error":"#REF!"}},{"$f":"AT35","v":{"$error":"#REF!"}},{"$f":"AS36-AR36","v":{"$error":"#REF!"}},{"$f":"(((1+(#REF!/100))^((K36)/$W$10))-1)*AP36","v":{"$error":"#REF!"}},{"$error":"#REF!"},{"$f":"AP36-AQ36","v":{"$error":"#REF!"}}]
[3,1,"2023-05-15","",3,{"$f":"+IF(B37=\"\",\"\",F36+1)","v":3},360,83,{"$f":"IF(B37=\"\",\"\",IF(OR((C37-C36)=28,(C37-C36)=31),30,30))","v":30},{"$f":"IF(B37=\"\",\"\",X36)","v":3078.64},230.67500000000479,{"$f":"K37","v":230.67500000000479},159.01,0,159.01,389.68500000000478,0,33.869999999999997,null,0,33.869999999999997,0,423.55500000000478,2847.97,0,null,389.68500000000478,159.01,33.869999999999997,0,0,423.55500000000478,434.05,"2023-05-15",423.55500000000478,null,0,0,null,90,{"$f":"(1/((1+(#REF!/100))^(AN37/$W$10))*1) * IF(D37=\"D\",2,1)","v":{"$error":"#REF!"}},{"$f":"AT36","v":{"$error":"#REF!"}},{"$error":"#REF!"},{"$f":"(((1+(#REF!/100))^((K37)/$W$10))-1)*AP37","v":{"$error":"#REF!"}},{"$error":"#REF!"},{"$error":"#REF!"}]
[4,1,"2023-06-15","",4,4,360,83,30,2847.97,245.12500000000483,{"$f":"K38","v":245.12500000000483},147.1,0,147.1,392.2250000000048,0,31.33,null,0,31.33,0,423.55500000000478,2602.84,0,null,392.2250000000048,147.1,31.33,0,0,423.55500000000478,431.51,"2023-06-15",423.55500000000478,null,0,0,null,120,{"$f":"(1/((1+(#REF!/100))^(AN38/$W$10))*1) * IF(D38=\"D\",2,1)","v":{"$error":"#REF!"}},{"$error":"#REF!"},{"$error":"#REF!"},{"$f":"(((1+(#REF!/100))^((K38)/$W$10))-1)*AP38","v":{"$error":"#REF!"}},{"$error":"#REF!"},{"$error":"#REF!"}]
[5,1,"2023-07-15","",5,5,360,83,30,2602.84,260.49500000000478,{"$f":"K39","v":260.49500000000478},134.43,0,134.43,394.92500000000479,0,28.63,null,0,28.63,0,423.55500000000478,2342.35,0,null,394.92500000000479,134.43,28.63,0,0,423.55500000000478,428.81,"2023-07-15",423.55500000000478,null,0,0,null,150,{"$f":"(1/((1+(#REF!/100))^(AN39/$W$10))*1) * IF(D39=\"D\",2,1)","v":{"$error":"#REF!"}},{"$error":"#REF!"},{"$error":"#REF!"},{"$f":"(((1+(#REF!/100))^((K39)/$W$10))-1)*AP39","v":{"$error":"#REF!"}},{"$error":"#REF!"},{"$error":"#REF!"}]
[6,1,"2023-08-15","",6,6,360,83,30,2342.35,276.80500000000478,{"$f":"K40","v":276.80500000000478},120.98,0,120.98,397.7850000000048,0,25.77,null,0,25.77,0,423.55500000000478,2065.5500000000002,0,null,397.7850000000048,120.98,25.77,0,0,423.55500000000478,425.95,"2023-08-15",423.55500000000478,null,0,0,null,180,{"$f":"(1/((1+(#REF!/100))^(AN40/$W$10))*1) * IF(D40=\"D\",2,1)","v":{"$error":"#REF!"}},{"$error":"#REF!"},{"$error":"#REF!"},{"$f":"(((1+(#REF!/100))^((K40)/$W$10))-1)*AP40","v":{"$error":"#REF!"}},{"$error":"#REF!"},{"$error":"#REF!"}]
[7,1,"2023-09-15","",7,7,360,83,30,2065.5500000000002,294.15500000000475,{"$f":"K41","v":294.15500000000475},106.68,0,106.68,400.83500000000475,0,22.72,null,0,22.72,0,423.55500000000472,1771.4,0,null,400.83500000000475,106.68,22.72,0,0,423.55500000000472,422.9,"2023-09-15",423.55500000000472,null,0,0,null,210,{"$f":"(1/((1+(#REF!/100))^(AN41/$W$10))*1) * IF(D41=\"D\",2,1)","v":{"$error":"#REF!"}},{"$error":"#REF!"},{"$error":"#REF!"},{"$f":"(((1+(#REF!/100))^((K41)/$W$10))-1)*AP41","v":{"$error":"#REF!"}},{"$error":"#REF!"},{"$error":"#REF!"}]
[8,1,"2023-10-15","",8,8,360,83,30,1771.4,312.57500000000476,{"$f":"K42","v":312.57500000000476},91.49,0,91.49,404.06500000000477,0,19.489999999999998,null,0,19.489999999999998,0,423.55500000000478,1458.83,0,null,404.06500000000477,91.49,19.489999999999998,0,0,423.55500000000478,419.67,"2023-10-15",423.55500000000478,null,0,0,null,240,{"$f":"(1/((1+(#REF!/100))^(AN42/$W$10))*1) * IF(D42=\"D\",2,1)","v":{"$error":"#REF!"}},{"$error":"#REF!"},{"$error":"#REF!"},{"$f":"(((1+(#REF!/100))^((K42)/$W$10))-1)*AP42","v":{"$error":"#REF!"}},{"$error":"#REF!"},{"$error":"#REF!"}]
[9,1,"2023-11-15","",9,9,360,83,30,1458.83,332.1550000000048,{"$f":"K43","v":332.1550000000048},75.349999999999994,0,75.349999999999994,407.50500000000477,0,16.05,null,0,16.05,0,423.55500000000478,1126.68,0,null,407.50500000000477,75.349999999999994,16.05,0,0,423.55500000000478,416.23,"2023-11-15",423.55500000000478,null,0,0,null,270,{"$f":"(1/((1+(#REF!/100))^(AN43/$W$10))*1) * IF(D43=\"D\",2,1)","v":{"$error":"#REF!"}},{"$error":"#REF!"},{"$error":"#REF!"},{"$f":"(((1+(#REF!/100))^((K43)/$W$10))-1)*AP43","v":{"$error":"#REF!"}},{"$error":"#REF!"},{"$error":"#REF!"}]
[10,1,"2023-12-15","",10,10,360,83,30,1126.68,352.9750000000048,{"$f":"K44","v":352.9750000000048},58.19,0,58.19,411.1650000000048,0,12.39,null,0,12.39,0,423.55500000000478,773.7,0,null,411.1650000000048,58.19,12.39,0,0,423.55500000000478,412.57,"2023-12-15",423.55500000000478,null,0,0,null,300,{"$f":"(1/((1+(#REF!/100))^(AN44/$W$10))*1) * IF(D44=\"D\",2,1)","v":{"$error":"#REF!"}},{"$error":"#REF!"},{"$error":"#REF!"},{"$f":"(((1+(#REF!/100))^((K44)/$W$10))-1)*AP44","v":{"$error":"#REF!"}},{"$error":"#REF!"},{"$error":"#REF!"}]
[11,1,"2024-01-15","",11,11,360,83,30,773.7,375.08500000000481,{"$f":"K45","v":375.08500000000481},39.96,0,39.96,415.04500000000479,0,8.51,null,0,8.51,0,423.55500000000478,398.61,0,null,415.04500000000479,39.96,8.51,0,0,423.55500000000478,408.69,"2024-01-15",423.55500000000478,null,0,0,null,330,{"$f":"(1/((1+(#REF!/100))^(AN45/$W$10))*1) * IF(D45=\"D\",2,1)","v":{"$error":"#REF!"}},{"$error":"#REF!"},{"$error":"#REF!"},{"$f":"(((1+(#REF!/100))^((K45)/$W$10))-1)*AP45","v":{"$error":"#REF!"}},{"$error":"#REF!"},{"$error":"#REF!"}]
[12,1,"2024-02-15","",12,12,360,83,30,398.61,398.58500000000481,{"$f":"X45","v":398.61},{"$f":"IF(B46=\"\",\"\",IF($J$26+$R$31<ROUND(ROUND(J46*(((1+(H46/100))^(I46/G46))-1),4),2),$J$26+$R$31 +-0.01,IF(ROUND(ROUND(J46*(((1+(H46/100))^(I46/G46))-1),4),2)>$J$26,$J$26+ -0.01,ROUND(ROUND(J46*(((1+(H46/100))^(I46/G46))-1),4),2))))","v":20.59},0,20.59,419.17500000000479,0,4.38,null,0,4.38,0,{"$f":"IF(B46=\"\",\"\",P46+Q46+R46+S46+T46+V46)","v":423.55500000000478},0,0,null,419.2,20.59,4.38,0,0,423.55500000000478,404.56,"2024-02-15",423.55500000000478,null,0,0,null,360,{"$f":"(1/((1+(#REF!/100))^(AN46/$W$10))*1) * IF(D46=\"D\",2,1)","v":{"$error":"#REF!"}},{"$error":"#REF!"},{"$error":"#REF!"},{"$f":"(((1+(#REF!/100))^((K46)/$W$10))-1)*AP46","v":{"$error":"#REF!"}},{"$error":"#REF!"},{"$error":"#REF!"}]
["","","","","","","","","","","",{"$f":"K47","v":""},"","","","","","",null,"","","",{"$f":"IF(B47=\"\",\"\",P47+Q47+R47+S47+T47+V47)","v":""},"","",null,0,"","",0,"","",0,{"$f":"+IF(C47=\"\",0,C47)","v":"00:00:00"},{"$f":"+IF(AF47=\"\",0,AF47)","v":0},null,0,0,null,{"$error":"#VALUE!"},{"$f":"(1/((1+(#REF!/100))^(AN47/$W$10))*1) * IF(D47=\"D\",2,1)","v":{"$error":"#REF!"}},{"$error":"#REF!"},{"$error":"#REF!"},{"$f":"(((1+(#REF!/100))^((K47)/$W$10))-1)*AP47","v":{"$error":"#REF!"}},{"$error":"#REF!"},{"$error":"#REF!"}]
["","","","","","","","","","","","","","","","","","",null,"","","","","","",null,0,"","",0,"","",0,{"$f":"+IF(C48=\"\",0,C48)","v":"00:00:00"},{"$f":"+IF(AF48=\"\",0,AF48)","v":0},null,0,0,null,{"$error":"#VALUE!"},{"$f":"(1/((1+(#REF!/100))^(AN48/$W$10))*1) * IF(D48=\"D\",2,1)","v":{"$error":"#REF!"}},{"$error":"#REF!"},{"$error":"#REF!"},{"$f":"(((1+(#REF!/100))^((K48)/$W$10))-1)*AP48","v":{"$error":"#REF!"}},{"$error":"#REF!"},{"$error":"#REF!"}]
["","","","","","","","","","","","","","","","","","",null,"","","","","","",null,0,"","",0,"","",0,"00:00:00",0,null,0,0,null,{"$error":"#VALUE!"},{"$f":"(1/((1+(#REF!/100))^(AN49/$W$10))*1) * IF(D49=\"D\",2,1)","v":{"$error":"#REF!"}},{"$error":"#REF!"},{"$error":"#REF!"},{"$f":"(((1+(#REF!/100))^((K49)/$W$10))-1)*AP49","v":{"$error":"#REF!"}},{"$error":"#REF!"},{"$error":"#REF!"}]
["","","","","","","","","","","","","","","","","","",null,"","","","","","",null,0,"","",0,"","",0,"00:00:00",0,null,0,0,null,{"$error":"#VALUE!"},{"$f":"(1/((1+(#REF!/100))^(AN50/$W$10))*1) * IF(D50=\"D\",2,1)","v":{"$error":"#REF!"}},{"$error":"#REF!"},{"$error":"#REF!"},{"$f":"(((1+(#REF!/100))^((K50)/$W$10))-1)*AP50","v":{"$error":"#REF!"}},{"$error":"#REF!"},{"$error":"#REF!"}]
["","","","","","","","","","","","","","","","","","",null,"","","","","","",null,0,"","",0,"","",0,"00:00:00",0,null,0,0,null,{"$error":"#VALUE!"},{"$f":"(1/((1+(#REF!/100))^(AN51/$W$10))*1) * IF(D51=\"D\",2,1)","v":{"$error":"#REF!"}},{"$error":"#REF!"},{"$error":"#REF!"},{"$f":"(((1+(#REF!/100))^((K51)/$W$10))-1)*AP51","v":{"$error":"#REF!"}},{"$error":"#REF!"},{"$error":"#REF!"}]
["","","","","","","","","","","","","","","","","","",null,"","","","","","",null,0,"","",0,"","",0,"00:00:00",0,null,0,0,null,{"$error":"#VALUE!"},{"$f":"(1/((1+(#REF!/100))^(AN52/$W$10))*1) * IF(D52=\"D\",2,1)","v":{"$error":"#REF!"}},{"$error":"#REF!"},{"$error":"#REF!"},{"$f":"(((1+(#REF!/100))^((K52)/$W$10))-1)*AP52","v":{"$error":"#REF!"}},{"$error":"#REF!"},{"$error":"#REF!"}]
["","","","","","","","","","","","","","","","","","",null,"","","","","","",null,0,"","",0,"","",0,"00:00:00",0,null,0,0,null,{"$error":"#VALUE!"},{"$f":"(1/((1+(#REF!/100))^(AN53/$W$10))*1) * IF(D53=\"D\",2,1)","v":{"$error":"#REF!"}},{"$error":"#REF!"},{"$error":"#REF!"},{"$f":"(((1+(#REF!/100))^((K53)/$W$10))-1)*AP53","v":{"$error":"#REF!"}},{"$error":"#REF!"},{"$error":"#REF!"}]
["","","","","","","","","","","",{"$f":"X53","v":""},"","","","","","",null,"","","","","","",null,0,"","",0,"","",0,"00:00:00",0,null,0,0,null,{"$error":"#VALUE!"},{"$f":"(1/((1+(#REF!/100))^(AN54/$W$10))*1) * IF(D54=\"D\",2,1)","v":{"$error":"#REF!"}},{"$error":"#REF!"},{"$error":"#REF!"},{"$f":"(((1+(#REF!/100))^((K54)/$W$10))-1)*AP54","v":{"$error":"#REF!"}},{"$error":"#REF!"},{"$error":"#REF!"}]
["","","","","","","","","","","",{"$f":"K55","v":""},"","","","","","",null,"","","","","","",null,0,"","",0,"","",0,"00:00:00",0,null,0,0,null,{"$error":"#VALUE!"},{"$f":"(1/((1+(#REF!/100))^(AN55/$W$10))*1) * IF(D55=\"D\",2,1)","v":{"$error":"#REF!"}},{"$error":"#REF!"},{"$error":"#REF!"},{"$f":"(((1+(#REF!/100))^((K55)/$W$10))-1)*AP55","v":{"$error":"#REF!"}},{"$error":"#REF!"},{"$error":"#REF!"}]
["","","","","","","","","","","",{"$f":"K56","v":""},"","","","","","",null,"","","","","","",null,0,"","",0,"","",0,"00:00:00",0,null,0,0,null,{"$error":"#VALUE!"},{"$f":"(1/((1+(#REF!/100))^(AN56/$W$10))*1) * IF(D56=\"D\",2,1)","v":{"$error":"#REF!"}},{"$error":"#REF!"},{"$error":"#REF!"},{"$f":"(((1+(#REF!/100))^((K56)/$W$10))-1)*AP56","v":{"$error":"#REF!"}},{"$error":"#REF!"},{"$error":"#REF!"}]
["","","","","","","","","","","",{"$f":"K57","v":""},"","","","","","",null,"","","","","","",null,0,"","",0,"","",0,"00:00:00",0,null,0,0,null,{"$error":"#VALUE!"},{"$f":"(1/((1+(#REF!/100))^(AN57/$W$10))*1) * IF(D57=\"D\",2,1)","v":{"$error":"#REF!"}},{"$error":"#REF!"},{"$error":"#REF!"},{"$f":"(((1+(#REF!/100))^((K57)/$W$10))-1)*AP57","v":{"$error":"#REF!"}},{"$error":"#REF!"},{"$error":"#REF!"}]
["","","","","","","","","","","",{"$f":"X57","v":""},"","","","","","",null,"","","","","","",null,0,"","",0,"","",0,"00:00:00",0,null,0,0,null,{"$error":"#VALUE!"},{"$f":"(1/((1+(#REF!/100))^(AN58/$W$10))*1) * IF(D58=\"D\",2,1)","v":{"$error":"#REF!"}},{"$error":"#REF!"},{"$error":"#REF!"},{"$f":"(((1+(#REF!/100))^((K58)/$W$10))-1)*AP58","v":{"$error":"#REF!"}},{"$error":"#REF!"},{"$error":"#REF!"}]
["","","","","","","","","","","",null,"","","","","","",null,"","","","","","",null,0,"","",0,"","",0,"00:00:00",0,null,0,0,null,{"$error":"#VALUE!"},{"$f":"(1/((1+(#REF!/100))^(AN59/$W$10))*1) * IF(D59=\"D\",2,1)","v":{"$error":"#REF!"}},{"$error":"#REF!"},{"$error":"#REF!"},{"$f":"(((1+(#REF!/100))^((K59)/$W$10))-1)*AP59","v":{"$error":"#REF!"}},{"$error":"#REF!"},{"$error":"#REF!"}]
["","","","","","","","","","","",null,"","","","","","",null,"","","","","","",null,0,"","",0,"","",0,"00:00:00",0,null,0,0,null,{"$error":"#VALUE!"},{"$f":"(1/((1+(#REF!/100))^(AN60/$W$10))*1) * IF(D60=\"D\",2,1)","v":{"$error":"#REF!"}},{"$error":"#REF!"},{"$error":"#REF!"},{"$f":"(((1+(#REF!/100))^((K60)/$W$10))-1)*AP60","v":{"$error":"#REF!"}},{"$error":"#REF!"},{"$error":"#REF!"}]
["","","","","","","","","","","",null,"","","","","","",null,"","","","","","",null,0,"","",0,"","",0,"00:00:00",0,null,0,0,null,{"$error":"#VALUE!"},{"$f":"(1/((1+(#REF!/100))^(AN61/$W$10))*1) * IF(D61=\"D\",2,1)","v":{"$error":"#REF!"}},{"$error":"#REF!"},{"$error":"#REF!"},{"$f":"(((1+(#REF!/100))^((K61)/$W$10))-1)*AP61","v":{"$error":"#REF!"}},{"$error":"#REF!"},{"$error":"#REF!"}]
["","","","","","","","","","","",null,"","","","","","",null,"","","","","","",null,0,"","",0,"","",0,"00:00:00",0,null,0,0,null,{"$error":"#VALUE!"},{"$f":"(1/((1+(#REF!/100))^(AN62/$W$10))*1) * IF(D62=\"D\",2,1)","v":{"$error":"#REF!"}},{"$error":"#REF!"},{"$error":"#REF!"},{"$f":"(((1+(#REF!/100))^((K62)/$W$10))-1)*AP62","v":{"$error":"#REF!"}},{"$error":"#REF!"},{"$error":"#REF!"}]
["","","","","","","","","","","",null,"","","","","","",null,"","","","","","",null,0,"","",0,"","",0,"00:00:00",0,null,0,0,null,{"$error":"#VALUE!"},{"$f":"(1/((1+(#REF!/100))^(AN63/$W$10))*1) * IF(D63=\"D\",2,1)","v":{"$error":"#REF!"}},{"$error":"#REF!"},{"$error":"#REF!"},{"$f":"(((1+(#REF!/100))^((K63)/$W$10))-1)*AP63","v":{"$error":"#REF!"}},{"$error":"#REF!"},{"$error":"#REF!"}]
["","","","","","","","","","","",null,"","","","","","",null,"","","","","","",null,0,"","",0,"","",0,"00:00:00",0,null,0,0,null,{"$error":"#VALUE!"},{"$f":"(1/((1+(#REF!/100))^(AN64/$W$10))*1) * IF(D64=\"D\",2,1)","v":{"$error":"#REF!"}},{"$error":"#REF!"},{"$error":"#REF!"},{"$f":"(((1+(#REF!/100))^((K64)/$W$10))-1)*AP64","v":{"$error":"#REF!"}},{"$error":"#REF!"},{"$error":"#REF!"}]
["","","","","","","","","","","",null,"","","","","","",null,"","","","","","",null,0,"","",0,"","",0,"00:00:00",0,null,0,0,null,{"$error":"#VALUE!"},{"$f":"(1/((1+(#REF!/100))^(AN65/$W$10))*1) * IF(D65=\"D\",2,1)","v":{"$error":"#REF!"}},{"$error":"#REF!"},{"$error":"#REF!"},{"$f":"(((1+(#REF!/100))^((K65)/$W$10))-1)*AP65","v":{"$error":"#REF!"}},{"$error":"#REF!"},{"$error":"#REF!"}]
["","","","","","","","","","","",null,"","","","","","",null,"","","","","","",null,0,"","",0,"","",0,"00:00:00",0,null,0,0,null,{"$error":"#VALUE!"},{"$f":"(1/((1+(#REF!/100))^(AN66/$W$10))*1) * IF(D66=\"D\",2,1)","v":{"$error":"#REF!"}},{"$error":"#REF!"},{"$error":"#REF!"},{"$f":"(((1+(#REF!/100))^((K66)/$W$10))-1)*AP66","v":{"$error":"#REF!"}},{"$error":"#REF!"},{"$error":"#REF!"}]
["","","","","","","","","","","",null,"","","","","","",null,"","","","","","",null,0,"","",0,"","",0,"00:00:00",0,null,0,0,null,{"$error":"#VALUE!"},{"$f":"(1/((1+(#REF!/100))^(AN67/$W$10))*1) * IF(D67=\"D\",2,1)","v":{"$error":"#REF!"}},{"$error":"#REF!"},{"$error":"#REF!"},{"$f":"(((1+(#REF!/100))^((K67)/$W$10))-1)*AP67","v":{"$error":"#REF!"}},{"$error":"#REF!"},{"$error":"#REF!"}]
["","","","","","","","","","","",null,"","","","","","",null,"","","","","","",null,0,"","",0,"","",0,"00:00:00",0,null,0,0,null,{"$error":"#VALUE!"},{"$f":"(1/((1+(#REF!/100))^(AN68/$W$10))*1) * IF(D68=\"D\",2,1)","v":{"$error":"#REF!"}},{"$error":"#REF!"},{"$error":"#REF!"},{"$f":"(((1+(#REF!/100))^((K68)/$W$10))-1)*AP68","v":{"$error":"#REF!"}},{"$error":"#REF!"},{"$error":"#REF!"}]
["","","","","","","","","","","",null,"","","","","","",null,"","","","","","",null,0,"","",0,"","",0,"00:00:00",0,null,0,0,null,{"$error":"#VALUE!"},{"$f":"(1/((1+(#REF!/100))^(AN69/$W$10))*1) * IF(D69=\"D\",2,1)","v":{"$error":"#REF!"}},{"$error":"#REF!"},{"$error":"#REF!"},{"$f":"(((1+(#REF!/100))^((K69)/$W$10))-1)*AP69","v":{"$error":"#REF!"}},{"$error":"#REF!"},{"$error":"#REF!"}]
["","","","","","","","","","","",null,"","","","","","",null,"","","","","","",null,0,"","",0,"","",0,"00:00:00",0,null,0,0,null,{"$error":"#VALUE!"},{"$f":"(1/((1+(#REF!/100))^(AN70/$W$10))*1) * IF(D70=\"D\",2,1)","v":{"$error":"#REF!"}},{"$error":"#REF!"},{"$error":"#REF!"},{"$f":"(((1+(#REF!/100))^((K70)/$W$10))-1)*AP70","v":{"$error":"#REF!"}},{"$error":"#REF!"},{"$error":"#REF!"}]
["","","","","","","","","","","",null,"","","","","","",null,"","","","","","",null,0,"","",0,"","",0,"00:00:00",0,null,0,0,null,{"$error":"#VALUE!"},{"$f":"(1/((1+(#REF!/100))^(AN71/$W$10))*1) * IF(D71=\"D\",2,1)","v":{"$error":"#REF!"}},{"$error":"#REF!"},{"$error":"#REF!"},{"$f":"(((1+(#REF!/100))^((K71)/$W$10))-1)*AP71","v":{"$error":"#REF!"}},{"$error":"#REF!"},{"$error":"#REF!"}]
["","","","","","","","","","","",null,"","","","","","",null,"","","","","","",null,0,"","",0,"","",0,"00:00:00",0,null,0,0,null,{"$error":"#VALUE!"},{"$f":"(1/((1+(#REF!/100))^(AN72/$W$10))*1) * IF(D72=\"D\",2,1)","v":{"$error":"#REF!"}},{"$error":"#REF!"},{"$error":"#REF!"},{"$f":"(((1+(#REF!/100))^((K72)/$W$10))-1)*AP72","v":{"$error":"#REF!"}},{"$error":"#REF!"},{"$error":"#REF!"}]
["","","","","","","","","","","",null,"","","","","","",null,"","","","","","",null,0,"","",0,"","",0,"00:00:00",0,null,0,0,null,{"$error":"#VALUE!"},{"$f":"(1/((1+(#REF!/100))^(AN73/$W$10))*1) * IF(D73=\"D\",2,1)","v":{"$error":"#REF!"}},{"$error":"#REF!"},{"$error":"#REF!"},{"$f":"(((1+(#REF!/100))^((K73)/$W$10))-1)*AP73","v":{"$error":"#REF!"}},{"$error":"#REF!"},{"$error":"#REF!"}]
["","","","","","","","","","","",null,"","","","","","",null,"","","","","","",null,0,"","",0,"","",0,"00:00:00",0,null,0,0,null,{"$error":"#VALUE!"},{"$f":"(1/((1+(#REF!/100))^(AN74/$W$10))*1) * IF(D74=\"D\",2,1)","v":{"$error":"#REF!"}},{"$error":"#REF!"},{"$error":"#REF!"},{"$f":"(((1+(#REF!/100))^((K74)/$W$10))-1)*AP74","v":{"$error":"#REF!"}},{"$error":"#REF!"},{"$error":"#REF!"}]
[]
[null,null,"Totales",null,null,null,null,null,null,null,{"$f":"+SUM(K35:K74)","v":3500.0000000000573},3500.0250000000528,1304.77,0,1304.77,4804.7700000000568,0,277.89,0,null,{"$f":"+SUM(U35:U74)","v":277.89},{"$f":"+SUM(V35:V74)","v":0},{"$f":"+SUM(W35:W74)","v":5082.6600000000572},null,{"$f":"+SUM(Y35:Y74)","v":0},{"$f":"+SUM(Z35:Z74)","v":0},{"$f":"+SUM(AA35:AA74)","v":4804.7950000000519},{"$f":"+SUM(AB35:AB74)","v":1304.77},{"$f":"+SUM(AC35:AC74)","v":277.89},null,null,{"$f":"+SUM(AF35:AF74)","v":5082.6600000000572},null,null,null,null,{"$f":"+AF76-W76","v":0},{"$f":"+AB76-M76","v":0}]
[null,null,"Validador"]
[null,null,"Banco Pichincha - Derechos reservado 2022"]
[null,null,"La información contenida en esta simulación en esta simulación es referencial, y el cálculo se ha efectuado en base a la información ingresada."]
[null,null,"Esta simulación no incluye ITF (Impuesto a las Transacciones Financieras)."]
[null,null,"(*) La TEA aplicada a esta simulación es fija."]
[null,null,"Esta simulación no significa la aprobación del crédito, la cual está sujeta a la evaluación creditica del Banco."]
[null,null,"El seguro desgravamen es obligatorio y se calcula sobre el saldo insoluto de la deuda. El costo del seguro es el cobrado por la aseguradora"]
[null,null,"El cliente podrá adquirir el seguro de desgravamen en nuestras oficinas o de forma particular. En este último caso, deberá endosarlo a favor del Banco, "]
[null,null,"y el seguro deberá tener las mismas coberturas que el/los comercializados(s) por el Banco y cubrir el 100% el importe de capital adeudado."]
[null,null,"El cliente puede optar por el Seguro de Desgravamen con devolución. Aplica solo para créditos financiados desde 25 meses a más. Devolución del 25% de las primas pagadas al término del cronograma inicial."]
[null,null,"La cuota de gracia es el período de gracia que transcurre entre la fecha de desembolso del crédito y el día en que se inicia el devengo de la cuota a pagar, "]
[null,null,"lo cual ocurre un mes antes del primer vencimiento de pago."]
[null,null,"Esta información se proporciona de acuerdo con el Reglamento de Gestión de Conducta de Mercado del Sistema Financiero."]

{"sheet":"Calculos CrediAltoque","index":1,"n_rows":386,"n_cols":7,"rows_kept":386,"cut":false,"hidden":true,"merged":[[0,0,0,6]]}
["Factores utilizados en Meses de No Pago para cálculo del valor cuota"]
[]
["N° de Cuota","Equivalente","Fecha","Mes","Marca Cuota No Pago","Factor (10)","Acumulado"]
[1,{"$f":"IF(E4<>\"C\",IF(ISERROR(1+B3)=TRUE,1,1+B3),IF(ISNUMBER(B3),B3,1))","v":1},{"$f":"+'CrediAltoque (SI)'!$X$7","v":"2023-03-15"},{"$f":"MONTH(C4)","v":3},{"$f":"IF(ISERROR(MATCH(D4,'CrediAltoque (SI)'!$H$18:$H$19,0))=FALSE,\"C\",IF(ISERROR(MATCH(D4,'CrediAltoque (SI)'!$H$20:$H$21,0))=FALSE,\"D\",\"\"))","v":""},{"$f":"IF(E4=\"C\",0,IF(E4 =\"D\",ROUND(1/((1+'CrediAltoque (SI)'!$R$14)^A4),9) * 2,ROUND(1/((1+'CrediAltoque (SI)'!$R$14)^A4),9)))","v":0.95023918600000001},{"$f":"ROUND(F4,9)","v":0.95023918600000001}]
[{"$f":"A4+1","v":2},{"$f":"IF(E5<>\"C\",IF(ISERROR(1+B4)=TRUE,1,1+B4),IF(ISNUMBER(B4),B4,1))","v":2},{"$f":"DATE(YEAR(C4) + 1/12,MONTH(C4)+1,DAY(C4))","v":"2023-04-15"},4,{"$f":"IF(ISERROR(MATCH(D5,'CrediAltoque (SI)'!$H$18:$H$19,0))=FALSE,\"C\",IF(ISERROR(MATCH(D5,'CrediAltoque (SI)'!$H$20:$H$21,0))=FALSE,\"D\",\"\"))","v":""},{"$f":"IF(E5=\"C\",0,IF(E5 =\"D\",ROUND(1/((1+'CrediAltoque (SI)'!$R$14)^A5),9) * 2,ROUND(1/((1+'CrediAltoque (SI)'!$R$14)^A5),9)))","v":0.90295451000000004},{"$f":"G4+ROUND(F5,9)","v":1.8531936959999999}]
[3,3,"2023-05-15",5,{"$f":"IF(ISERROR(MATCH(D6,'CrediAltoque (SI)'!$H$18:$H$19,0))=FALSE,\"C\",IF(ISERROR(MATCH(D6,'CrediAltoque (SI)'!$H$20:$H$21,0))=FALSE,\"D\",\"\"))","v":""},{"$f":"IF(E6=\"C\",0,IF(E6 =\"D\",ROUND(1/((1+'CrediAltoque (SI)'!$R$14)^A6),9) * 2,ROUND(1/((1+'CrediAltoque (SI)'!$R$14)^A6),9)))","v":0.85802275800000005},{"$f":"G5+ROUND(F6,9)","v":2.7112164540000001}]
[4,4,"2023-06-15",6,{"$f":"IF(ISERROR(MATCH(D7,'CrediAltoque (SI)'!$H$18:$H$19,0))=FALSE,\"C\",IF(ISERROR(MATCH(D7,'CrediAltoque (SI)'!$H$20:$H$21,0))=FALSE,\"D\",\"\"))","v":""},{"$f":"IF(E7=\"C\",0,IF(E7 =\"D\",ROUND(1/((1+'CrediAltoque (SI)'!$R$14)^A7),9) * 2,ROUND(1/((1+'CrediAltoque (SI)'!$R$14)^A7),9)))","v":0.81532684700000002},3.5265433010000002]
[5,5,"2023-07-15",7,{"$f":"IF(ISERROR(MATCH(D8,'CrediAltoque (SI)'!$H$18:$H$19,0))=FALSE,\"C\",IF(ISERROR(MATCH(D8,'CrediAltoque (SI)'!$H$20:$H$21,0))=FALSE,\"D\",\"\"))","v":""},{"$f":"IF(E8=\"C\",0,IF(E8 =\"D\",ROUND(1/((1+'CrediAltoque (SI)'!$R$14)^A8),9) * 2,ROUND(1/((1+'CrediAltoque (SI)'!$R$14)^A8),9)))","v":0.77475551899999995},4.3012988200000004]
[6,6,"2023-08-15",8,{"$f":"IF(ISERROR(MATCH(D9,'CrediAltoque (SI)'!$H$18:$H$19,0))=FALSE,\"C\",IF(ISERROR(MATCH(D9,'CrediAltoque (SI)'!$H$20:$H$21,0))=FALSE,\"D\",\"\"))","v":""},{"$f":"IF(E9=\"C\",0,IF(E9 =\"D\",ROUND(1/((1+'CrediAltoque (SI)'!$R$14)^A9),9) * 2,ROUND(1/((1+'CrediAltoque (SI)'!$R$14)^A9),9)))","v":0.73620305399999997},5.0375018740000002]
[7,7,"2023-09-15",9,{"$f":"IF(ISERROR(MATCH(D10,'CrediAltoque (SI)'!$H$18:$H$19,0))=FALSE,\"C\",IF(ISERROR(MATCH(D10,'CrediAltoque (SI)'!$H$20:$H$21,0))=FALSE,\"D\",\"\"))","v":""},{"$f":"IF(E10=\"C\",0,IF(E10 =\"D\",ROUND(1/((1+'CrediAltoque (SI)'!$R$14)^A10),9) * 2,ROUND(1/((1+'CrediAltoque (SI)'!$R$14)^A10),9)))","v":0.69956898999999995},5.7370708639999997]
[8,8,"2023-10-15",10,{"$f":"IF(ISERROR(MATCH(D11,'CrediAltoque (SI)'!$H$18:$H$19,0))=FALSE,\"C\",IF(ISERROR(MATCH(D11,'CrediAltoque (SI)'!$H$20:$H$21,0))=FALSE,\"D\",\"\"))","v":""},{"$f":"IF(E11=\"C\",0,IF(E11 =\"D\",ROUND(1/((1+'CrediAltoque (SI)'!$R$14)^A11),9) * 2,ROUND(1/((1+'CrediAltoque (SI)'!$R$14)^A11),9)))","v":0.66475786800000003},6.4018287319999994]
[9,9,"2023-11-15",11,{"$f":"IF(ISERROR(MATCH(D12,'CrediAltoque (SI)'!$H$18:$H$19,0))=FALSE,\"C\",IF(ISERROR(MATCH(D12,'CrediAltoque (SI)'!$H$20:$H$21,0))=FALSE,\"D\",\"\"))","v":""},{"$f":"IF(E12=\"C\",0,IF(E12 =\"D\",ROUND(1/((1+'CrediAltoque (SI)'!$R$14)^A12),9) * 2,ROUND(1/((1+'CrediAltoque (SI)'!$R$14)^A12),9)))","v":0.63167897500000003},7.0335077069999992]
[10,10,"2023-12-15",12,{"$f":"IF(ISERROR(MATCH(D13,'CrediAltoque (SI)'!$H$18:$H$19,0))=FALSE,\"C\",IF(ISERROR(MATCH(D13,'CrediAltoque (SI)'!$H$20:$H$21,0))=FALSE,\"D\",\"\"))","v":""},{"$f":"IF(E13=\"C\",0,IF(E13 =\"D\",ROUND(1/((1+'CrediAltoque (SI)'!$R$14)^A13),9) * 2,ROUND(1/((1+'CrediAltoque (SI)'!$R$14)^A13),9)))","v":0.60024611500000002},7.6337538219999992]
[11,11,"2024-01-15",1,{"$f":"IF(ISERROR(MATCH(D14,'CrediAltoque (SI)'!$H$18:$H$19,0))=FALSE,\"C\",IF(ISERROR(MATCH(D14,'CrediAltoque (SI)'!$H$20:$H$21,0))=FALSE,\"D\",\"\"))","v":""},{"$f":"IF(E14=\"C\",0,IF(E14 =\"D\",ROUND(1/((1+'CrediAltoque (SI)'!$R$14)^A14),9) * 2,ROUND(1/((1+'CrediAltoque (SI)'!$R$14)^A14),9)))","v":0.57037737899999996},8.2041312009999992]
[12,12,"2024-02-15",2,{"$f":"IF(ISERROR(MATCH(D15,'CrediAltoque (SI)'!$H$18:$H$19,0))=FALSE,\"C\",IF(ISERROR(MATCH(D15,'CrediAltoque (SI)'!$H$20:$H$21,0))=FALSE,\"D\",\"\"))","v":""},{"$f":"IF(E15=\"C\",0,IF(E15 =\"D\",ROUND(1/((1+'CrediAltoque (SI)'!$R$14)^A15),9) * 2,ROUND(1/((1+'CrediAltoque (SI)'!$R$14)^A15),9)))","v":0.54199493600000004},8.7461261369999992]
[13,13,"2024-03-15",3,{"$f":"IF(ISERROR(MATCH(D16,'CrediAltoque (SI)'!$H$18:$H$19,0))=FALSE,\"C\",IF(ISERROR(MATCH(D16,'CrediAltoque (SI)'!$H$20:$H$21,0))=FALSE,\"D\",\"\"))","v":""},{"$f":"IF(E16=\"C\",0,IF(E16 =\"D\",ROUND(1/((1+'CrediAltoque (SI)'!$R$14)^A16),9) * 2,ROUND(1/((1+'CrediAltoque (SI)'!$R$14)^A16),9)))","v":0.51502482699999996},9.2611509639999987]
[14,14,"2024-04-15",4,{"$f":"IF(ISERROR(MATCH(D17,'CrediAltoque (SI)'!$H$18:$H$19,0))=FALSE,\"C\",IF(ISERROR(MATCH(D17,'CrediAltoque (SI)'!$H$20:$H$21,0))=FALSE,\"D\",\"\"))","v":""},{"$f":"IF(E17=\"C\",0,IF(E17 =\"D\",ROUND(1/((1+'CrediAltoque (SI)'!$R$14)^A17),9) * 2,ROUND(1/((1+'CrediAltoque (SI)'!$R$14)^A17),9)))","v":0.48939677199999998},9.7505477359999979]
[15,15,"2024-05-15",5,{"$f":"IF(ISERROR(MATCH(D18,'CrediAltoque (SI)'!$H$18:$H$19,0))=FALSE,\"C\",IF(ISERROR(MATCH(D18,'CrediAltoque (SI)'!$H$20:$H$21,0))=FALSE,\"D\",\"\"))","v":""},{"$f":"IF(E18=\"C\",0,IF(E18 =\"D\",ROUND(1/((1+'CrediAltoque (SI)'!$R$14)^A18),9) * 2,ROUND(1/((1+'CrediAltoque (SI)'!$R$14)^A18),9)))","v":0.46504399000000002},10.215591725999998]
[16,16,"2024-06-15",6,{"$f":"IF(ISERROR(MATCH(D19,'CrediAltoque (SI)'!$H$18:$H$19,0))=FALSE,\"C\",IF(ISERROR(MATCH(D19,'CrediAltoque (SI)'!$H$20:$H$21,0))=FALSE,\"D\",\"\"))","v":""},{"$f":"IF(E19=\"C\",0,IF(E19 =\"D\",ROUND(1/((1+'CrediAltoque (SI)'!$R$14)^A19),9) * 2,ROUND(1/((1+'CrediAltoque (SI)'!$R$14)^A19),9)))","v":0.44190302199999998},10.657494747999998]
[17,17,"2024-07-15",7,{"$f":"IF(ISERROR(MATCH(D20,'CrediAltoque (SI)'!$H$18:$H$19,0))=FALSE,\"C\",IF(ISERROR(MATCH(D20,'CrediAltoque (SI)'!$H$20:$H$21,0))=FALSE,\"D\",\"\"))","v":""},{"$f":"IF(E20=\"C\",0,IF(E20 =\"D\",ROUND(1/((1+'CrediAltoque (SI)'!$R$14)^A20),9) * 2,ROUND(1/((1+'CrediAltoque (SI)'!$R$14)^A20),9)))","v":0.41991356800000001},11.077408315999998]
[18,18,"2024-08-15",8,{"$f":"IF(ISERROR(MATCH(D21,'CrediAltoque (SI)'!$H$18:$H$19,0))=FALSE,\"C\",IF(ISERROR(MATCH(D21,'CrediAltoque (SI)'!$H$20:$H$21,0))=FALSE,\"D\",\"\"))","v":""},{"$f":"IF(E21=\"C\",0,IF(E21 =\"D\",ROUND(1/((1+'CrediAltoque (SI)'!$R$14)^A21),9) * 2,ROUND(1/((1+'CrediAltoque (SI)'!$R$14)^A21),9)))","v":0.39901832700000001},11.476426642999998]
[19,19,"2024-09-15",9,{"$f":"IF(ISERROR(MATCH(D22,'CrediAltoque (SI)'!$H$18:$H$19,0))=FALSE,\"C\",IF(ISERROR(MATCH(D22,'CrediAltoque (SI)'!$H$20:$H$21,0))=FALSE,\"D\",\"\"))","v":""},{"$f":"IF(E22=\"C\",0,IF(E22 =\"D\",ROUND(1/((1+'CrediAltoque (SI)'!$R$14)^A22),9) * 2,ROUND(1/((1+'CrediAltoque (SI)'!$R$14)^A22),9)))","v":0.37916285},11.855589492999998]
[20,20,"2024-10-15",10,{"$f":"IF(ISERROR(MATCH(D23,'CrediAltoque (SI)'!$H$18:$H$19,0))=FALSE,\"C\",IF(ISERROR(MATCH(D23,'CrediAltoque (SI)'!$H$20:$H$21,0))=FALSE,\"D\",\"\"))","v":""},{"$f":"IF(E23=\"C\",0,IF(E23 =\"D\",ROUND(1/((1+'CrediAltoque (SI)'!$R$14)^A23),9) * 2,ROUND(1/((1+'CrediAltoque (SI)'!$R$14)^A23),9)))","v":0.36029539799999999},12.215884890999998]
[21,21,"2024-11-15",11,{"$f":"IF(ISERROR(MATCH(D24,'CrediAltoque (SI)'!$H$18:$H$19,0))=FALSE,\"C\",IF(ISERROR(MATCH(D24,'CrediAltoque (SI)'!$H$20:$H$21,0))=FALSE,\"D\",\"\"))","v":""},{"$f":"IF(E24=\"C\",0,IF(E24 =\"D\",ROUND(1/((1+'CrediAltoque (SI)'!$R$14)^A24),9) * 2,ROUND(1/((1+'CrediAltoque (SI)'!$R$14)^A24),9)))","v":0.34236680600000002},12.558251696999998]
[22,22,"2024-12-15",12,{"$f":"IF(ISERROR(MATCH(D25,'CrediAltoque (SI)'!$H$18:$H$19,0))=FALSE,\"C\",IF(ISERROR(MATCH(D25,'CrediAltoque (SI)'!$H$20:$H$21,0))=FALSE,\"D\",\"\"))","v":""},{"$f":"IF(E25=\"C\",0,IF(E25 =\"D\",ROUND(1/((1+'CrediAltoque (SI)'!$R$14)^A25),9) * 2,ROUND(1/((1+'CrediAltoque (SI)'!$R$14)^A25),9)))","v":0.32533035500000002},12.883582051999998]
[23,23,"2025-01-15",1,{"$f":"IF(ISERROR(MATCH(D26,'CrediAltoque (SI)'!$H$18:$H$19,0))=FALSE,\"C\",IF(ISERROR(MATCH(D26,'CrediAltoque (SI)'!$H$20:$H$21,0))=FALSE,\"D\",\"\"))","v":""},{"$f":"IF(E26=\"C\",0,IF(E26 =\"D\",ROUND(1/((1+'CrediAltoque (SI)'!$R$14)^A26),9) * 2,ROUND(1/((1+'CrediAltoque (SI)'!$R$14)^A26),9)))","v":0.30914165100000002},13.192723702999999]
[24,24,"2025-02-15",2,{"$f":"IF(ISERROR(MATCH(D27,'CrediAltoque (SI)'!$H$18:$H$19,0))=FALSE,\"C\",IF(ISERROR(MATCH(D27,'CrediAltoque (SI)'!$H$20:$H$21,0))=FALSE,\"D\",\"\"))","v":""},{"$f":"IF(E27=\"C\",0,IF(E27 =\"D\",ROUND(1/((1+'CrediAltoque (SI)'!$R$14)^A27),9) * 2,ROUND(1/((1+'CrediAltoque (SI)'!$R$14)^A27),9)))","v":0.293758511},13.486482213999999]
[25,25,"2025-03-15",3,{"$f":"IF(ISERROR(MATCH(D28,'CrediAltoque (SI)'!$H$18:$H$19,0))=FALSE,\"C\",IF(ISERROR(MATCH(D28,'CrediAltoque (SI)'!$H$20:$H$21,0))=FALSE,\"D\",\"\"))","v":""},{"$f":"IF(E28=\"C\",0,IF(E28 =\"D\",ROUND(1/((1+'CrediAltoque (SI)'!$R$14)^A28),9) * 2,ROUND(1/((1+'CrediAltoque (SI)'!$R$14)^A28),9)))","v":0.279140848},13.765623062]
[26,26,"2025-04-15",4,{"$f":"IF(ISERROR(MATCH(D29,'CrediAltoque (SI)'!$H$18:$H$19,0))=FALSE,\"C\",IF(ISERROR(MATCH(D29,'CrediAltoque (SI)'!$H$20:$H$21,0))=FALSE,\"D\",\"\"))","v":""},{"$f":"IF(E29=\"C\",0,IF(E29 =\"D\",ROUND(1/((1+'CrediAltoque (SI)'!$R$14)^A29),9) * 2,ROUND(1/((1+'CrediAltoque (SI)'!$R$14)^A29),9)))","v":0.26525057200000002},14.030873633999999]
[27,27,"2025-05-15",5,{"$f":"IF(ISERROR(MATCH(D30,'CrediAltoque (SI)'!$H$18:$H$19,0))=FALSE,\"C\",IF(ISERROR(MATCH(D30,'CrediAltoque (SI)'!$H$20:$H$21,0))=FALSE,\"D\",\"\"))","v":""},{"$f":"IF(E30=\"C\",0,IF(E30 =\"D\",ROUND(1/((1+'CrediAltoque (SI)'!$R$14)^A30),9) * 2,ROUND(1/((1+'CrediAltoque (SI)'!$R$14)^A30),9)))","v":0.25205148799999999},14.282925121999998]
[28,28,"2025-06-15",6,{"$f":"IF(ISERROR(MATCH(D31,'CrediAltoque (SI)'!$H$18:$H$19,0))=FALSE,\"C\",IF(ISERROR(MATCH(D31,'CrediAltoque (SI)'!$H$20:$H$21,0))=FALSE,\"D\",\"\"))","v":""},{"$f":"IF(E31=\"C\",0,IF(E31 =\"D\",ROUND(1/((1+'CrediAltoque (SI)'!$R$14)^A31),9) * 2,ROUND(1/((1+'CrediAltoque (SI)'!$R$14)^A31),9)))","v":0.23950920000000001},14.522434321999999]
[29,29,"2025-07-15",7,{"$f":"IF(ISERROR(MATCH(D32,'CrediAltoque (SI)'!$H$18:$H$19,0))=FALSE,\"C\",IF(ISERROR(MATCH(D32,'CrediAltoque (SI)'!$H$20:$H$21,0))=FALSE,\"D\",\"\"))","v":""},{"$f":"IF(E32=\"C\",0,IF(E32 =\"D\",ROUND(1/((1+'CrediAltoque (SI)'!$R$14)^A32),9) * 2,ROUND(1/((1+'CrediAltoque (SI)'!$R$14)^A32),9)))","v":0.227591028},14.75002535]
[30,30,"2025-08-15",8,{"$f":"IF(ISERROR(MATCH(D33,'CrediAltoque (SI)'!$H$18:$H$19,0))=FALSE,\"C\",IF(ISERROR(MATCH(D33,'CrediAltoque (SI)'!$H$20:$H$21,0))=FALSE,\"D\",\"\"))","v":""},{"$f":"IF(E33=\"C\",0,IF(E33 =\"D\",ROUND(1/((1+'CrediAltoque (SI)'!$R$14)^A33),9) * 2,ROUND(1/((1+'CrediAltoque (SI)'!$R$14)^A33),9)))","v":0.216265913},14.966291263]
[31,31,"2025-09-15",9,{"$f":"IF(ISERROR(MATCH(D34,'CrediAltoque (SI)'!$H$18:$H$19,0))=FALSE,\"C\",IF(ISERROR(MATCH(D34,'CrediAltoque (SI)'!$H$20:$H$21,0))=FALSE,\"D\",\"\"))","v":""},{"$f":"IF(E34=\"C\",0,IF(E34 =\"D\",ROUND(1/((1+'CrediAltoque (SI)'!$R$14)^A34),9) * 2,ROUND(1/((1+'CrediAltoque (SI)'!$R$14)^A34),9)))","v":0.205504345},15.171795608]
[32,32,"2025-10-15",10,{"$f":"IF(ISERROR(MATCH(D35,'CrediAltoque (SI)'!$H$18:$H$19,0))=FALSE,\"C\",IF(ISERROR(MATCH(D35,'CrediAltoque (SI)'!$H$20:$H$21,0))=FALSE,\"D\",\"\"))","v":""},{"$f":"IF(E35=\"C\",0,IF(E35 =\"D\",ROUND(1/((1+'CrediAltoque (SI)'!$R$14)^A35),9) * 2,ROUND(1/((1+'CrediAltoque (SI)'!$R$14)^A35),9)))","v":0.195278281},15.367073889]
[33,33,"2025-11-15",11,{"$f":"IF(ISERROR(MATCH(D36,'CrediAltoque (SI)'!$H$18:$H$19,0))=FALSE,\"C\",IF(ISERROR(MATCH(D36,'CrediAltoque (SI)'!$H$20:$H$21,0))=FALSE,\"D\",\"\"))","v":""},{"$f":"IF(E36=\"C\",0,IF(E36 =\"D\",ROUND(1/((1+'CrediAltoque (SI)'!$R$14)^A36),9) * 2,ROUND(1/((1+'CrediAltoque (SI)'!$R$14)^A36),9)))","v":0.18556107499999999},15.552634964000001]
[34,34,"2025-12-15",12,{"$f":"IF(ISERROR(MATCH(D37,'CrediAltoque (SI)'!$H$18:$H$19,0))=FALSE,\"C\",IF(ISERROR(MATCH(D37,'CrediAltoque (SI)'!$H$20:$H$21,0))=FALSE,\"D\",\"\"))","v":""},{"$f":"IF(E37=\"C\",0,IF(E37 =\"D\",ROUND(1/((1+'CrediAltoque (SI)'!$R$14)^A37),9) * 2,ROUND(1/((1+'CrediAltoque (SI)'!$R$14)^A37),9)))","v":0.17632740499999999},15.728962369000001]
[35,35,"2026-01-15",1,{"$f":"IF(ISERROR(MATCH(D38,'CrediAltoque (SI)'!$H$18:$H$19,0))=FALSE,\"C\",IF(ISERROR(MATCH(D38,'CrediAltoque (SI)'!$H$20:$H$21,0))=FALSE,\"D\",\"\"))","v":""},{"$f":"IF(E38=\"C\",0,IF(E38 =\"D\",ROUND(1/((1+'CrediAltoque (SI)'!$R$14)^A38),9) * 2,ROUND(1/((1+'CrediAltoque (SI)'!$R$14)^A38),9)))","v":0.16755320900000001},15.896515578000001]
[36,36,"2026-02-15",2,{"$f":"IF(ISERROR(MATCH(D39,'CrediAltoque (SI)'!$H$18:$H$19,0))=FALSE,\"C\",IF(ISERROR(MATCH(D39,'CrediAltoque (SI)'!$H$20:$H$21,0))=FALSE,\"D\",\"\"))","v":""},{"$f":"IF(E39=\"C\",0,IF(E39 =\"D\",ROUND(1/((1+'CrediAltoque (SI)'!$R$14)^A39),9) * 2,ROUND(1/((1+'CrediAltoque (SI)'!$R$14)^A39),9)))","v":0.159215625},16.055731203000001]
[37,37,"2026-03-15",3,{"$f":"IF(ISERROR(MATCH(D40,'CrediAltoque (SI)'!$H$18:$H$19,0))=FALSE,\"C\",IF(ISERROR(MATCH(D40,'CrediAltoque (SI)'!$H$20:$H$21,0))=FALSE,\"D\",\"\"))","v":""},{"$f":"IF(E40=\"C\",0,IF(E40 =\"D\",ROUND(1/((1+'CrediAltoque (SI)'!$R$14)^A40),9) * 2,ROUND(1/((1+'CrediAltoque (SI)'!$R$14)^A40),9)))","v":0.15129292599999999},16.207024129000001]
[38,38,"2026-04-15",4,{"$f":"IF(ISERROR(MATCH(D41,'CrediAltoque (SI)'!$H$18:$H$19,0))=FALSE,\"C\",IF(ISERROR(MATCH(D41,'CrediAltoque (SI)'!$H$20:$H$21,0))=FALSE,\"D\",\"\"))","v":""},{"$f":"IF(E41=\"C\",0,IF(E41 =\"D\",ROUND(1/((1+'CrediAltoque (SI)'!$R$14)^A41),9) * 2,ROUND(1/((1+'CrediAltoque (SI)'!$R$14)^A41),9)))","v":0.14376446700000001},16.350788596000001]
[39,39,"2026-05-15",5,{"$f":"IF(ISERROR(MATCH(D42,'CrediAltoque (SI)'!$H$18:$H$19,0))=FALSE,\"C\",IF(ISERROR(MATCH(D42,'CrediAltoque (SI)'!$H$20:$H$21,0))=FALSE,\"D\",\"\"))","v":""},{"$f":"IF(E42=\"C\",0,IF(E42 =\"D\",ROUND(1/((1+'CrediAltoque (SI)'!$R$14)^A42),9) * 2,ROUND(1/((1+'CrediAltoque (SI)'!$R$14)^A42),9)))","v":0.13661063000000001},16.487399226000001]
[40,40,"2026-06-15",6,{"$f":"IF(ISERROR(MATCH(D43,'CrediAltoque (SI)'!$H$18:$H$19,0))=FALSE,\"C\",IF(ISERROR(MATCH(D43,'CrediAltoque (SI)'!$H$20:$H$21,0))=FALSE,\"D\",\"\"))","v":""},{"$f":"IF(E43=\"C\",0,IF(E43 =\"D\",ROUND(1/((1+'CrediAltoque (SI)'!$R$14)^A43),9) * 2,ROUND(1/((1+'CrediAltoque (SI)'!$R$14)^A43),9)))","v":0.12981277399999999},16.617212000000002]
[41,41,"2026-07-15",7,{"$f":"IF(ISERROR(MATCH(D44,'CrediAltoque (SI)'!$H$18:$H$19,0))=FALSE,\"C\",IF(ISERROR(MATCH(D44,'CrediAltoque (SI)'!$H$20:$H$21,0))=FALSE,\"D\",\"\"))","v":""},{"$f":"IF(E44=\"C\",0,IF(E44 =\"D\",ROUND(1/((1+'CrediAltoque (SI)'!$R$14)^A44),9) * 2,ROUND(1/((1+'CrediAltoque (SI)'!$R$14)^A44),9)))","v":0.123353184},16.740565184000001]
[42,42,"2026-08-15",8,{"$f":"IF(ISERROR(MATCH(D45,'CrediAltoque (SI)'!$H$18:$H$19,0))=FALSE,\"C\",IF(ISERROR(MATCH(D45,'CrediAltoque (SI)'!$H$20:$H$21,0))=FALSE,\"D\",\"\"))","v":""},{"$f":"IF(E45=\"C\",0,IF(E45 =\"D\",ROUND(1/((1+'CrediAltoque (SI)'!$R$14)^A45),9) * 2,ROUND(1/((1+'CrediAltoque (SI)'!$R$14)^A45),9)))","v":0.11721503},16.857780214000002]
[43,43,"2026-09-15",9,{"$f":"IF(ISERROR(MATCH(D46,'CrediAltoque (SI)'!$H$18:$H$19,0))=FALSE,\"C\",IF(ISERROR(MATCH(D46,'CrediAltoque (SI)'!$H$20:$H$21,0))=FALSE,\"D\",\"\"))","v":""},{"$f":"IF(E46=\"C\",0,IF(E46 =\"D\",ROUND(1/((1+'CrediAltoque (SI)'!$R$14)^A46),9) * 2,ROUND(1/((1+'CrediAltoque (SI)'!$R$14)^A46),9)))","v":0.111382314},16.969162528000002]
[44,44,"2026-10-15",10,{"$f":"IF(ISERROR(MATCH(D47,'CrediAltoque (SI)'!$H$18:$H$19,0))=FALSE,\"C\",IF(ISERROR(MATCH(D47,'CrediAltoque (SI)'!$H$20:$H$21,0))=FALSE,\"D\",\"\"))","v":""},{"$f":"IF(E47=\"C\",0,IF(E47 =\"D\",ROUND(1/((1+'CrediAltoque (SI)'!$R$14)^A47),9) * 2,ROUND(1/((1+'CrediAltoque (SI)'!$R$14)^A47),9)))","v":0.10583984},17.075002368000003]
[45,45,"2026-11-15",11,{"$f":"IF(ISERROR(MATCH(D48,'CrediAltoque (SI)'!$H$18:$H$19,0))=FALSE,\"C\",IF(ISERROR(MATCH(D48,'CrediAltoque (SI)'!$H$20:$H$21,0))=FALSE,\"D\",\"\"))","v":""},{"$f":"IF(E48=\"C\",0,IF(E48 =\"D\",ROUND(1/((1+'CrediAltoque (SI)'!$R$14)^A48),9) * 2,ROUND(1/((1+'CrediAltoque (SI)'!$R$14)^A48),9)))","v":0.10057316299999999},17.175575531000003]
[46,46,"2026-12-15",12,{"$f":"IF(ISERROR(MATCH(D49,'CrediAltoque (SI)'!$H$18:$H$19,0))=FALSE,\"C\",IF(ISERROR(MATCH(D49,'CrediAltoque (SI)'!$H$20:$H$21,0))=FALSE,\"D\",\"\"))","v":""},{"$f":"IF(E49=\"C\",0,IF(E49 =\"D\",ROUND(1/((1+'CrediAltoque (SI)'!$R$14)^A49),9) * 2,ROUND(1/((1+'CrediAltoque (SI)'!$R$14)^A49),9)))","v":9.5568559999999997E-2},17.271144091000004]
[47,47,"2027-01-15",1,{"$f":"IF(ISERROR(MATCH(D50,'CrediAltoque (SI)'!$H$18:$H$19,0))=FALSE,\"C\",IF(ISERROR(MATCH(D50,'CrediAltoque (SI)'!$H$20:$H$21,0))=FALSE,\"D\",\"\"))","v":""},{"$f":"IF(E50=\"C\",0,IF(E50 =\"D\",ROUND(1/((1+'CrediAltoque (SI)'!$R$14)^A50),9) * 2,ROUND(1/((1+'CrediAltoque (SI)'!$R$14)^A50),9)))","v":9.0812990999999996E-2},17.361957082000004]
[48,48,"2027-02-15",2,{"$f":"IF(ISERROR(MATCH(D51,'CrediAltoque (SI)'!$H$18:$H$19,0))=FALSE,\"C\",IF(ISERROR(MATCH(D51,'CrediAltoque (SI)'!$H$20:$H$21,0))=FALSE,\"D\",\"\"))","v":""},{"$f":"IF(E51=\"C\",0,IF(E51 =\"D\",ROUND(1/((1+'CrediAltoque (SI)'!$R$14)^A51),9) * 2,ROUND(1/((1+'CrediAltoque (SI)'!$R$14)^A51),9)))","v":8.6294063000000004E-2},17.448251145000004]
[49,49,"2027-03-15",3,{"$f":"IF(ISERROR(MATCH(D52,'CrediAltoque (SI)'!$H$18:$H$19,0))=FALSE,\"C\",IF(ISERROR(MATCH(D52,'CrediAltoque (SI)'!$H$20:$H$21,0))=FALSE,\"D\",\"\"))","v":""},{"$f":"IF(E52=\"C\",0,IF(E52 =\"D\",ROUND(1/((1+'CrediAltoque (SI)'!$R$14)^A52),9) * 2,ROUND(1/((1+'CrediAltoque (SI)'!$R$14)^A52),9)))","v":8.2000000000000003E-2},17.530251145000005]
[50,50,"2027-04-15",4,{"$f":"IF(ISERROR(MATCH(D53,'CrediAltoque (SI)'!$H$18:$H$19,0))=FALSE,\"C\",IF(ISERROR(MATCH(D53,'CrediAltoque (SI)'!$H$20:$H$21,0))=FALSE,\"D\",\"\"))","v":""},{"$f":"IF(E53=\"C\",0,IF(E53 =\"D\",ROUND(1/((1+'CrediAltoque (SI)'!$R$14)^A53),9) * 2,ROUND(1/((1+'CrediAltoque (SI)'!$R$14)^A53),9)))","v":7.7919612999999999E-2},17.608170758000004]
[51,51,"2027-05-15",5,{"$f":"IF(ISERROR(MATCH(D54,'CrediAltoque (SI)'!$H$18:$H$19,0))=FALSE,\"C\",IF(ISERROR(MATCH(D54,'CrediAltoque (SI)'!$H$20:$H$21,0))=FALSE,\"D\",\"\"))","v":""},{"$f":"IF(E54=\"C\",0,IF(E54 =\"D\",ROUND(1/((1+'CrediAltoque (SI)'!$R$14)^A54),9) * 2,ROUND(1/((1+'CrediAltoque (SI)'!$R$14)^A54),9)))","v":7.4042269999999993E-2},17.682213028000003]
[52,52,"2027-06-15",6,{"$f":"IF(ISERROR(MATCH(D55,'CrediAltoque (SI)'!$H$18:$H$19,0))=FALSE,\"C\",IF(ISERROR(MATCH(D55,'CrediAltoque (SI)'!$H$20:$H$21,0))=FALSE,\"D\",\"\"))","v":""},{"$f":"IF(E55=\"C\",0,IF(E55 =\"D\",ROUND(1/((1+'CrediAltoque (SI)'!$R$14)^A55),9) * 2,ROUND(1/((1+'CrediAltoque (SI)'!$R$14)^A55),9)))","v":7.0357866000000005E-2},17.752570894000002]
[53,53,"2027-07-15",7,{"$f":"IF(ISERROR(MATCH(D56,'CrediAltoque (SI)'!$H$18:$H$19,0))=FALSE,\"C\",IF(ISERROR(MATCH(D56,'CrediAltoque (SI)'!$H$20:$H$21,0))=FALSE,\"D\",\"\"))","v":""},{"$f":"IF(E56=\"C\",0,IF(E56 =\"D\",ROUND(1/((1+'CrediAltoque (SI)'!$R$14)^A56),9) * 2,ROUND(1/((1+'CrediAltoque (SI)'!$R$14)^A56),9)))","v":6.6856800999999993E-2},17.819427695000002]
[54,54,"2027-08-15",8,{"$f":"IF(ISERROR(MATCH(D57,'CrediAltoque (SI)'!$H$18:$H$19,0))=FALSE,\"C\",IF(ISERROR(MATCH(D57,'CrediAltoque (SI)'!$H$20:$H$21,0))=FALSE,\"D\",\"\"))","v":""},{"$f":"IF(E57=\"C\",0,IF(E57 =\"D\",ROUND(1/((1+'CrediAltoque (SI)'!$R$14)^A57),9) * 2,ROUND(1/((1+'CrediAltoque (SI)'!$R$14)^A57),9)))","v":6.3529952000000001E-2},17.882957647000001]
[55,55,"2027-09-15",9,{"$f":"IF(ISERROR(MATCH(D58,'CrediAltoque (SI)'!$H$18:$H$19,0))=FALSE,\"C\",IF(ISERROR(MATCH(D58,'CrediAltoque (SI)'!$H$20:$H$21,0))=FALSE,\"D\",\"\"))","v":""},{"$f":"IF(E58=\"C\",0,IF(E58 =\"D\",ROUND(1/((1+'CrediAltoque (SI)'!$R$14)^A58),9) * 2,ROUND(1/((1+'CrediAltoque (SI)'!$R$14)^A58),9)))","v":6.0368650000000003E-2},17.943326297000002]
[56,56,"2027-10-15",10,{"$f":"IF(ISERROR(MATCH(D59,'CrediAltoque (SI)'!$H$18:$H$19,0))=FALSE,\"C\",IF(ISERROR(MATCH(D59,'CrediAltoque (SI)'!$H$20:$H$21,0))=FALSE,\"D\",\"\"))","v":""},{"$f":"IF(E59=\"C\",0,IF(E59 =\"D\",ROUND(1/((1+'CrediAltoque (SI)'!$R$14)^A59),9) * 2,ROUND(1/((1+'CrediAltoque (SI)'!$R$14)^A59),9)))","v":5.7364656999999999E-2},18.000690954000003]
[57,57,"2027-11-15",11,{"$f":"IF(ISERROR(MATCH(D60,'CrediAltoque (SI)'!$H$18:$H$19,0))=FALSE,\"C\",IF(ISERROR(MATCH(D60,'CrediAltoque (SI)'!$H$20:$H$21,0))=FALSE,\"D\",\"\"))","v":""},{"$f":"IF(E60=\"C\",0,IF(E60 =\"D\",ROUND(1/((1+'CrediAltoque (SI)'!$R$14)^A60),9) * 2,ROUND(1/((1+'CrediAltoque (SI)'!$R$14)^A60),9)))","v":5.4510145000000003E-2},18.055201099000001]
[58,58,"2027-12-15",12,{"$f":"IF(ISERROR(MATCH(D61,'CrediAltoque (SI)'!$H$18:$H$19,0))=FALSE,\"C\",IF(ISERROR(MATCH(D61,'CrediAltoque (SI)'!$H$20:$H$21,0))=FALSE,\"D\",\"\"))","v":""},{"$f":"IF(E61=\"C\",0,IF(E61 =\"D\",ROUND(1/((1+'CrediAltoque (SI)'!$R$14)^A61),9) * 2,ROUND(1/((1+'CrediAltoque (SI)'!$R$14)^A61),9)))","v":5.1797676000000001E-2},18.106998775000001]
[59,59,"2028-01-15",1,{"$f":"IF(ISERROR(MATCH(D62,'CrediAltoque (SI)'!$H$18:$H$19,0))=FALSE,\"C\",IF(ISERROR(MATCH(D62,'CrediAltoque (SI)'!$H$20:$H$21,0))=FALSE,\"D\",\"\"))","v":""},{"$f":"IF(E62=\"C\",0,IF(E62 =\"D\",ROUND(1/((1+'CrediAltoque (SI)'!$R$14)^A62),9) * 2,ROUND(1/((1+'CrediAltoque (SI)'!$R$14)^A62),9)))","v":4.9220181000000002E-2},18.156218956]
[60,60,"2028-02-15",2,{"$f":"IF(ISERROR(MATCH(D63,'CrediAltoque (SI)'!$H$18:$H$19,0))=FALSE,\"C\",IF(ISERROR(MATCH(D63,'CrediAltoque (SI)'!$H$20:$H$21,0))=FALSE,\"D\",\"\"))","v":""},{"$f":"IF(E63=\"C\",0,IF(E63 =\"D\",ROUND(1/((1+'CrediAltoque (SI)'!$R$14)^A63),9) * 2,ROUND(1/((1+'CrediAltoque (SI)'!$R$14)^A63),9)))","v":4.6770945000000001E-2},18.202989900999999]
[61,61,"2028-03-15",3,{"$f":"IF(ISERROR(MATCH(D64,'CrediAltoque (SI)'!$H$18:$H$19,0))=FALSE,\"C\",IF(ISERROR(MATCH(D64,'CrediAltoque (SI)'!$H$20:$H$21,0))=FALSE,\"D\",\"\"))","v":""},{"$f":"IF(E64=\"C\",0,IF(E64 =\"D\",ROUND(1/((1+'CrediAltoque (SI)'!$R$14)^A64),9) * 2,ROUND(1/((1+'CrediAltoque (SI)'!$R$14)^A64),9)))","v":4.4443585000000001E-2},18.247433485999998]
[62,62,"2028-04-15",4,{"$f":"IF(ISERROR(MATCH(D65,'CrediAltoque (SI)'!$H$18:$H$19,0))=FALSE,\"C\",IF(ISERROR(MATCH(D65,'CrediAltoque (SI)'!$H$20:$H$21,0))=FALSE,\"D\",\"\"))","v":""},{"$f":"IF(E65=\"C\",0,IF(E65 =\"D\",ROUND(1/((1+'CrediAltoque (SI)'!$R$14)^A65),9) * 2,ROUND(1/((1+'CrediAltoque (SI)'!$R$14)^A65),9)))","v":4.2232036000000001E-2},18.289665522]
[63,63,"2028-05-15",5,{"$f":"IF(ISERROR(MATCH(D66,'CrediAltoque (SI)'!$H$18:$H$19,0))=FALSE,\"C\",IF(ISERROR(MATCH(D66,'CrediAltoque (SI)'!$H$20:$H$21,0))=FALSE,\"D\",\"\"))","v":""},{"$f":"IF(E66=\"C\",0,IF(E66 =\"D\",ROUND(1/((1+'CrediAltoque (SI)'!$R$14)^A66),9) * 2,ROUND(1/((1+'CrediAltoque (SI)'!$R$14)^A66),9)))","v":4.0130535000000002E-2},18.329796056999999]
[64,64,"2028-06-15",6,{"$f":"IF(ISERROR(MATCH(D67,'CrediAltoque (SI)'!$H$18:$H$19,0))=FALSE,\"C\",IF(ISERROR(MATCH(D67,'CrediAltoque (SI)'!$H$20:$H$21,0))=FALSE,\"D\",\"\"))","v":""},{"$f":"IF(E67=\"C\",0,IF(E67 =\"D\",ROUND(1/((1+'CrediAltoque (SI)'!$R$14)^A67),9) * 2,ROUND(1/((1+'CrediAltoque (SI)'!$R$14)^A67),9)))","v":3.8133607E-2},18.367929663999998]
[65,65,"2028-07-15",{"$f":"MONTH(C68)","v":7},{"$f":"IF(ISERROR(MATCH(D68,'CrediAltoque (SI)'!$H$18:$H$19,0))=FALSE,\"C\",IF(ISERROR(MATCH(D68,'CrediAltoque (SI)'!$H$20:$H$21,0))=FALSE,\"D\",\"\"))","v":""},{"$f":"IF(E68=\"C\",0,IF(E68 =\"D\",ROUND(1/((1+'CrediAltoque (SI)'!$R$14)^A68),9) * 2,ROUND(1/((1+'CrediAltoque (SI)'!$R$14)^A68),9)))","v":3.6236048E-2},18.404165711999998]
[{"$f":"A68+1","v":66},{"$f":"IF(E69<>\"C\",IF(ISERROR(1+B68)=TRUE,1,1+B68),IF(ISNUMBER(B68),B68,1))","v":66},{"$f":"DATE(YEAR(C68) + 1/12,MONTH(C68)+1,DAY(C68))","v":"2028-08-15"},8,{"$f":"IF(ISERROR(MATCH(D69,'CrediAltoque (SI)'!$H$18:$H$19,0))=FALSE,\"C\",IF(ISERROR(MATCH(D69,'CrediAltoque (SI)'!$H$20:$H$21,0))=FALSE,\"D\",\"\"))","v":""},{"$f":"IF(E69=\"C\",0,IF(E69 =\"D\",ROUND(1/((1+'CrediAltoque (SI)'!$R$14)^A69),9) * 2,ROUND(1/((1+'CrediAltoque (SI)'!$R$14)^A69),9)))","v":3.4432913000000002E-2},18.438598624999997]
[67,67,"2028-09-15",9,{"$f":"IF(ISERROR(MATCH(D70,'CrediAltoque (SI)'!$H$18:$H$19,0))=FALSE,\"C\",IF(ISERROR(MATCH(D70,'CrediAltoque (SI)'!$H$20:$H$21,0))=FALSE,\"D\",\"\"))","v":""},{"$f":"IF(E70=\"C\",0,IF(E70 =\"D\",ROUND(1/((1+'CrediAltoque (SI)'!$R$14)^A70),9) * 2,ROUND(1/((1+'CrediAltoque (SI)'!$R$14)^A70),9)))","v":3.2719502999999997E-2},{"$f":"G69+ROUND(F70,9)","v":18.471318127999997}]
[68,68,"2028-10-15",10,{"$f":"IF(ISERROR(MATCH(D71,'CrediAltoque (SI)'!$H$18:$H$19,0))=FALSE,\"C\",IF(ISERROR(MATCH(D71,'CrediAltoque (SI)'!$H$20:$H$21,0))=FALSE,\"D\",\"\"))","v":""},{"$f":"IF(E71=\"C\",0,IF(E71 =\"D\",ROUND(1/((1+'CrediAltoque (SI)'!$R$14)^A71),9) * 2,ROUND(1/((1+'CrediAltoque (SI)'!$R$14)^A71),9)))","v":3.1091354000000002E-2},18.502409481999997]
[69,69,"2028-11-15",11,{"$f":"IF(ISERROR(MATCH(D72,'CrediAltoque (SI)'!$H$18:$H$19,0))=FALSE,\"C\",IF(ISERROR(MATCH(D72,'CrediAltoque (SI)'!$H$20:$H$21,0))=FALSE,\"D\",\"\"))","v":""},{"$f":"IF(E72=\"C\",0,IF(E72 =\"D\",ROUND(1/((1+'CrediAltoque (SI)'!$R$14)^A72),9) * 2,ROUND(1/((1+'CrediAltoque (SI)'!$R$14)^A72),9)))","v":2.9544223000000001E-2},18.531953704999996]
[70,70,"2028-12-15",12,{"$f":"IF(ISERROR(MATCH(D73,'CrediAltoque (SI)'!$H$18:$H$19,0))=FALSE,\"C\",IF(ISERROR(MATCH(D73,'CrediAltoque (SI)'!$H$20:$H$21,0))=FALSE,\"D\",\"\"))","v":""},{"$f":"IF(E73=\"C\",0,IF(E73 =\"D\",ROUND(1/((1+'CrediAltoque (SI)'!$R$14)^A73),9) * 2,ROUND(1/((1+'CrediAltoque (SI)'!$R$14)^A73),9)))","v":2.8074077999999999E-2},18.560027782999995]
[71,71,"2029-01-15",1,{"$f":"IF(ISERROR(MATCH(D74,'CrediAltoque (SI)'!$H$18:$H$19,0))=FALSE,\"C\",IF(ISERROR(MATCH(D74,'CrediAltoque (SI)'!$H$20:$H$21,0))=FALSE,\"D\",\"\"))","v":""},{"$f":"IF(E74=\"C\",0,IF(E74 =\"D\",ROUND(1/((1+'CrediAltoque (SI)'!$R$14)^A74),9) * 2,ROUND(1/((1+'CrediAltoque (SI)'!$R$14)^A74),9)))","v":2.6677089000000001E-2},18.586704871999995]
[72,72,"2029-02-15",2,{"$f":"IF(ISERROR(MATCH(D75,'CrediAltoque (SI)'!$H$18:$H$19,0))=FALSE,\"C\",IF(ISERROR(MATCH(D75,'CrediAltoque (SI)'!$H$20:$H$21,0))=FALSE,\"D\",\"\"))","v":""},{"$f":"IF(E75=\"C\",0,IF(E75 =\"D\",ROUND(1/((1+'CrediAltoque (SI)'!$R$14)^A75),9) * 2,ROUND(1/((1+'CrediAltoque (SI)'!$R$14)^A75),9)))","v":2.5349614999999999E-2},18.612054486999995]
[73,73,"2029-03-15",3,{"$f":"IF(ISERROR(MATCH(D76,'CrediAltoque (SI)'!$H$18:$H$19,0))=FALSE,\"C\",IF(ISERROR(MATCH(D76,'CrediAltoque (SI)'!$H$20:$H$21,0))=FALSE,\"D\",\"\"))","v":""},{"$f":"IF(E76=\"C\",0,IF(E76 =\"D\",ROUND(1/((1+'CrediAltoque (SI)'!$R$14)^A76),9) * 2,ROUND(1/((1+'CrediAltoque (SI)'!$R$14)^A76),9)))","v":2.4088198000000002E-2},18.636142684999996]
[74,74,"2029-04-15",4,{"$f":"IF(ISERROR(MATCH(D77,'CrediAltoque (SI)'!$H$18:$H$19,0))=FALSE,\"C\",IF(ISERROR(MATCH(D77,'CrediAltoque (SI)'!$H$20:$H$21,0))=FALSE,\"D\",\"\"))","v":""},{"$f":"IF(E77=\"C\",0,IF(E77 =\"D\",ROUND(1/((1+'CrediAltoque (SI)'!$R$14)^A77),9) * 2,ROUND(1/((1+'CrediAltoque (SI)'!$R$14)^A77),9)))","v":2.2889550000000002E-2},18.659032234999994]
[75,75,"2029-05-15",5,{"$f":"IF(ISERROR(MATCH(D78,'CrediAltoque (SI)'!$H$18:$H$19,0))=FALSE,\"C\",IF(ISERROR(MATCH(D78,'CrediAltoque (SI)'!$H$20:$H$21,0))=FALSE,\"D\",\"\"))","v":""},{"$f":"IF(E78=\"C\",0,IF(E78 =\"D\",ROUND(1/((1+'CrediAltoque (SI)'!$R$14)^A78),9) * 2,ROUND(1/((1+'CrediAltoque (SI)'!$R$14)^A78),9)))","v":2.1750546999999999E-2},18.680782781999994]
[76,76,"2029-06-15",6,{"$f":"IF(ISERROR(MATCH(D79,'CrediAltoque (SI)'!$H$18:$H$19,0))=FALSE,\"C\",IF(ISERROR(MATCH(D79,'CrediAltoque (SI)'!$H$20:$H$21,0))=FALSE,\"D\",\"\"))","v":""},{"$f":"IF(E79=\"C\",0,IF(E79 =\"D\",ROUND(1/((1+'CrediAltoque (SI)'!$R$14)^A79),9) * 2,ROUND(1/((1+'CrediAltoque (SI)'!$R$14)^A79),9)))","v":2.0668222E-2},18.701451003999995]
[77,77,"2029-07-15",7,{"$f":"IF(ISERROR(MATCH(D80,'CrediAltoque (SI)'!$H$18:$H$19,0))=FALSE,\"C\",IF(ISERROR(MATCH(D80,'CrediAltoque (SI)'!$H$20:$H$21,0))=FALSE,\"D\",\"\"))","v":""},{"$f":"IF(E80=\"C\",0,IF(E80 =\"D\",ROUND(1/((1+'CrediAltoque (SI)'!$R$14)^A80),9) * 2,ROUND(1/((1+'CrediAltoque (SI)'!$R$14)^A80),9)))","v":1.9639753999999999E-2},18.721090757999995]
[78,78,"2029-08-15",8,{"$f":"IF(ISERROR(MATCH(D81,'CrediAltoque (SI)'!$H$18:$H$19,0))=FALSE,\"C\",IF(ISERROR(MATCH(D81,'CrediAltoque (SI)'!$H$20:$H$21,0))=FALSE,\"D\",\"\"))","v":""},{"$f":"IF(E81=\"C\",0,IF(E81 =\"D\",ROUND(1/((1+'CrediAltoque (SI)'!$R$14)^A81),9) * 2,ROUND(1/((1+'CrediAltoque (SI)'!$R$14)^A81),9)))","v":1.8662464E-2},18.739753221999994]
[79,79,"2029-09-15",9,{"$f":"IF(ISERROR(MATCH(D82,'CrediAltoque (SI)'!$H$18:$H$19,0))=FALSE,\"C\",IF(ISERROR(MATCH(D82,'CrediAltoque (SI)'!$H$20:$H$21,0))=FALSE,\"D\",\"\"))","v":""},{"$f":"IF(E82=\"C\",0,IF(E82 =\"D\",ROUND(1/((1+'CrediAltoque (SI)'!$R$14)^A82),9) * 2,ROUND(1/((1+'CrediAltoque (SI)'!$R$14)^A82),9)))","v":1.7733804999999998E-2},18.757487026999993]
[80,80,"2029-10-15",10,{"$f":"IF(ISERROR(MATCH(D83,'CrediAltoque (SI)'!$H$18:$H$19,0))=FALSE,\"C\",IF(ISERROR(MATCH(D83,'CrediAltoque (SI)'!$H$20:$H$21,0))=FALSE,\"D\",\"\"))","v":""},{"$f":"IF(E83=\"C\",0,IF(E83 =\"D\",ROUND(1/((1+'CrediAltoque (SI)'!$R$14)^A83),9) * 2,ROUND(1/((1+'CrediAltoque (SI)'!$R$14)^A83),9)))","v":1.6851356000000001E-2},18.774338382999993]
[81,81,"2029-11-15",11,{"$f":"IF(ISERROR(MATCH(D84,'CrediAltoque (SI)'!$H$18:$H$19,0))=FALSE,\"C\",IF(ISERROR(MATCH(D84,'CrediAltoque (SI)'!$H$20:$H$21,0))=FALSE,\"D\",\"\"))","v":""},{"$f":"IF(E84=\"C\",0,IF(E84 =\"D\",ROUND(1/((1+'CrediAltoque (SI)'!$R$14)^A84),9) * 2,ROUND(1/((1+'CrediAltoque (SI)'!$R$14)^A84),9)))","v":1.6012819000000001E-2},18.790351201999993]
[82,82,"2029-12-15",12,{"$f":"IF(ISERROR(MATCH(D85,'CrediAltoque (SI)'!$H$18:$H$19,0))=FALSE,\"C\",IF(ISERROR(MATCH(D85,'CrediAltoque (SI)'!$H$20:$H$21,0))=FALSE,\"D\",\"\"))","v":""},{"$f":"IF(E85=\"C\",0,IF(E85 =\"D\",ROUND(1/((1+'CrediAltoque (SI)'!$R$14)^A85),9) * 2,ROUND(1/((1+'CrediAltoque (SI)'!$R$14)^A85),9)))","v":1.5216008E-2},18.805567209999992]
[83,83,"2030-01-15",1,{"$f":"IF(ISERROR(MATCH(D86,'CrediAltoque (SI)'!$H$18:$H$19,0))=FALSE,\"C\",IF(ISERROR(MATCH(D86,'CrediAltoque (SI)'!$H$20:$H$21,0))=FALSE,\"D\",\"\"))","v":""},{"$f":"IF(E86=\"C\",0,IF(E86 =\"D\",ROUND(1/((1+'CrediAltoque (SI)'!$R$14)^A86),9) * 2,ROUND(1/((1+'CrediAltoque (SI)'!$R$14)^A86),9)))","v":1.4458847E-2},18.820026056999993]
[84,84,"2030-02-15",2,{"$f":"IF(ISERROR(MATCH(D87,'CrediAltoque (SI)'!$H$18:$H$19,0))=FALSE,\"C\",IF(ISERROR(MATCH(D87,'CrediAltoque (SI)'!$H$20:$H$21,0))=FALSE,\"D\",\"\"))","v":""},{"$f":"IF(E87=\"C\",0,IF(E87 =\"D\",ROUND(1/((1+'CrediAltoque (SI)'!$R$14)^A87),9) * 2,ROUND(1/((1+'CrediAltoque (SI)'!$R$14)^A87),9)))","v":1.3739362999999999E-2},18.833765419999992]
[85,85,"2030-03-15",3,{"$f":"IF(ISERROR(MATCH(D88,'CrediAltoque (SI)'!$H$18:$H$19,0))=FALSE,\"C\",IF(ISERROR(MATCH(D88,'CrediAltoque (SI)'!$H$20:$H$21,0))=FALSE,\"D\",\"\"))","v":""},{"$f":"IF(E88=\"C\",0,IF(E88 =\"D\",ROUND(1/((1+'CrediAltoque (SI)'!$R$14)^A88),9) * 2,ROUND(1/((1+'CrediAltoque (SI)'!$R$14)^A88),9)))","v":1.3055681E-2},18.846821100999993]
[86,86,"2030-04-15",4,{"$f":"IF(ISERROR(MATCH(D89,'CrediAltoque (SI)'!$H$18:$H$19,0))=FALSE,\"C\",IF(ISERROR(MATCH(D89,'CrediAltoque (SI)'!$H$20:$H$21,0))=FALSE,\"D\",\"\"))","v":""},{"$f":"IF(E89=\"C\",0,IF(E89 =\"D\",ROUND(1/((1+'CrediAltoque (SI)'!$R$14)^A89),9) * 2,ROUND(1/((1+'CrediAltoque (SI)'!$R$14)^A89),9)))","v":1.240602E-2},18.859227120999993]
[87,87,"2030-05-15",5,{"$f":"IF(ISERROR(MATCH(D90,'CrediAltoque (SI)'!$H$18:$H$19,0))=FALSE,\"C\",IF(ISERROR(MATCH(D90,'CrediAltoque (SI)'!$H$20:$H$21,0))=FALSE,\"D\",\"\"))","v":""},{"$f":"IF(E90=\"C\",0,IF(E90 =\"D\",ROUND(1/((1+'CrediAltoque (SI)'!$R$14)^A90),9) * 2,ROUND(1/((1+'CrediAltoque (SI)'!$R$14)^A90),9)))","v":1.1788686E-2},18.871015806999992]
[88,88,"2030-06-15",6,{"$f":"IF(ISERROR(MATCH(D91,'CrediAltoque (SI)'!$H$18:$H$19,0))=FALSE,\"C\",IF(ISERROR(MATCH(D91,'CrediAltoque (SI)'!$H$20:$H$21,0))=FALSE,\"D\",\"\"))","v":""},{"$f":"IF(E91=\"C\",0,IF(E91 =\"D\",ROUND(1/((1+'CrediAltoque (SI)'!$R$14)^A91),9) * 2,ROUND(1/((1+'CrediAltoque (SI)'!$R$14)^A91),9)))","v":1.1202072E-2},18.882217878999992]
[89,89,"2030-07-15",7,{"$f":"IF(ISERROR(MATCH(D92,'CrediAltoque (SI)'!$H$18:$H$19,0))=FALSE,\"C\",IF(ISERROR(MATCH(D92,'CrediAltoque (SI)'!$H$20:$H$21,0))=FALSE,\"D\",\"\"))","v":""},{"$f":"IF(E92=\"C\",0,IF(E92 =\"D\",ROUND(1/((1+'CrediAltoque (SI)'!$R$14)^A92),9) * 2,ROUND(1/((1+'CrediAltoque (SI)'!$R$14)^A92),9)))","v":1.0644647E-2},18.892862525999991]
[90,90,"2030-08-15",8,{"$f":"IF(ISERROR(MATCH(D93,'CrediAltoque (SI)'!$H$18:$H$19,0))=FALSE,\"C\",IF(ISERROR(MATCH(D93,'CrediAltoque (SI)'!$H$20:$H$21,0))=FALSE,\"D\",\"\"))","v":""},{"$f":"IF(E93=\"C\",0,IF(E93 =\"D\",ROUND(1/((1+'CrediAltoque (SI)'!$R$14)^A93),9) * 2,ROUND(1/((1+'CrediAltoque (SI)'!$R$14)^A93),9)))","v":1.0114961E-2},18.90297748699999]
[91,91,"2030-09-15",9,{"$f":"IF(ISERROR(MATCH(D94,'CrediAltoque (SI)'!$H$18:$H$19,0))=FALSE,\"C\",IF(ISERROR(MATCH(D94,'CrediAltoque (SI)'!$H$20:$H$21,0))=FALSE,\"D\",\"\"))","v":""},{"$f":"IF(E94=\"C\",0,IF(E94 =\"D\",ROUND(1/((1+'CrediAltoque (SI)'!$R$14)^A94),9) * 2,ROUND(1/((1+'CrediAltoque (SI)'!$R$14)^A94),9)))","v":9.6116320000000002E-3},18.912589118999989]
[92,92,"2030-10-15",10,{"$f":"IF(ISERROR(MATCH(D95,'CrediAltoque (SI)'!$H$18:$H$19,0))=FALSE,\"C\",IF(ISERROR(MATCH(D95,'CrediAltoque (SI)'!$H$20:$H$21,0))=FALSE,\"D\",\"\"))","v":""},{"$f":"IF(E95=\"C\",0,IF(E95 =\"D\",ROUND(1/((1+'CrediAltoque (SI)'!$R$14)^A95),9) * 2,ROUND(1/((1+'CrediAltoque (SI)'!$R$14)^A95),9)))","v":9.1333500000000001E-3},18.921722468999988]
[93,93,"2030-11-15",11,{"$f":"IF(ISERROR(MATCH(D96,'CrediAltoque (SI)'!$H$18:$H$19,0))=FALSE,\"C\",IF(ISERROR(MATCH(D96,'CrediAltoque (SI)'!$H$20:$H$21,0))=FALSE,\"D\",\"\"))","v":""},{"$f":"IF(E96=\"C\",0,IF(E96 =\"D\",ROUND(1/((1+'CrediAltoque (SI)'!$R$14)^A96),9) * 2,ROUND(1/((1+'CrediAltoque (SI)'!$R$14)^A96),9)))","v":8.6788669999999998E-3},18.930401335999989]
[94,94,"2030-12-15",12,{"$f":"IF(ISERROR(MATCH(D97,'CrediAltoque (SI)'!$H$18:$H$19,0))=FALSE,\"C\",IF(ISERROR(MATCH(D97,'CrediAltoque (SI)'!$H$20:$H$21,0))=FALSE,\"D\",\"\"))","v":""},{"$f":"IF(E97=\"C\",0,IF(E97 =\"D\",ROUND(1/((1+'CrediAltoque (SI)'!$R$14)^A97),9) * 2,ROUND(1/((1+'CrediAltoque (SI)'!$R$14)^A97),9)))","v":8.2469989999999996E-3},18.938648334999989]
[95,95,"2031-01-15",1,{"$f":"IF(ISERROR(MATCH(D98,'CrediAltoque (SI)'!$H$18:$H$19,0))=FALSE,\"C\",IF(ISERROR(MATCH(D98,'CrediAltoque (SI)'!$H$20:$H$21,0))=FALSE,\"D\",\"\"))","v":""},{"$f":"IF(E98=\"C\",0,IF(E98 =\"D\",ROUND(1/((1+'CrediAltoque (SI)'!$R$14)^A98),9) * 2,ROUND(1/((1+'CrediAltoque (SI)'!$R$14)^A98),9)))","v":7.8366219999999997E-3},18.946484956999988]
[96,96,"2031-02-15",2,{"$f":"IF(ISERROR(MATCH(D99,'CrediAltoque (SI)'!$H$18:$H$19,0))=FALSE,\"C\",IF(ISERROR(MATCH(D99,'CrediAltoque (SI)'!$H$20:$H$21,0))=FALSE,\"D\",\"\"))","v":""},{"$f":"IF(E99=\"C\",0,IF(E99 =\"D\",ROUND(1/((1+'CrediAltoque (SI)'!$R$14)^A99),9) * 2,ROUND(1/((1+'CrediAltoque (SI)'!$R$14)^A99),9)))","v":7.4466649999999999E-3},18.953931621999988]
[97,97,"2031-03-15",3,{"$f":"IF(ISERROR(MATCH(D100,'CrediAltoque (SI)'!$H$18:$H$19,0))=FALSE,\"C\",IF(ISERROR(MATCH(D100,'CrediAltoque (SI)'!$H$20:$H$21,0))=FALSE,\"D\",\"\"))","v":""},{"$f":"IF(E100=\"C\",0,IF(E100 =\"D\",ROUND(1/((1+'CrediAltoque (SI)'!$R$14)^A100),9) * 2,ROUND(1/((1+'CrediAltoque (SI)'!$R$14)^A100),9)))","v":7.0761130000000002E-3},18.961007734999988]
[98,98,"2031-04-15",4,{"$f":"IF(ISERROR(MATCH(D101,'CrediAltoque (SI)'!$H$18:$H$19,0))=FALSE,\"C\",IF(ISERROR(MATCH(D101,'CrediAltoque (SI)'!$H$20:$H$21,0))=FALSE,\"D\",\"\"))","v":""},{"$f":"IF(E101=\"C\",0,IF(E101 =\"D\",ROUND(1/((1+'CrediAltoque (SI)'!$R$14)^A101),9) * 2,ROUND(1/((1+'CrediAltoque (SI)'!$R$14)^A101),9)))","v":6.7239999999999999E-3},18.967731734999987]
[99,99,"2031-05-15",5,{"$f":"IF(ISERROR(MATCH(D102,'CrediAltoque (SI)'!$H$18:$H$19,0))=FALSE,\"C\",IF(ISERROR(MATCH(D102,'CrediAltoque (SI)'!$H$20:$H$21,0))=FALSE,\"D\",\"\"))","v":""},{"$f":"IF(E102=\"C\",0,IF(E102 =\"D\",ROUND(1/((1+'CrediAltoque (SI)'!$R$14)^A102),9) * 2,ROUND(1/((1+'CrediAltoque (SI)'!$R$14)^A102),9)))","v":6.3894080000000001E-3},18.974121142999987]
[100,100,"2031-06-15",6,{"$f":"IF(ISERROR(MATCH(D103,'CrediAltoque (SI)'!$H$18:$H$19,0))=FALSE,\"C\",IF(ISERROR(MATCH(D103,'CrediAltoque (SI)'!$H$20:$H$21,0))=FALSE,\"D\",\"\"))","v":""},{"$f":"IF(E103=\"C\",0,IF(E103 =\"D\",ROUND(1/((1+'CrediAltoque (SI)'!$R$14)^A103),9) * 2,ROUND(1/((1+'CrediAltoque (SI)'!$R$14)^A103),9)))","v":6.0714660000000002E-3},18.980192608999989]
[101,101,"2031-07-15",7,{"$f":"IF(ISERROR(MATCH(D104,'CrediAltoque (SI)'!$H$18:$H$19,0))=FALSE,\"C\",IF(ISERROR(MATCH(D104,'CrediAltoque (SI)'!$H$20:$H$21,0))=FALSE,\"D\",\"\"))","v":""},{"$f":"IF(E104=\"C\",0,IF(E104 =\"D\",ROUND(1/((1+'CrediAltoque (SI)'!$R$14)^A104),9) * 2,ROUND(1/((1+'CrediAltoque (SI)'!$R$14)^A104),9)))","v":5.7693450000000004E-3},18.98596195399999]
[102,102,"2031-08-15",8,{"$f":"IF(ISERROR(MATCH(D105,'CrediAltoque (SI)'!$H$18:$H$19,0))=FALSE,\"C\",IF(ISERROR(MATCH(D105,'CrediAltoque (SI)'!$H$20:$H$21,0))=FALSE,\"D\",\"\"))","v":""},{"$f":"IF(E105=\"C\",0,IF(E105 =\"D\",ROUND(1/((1+'CrediAltoque (SI)'!$R$14)^A105),9) * 2,ROUND(1/((1+'CrediAltoque (SI)'!$R$14)^A105),9)))","v":5.4822580000000003E-3},18.99144421199999]
[103,103,"2031-09-15",9,{"$f":"IF(ISERROR(MATCH(D106,'CrediAltoque (SI)'!$H$18:$H$19,0))=FALSE,\"C\",IF(ISERROR(MATCH(D106,'CrediAltoque (SI)'!$H$20:$H$21,0))=FALSE,\"D\",\"\"))","v":""},{"$f":"IF(E106=\"C\",0,IF(E106 =\"D\",ROUND(1/((1+'CrediAltoque (SI)'!$R$14)^A106),9) * 2,ROUND(1/((1+'CrediAltoque (SI)'!$R$14)^A106),9)))","v":5.2094560000000003E-3},18.99665366799999]
[104,104,"2031-10-15",10,{"$f":"IF(ISERROR(MATCH(D107,'CrediAltoque (SI)'!$H$18:$H$19,0))=FALSE,\"C\",IF(ISERROR(MATCH(D107,'CrediAltoque (SI)'!$H$20:$H$21,0))=FALSE,\"D\",\"\"))","v":""},{"$f":"IF(E107=\"C\",0,IF(E107 =\"D\",ROUND(1/((1+'CrediAltoque (SI)'!$R$14)^A107),9) * 2,ROUND(1/((1+'CrediAltoque (SI)'!$R$14)^A107),9)))","v":4.9502289999999996E-3},19.001603896999988]
[105,105,"2031-11-15",11,{"$f":"IF(ISERROR(MATCH(D108,'CrediAltoque (SI)'!$H$18:$H$19,0))=FALSE,\"C\",IF(ISERROR(MATCH(D108,'CrediAltoque (SI)'!$H$20:$H$21,0))=FALSE,\"D\",\"\"))","v":""},{"$f":"IF(E108=\"C\",0,IF(E108 =\"D\",ROUND(1/((1+'CrediAltoque (SI)'!$R$14)^A108),9) * 2,ROUND(1/((1+'CrediAltoque (SI)'!$R$14)^A108),9)))","v":4.7039020000000003E-3},19.006307798999988]
[106,106,"2031-12-15",12,{"$f":"IF(ISERROR(MATCH(D109,'CrediAltoque (SI)'!$H$18:$H$19,0))=FALSE,\"C\",IF(ISERROR(MATCH(D109,'CrediAltoque (SI)'!$H$20:$H$21,0))=FALSE,\"D\",\"\"))","v":""},{"$f":"IF(E109=\"C\",0,IF(E109 =\"D\",ROUND(1/((1+'CrediAltoque (SI)'!$R$14)^A109),9) * 2,ROUND(1/((1+'CrediAltoque (SI)'!$R$14)^A109),9)))","v":4.469832E-3},19.010777630999989]
[107,107,"2032-01-15",1,{"$f":"IF(ISERROR(MATCH(D110,'CrediAltoque (SI)'!$H$18:$H$19,0))=FALSE,\"C\",IF(ISERROR(MATCH(D110,'CrediAltoque (SI)'!$H$20:$H$21,0))=FALSE,\"D\",\"\"))","v":""},{"$f":"IF(E110=\"C\",0,IF(E110 =\"D\",ROUND(1/((1+'CrediAltoque (SI)'!$R$14)^A110),9) * 2,ROUND(1/((1+'CrediAltoque (SI)'!$R$14)^A110),9)))","v":4.2474089999999997E-3},19.01502503999999]
[108,108,"2032-02-15",2,{"$f":"IF(ISERROR(MATCH(D111,'CrediAltoque (SI)'!$H$18:$H$19,0))=FALSE,\"C\",IF(ISERROR(MATCH(D111,'CrediAltoque (SI)'!$H$20:$H$21,0))=FALSE,\"D\",\"\"))","v":""},{"$f":"IF(E111=\"C\",0,IF(E111 =\"D\",ROUND(1/((1+'CrediAltoque (SI)'!$R$14)^A111),9) * 2,ROUND(1/((1+'CrediAltoque (SI)'!$R$14)^A111),9)))","v":4.0360550000000002E-3},19.019061094999991]
[109,109,"2032-03-15",3,{"$f":"IF(ISERROR(MATCH(D112,'CrediAltoque (SI)'!$H$18:$H$19,0))=FALSE,\"C\",IF(ISERROR(MATCH(D112,'CrediAltoque (SI)'!$H$20:$H$21,0))=FALSE,\"D\",\"\"))","v":""},{"$f":"IF(E112=\"C\",0,IF(E112 =\"D\",ROUND(1/((1+'CrediAltoque (SI)'!$R$14)^A112),9) * 2,ROUND(1/((1+'CrediAltoque (SI)'!$R$14)^A112),9)))","v":3.8352170000000001E-3},19.02289631199999]
[110,110,"2032-04-15",4,{"$f":"IF(ISERROR(MATCH(D113,'CrediAltoque (SI)'!$H$18:$H$19,0))=FALSE,\"C\",IF(ISERROR(MATCH(D113,'CrediAltoque (SI)'!$H$20:$H$21,0))=FALSE,\"D\",\"\"))","v":""},{"$f":"IF(E113=\"C\",0,IF(E113 =\"D\",ROUND(1/((1+'CrediAltoque (SI)'!$R$14)^A113),9) * 2,ROUND(1/((1+'CrediAltoque (SI)'!$R$14)^A113),9)))","v":3.6443740000000001E-3},19.02654068599999]
[111,111,"2032-05-15",5,{"$f":"IF(ISERROR(MATCH(D114,'CrediAltoque (SI)'!$H$18:$H$19,0))=FALSE,\"C\",IF(ISERROR(MATCH(D114,'CrediAltoque (SI)'!$H$20:$H$21,0))=FALSE,\"D\",\"\"))","v":""},{"$f":"IF(E114=\"C\",0,IF(E114 =\"D\",ROUND(1/((1+'CrediAltoque (SI)'!$R$14)^A114),9) * 2,ROUND(1/((1+'CrediAltoque (SI)'!$R$14)^A114),9)))","v":3.463027E-3},19.030003712999989]
[112,112,"2032-06-15",6,{"$f":"IF(ISERROR(MATCH(D115,'CrediAltoque (SI)'!$H$18:$H$19,0))=FALSE,\"C\",IF(ISERROR(MATCH(D115,'CrediAltoque (SI)'!$H$20:$H$21,0))=FALSE,\"D\",\"\"))","v":""},{"$f":"IF(E115=\"C\",0,IF(E115 =\"D\",ROUND(1/((1+'CrediAltoque (SI)'!$R$14)^A115),9) * 2,ROUND(1/((1+'CrediAltoque (SI)'!$R$14)^A115),9)))","v":3.2907040000000002E-3},19.03329441699999]
[113,113,"2032-07-15",7,{"$f":"IF(ISERROR(MATCH(D116,'CrediAltoque (SI)'!$H$18:$H$19,0))=FALSE,\"C\",IF(ISERROR(MATCH(D116,'CrediAltoque (SI)'!$H$20:$H$21,0))=FALSE,\"D\",\"\"))","v":""},{"$f":"IF(E116=\"C\",0,IF(E116 =\"D\",ROUND(1/((1+'CrediAltoque (SI)'!$R$14)^A116),9) * 2,ROUND(1/((1+'CrediAltoque (SI)'!$R$14)^A116),9)))","v":3.1269560000000002E-3},19.036421372999989]
[114,114,"2032-08-15",8,{"$f":"IF(ISERROR(MATCH(D117,'CrediAltoque (SI)'!$H$18:$H$19,0))=FALSE,\"C\",IF(ISERROR(MATCH(D117,'CrediAltoque (SI)'!$H$20:$H$21,0))=FALSE,\"D\",\"\"))","v":""},{"$f":"IF(E117=\"C\",0,IF(E117 =\"D\",ROUND(1/((1+'CrediAltoque (SI)'!$R$14)^A117),9) * 2,ROUND(1/((1+'CrediAltoque (SI)'!$R$14)^A117),9)))","v":2.9713560000000001E-3},19.039392728999989]
[115,115,"2032-09-15",9,{"$f":"IF(ISERROR(MATCH(D118,'CrediAltoque (SI)'!$H$18:$H$19,0))=FALSE,\"C\",IF(ISERROR(MATCH(D118,'CrediAltoque (SI)'!$H$20:$H$21,0))=FALSE,\"D\",\"\"))","v":""},{"$f":"IF(E118=\"C\",0,IF(E118 =\"D\",ROUND(1/((1+'CrediAltoque (SI)'!$R$14)^A118),9) * 2,ROUND(1/((1+'CrediAltoque (SI)'!$R$14)^A118),9)))","v":2.8234990000000001E-3},19.04221622799999]
[116,116,"2032-10-15",10,{"$f":"IF(ISERROR(MATCH(D119,'CrediAltoque (SI)'!$H$18:$H$19,0))=FALSE,\"C\",IF(ISERROR(MATCH(D119,'CrediAltoque (SI)'!$H$20:$H$21,0))=FALSE,\"D\",\"\"))","v":""},{"$f":"IF(E119=\"C\",0,IF(E119 =\"D\",ROUND(1/((1+'CrediAltoque (SI)'!$R$14)^A119),9) * 2,ROUND(1/((1+'CrediAltoque (SI)'!$R$14)^A119),9)))","v":2.6829990000000001E-3},19.044899226999991]
[117,117,"2032-11-15",11,{"$f":"IF(ISERROR(MATCH(D120,'CrediAltoque (SI)'!$H$18:$H$19,0))=FALSE,\"C\",IF(ISERROR(MATCH(D120,'CrediAltoque (SI)'!$H$20:$H$21,0))=FALSE,\"D\",\"\"))","v":""},{"$f":"IF(E120=\"C\",0,IF(E120 =\"D\",ROUND(1/((1+'CrediAltoque (SI)'!$R$14)^A120),9) * 2,ROUND(1/((1+'CrediAltoque (SI)'!$R$14)^A120),9)))","v":2.5494910000000001E-3},19.047448717999991]
[118,118,"2032-12-15",12,{"$f":"IF(ISERROR(MATCH(D121,'CrediAltoque (SI)'!$H$18:$H$19,0))=FALSE,\"C\",IF(ISERROR(MATCH(D121,'CrediAltoque (SI)'!$H$20:$H$21,0))=FALSE,\"D\",\"\"))","v":""},{"$f":"IF(E121=\"C\",0,IF(E121 =\"D\",ROUND(1/((1+'CrediAltoque (SI)'!$R$14)^A121),9) * 2,ROUND(1/((1+'CrediAltoque (SI)'!$R$14)^A121),9)))","v":2.4226260000000002E-3},19.049871343999992]
[119,119,"2033-01-15",1,{"$f":"IF(ISERROR(MATCH(D122,'CrediAltoque (SI)'!$H$18:$H$19,0))=FALSE,\"C\",IF(ISERROR(MATCH(D122,'CrediAltoque (SI)'!$H$20:$H$21,0))=FALSE,\"D\",\"\"))","v":""},{"$f":"IF(E122=\"C\",0,IF(E122 =\"D\",ROUND(1/((1+'CrediAltoque (SI)'!$R$14)^A122),9) * 2,ROUND(1/((1+'CrediAltoque (SI)'!$R$14)^A122),9)))","v":2.3020739999999999E-3},19.052173417999992]
[120,120,"2033-02-15",2,{"$f":"IF(ISERROR(MATCH(D123,'CrediAltoque (SI)'!$H$18:$H$19,0))=FALSE,\"C\",IF(ISERROR(MATCH(D123,'CrediAltoque (SI)'!$H$20:$H$21,0))=FALSE,\"D\",\"\"))","v":""},{"$f":"IF(E123=\"C\",0,IF(E123 =\"D\",ROUND(1/((1+'CrediAltoque (SI)'!$R$14)^A123),9) * 2,ROUND(1/((1+'CrediAltoque (SI)'!$R$14)^A123),9)))","v":2.187521E-3},19.054360938999992]
[121,121,"2033-03-15",3,{"$f":"IF(ISERROR(MATCH(D124,'CrediAltoque (SI)'!$H$18:$H$19,0))=FALSE,\"C\",IF(ISERROR(MATCH(D124,'CrediAltoque (SI)'!$H$20:$H$21,0))=FALSE,\"D\",\"\"))","v":""},{"$f":"IF(E124=\"C\",0,IF(E124 =\"D\",ROUND(1/((1+'CrediAltoque (SI)'!$R$14)^A124),9) * 2,ROUND(1/((1+'CrediAltoque (SI)'!$R$14)^A124),9)))","v":2.0786680000000001E-3},19.056439606999991]
[122,122,"2033-04-15",4,{"$f":"IF(ISERROR(MATCH(D125,'CrediAltoque (SI)'!$H$18:$H$19,0))=FALSE,\"C\",IF(ISERROR(MATCH(D125,'CrediAltoque (SI)'!$H$20:$H$21,0))=FALSE,\"D\",\"\"))","v":""},{"$f":"IF(E125=\"C\",0,IF(E125 =\"D\",ROUND(1/((1+'CrediAltoque (SI)'!$R$14)^A125),9) * 2,ROUND(1/((1+'CrediAltoque (SI)'!$R$14)^A125),9)))","v":1.9752319999999999E-3},19.05841483899999]
[123,123,"2033-05-15",5,{"$f":"IF(ISERROR(MATCH(D126,'CrediAltoque (SI)'!$H$18:$H$19,0))=FALSE,\"C\",IF(ISERROR(MATCH(D126,'CrediAltoque (SI)'!$H$20:$H$21,0))=FALSE,\"D\",\"\"))","v":""},{"$f":"IF(E126=\"C\",0,IF(E126 =\"D\",ROUND(1/((1+'CrediAltoque (SI)'!$R$14)^A126),9) * 2,ROUND(1/((1+'CrediAltoque (SI)'!$R$14)^A126),9)))","v":1.8769430000000001E-3},19.06029178199999]
[124,124,"2033-06-15",6,{"$f":"IF(ISERROR(MATCH(D127,'CrediAltoque (SI)'!$H$18:$H$19,0))=FALSE,\"C\",IF(ISERROR(MATCH(D127,'CrediAltoque (SI)'!$H$20:$H$21,0))=FALSE,\"D\",\"\"))","v":""},{"$f":"IF(E127=\"C\",0,IF(E127 =\"D\",ROUND(1/((1+'CrediAltoque (SI)'!$R$14)^A127),9) * 2,ROUND(1/((1+'CrediAltoque (SI)'!$R$14)^A127),9)))","v":1.7835450000000001E-3},19.062075326999988]
[125,125,"2033-07-15",7,{"$f":"IF(ISERROR(MATCH(D128,'CrediAltoque (SI)'!$H$18:$H$19,0))=FALSE,\"C\",IF(ISERROR(MATCH(D128,'CrediAltoque (SI)'!$H$20:$H$21,0))=FALSE,\"D\",\"\"))","v":""},{"$f":"IF(E128=\"C\",0,IF(E128 =\"D\",ROUND(1/((1+'CrediAltoque (SI)'!$R$14)^A128),9) * 2,ROUND(1/((1+'CrediAltoque (SI)'!$R$14)^A128),9)))","v":1.6947939999999999E-3},19.063770120999987]
[126,126,"2033-08-15",8,{"$f":"IF(ISERROR(MATCH(D129,'CrediAltoque (SI)'!$H$18:$H$19,0))=FALSE,\"C\",IF(ISERROR(MATCH(D129,'CrediAltoque (SI)'!$H$20:$H$21,0))=FALSE,\"D\",\"\"))","v":""},{"$f":"IF(E129=\"C\",0,IF(E129 =\"D\",ROUND(1/((1+'CrediAltoque (SI)'!$R$14)^A129),9) * 2,ROUND(1/((1+'CrediAltoque (SI)'!$R$14)^A129),9)))","v":1.61046E-3},19.065380580999985]
[127,127,"2033-09-15",9,{"$f":"IF(ISERROR(MATCH(D130,'CrediAltoque (SI)'!$H$18:$H$19,0))=FALSE,\"C\",IF(ISERROR(MATCH(D130,'CrediAltoque (SI)'!$H$20:$H$21,0))=FALSE,\"D\",\"\"))","v":""},{"$f":"IF(E130=\"C\",0,IF(E130 =\"D\",ROUND(1/((1+'CrediAltoque (SI)'!$R$14)^A130),9) * 2,ROUND(1/((1+'CrediAltoque (SI)'!$R$14)^A130),9)))","v":1.530322E-3},19.066910902999986]
[128,128,"2033-10-15",10,{"$f":"IF(ISERROR(MATCH(D131,'CrediAltoque (SI)'!$H$18:$H$19,0))=FALSE,\"C\",IF(ISERROR(MATCH(D131,'CrediAltoque (SI)'!$H$20:$H$21,0))=FALSE,\"D\",\"\"))","v":""},{"$f":"IF(E131=\"C\",0,IF(E131 =\"D\",ROUND(1/((1+'CrediAltoque (SI)'!$R$14)^A131),9) * 2,ROUND(1/((1+'CrediAltoque (SI)'!$R$14)^A131),9)))","v":1.4541720000000001E-3},19.068365074999985]
[129,129,"2033-11-15",{"$f":"MONTH(C132)","v":11},{"$f":"IF(ISERROR(MATCH(D132,'CrediAltoque (SI)'!$H$18:$H$19,0))=FALSE,\"C\",IF(ISERROR(MATCH(D132,'CrediAltoque (SI)'!$H$20:$H$21,0))=FALSE,\"D\",\"\"))","v":""},{"$f":"IF(E132=\"C\",0,IF(E132 =\"D\",ROUND(1/((1+'CrediAltoque (SI)'!$R$14)^A132),9) * 2,ROUND(1/((1+'CrediAltoque (SI)'!$R$14)^A132),9)))","v":1.3818109999999999E-3},19.069746885999987]
[{"$f":"A132+1","v":130},{"$f":"IF(E133<>\"C\",IF(ISERROR(1+B132)=TRUE,1,1+B132),IF(ISNUMBER(B132),B132,1))","v":130},{"$f":"DATE(YEAR(C132) + 1/12,MONTH(C132)+1,DAY(C132))","v":"2033-12-15"},12,{"$f":"IF(ISERROR(MATCH(D133,'CrediAltoque (SI)'!$H$18:$H$19,0))=FALSE,\"C\",IF(ISERROR(MATCH(D133,'CrediAltoque (SI)'!$H$20:$H$21,0))=FALSE,\"D\",\"\"))","v":""},{"$f":"IF(E133=\"C\",0,IF(E133 =\"D\",ROUND(1/((1+'CrediAltoque (SI)'!$R$14)^A133),9) * 2,ROUND(1/((1+'CrediAltoque (SI)'!$R$14)^A133),9)))","v":1.313051E-3},19.071059936999987]
[131,131,"2034-01-15",1,{"$f":"IF(ISERROR(MATCH(D134,'CrediAltoque (SI)'!$H$18:$H$19,0))=FALSE,\"C\",IF(ISERROR(MATCH(D134,'CrediAltoque (SI)'!$H$20:$H$21,0))=FALSE,\"D\",\"\"))","v":""},{"$f":"IF(E134=\"C\",0,IF(E134 =\"D\",ROUND(1/((1+'CrediAltoque (SI)'!$R$14)^A134),9) * 2,ROUND(1/((1+'CrediAltoque (SI)'!$R$14)^A134),9)))","v":1.2477129999999999E-3},{"$f":"G133+ROUND(F134,9)","v":19.072307649999988}]
[132,132,"2034-02-15",2,{"$f":"IF(ISERROR(MATCH(D135,'CrediAltoque (SI)'!$H$18:$H$19,0))=FALSE,\"C\",IF(ISERROR(MATCH(D135,'CrediAltoque (SI)'!$H$20:$H$21,0))=FALSE,\"D\",\"\"))","v":""},{"$f":"IF(E135=\"C\",0,IF(E135 =\"D\",ROUND(1/((1+'CrediAltoque (SI)'!$R$14)^A135),9) * 2,ROUND(1/((1+'CrediAltoque (SI)'!$R$14)^A135),9)))","v":1.185625E-3},19.07349327499999]
[133,133,"2034-03-15",3,{"$f":"IF(ISERROR(MATCH(D136,'CrediAltoque (SI)'!$H$18:$H$19,0))=FALSE,\"C\",IF(ISERROR(MATCH(D136,'CrediAltoque (SI)'!$H$20:$H$21,0))=FALSE,\"D\",\"\"))","v":""},{"$f":"IF(E136=\"C\",0,IF(E136 =\"D\",ROUND(1/((1+'CrediAltoque (SI)'!$R$14)^A136),9) * 2,ROUND(1/((1+'CrediAltoque (SI)'!$R$14)^A136),9)))","v":1.126628E-3},19.074619902999991]
[134,134,"2034-04-15",4,{"$f":"IF(ISERROR(MATCH(D137,'CrediAltoque (SI)'!$H$18:$H$19,0))=FALSE,\"C\",IF(ISERROR(MATCH(D137,'CrediAltoque (SI)'!$H$20:$H$21,0))=FALSE,\"D\",\"\"))","v":""},{"$f":"IF(E137=\"C\",0,IF(E137 =\"D\",ROUND(1/((1+'CrediAltoque (SI)'!$R$14)^A137),9) * 2,ROUND(1/((1+'CrediAltoque (SI)'!$R$14)^A137),9)))","v":1.070566E-3},19.075690468999991]
[135,135,"2034-05-15",5,{"$f":"IF(ISERROR(MATCH(D138,'CrediAltoque (SI)'!$H$18:$H$19,0))=FALSE,\"C\",IF(ISERROR(MATCH(D138,'CrediAltoque (SI)'!$H$20:$H$21,0))=FALSE,\"D\",\"\"))","v":""},{"$f":"IF(E138=\"C\",0,IF(E138 =\"D\",ROUND(1/((1+'CrediAltoque (SI)'!$R$14)^A138),9) * 2,ROUND(1/((1+'CrediAltoque (SI)'!$R$14)^A138),9)))","v":1.017294E-3},19.076707762999991]
[136,136,"2034-06-15",6,{"$f":"IF(ISERROR(MATCH(D139,'CrediAltoque (SI)'!$H$18:$H$19,0))=FALSE,\"C\",IF(ISERROR(MATCH(D139,'CrediAltoque (SI)'!$H$20:$H$21,0))=FALSE,\"D\",\"\"))","v":""},{"$f":"IF(E139=\"C\",0,IF(E139 =\"D\",ROUND(1/((1+'CrediAltoque (SI)'!$R$14)^A139),9) * 2,ROUND(1/((1+'CrediAltoque (SI)'!$R$14)^A139),9)))","v":9.6667200000000002E-4},19.077674434999992]
[137,137,"2034-07-15",7,{"$f":"IF(ISERROR(MATCH(D140,'CrediAltoque (SI)'!$H$18:$H$19,0))=FALSE,\"C\",IF(ISERROR(MATCH(D140,'CrediAltoque (SI)'!$H$20:$H$21,0))=FALSE,\"D\",\"\"))","v":""},{"$f":"IF(E140=\"C\",0,IF(E140 =\"D\",ROUND(1/((1+'CrediAltoque (SI)'!$R$14)^A140),9) * 2,ROUND(1/((1+'CrediAltoque (SI)'!$R$14)^A140),9)))","v":9.1856999999999996E-4},19.078593004999991]
[138,138,"2034-08-15",8,{"$f":"IF(ISERROR(MATCH(D141,'CrediAltoque (SI)'!$H$18:$H$19,0))=FALSE,\"C\",IF(ISERROR(MATCH(D141,'CrediAltoque (SI)'!$H$20:$H$21,0))=FALSE,\"D\",\"\"))","v":""},{"$f":"IF(E141=\"C\",0,IF(E141 =\"D\",ROUND(1/((1+'CrediAltoque (SI)'!$R$14)^A141),9) * 2,ROUND(1/((1+'CrediAltoque (SI)'!$R$14)^A141),9)))","v":8.7286099999999995E-4},19.079465865999993]
[139,139,"2034-09-15",9,{"$f":"IF(ISERROR(MATCH(D142,'CrediAltoque (SI)'!$H$18:$H$19,0))=FALSE,\"C\",IF(ISERROR(MATCH(D142,'CrediAltoque (SI)'!$H$20:$H$21,0))=FALSE,\"D\",\"\"))","v":""},{"$f":"IF(E142=\"C\",0,IF(E142 =\"D\",ROUND(1/((1+'CrediAltoque (SI)'!$R$14)^A142),9) * 2,ROUND(1/((1+'CrediAltoque (SI)'!$R$14)^A142),9)))","v":8.2942699999999999E-4},19.080295292999992]
[140,140,"2034-10-15",10,{"$f":"IF(ISERROR(MATCH(D143,'CrediAltoque (SI)'!$H$18:$H$19,0))=FALSE,\"C\",IF(ISERROR(MATCH(D143,'CrediAltoque (SI)'!$H$20:$H$21,0))=FALSE,\"D\",\"\"))","v":""},{"$f":"IF(E143=\"C\",0,IF(E143 =\"D\",ROUND(1/((1+'CrediAltoque (SI)'!$R$14)^A143),9) * 2,ROUND(1/((1+'CrediAltoque (SI)'!$R$14)^A143),9)))","v":7.88154E-4},19.08108344699999]
[141,141,"2034-11-15",11,{"$f":"IF(ISERROR(MATCH(D144,'CrediAltoque (SI)'!$H$18:$H$19,0))=FALSE,\"C\",IF(ISERROR(MATCH(D144,'CrediAltoque (SI)'!$H$20:$H$21,0))=FALSE,\"D\",\"\"))","v":""},{"$f":"IF(E144=\"C\",0,IF(E144 =\"D\",ROUND(1/((1+'CrediAltoque (SI)'!$R$14)^A144),9) * 2,ROUND(1/((1+'CrediAltoque (SI)'!$R$14)^A144),9)))","v":7.4893500000000005E-4},19.081832381999991]
[142,142,"2034-12-15",12,{"$f":"IF(ISERROR(MATCH(D145,'CrediAltoque (SI)'!$H$18:$H$19,0))=FALSE,\"C\",IF(ISERROR(MATCH(D145,'CrediAltoque (SI)'!$H$20:$H$21,0))=FALSE,\"D\",\"\"))","v":""},{"$f":"IF(E145=\"C\",0,IF(E145 =\"D\",ROUND(1/((1+'CrediAltoque (SI)'!$R$14)^A145),9) * 2,ROUND(1/((1+'CrediAltoque (SI)'!$R$14)^A145),9)))","v":7.1166700000000003E-4},19.082544048999992]
[143,143,"2035-01-15",1,{"$f":"IF(ISERROR(MATCH(D146,'CrediAltoque (SI)'!$H$18:$H$19,0))=FALSE,\"C\",IF(ISERROR(MATCH(D146,'CrediAltoque (SI)'!$H$20:$H$21,0))=FALSE,\"D\",\"\"))","v":""},{"$f":"IF(E146=\"C\",0,IF(E146 =\"D\",ROUND(1/((1+'CrediAltoque (SI)'!$R$14)^A146),9) * 2,ROUND(1/((1+'CrediAltoque (SI)'!$R$14)^A146),9)))","v":6.7625400000000005E-4},19.08322030299999]
[144,144,"2035-02-15",2,{"$f":"IF(ISERROR(MATCH(D147,'CrediAltoque (SI)'!$H$18:$H$19,0))=FALSE,\"C\",IF(ISERROR(MATCH(D147,'CrediAltoque (SI)'!$H$20:$H$21,0))=FALSE,\"D\",\"\"))","v":""},{"$f":"IF(E147=\"C\",0,IF(E147 =\"D\",ROUND(1/((1+'CrediAltoque (SI)'!$R$14)^A147),9) * 2,ROUND(1/((1+'CrediAltoque (SI)'!$R$14)^A147),9)))","v":6.4260299999999995E-4},19.08386290599999]
[145,145,"2035-03-15",3,{"$f":"IF(ISERROR(MATCH(D148,'CrediAltoque (SI)'!$H$18:$H$19,0))=FALSE,\"C\",IF(ISERROR(MATCH(D148,'CrediAltoque (SI)'!$H$20:$H$21,0))=FALSE,\"D\",\"\"))","v":""},{"$f":"IF(E148=\"C\",0,IF(E148 =\"D\",ROUND(1/((1+'CrediAltoque (SI)'!$R$14)^A148),9) * 2,ROUND(1/((1+'CrediAltoque (SI)'!$R$14)^A148),9)))","v":6.1062699999999998E-4},19.08447353299999]
[146,146,"2035-04-15",4,{"$f":"IF(ISERROR(MATCH(D149,'CrediAltoque (SI)'!$H$18:$H$19,0))=FALSE,\"C\",IF(ISERROR(MATCH(D149,'CrediAltoque (SI)'!$H$20:$H$21,0))=FALSE,\"D\",\"\"))","v":""},{"$f":"IF(E149=\"C\",0,IF(E149 =\"D\",ROUND(1/((1+'CrediAltoque (SI)'!$R$14)^A149),9) * 2,ROUND(1/((1+'CrediAltoque (SI)'!$R$14)^A149),9)))","v":5.80241E-4},19.085053773999991]
[147,147,"2035-05-15",5,{"$f":"IF(ISERROR(MATCH(D150,'CrediAltoque (SI)'!$H$18:$H$19,0))=FALSE,\"C\",IF(ISERROR(MATCH(D150,'CrediAltoque (SI)'!$H$20:$H$21,0))=FALSE,\"D\",\"\"))","v":""},{"$f":"IF(E150=\"C\",0,IF(E150 =\"D\",ROUND(1/((1+'CrediAltoque (SI)'!$R$14)^A150),9) * 2,ROUND(1/((1+'CrediAltoque (SI)'!$R$14)^A150),9)))","v":5.51368E-4},19.085605141999991]
[148,148,"2035-06-15",6,{"$f":"IF(ISERROR(MATCH(D151,'CrediAltoque (SI)'!$H$18:$H$19,0))=FALSE,\"C\",IF(ISERROR(MATCH(D151,'CrediAltoque (SI)'!$H$20:$H$21,0))=FALSE,\"D\",\"\"))","v":""},{"$f":"IF(E151=\"C\",0,IF(E151 =\"D\",ROUND(1/((1+'CrediAltoque (SI)'!$R$14)^A151),9) * 2,ROUND(1/((1+'CrediAltoque (SI)'!$R$14)^A151),9)))","v":5.2393100000000005E-4},19.086129072999992]
[149,149,"2035-07-15",7,{"$f":"IF(ISERROR(MATCH(D152,'CrediAltoque (SI)'!$H$18:$H$19,0))=FALSE,\"C\",IF(ISERROR(MATCH(D152,'CrediAltoque (SI)'!$H$20:$H$21,0))=FALSE,\"D\",\"\"))","v":""},{"$f":"IF(E152=\"C\",0,IF(E152 =\"D\",ROUND(1/((1+'CrediAltoque (SI)'!$R$14)^A152),9) * 2,ROUND(1/((1+'CrediAltoque (SI)'!$R$14)^A152),9)))","v":4.9786000000000003E-4},19.086626932999991]
[150,150,"2035-08-15",8,{"$f":"IF(ISERROR(MATCH(D153,'CrediAltoque (SI)'!$H$18:$H$19,0))=FALSE,\"C\",IF(ISERROR(MATCH(D153,'CrediAltoque (SI)'!$H$20:$H$21,0))=FALSE,\"D\",\"\"))","v":""},{"$f":"IF(E153=\"C\",0,IF(E153 =\"D\",ROUND(1/((1+'CrediAltoque (SI)'!$R$14)^A153),9) * 2,ROUND(1/((1+'CrediAltoque (SI)'!$R$14)^A153),9)))","v":4.73086E-4},19.08710001899999]
[151,151,"2035-09-15",9,{"$f":"IF(ISERROR(MATCH(D154,'CrediAltoque (SI)'!$H$18:$H$19,0))=FALSE,\"C\",IF(ISERROR(MATCH(D154,'CrediAltoque (SI)'!$H$20:$H$21,0))=FALSE,\"D\",\"\"))","v":""},{"$f":"IF(E154=\"C\",0,IF(E154 =\"D\",ROUND(1/((1+'CrediAltoque (SI)'!$R$14)^A154),9) * 2,ROUND(1/((1+'CrediAltoque (SI)'!$R$14)^A154),9)))","v":4.4954499999999998E-4},19.087549563999989]
[152,152,"2035-10-15",10,{"$f":"IF(ISERROR(MATCH(D155,'CrediAltoque (SI)'!$H$18:$H$19,0))=FALSE,\"C\",IF(ISERROR(MATCH(D155,'CrediAltoque (SI)'!$H$20:$H$21,0))=FALSE,\"D\",\"\"))","v":""},{"$f":"IF(E155=\"C\",0,IF(E155 =\"D\",ROUND(1/((1+'CrediAltoque (SI)'!$R$14)^A155),9) * 2,ROUND(1/((1+'CrediAltoque (SI)'!$R$14)^A155),9)))","v":4.2717500000000002E-4},19.087976738999988]
[153,153,"2035-11-15",11,{"$f":"IF(ISERROR(MATCH(D156,'CrediAltoque (SI)'!$H$18:$H$19,0))=FALSE,\"C\",IF(ISERROR(MATCH(D156,'CrediAltoque (SI)'!$H$20:$H$21,0))=FALSE,\"D\",\"\"))","v":""},{"$f":"IF(E156=\"C\",0,IF(E156 =\"D\",ROUND(1/((1+'CrediAltoque (SI)'!$R$14)^A156),9) * 2,ROUND(1/((1+'CrediAltoque (SI)'!$R$14)^A156),9)))","v":4.0591899999999997E-4},19.088382657999986]
[154,154,"2035-12-15",12,{"$f":"IF(ISERROR(MATCH(D157,'CrediAltoque (SI)'!$H$18:$H$19,0))=FALSE,\"C\",IF(ISERROR(MATCH(D157,'CrediAltoque (SI)'!$H$20:$H$21,0))=FALSE,\"D\",\"\"))","v":""},{"$f":"IF(E157=\"C\",0,IF(E157 =\"D\",ROUND(1/((1+'CrediAltoque (SI)'!$R$14)^A157),9) * 2,ROUND(1/((1+'CrediAltoque (SI)'!$R$14)^A157),9)))","v":3.8571999999999999E-4},19.088768377999987]
[155,155,"2036-01-15",1,{"$f":"IF(ISERROR(MATCH(D158,'CrediAltoque (SI)'!$H$18:$H$19,0))=FALSE,\"C\",IF(ISERROR(MATCH(D158,'CrediAltoque (SI)'!$H$20:$H$21,0))=FALSE,\"D\",\"\"))","v":""},{"$f":"IF(E158=\"C\",0,IF(E158 =\"D\",ROUND(1/((1+'CrediAltoque (SI)'!$R$14)^A158),9) * 2,ROUND(1/((1+'CrediAltoque (SI)'!$R$14)^A158),9)))","v":3.6652599999999999E-4},19.089134903999987]
[156,156,"2036-02-15",2,{"$f":"IF(ISERROR(MATCH(D159,'CrediAltoque (SI)'!$H$18:$H$19,0))=FALSE,\"C\",IF(ISERROR(MATCH(D159,'CrediAltoque (SI)'!$H$20:$H$21,0))=FALSE,\"D\",\"\"))","v":""},{"$f":"IF(E159=\"C\",0,IF(E159 =\"D\",ROUND(1/((1+'CrediAltoque (SI)'!$R$14)^A159),9) * 2,ROUND(1/((1+'CrediAltoque (SI)'!$R$14)^A159),9)))","v":3.4828799999999998E-4},19.089483191999989]
[157,157,"2036-03-15",3,{"$f":"IF(ISERROR(MATCH(D160,'CrediAltoque (SI)'!$H$18:$H$19,0))=FALSE,\"C\",IF(ISERROR(MATCH(D160,'CrediAltoque (SI)'!$H$20:$H$21,0))=FALSE,\"D\",\"\"))","v":""},{"$f":"IF(E160=\"C\",0,IF(E160 =\"D\",ROUND(1/((1+'CrediAltoque (SI)'!$R$14)^A160),9) * 2,ROUND(1/((1+'CrediAltoque (SI)'!$R$14)^A160),9)))","v":3.3095599999999998E-4},19.089814147999988]
[158,158,"2036-04-15",4,{"$f":"IF(ISERROR(MATCH(D161,'CrediAltoque (SI)'!$H$18:$H$19,0))=FALSE,\"C\",IF(ISERROR(MATCH(D161,'CrediAltoque (SI)'!$H$20:$H$21,0))=FALSE,\"D\",\"\"))","v":""},{"$f":"IF(E161=\"C\",0,IF(E161 =\"D\",ROUND(1/((1+'CrediAltoque (SI)'!$R$14)^A161),9) * 2,ROUND(1/((1+'CrediAltoque (SI)'!$R$14)^A161),9)))","v":3.1448799999999997E-4},19.090128635999989]
[159,159,"2036-05-15",5,{"$f":"IF(ISERROR(MATCH(D162,'CrediAltoque (SI)'!$H$18:$H$19,0))=FALSE,\"C\",IF(ISERROR(MATCH(D162,'CrediAltoque (SI)'!$H$20:$H$21,0))=FALSE,\"D\",\"\"))","v":""},{"$f":"IF(E162=\"C\",0,IF(E162 =\"D\",ROUND(1/((1+'CrediAltoque (SI)'!$R$14)^A162),9) * 2,ROUND(1/((1+'CrediAltoque (SI)'!$R$14)^A162),9)))","v":2.9883900000000002E-4},19.090427474999988]
[160,160,"2036-06-15",6,{"$f":"IF(ISERROR(MATCH(D163,'CrediAltoque (SI)'!$H$18:$H$19,0))=FALSE,\"C\",IF(ISERROR(MATCH(D163,'CrediAltoque (SI)'!$H$20:$H$21,0))=FALSE,\"D\",\"\"))","v":""},{"$f":"IF(E163=\"C\",0,IF(E163 =\"D\",ROUND(1/((1+'CrediAltoque (SI)'!$R$14)^A163),9) * 2,ROUND(1/((1+'CrediAltoque (SI)'!$R$14)^A163),9)))","v":2.83968E-4},19.090711442999989]
[161,161,"2036-07-15",7,{"$f":"IF(ISERROR(MATCH(D164,'CrediAltoque (SI)'!$H$18:$H$19,0))=FALSE,\"C\",IF(ISERROR(MATCH(D164,'CrediAltoque (SI)'!$H$20:$H$21,0))=FALSE,\"D\",\"\"))","v":""},{"$f":"IF(E164=\"C\",0,IF(E164 =\"D\",ROUND(1/((1+'CrediAltoque (SI)'!$R$14)^A164),9) * 2,ROUND(1/((1+'CrediAltoque (SI)'!$R$14)^A164),9)))","v":2.69838E-4},19.090981280999991]
[162,162,"2036-08-15",8,{"$f":"IF(ISERROR(MATCH(D165,'CrediAltoque (SI)'!$H$18:$H$19,0))=FALSE,\"C\",IF(ISERROR(MATCH(D165,'CrediAltoque (SI)'!$H$20:$H$21,0))=FALSE,\"D\",\"\"))","v":""},{"$f":"IF(E165=\"C\",0,IF(E165 =\"D\",ROUND(1/((1+'CrediAltoque (SI)'!$R$14)^A165),9) * 2,ROUND(1/((1+'CrediAltoque (SI)'!$R$14)^A165),9)))","v":2.5640999999999999E-4},19.091237690999989]
[163,163,"2036-09-15",9,{"$f":"IF(ISERROR(MATCH(D166,'CrediAltoque (SI)'!$H$18:$H$19,0))=FALSE,\"C\",IF(ISERROR(MATCH(D166,'CrediAltoque (SI)'!$H$20:$H$21,0))=FALSE,\"D\",\"\"))","v":""},{"$f":"IF(E166=\"C\",0,IF(E166 =\"D\",ROUND(1/((1+'CrediAltoque (SI)'!$R$14)^A166),9) * 2,ROUND(1/((1+'CrediAltoque (SI)'!$R$14)^A166),9)))","v":2.43651E-4},19.091481341999991]
[164,164,"2036-10-15",10,{"$f":"IF(ISERROR(MATCH(D167,'CrediAltoque (SI)'!$H$18:$H$19,0))=FALSE,\"C\",IF(ISERROR(MATCH(D167,'CrediAltoque (SI)'!$H$20:$H$21,0))=FALSE,\"D\",\"\"))","v":""},{"$f":"IF(E167=\"C\",0,IF(E167 =\"D\",ROUND(1/((1+'CrediAltoque (SI)'!$R$14)^A167),9) * 2,ROUND(1/((1+'CrediAltoque (SI)'!$R$14)^A167),9)))","v":2.3152700000000001E-4},19.091712868999991]
[165,165,"2036-11-15",11,{"$f":"IF(ISERROR(MATCH(D168,'CrediAltoque (SI)'!$H$18:$H$19,0))=FALSE,\"C\",IF(ISERROR(MATCH(D168,'CrediAltoque (SI)'!$H$20:$H$21,0))=FALSE,\"D\",\"\"))","v":""},{"$f":"IF(E168=\"C\",0,IF(E168 =\"D\",ROUND(1/((1+'CrediAltoque (SI)'!$R$14)^A168),9) * 2,ROUND(1/((1+'CrediAltoque (SI)'!$R$14)^A168),9)))","v":2.2000599999999999E-4},19.091932874999991]
[166,166,"2036-12-15",12,{"$f":"IF(ISERROR(MATCH(D169,'CrediAltoque (SI)'!$H$18:$H$19,0))=FALSE,\"C\",IF(ISERROR(MATCH(D169,'CrediAltoque (SI)'!$H$20:$H$21,0))=FALSE,\"D\",\"\"))","v":""},{"$f":"IF(E169=\"C\",0,IF(E169 =\"D\",ROUND(1/((1+'CrediAltoque (SI)'!$R$14)^A169),9) * 2,ROUND(1/((1+'CrediAltoque (SI)'!$R$14)^A169),9)))","v":2.09058E-4},19.09214193299999]
[167,167,"2037-01-15",1,{"$f":"IF(ISERROR(MATCH(D170,'CrediAltoque (SI)'!$H$18:$H$19,0))=FALSE,\"C\",IF(ISERROR(MATCH(D170,'CrediAltoque (SI)'!$H$20:$H$21,0))=FALSE,\"D\",\"\"))","v":""},{"$f":"IF(E170=\"C\",0,IF(E170 =\"D\",ROUND(1/((1+'CrediAltoque (SI)'!$R$14)^A170),9) * 2,ROUND(1/((1+'CrediAltoque (SI)'!$R$14)^A170),9)))","v":1.98655E-4},19.092340587999988]
[168,168,"2037-02-15",2,{"$f":"IF(ISERROR(MATCH(D171,'CrediAltoque (SI)'!$H$18:$H$19,0))=FALSE,\"C\",IF(ISERROR(MATCH(D171,'CrediAltoque (SI)'!$H$20:$H$21,0))=FALSE,\"D\",\"\"))","v":""},{"$f":"IF(E171=\"C\",0,IF(E171 =\"D\",ROUND(1/((1+'CrediAltoque (SI)'!$R$14)^A171),9) * 2,ROUND(1/((1+'CrediAltoque (SI)'!$R$14)^A171),9)))","v":1.8877E-4},19.09252935799999]
[169,169,"2037-03-15",3,{"$f":"IF(ISERROR(MATCH(D172,'CrediAltoque (SI)'!$H$18:$H$19,0))=FALSE,\"C\",IF(ISERROR(MATCH(D172,'CrediAltoque (SI)'!$H$20:$H$21,0))=FALSE,\"D\",\"\"))","v":""},{"$f":"IF(E172=\"C\",0,IF(E172 =\"D\",ROUND(1/((1+'CrediAltoque (SI)'!$R$14)^A172),9) * 2,ROUND(1/((1+'CrediAltoque (SI)'!$R$14)^A172),9)))","v":1.7937699999999999E-4},19.092708734999988]
[170,170,"2037-04-15",4,{"$f":"IF(ISERROR(MATCH(D173,'CrediAltoque (SI)'!$H$18:$H$19,0))=FALSE,\"C\",IF(ISERROR(MATCH(D173,'CrediAltoque (SI)'!$H$20:$H$21,0))=FALSE,\"D\",\"\"))","v":""},{"$f":"IF(E173=\"C\",0,IF(E173 =\"D\",ROUND(1/((1+'CrediAltoque (SI)'!$R$14)^A173),9) * 2,ROUND(1/((1+'CrediAltoque (SI)'!$R$14)^A173),9)))","v":1.7045100000000001E-4},19.092879185999987]
[171,171,"2037-05-15",5,{"$f":"IF(ISERROR(MATCH(D174,'CrediAltoque (SI)'!$H$18:$H$19,0))=FALSE,\"C\",IF(ISERROR(MATCH(D174,'CrediAltoque (SI)'!$H$20:$H$21,0))=FALSE,\"D\",\"\"))","v":""},{"$f":"IF(E174=\"C\",0,IF(E174 =\"D\",ROUND(1/((1+'CrediAltoque (SI)'!$R$14)^A174),9) * 2,ROUND(1/((1+'CrediAltoque (SI)'!$R$14)^A174),9)))","v":1.6196900000000001E-4},19.093041154999987]
[172,172,"2037-06-15",6,{"$f":"IF(ISERROR(MATCH(D175,'CrediAltoque (SI)'!$H$18:$H$19,0))=FALSE,\"C\",IF(ISERROR(MATCH(D175,'CrediAltoque (SI)'!$H$20:$H$21,0))=FALSE,\"D\",\"\"))","v":""},{"$f":"IF(E175=\"C\",0,IF(E175 =\"D\",ROUND(1/((1+'CrediAltoque (SI)'!$R$14)^A175),9) * 2,ROUND(1/((1+'CrediAltoque (SI)'!$R$14)^A175),9)))","v":1.5390900000000001E-4},19.093195063999989]
[173,173,"2037-07-15",7,{"$f":"IF(ISERROR(MATCH(D176,'CrediAltoque (SI)'!$H$18:$H$19,0))=FALSE,\"C\",IF(ISERROR(MATCH(D176,'CrediAltoque (SI)'!$H$20:$H$21,0))=FALSE,\"D\",\"\"))","v":""},{"$f":"IF(E176=\"C\",0,IF(E176 =\"D\",ROUND(1/((1+'CrediAltoque (SI)'!$R$14)^A176),9) * 2,ROUND(1/((1+'CrediAltoque (SI)'!$R$14)^A176),9)))","v":1.4625099999999999E-4},19.093341314999989]
[174,174,"2037-08-15",8,{"$f":"IF(ISERROR(MATCH(D177,'CrediAltoque (SI)'!$H$18:$H$19,0))=FALSE,\"C\",IF(ISERROR(MATCH(D177,'CrediAltoque (SI)'!$H$20:$H$21,0))=FALSE,\"D\",\"\"))","v":""},{"$f":"IF(E177=\"C\",0,IF(E177 =\"D\",ROUND(1/((1+'CrediAltoque (SI)'!$R$14)^A177),9) * 2,ROUND(1/((1+'CrediAltoque (SI)'!$R$14)^A177),9)))","v":1.38973E-4},19.093480287999988]
[175,175,"2037-09-15",9,{"$f":"IF(ISERROR(MATCH(D178,'CrediAltoque (SI)'!$H$18:$H$19,0))=FALSE,\"C\",IF(ISERROR(MATCH(D178,'CrediAltoque (SI)'!$H$20:$H$21,0))=FALSE,\"D\",\"\"))","v":""},{"$f":"IF(E178=\"C\",0,IF(E178 =\"D\",ROUND(1/((1+'CrediAltoque (SI)'!$R$14)^A178),9) * 2,ROUND(1/((1+'CrediAltoque (SI)'!$R$14)^A178),9)))","v":1.32058E-4},19.093612345999986]
[176,176,"2037-10-15",10,{"$f":"IF(ISERROR(MATCH(D179,'CrediAltoque (SI)'!$H$18:$H$19,0))=FALSE,\"C\",IF(ISERROR(MATCH(D179,'CrediAltoque (SI)'!$H$20:$H$21,0))=FALSE,\"D\",\"\"))","v":""},{"$f":"IF(E179=\"C\",0,IF(E179 =\"D\",ROUND(1/((1+'CrediAltoque (SI)'!$R$14)^A179),9) * 2,ROUND(1/((1+'CrediAltoque (SI)'!$R$14)^A179),9)))","v":1.2548600000000001E-4},19.093737831999988]
[177,177,"2037-11-15",11,{"$f":"IF(ISERROR(MATCH(D180,'CrediAltoque (SI)'!$H$18:$H$19,0))=FALSE,\"C\",IF(ISERROR(MATCH(D180,'CrediAltoque (SI)'!$H$20:$H$21,0))=FALSE,\"D\",\"\"))","v":""},{"$f":"IF(E180=\"C\",0,IF(E180 =\"D\",ROUND(1/((1+'CrediAltoque (SI)'!$R$14)^A180),9) * 2,ROUND(1/((1+'CrediAltoque (SI)'!$R$14)^A180),9)))","v":1.1924199999999999E-4},19.093857073999988]
[178,178,"2037-12-15",12,{"$f":"IF(ISERROR(MATCH(D181,'CrediAltoque (SI)'!$H$18:$H$19,0))=FALSE,\"C\",IF(ISERROR(MATCH(D181,'CrediAltoque (SI)'!$H$20:$H$21,0))=FALSE,\"D\",\"\"))","v":""},{"$f":"IF(E181=\"C\",0,IF(E181 =\"D\",ROUND(1/((1+'CrediAltoque (SI)'!$R$14)^A181),9) * 2,ROUND(1/((1+'CrediAltoque (SI)'!$R$14)^A181),9)))","v":1.13309E-4},19.093970382999988]
[179,179,"2038-01-15",1,{"$f":"IF(ISERROR(MATCH(D182,'CrediAltoque (SI)'!$H$18:$H$19,0))=FALSE,\"C\",IF(ISERROR(MATCH(D182,'CrediAltoque (SI)'!$H$20:$H$21,0))=FALSE,\"D\",\"\"))","v":""},{"$f":"IF(E182=\"C\",0,IF(E182 =\"D\",ROUND(1/((1+'CrediAltoque (SI)'!$R$14)^A182),9) * 2,ROUND(1/((1+'CrediAltoque (SI)'!$R$14)^A182),9)))","v":1.0767E-4},19.094078052999986]
[180,180,"2038-02-15",2,{"$f":"IF(ISERROR(MATCH(D183,'CrediAltoque (SI)'!$H$18:$H$19,0))=FALSE,\"C\",IF(ISERROR(MATCH(D183,'CrediAltoque (SI)'!$H$20:$H$21,0))=FALSE,\"D\",\"\"))","v":""},{"$f":"IF(E183=\"C\",0,IF(E183 =\"D\",ROUND(1/((1+'CrediAltoque (SI)'!$R$14)^A183),9) * 2,ROUND(1/((1+'CrediAltoque (SI)'!$R$14)^A183),9)))","v":1.0231200000000001E-4},19.094180364999985]
[181,181,"2038-03-15",3,{"$f":"IF(ISERROR(MATCH(D184,'CrediAltoque (SI)'!$H$18:$H$19,0))=FALSE,\"C\",IF(ISERROR(MATCH(D184,'CrediAltoque (SI)'!$H$20:$H$21,0))=FALSE,\"D\",\"\"))","v":""},{"$f":"IF(E184=\"C\",0,IF(E184 =\"D\",ROUND(1/((1+'CrediAltoque (SI)'!$R$14)^A184),9) * 2,ROUND(1/((1+'CrediAltoque (SI)'!$R$14)^A184),9)))","v":9.7220999999999996E-5},19.094277585999986]
[182,182,"2038-04-15",4,{"$f":"IF(ISERROR(MATCH(D185,'CrediAltoque (SI)'!$H$18:$H$19,0))=FALSE,\"C\",IF(ISERROR(MATCH(D185,'CrediAltoque (SI)'!$H$20:$H$21,0))=FALSE,\"D\",\"\"))","v":""},{"$f":"IF(E185=\"C\",0,IF(E185 =\"D\",ROUND(1/((1+'CrediAltoque (SI)'!$R$14)^A185),9) * 2,ROUND(1/((1+'CrediAltoque (SI)'!$R$14)^A185),9)))","v":9.2383E-5},19.094369968999985]
[183,183,"2038-05-15",5,{"$f":"IF(ISERROR(MATCH(D186,'CrediAltoque (SI)'!$H$18:$H$19,0))=FALSE,\"C\",IF(ISERROR(MATCH(D186,'CrediAltoque (SI)'!$H$20:$H$21,0))=FALSE,\"D\",\"\"))","v":""},{"$f":"IF(E186=\"C\",0,IF(E186 =\"D\",ROUND(1/((1+'CrediAltoque (SI)'!$R$14)^A186),9) * 2,ROUND(1/((1+'CrediAltoque (SI)'!$R$14)^A186),9)))","v":8.7786000000000003E-5},19.094457754999986]
[184,184,"2038-06-15",6,{"$f":"IF(ISERROR(MATCH(D187,'CrediAltoque (SI)'!$H$18:$H$19,0))=FALSE,\"C\",IF(ISERROR(MATCH(D187,'CrediAltoque (SI)'!$H$20:$H$21,0))=FALSE,\"D\",\"\"))","v":""},{"$f":"IF(E187=\"C\",0,IF(E187 =\"D\",ROUND(1/((1+'CrediAltoque (SI)'!$R$14)^A187),9) * 2,ROUND(1/((1+'CrediAltoque (SI)'!$R$14)^A187),9)))","v":8.3418000000000007E-5},19.094541172999985]
[185,185,"2038-07-15",7,{"$f":"IF(ISERROR(MATCH(D188,'CrediAltoque (SI)'!$H$18:$H$19,0))=FALSE,\"C\",IF(ISERROR(MATCH(D188,'CrediAltoque (SI)'!$H$20:$H$21,0))=FALSE,\"D\",\"\"))","v":""},{"$f":"IF(E188=\"C\",0,IF(E188 =\"D\",ROUND(1/((1+'CrediAltoque (SI)'!$R$14)^A188),9) * 2,ROUND(1/((1+'CrediAltoque (SI)'!$R$14)^A188),9)))","v":7.9266999999999998E-5},19.094620439999986]
[186,186,"2038-08-15",8,{"$f":"IF(ISERROR(MATCH(D189,'CrediAltoque (SI)'!$H$18:$H$19,0))=FALSE,\"C\",IF(ISERROR(MATCH(D189,'CrediAltoque (SI)'!$H$20:$H$21,0))=FALSE,\"D\",\"\"))","v":""},{"$f":"IF(E189=\"C\",0,IF(E189 =\"D\",ROUND(1/((1+'CrediAltoque (SI)'!$R$14)^A189),9) * 2,ROUND(1/((1+'CrediAltoque (SI)'!$R$14)^A189),9)))","v":7.5322999999999997E-5},19.094695762999986]
[187,187,"2038-09-15",9,{"$f":"IF(ISERROR(MATCH(D190,'CrediAltoque (SI)'!$H$18:$H$19,0))=FALSE,\"C\",IF(ISERROR(MATCH(D190,'CrediAltoque (SI)'!$H$20:$H$21,0))=FALSE,\"D\",\"\"))","v":""},{"$f":"IF(E190=\"C\",0,IF(E190 =\"D\",ROUND(1/((1+'CrediAltoque (SI)'!$R$14)^A190),9) * 2,ROUND(1/((1+'CrediAltoque (SI)'!$R$14)^A190),9)))","v":7.1575000000000005E-5},19.094767337999986]
[188,188,"2038-10-15",10,{"$f":"IF(ISERROR(MATCH(D191,'CrediAltoque (SI)'!$H$18:$H$19,0))=FALSE,\"C\",IF(ISERROR(MATCH(D191,'CrediAltoque (SI)'!$H$20:$H$21,0))=FALSE,\"D\",\"\"))","v":""},{"$f":"IF(E191=\"C\",0,IF(E191 =\"D\",ROUND(1/((1+'CrediAltoque (SI)'!$R$14)^A191),9) * 2,ROUND(1/((1+'CrediAltoque (SI)'!$R$14)^A191),9)))","v":6.8013000000000001E-5},19.094835350999986]
[189,189,"2038-11-15",11,{"$f":"IF(ISERROR(MATCH(D192,'CrediAltoque (SI)'!$H$18:$H$19,0))=FALSE,\"C\",IF(ISERROR(MATCH(D192,'CrediAltoque (SI)'!$H$20:$H$21,0))=FALSE,\"D\",\"\"))","v":""},{"$f":"IF(E192=\"C\",0,IF(E192 =\"D\",ROUND(1/((1+'CrediAltoque (SI)'!$R$14)^A192),9) * 2,ROUND(1/((1+'CrediAltoque (SI)'!$R$14)^A192),9)))","v":6.4628999999999994E-5},19.094899979999987]
[190,190,"2038-12-15",12,{"$f":"IF(ISERROR(MATCH(D193,'CrediAltoque (SI)'!$H$18:$H$19,0))=FALSE,\"C\",IF(ISERROR(MATCH(D193,'CrediAltoque (SI)'!$H$20:$H$21,0))=FALSE,\"D\",\"\"))","v":""},{"$f":"IF(E193=\"C\",0,IF(E193 =\"D\",ROUND(1/((1+'CrediAltoque (SI)'!$R$14)^A193),9) * 2,ROUND(1/((1+'CrediAltoque (SI)'!$R$14)^A193),9)))","v":6.1413000000000003E-5},19.094961392999988]
[191,191,"2039-01-15",1,{"$f":"IF(ISERROR(MATCH(D194,'CrediAltoque (SI)'!$H$18:$H$19,0))=FALSE,\"C\",IF(ISERROR(MATCH(D194,'CrediAltoque (SI)'!$H$20:$H$21,0))=FALSE,\"D\",\"\"))","v":""},{"$f":"IF(E194=\"C\",0,IF(E194 =\"D\",ROUND(1/((1+'CrediAltoque (SI)'!$R$14)^A194),9) * 2,ROUND(1/((1+'CrediAltoque (SI)'!$R$14)^A194),9)))","v":5.8356999999999997E-5},19.095019749999988]
[192,192,"2039-02-15",2,{"$f":"IF(ISERROR(MATCH(D195,'CrediAltoque (SI)'!$H$18:$H$19,0))=FALSE,\"C\",IF(ISERROR(MATCH(D195,'CrediAltoque (SI)'!$H$20:$H$21,0))=FALSE,\"D\",\"\"))","v":""},{"$f":"IF(E195=\"C\",0,IF(E195 =\"D\",ROUND(1/((1+'CrediAltoque (SI)'!$R$14)^A195),9) * 2,ROUND(1/((1+'CrediAltoque (SI)'!$R$14)^A195),9)))","v":5.5452999999999999E-5},19.09507520299999]
[193,193,"2039-03-15",{"$f":"MONTH(C196)","v":3},{"$f":"IF(ISERROR(MATCH(D196,'CrediAltoque (SI)'!$H$18:$H$19,0))=FALSE,\"C\",IF(ISERROR(MATCH(D196,'CrediAltoque (SI)'!$H$20:$H$21,0))=FALSE,\"D\",\"\"))","v":""},{"$f":"IF(E196=\"C\",0,IF(E196 =\"D\",ROUND(1/((1+'CrediAltoque (SI)'!$R$14)^A196),9) * 2,ROUND(1/((1+'CrediAltoque (SI)'!$R$14)^A196),9)))","v":5.2692999999999998E-5},19.09512789599999]
[{"$f":"A196+1","v":194},{"$f":"IF(E197<>\"C\",IF(ISERROR(1+B196)=TRUE,1,1+B196),IF(ISNUMBER(B196),B196,1))","v":194},{"$f":"DATE(YEAR(C196) + 1/12,MONTH(C196)+1,DAY(C196))","v":"2039-04-15"},4,{"$f":"IF(ISERROR(MATCH(D197,'CrediAltoque (SI)'!$H$18:$H$19,0))=FALSE,\"C\",IF(ISERROR(MATCH(D197,'CrediAltoque (SI)'!$H$20:$H$21,0))=FALSE,\"D\",\"\"))","v":""},{"$f":"IF(E197=\"C\",0,IF(E197 =\"D\",ROUND(1/((1+'CrediAltoque (SI)'!$R$14)^A197),9) * 2,ROUND(1/((1+'CrediAltoque (SI)'!$R$14)^A197),9)))","v":5.0071000000000002E-5},19.095177966999991]
[195,195,"2039-05-15",5,{"$f":"IF(ISERROR(MATCH(D198,'CrediAltoque (SI)'!$H$18:$H$19,0))=FALSE,\"C\",IF(ISERROR(MATCH(D198,'CrediAltoque (SI)'!$H$20:$H$21,0))=FALSE,\"D\",\"\"))","v":""},{"$f":"IF(E198=\"C\",0,IF(E198 =\"D\",ROUND(1/((1+'CrediAltoque (SI)'!$R$14)^A198),9) * 2,ROUND(1/((1+'CrediAltoque (SI)'!$R$14)^A198),9)))","v":4.7580000000000002E-5},{"$f":"G197+ROUND(F198,9)","v":19.095225546999991}]
[196,196,"2039-06-15",6,{"$f":"IF(ISERROR(MATCH(D199,'CrediAltoque (SI)'!$H$18:$H$19,0))=FALSE,\"C\",IF(ISERROR(MATCH(D199,'CrediAltoque (SI)'!$H$20:$H$21,0))=FALSE,\"D\",\"\"))","v":""},{"$f":"IF(E199=\"C\",0,IF(E199 =\"D\",ROUND(1/((1+'CrediAltoque (SI)'!$R$14)^A199),9) * 2,ROUND(1/((1+'CrediAltoque (SI)'!$R$14)^A199),9)))","v":4.5212E-5},19.095270758999991]
[197,197,"2039-07-15",7,{"$f":"IF(ISERROR(MATCH(D200,'CrediAltoque (SI)'!$H$18:$H$19,0))=FALSE,\"C\",IF(ISERROR(MATCH(D200,'CrediAltoque (SI)'!$H$20:$H$21,0))=FALSE,\"D\",\"\"))","v":""},{"$f":"IF(E200=\"C\",0,IF(E200 =\"D\",ROUND(1/((1+'CrediAltoque (SI)'!$R$14)^A200),9) * 2,ROUND(1/((1+'CrediAltoque (SI)'!$R$14)^A200),9)))","v":4.2962E-5},19.095313720999989]
[198,198,"2039-08-15",8,{"$f":"IF(ISERROR(MATCH(D201,'CrediAltoque (SI)'!$H$18:$H$19,0))=FALSE,\"C\",IF(ISERROR(MATCH(D201,'CrediAltoque (SI)'!$H$20:$H$21,0))=FALSE,\"D\",\"\"))","v":""},{"$f":"IF(E201=\"C\",0,IF(E201 =\"D\",ROUND(1/((1+'CrediAltoque (SI)'!$R$14)^A201),9) * 2,ROUND(1/((1+'CrediAltoque (SI)'!$R$14)^A201),9)))","v":4.0825000000000003E-5},19.095354545999989]
[199,199,"2039-09-15",9,{"$f":"IF(ISERROR(MATCH(D202,'CrediAltoque (SI)'!$H$18:$H$19,0))=FALSE,\"C\",IF(ISERROR(MATCH(D202,'CrediAltoque (SI)'!$H$20:$H$21,0))=FALSE,\"D\",\"\"))","v":""},{"$f":"IF(E202=\"C\",0,IF(E202 =\"D\",ROUND(1/((1+'CrediAltoque (SI)'!$R$14)^A202),9) * 2,ROUND(1/((1+'CrediAltoque (SI)'!$R$14)^A202),9)))","v":3.8792999999999999E-5},19.09539333899999]
[200,200,"2039-10-15",10,{"$f":"IF(ISERROR(MATCH(D203,'CrediAltoque (SI)'!$H$18:$H$19,0))=FALSE,\"C\",IF(ISERROR(MATCH(D203,'CrediAltoque (SI)'!$H$20:$H$21,0))=FALSE,\"D\",\"\"))","v":""},{"$f":"IF(E203=\"C\",0,IF(E203 =\"D\",ROUND(1/((1+'CrediAltoque (SI)'!$R$14)^A203),9) * 2,ROUND(1/((1+'CrediAltoque (SI)'!$R$14)^A203),9)))","v":3.6863000000000003E-5},19.095430201999989]
[201,201,"2039-11-15",11,{"$f":"IF(ISERROR(MATCH(D204,'CrediAltoque (SI)'!$H$18:$H$19,0))=FALSE,\"C\",IF(ISERROR(MATCH(D204,'CrediAltoque (SI)'!$H$20:$H$21,0))=FALSE,\"D\",\"\"))","v":""},{"$f":"IF(E204=\"C\",0,IF(E204 =\"D\",ROUND(1/((1+'CrediAltoque (SI)'!$R$14)^A204),9) * 2,ROUND(1/((1+'CrediAltoque (SI)'!$R$14)^A204),9)))","v":3.5027999999999997E-5},19.095465229999988]
[202,202,"2039-12-15",12,{"$f":"IF(ISERROR(MATCH(D205,'CrediAltoque (SI)'!$H$18:$H$19,0))=FALSE,\"C\",IF(ISERROR(MATCH(D205,'CrediAltoque (SI)'!$H$20:$H$21,0))=FALSE,\"D\",\"\"))","v":""},{"$f":"IF(E205=\"C\",0,IF(E205 =\"D\",ROUND(1/((1+'CrediAltoque (SI)'!$R$14)^A205),9) * 2,ROUND(1/((1+'CrediAltoque (SI)'!$R$14)^A205),9)))","v":3.3284999999999997E-5},19.095498514999989]
[203,203,"2040-01-15",1,{"$f":"IF(ISERROR(MATCH(D206,'CrediAltoque (SI)'!$H$18:$H$19,0))=FALSE,\"C\",IF(ISERROR(MATCH(D206,'CrediAltoque (SI)'!$H$20:$H$21,0))=FALSE,\"D\",\"\"))","v":""},{"$f":"IF(E206=\"C\",0,IF(E206 =\"D\",ROUND(1/((1+'CrediAltoque (SI)'!$R$14)^A206),9) * 2,ROUND(1/((1+'CrediAltoque (SI)'!$R$14)^A206),9)))","v":3.1628999999999998E-5},19.095530143999987]
[204,204,"2040-02-15",2,{"$f":"IF(ISERROR(MATCH(D207,'CrediAltoque (SI)'!$H$18:$H$19,0))=FALSE,\"C\",IF(ISERROR(MATCH(D207,'CrediAltoque (SI)'!$H$20:$H$21,0))=FALSE,\"D\",\"\"))","v":""},{"$f":"IF(E207=\"C\",0,IF(E207 =\"D\",ROUND(1/((1+'CrediAltoque (SI)'!$R$14)^A207),9) * 2,ROUND(1/((1+'CrediAltoque (SI)'!$R$14)^A207),9)))","v":3.0054999999999999E-5},19.095560198999987]
[205,205,"2040-03-15",3,{"$f":"IF(ISERROR(MATCH(D208,'CrediAltoque (SI)'!$H$18:$H$19,0))=FALSE,\"C\",IF(ISERROR(MATCH(D208,'CrediAltoque (SI)'!$H$20:$H$21,0))=FALSE,\"D\",\"\"))","v":""},{"$f":"IF(E208=\"C\",0,IF(E208 =\"D\",ROUND(1/((1+'CrediAltoque (SI)'!$R$14)^A208),9) * 2,ROUND(1/((1+'CrediAltoque (SI)'!$R$14)^A208),9)))","v":2.8560000000000001E-5},19.095588758999988]
[206,206,"2040-04-15",4,{"$f":"IF(ISERROR(MATCH(D209,'CrediAltoque (SI)'!$H$18:$H$19,0))=FALSE,\"C\",IF(ISERROR(MATCH(D209,'CrediAltoque (SI)'!$H$20:$H$21,0))=FALSE,\"D\",\"\"))","v":""},{"$f":"IF(E209=\"C\",0,IF(E209 =\"D\",ROUND(1/((1+'CrediAltoque (SI)'!$R$14)^A209),9) * 2,ROUND(1/((1+'CrediAltoque (SI)'!$R$14)^A209),9)))","v":2.7138E-5},19.095615896999988]
[207,207,"2040-05-15",5,{"$f":"IF(ISERROR(MATCH(D210,'CrediAltoque (SI)'!$H$18:$H$19,0))=FALSE,\"C\",IF(ISERROR(MATCH(D210,'CrediAltoque (SI)'!$H$20:$H$21,0))=FALSE,\"D\",\"\"))","v":""},{"$f":"IF(E210=\"C\",0,IF(E210 =\"D\",ROUND(1/((1+'CrediAltoque (SI)'!$R$14)^A210),9) * 2,ROUND(1/((1+'CrediAltoque (SI)'!$R$14)^A210),9)))","v":2.5788000000000001E-5},19.095641684999986]
[208,208,"2040-06-15",6,{"$f":"IF(ISERROR(MATCH(D211,'CrediAltoque (SI)'!$H$18:$H$19,0))=FALSE,\"C\",IF(ISERROR(MATCH(D211,'CrediAltoque (SI)'!$H$20:$H$21,0))=FALSE,\"D\",\"\"))","v":""},{"$f":"IF(E211=\"C\",0,IF(E211 =\"D\",ROUND(1/((1+'CrediAltoque (SI)'!$R$14)^A211),9) * 2,ROUND(1/((1+'CrediAltoque (SI)'!$R$14)^A211),9)))","v":2.4505E-5},19.095666189999985]
[209,209,"2040-07-15",7,{"$f":"IF(ISERROR(MATCH(D212,'CrediAltoque (SI)'!$H$18:$H$19,0))=FALSE,\"C\",IF(ISERROR(MATCH(D212,'CrediAltoque (SI)'!$H$20:$H$21,0))=FALSE,\"D\",\"\"))","v":""},{"$f":"IF(E212=\"C\",0,IF(E212 =\"D\",ROUND(1/((1+'CrediAltoque (SI)'!$R$14)^A212),9) * 2,ROUND(1/((1+'CrediAltoque (SI)'!$R$14)^A212),9)))","v":2.3285000000000002E-5},19.095689474999986]
[210,210,"2040-08-15",8,{"$f":"IF(ISERROR(MATCH(D213,'CrediAltoque (SI)'!$H$18:$H$19,0))=FALSE,\"C\",IF(ISERROR(MATCH(D213,'CrediAltoque (SI)'!$H$20:$H$21,0))=FALSE,\"D\",\"\"))","v":""},{"$f":"IF(E213=\"C\",0,IF(E213 =\"D\",ROUND(1/((1+'CrediAltoque (SI)'!$R$14)^A213),9) * 2,ROUND(1/((1+'CrediAltoque (SI)'!$R$14)^A213),9)))","v":2.2127E-5},19.095711601999987]
[211,211,"2040-09-15",9,{"$f":"IF(ISERROR(MATCH(D214,'CrediAltoque (SI)'!$H$18:$H$19,0))=FALSE,\"C\",IF(ISERROR(MATCH(D214,'CrediAltoque (SI)'!$H$20:$H$21,0))=FALSE,\"D\",\"\"))","v":""},{"$f":"IF(E214=\"C\",0,IF(E214 =\"D\",ROUND(1/((1+'CrediAltoque (SI)'!$R$14)^A214),9) * 2,ROUND(1/((1+'CrediAltoque (SI)'!$R$14)^A214),9)))","v":2.1026000000000002E-5},19.095732627999986]
[212,212,"2040-10-15",10,{"$f":"IF(ISERROR(MATCH(D215,'CrediAltoque (SI)'!$H$18:$H$19,0))=FALSE,\"C\",IF(ISERROR(MATCH(D215,'CrediAltoque (SI)'!$H$20:$H$21,0))=FALSE,\"D\",\"\"))","v":""},{"$f":"IF(E215=\"C\",0,IF(E215 =\"D\",ROUND(1/((1+'CrediAltoque (SI)'!$R$14)^A215),9) * 2,ROUND(1/((1+'CrediAltoque (SI)'!$R$14)^A215),9)))","v":1.9979E-5},19.095752606999987]
[213,213,"2040-11-15",11,{"$f":"IF(ISERROR(MATCH(D216,'CrediAltoque (SI)'!$H$18:$H$19,0))=FALSE,\"C\",IF(ISERROR(MATCH(D216,'CrediAltoque (SI)'!$H$20:$H$21,0))=FALSE,\"D\",\"\"))","v":""},{"$f":"IF(E216=\"C\",0,IF(E216 =\"D\",ROUND(1/((1+'CrediAltoque (SI)'!$R$14)^A216),9) * 2,ROUND(1/((1+'CrediAltoque (SI)'!$R$14)^A216),9)))","v":1.8984999999999999E-5},19.095771591999988]
[214,214,"2040-12-15",12,{"$f":"IF(ISERROR(MATCH(D217,'CrediAltoque (SI)'!$H$18:$H$19,0))=FALSE,\"C\",IF(ISERROR(MATCH(D217,'CrediAltoque (SI)'!$H$20:$H$21,0))=FALSE,\"D\",\"\"))","v":""},{"$f":"IF(E217=\"C\",0,IF(E217 =\"D\",ROUND(1/((1+'CrediAltoque (SI)'!$R$14)^A217),9) * 2,ROUND(1/((1+'CrediAltoque (SI)'!$R$14)^A217),9)))","v":1.804E-5},19.095789631999988]
[215,215,"2041-01-15",1,{"$f":"IF(ISERROR(MATCH(D218,'CrediAltoque (SI)'!$H$18:$H$19,0))=FALSE,\"C\",IF(ISERROR(MATCH(D218,'CrediAltoque (SI)'!$H$20:$H$21,0))=FALSE,\"D\",\"\"))","v":""},{"$f":"IF(E218=\"C\",0,IF(E218 =\"D\",ROUND(1/((1+'CrediAltoque (SI)'!$R$14)^A218),9) * 2,ROUND(1/((1+'CrediAltoque (SI)'!$R$14)^A218),9)))","v":1.7142999999999998E-5},19.095806774999989]
[216,216,"2041-02-15",2,{"$f":"IF(ISERROR(MATCH(D219,'CrediAltoque (SI)'!$H$18:$H$19,0))=FALSE,\"C\",IF(ISERROR(MATCH(D219,'CrediAltoque (SI)'!$H$20:$H$21,0))=FALSE,\"D\",\"\"))","v":""},{"$f":"IF(E219=\"C\",0,IF(E219 =\"D\",ROUND(1/((1+'CrediAltoque (SI)'!$R$14)^A219),9) * 2,ROUND(1/((1+'CrediAltoque (SI)'!$R$14)^A219),9)))","v":1.6290000000000002E-5},19.09582306499999]
[217,217,"2041-03-15",3,{"$f":"IF(ISERROR(MATCH(D220,'CrediAltoque (SI)'!$H$18:$H$19,0))=FALSE,\"C\",IF(ISERROR(MATCH(D220,'CrediAltoque (SI)'!$H$20:$H$21,0))=FALSE,\"D\",\"\"))","v":""},{"$f":"IF(E220=\"C\",0,IF(E220 =\"D\",ROUND(1/((1+'CrediAltoque (SI)'!$R$14)^A220),9) * 2,ROUND(1/((1+'CrediAltoque (SI)'!$R$14)^A220),9)))","v":1.5478999999999999E-5},19.095838543999992]
[218,218,"2041-04-15",4,{"$f":"IF(ISERROR(MATCH(D221,'CrediAltoque (SI)'!$H$18:$H$19,0))=FALSE,\"C\",IF(ISERROR(MATCH(D221,'CrediAltoque (SI)'!$H$20:$H$21,0))=FALSE,\"D\",\"\"))","v":""},{"$f":"IF(E221=\"C\",0,IF(E221 =\"D\",ROUND(1/((1+'CrediAltoque (SI)'!$R$14)^A221),9) * 2,ROUND(1/((1+'CrediAltoque (SI)'!$R$14)^A221),9)))","v":1.4708999999999999E-5},19.095853252999991]
[219,219,"2041-05-15",5,{"$f":"IF(ISERROR(MATCH(D222,'CrediAltoque (SI)'!$H$18:$H$19,0))=FALSE,\"C\",IF(ISERROR(MATCH(D222,'CrediAltoque (SI)'!$H$20:$H$21,0))=FALSE,\"D\",\"\"))","v":""},{"$f":"IF(E222=\"C\",0,IF(E222 =\"D\",ROUND(1/((1+'CrediAltoque (SI)'!$R$14)^A222),9) * 2,ROUND(1/((1+'CrediAltoque (SI)'!$R$14)^A222),9)))","v":1.3977E-5},19.095867229999989]
[220,220,"2041-06-15",6,{"$f":"IF(ISERROR(MATCH(D223,'CrediAltoque (SI)'!$H$18:$H$19,0))=FALSE,\"C\",IF(ISERROR(MATCH(D223,'CrediAltoque (SI)'!$H$20:$H$21,0))=FALSE,\"D\",\"\"))","v":""},{"$f":"IF(E223=\"C\",0,IF(E223 =\"D\",ROUND(1/((1+'CrediAltoque (SI)'!$R$14)^A223),9) * 2,ROUND(1/((1+'CrediAltoque (SI)'!$R$14)^A223),9)))","v":1.3281E-5},19.09588051099999]
[221,221,"2041-07-15",7,{"$f":"IF(ISERROR(MATCH(D224,'CrediAltoque (SI)'!$H$18:$H$19,0))=FALSE,\"C\",IF(ISERROR(MATCH(D224,'CrediAltoque (SI)'!$H$20:$H$21,0))=FALSE,\"D\",\"\"))","v":""},{"$f":"IF(E224=\"C\",0,IF(E224 =\"D\",ROUND(1/((1+'CrediAltoque (SI)'!$R$14)^A224),9) * 2,ROUND(1/((1+'CrediAltoque (SI)'!$R$14)^A224),9)))","v":1.2621E-5},19.09589313199999]
[222,222,"2041-08-15",8,{"$f":"IF(ISERROR(MATCH(D225,'CrediAltoque (SI)'!$H$18:$H$19,0))=FALSE,\"C\",IF(ISERROR(MATCH(D225,'CrediAltoque (SI)'!$H$20:$H$21,0))=FALSE,\"D\",\"\"))","v":""},{"$f":"IF(E225=\"C\",0,IF(E225 =\"D\",ROUND(1/((1+'CrediAltoque (SI)'!$R$14)^A225),9) * 2,ROUND(1/((1+'CrediAltoque (SI)'!$R$14)^A225),9)))","v":1.1993E-5},19.095905124999991]
[223,223,"2041-09-15",9,{"$f":"IF(ISERROR(MATCH(D226,'CrediAltoque (SI)'!$H$18:$H$19,0))=FALSE,\"C\",IF(ISERROR(MATCH(D226,'CrediAltoque (SI)'!$H$20:$H$21,0))=FALSE,\"D\",\"\"))","v":""},{"$f":"IF(E226=\"C\",0,IF(E226 =\"D\",ROUND(1/((1+'CrediAltoque (SI)'!$R$14)^A226),9) * 2,ROUND(1/((1+'CrediAltoque (SI)'!$R$14)^A226),9)))","v":1.1396000000000001E-5},19.095916520999992]
[224,224,"2041-10-15",10,{"$f":"IF(ISERROR(MATCH(D227,'CrediAltoque (SI)'!$H$18:$H$19,0))=FALSE,\"C\",IF(ISERROR(MATCH(D227,'CrediAltoque (SI)'!$H$20:$H$21,0))=FALSE,\"D\",\"\"))","v":""},{"$f":"IF(E227=\"C\",0,IF(E227 =\"D\",ROUND(1/((1+'CrediAltoque (SI)'!$R$14)^A227),9) * 2,ROUND(1/((1+'CrediAltoque (SI)'!$R$14)^A227),9)))","v":1.0829000000000001E-5},19.095927349999993]
[225,225,"2041-11-15",11,{"$f":"IF(ISERROR(MATCH(D228,'CrediAltoque (SI)'!$H$18:$H$19,0))=FALSE,\"C\",IF(ISERROR(MATCH(D228,'CrediAltoque (SI)'!$H$20:$H$21,0))=FALSE,\"D\",\"\"))","v":""},{"$f":"IF(E228=\"C\",0,IF(E228 =\"D\",ROUND(1/((1+'CrediAltoque (SI)'!$R$14)^A228),9) * 2,ROUND(1/((1+'CrediAltoque (SI)'!$R$14)^A228),9)))","v":1.029E-5},19.095937639999992]
[226,226,"2041-12-15",12,{"$f":"IF(ISERROR(MATCH(D229,'CrediAltoque (SI)'!$H$18:$H$19,0))=FALSE,\"C\",IF(ISERROR(MATCH(D229,'CrediAltoque (SI)'!$H$20:$H$21,0))=FALSE,\"D\",\"\"))","v":""},{"$f":"IF(E229=\"C\",0,IF(E229 =\"D\",ROUND(1/((1+'CrediAltoque (SI)'!$R$14)^A229),9) * 2,ROUND(1/((1+'CrediAltoque (SI)'!$R$14)^A229),9)))","v":9.7780000000000002E-6},19.095947417999991]
[227,227,"2042-01-15",1,{"$f":"IF(ISERROR(MATCH(D230,'CrediAltoque (SI)'!$H$18:$H$19,0))=FALSE,\"C\",IF(ISERROR(MATCH(D230,'CrediAltoque (SI)'!$H$20:$H$21,0))=FALSE,\"D\",\"\"))","v":""},{"$f":"IF(E230=\"C\",0,IF(E230 =\"D\",ROUND(1/((1+'CrediAltoque (SI)'!$R$14)^A230),9) * 2,ROUND(1/((1+'CrediAltoque (SI)'!$R$14)^A230),9)))","v":9.2909999999999996E-6},19.095956708999992]
[228,228,"2042-02-15",2,{"$f":"IF(ISERROR(MATCH(D231,'CrediAltoque (SI)'!$H$18:$H$19,0))=FALSE,\"C\",IF(ISERROR(MATCH(D231,'CrediAltoque (SI)'!$H$20:$H$21,0))=FALSE,\"D\",\"\"))","v":""},{"$f":"IF(E231=\"C\",0,IF(E231 =\"D\",ROUND(1/((1+'CrediAltoque (SI)'!$R$14)^A231),9) * 2,ROUND(1/((1+'CrediAltoque (SI)'!$R$14)^A231),9)))","v":8.8289999999999997E-6},19.095965537999991]
[229,229,"2042-03-15",3,{"$f":"IF(ISERROR(MATCH(D232,'CrediAltoque (SI)'!$H$18:$H$19,0))=FALSE,\"C\",IF(ISERROR(MATCH(D232,'CrediAltoque (SI)'!$H$20:$H$21,0))=FALSE,\"D\",\"\"))","v":""},{"$f":"IF(E232=\"C\",0,IF(E232 =\"D\",ROUND(1/((1+'CrediAltoque (SI)'!$R$14)^A232),9) * 2,ROUND(1/((1+'CrediAltoque (SI)'!$R$14)^A232),9)))","v":8.3899999999999993E-6},19.095973927999992]
[230,230,"2042-04-15",4,{"$f":"IF(ISERROR(MATCH(D233,'CrediAltoque (SI)'!$H$18:$H$19,0))=FALSE,\"C\",IF(ISERROR(MATCH(D233,'CrediAltoque (SI)'!$H$20:$H$21,0))=FALSE,\"D\",\"\"))","v":""},{"$f":"IF(E233=\"C\",0,IF(E233 =\"D\",ROUND(1/((1+'CrediAltoque (SI)'!$R$14)^A233),9) * 2,ROUND(1/((1+'CrediAltoque (SI)'!$R$14)^A233),9)))","v":7.9719999999999992E-6},19.095981899999991]
[231,231,"2042-05-15",5,{"$f":"IF(ISERROR(MATCH(D234,'CrediAltoque (SI)'!$H$18:$H$19,0))=FALSE,\"C\",IF(ISERROR(MATCH(D234,'CrediAltoque (SI)'!$H$20:$H$21,0))=FALSE,\"D\",\"\"))","v":""},{"$f":"IF(E234=\"C\",0,IF(E234 =\"D\",ROUND(1/((1+'CrediAltoque (SI)'!$R$14)^A234),9) * 2,ROUND(1/((1+'CrediAltoque (SI)'!$R$14)^A234),9)))","v":7.5750000000000003E-6},19.095989474999993]
[232,232,"2042-06-15",6,{"$f":"IF(ISERROR(MATCH(D235,'CrediAltoque (SI)'!$H$18:$H$19,0))=FALSE,\"C\",IF(ISERROR(MATCH(D235,'CrediAltoque (SI)'!$H$20:$H$21,0))=FALSE,\"D\",\"\"))","v":""},{"$f":"IF(E235=\"C\",0,IF(E235 =\"D\",ROUND(1/((1+'CrediAltoque (SI)'!$R$14)^A235),9) * 2,ROUND(1/((1+'CrediAltoque (SI)'!$R$14)^A235),9)))","v":7.1980000000000004E-6},19.095996672999991]
[233,233,"2042-07-15",7,{"$f":"IF(ISERROR(MATCH(D236,'CrediAltoque (SI)'!$H$18:$H$19,0))=FALSE,\"C\",IF(ISERROR(MATCH(D236,'CrediAltoque (SI)'!$H$20:$H$21,0))=FALSE,\"D\",\"\"))","v":""},{"$f":"IF(E236=\"C\",0,IF(E236 =\"D\",ROUND(1/((1+'CrediAltoque (SI)'!$R$14)^A236),9) * 2,ROUND(1/((1+'CrediAltoque (SI)'!$R$14)^A236),9)))","v":6.8399999999999997E-6},19.096003512999992]
[234,234,"2042-08-15",8,{"$f":"IF(ISERROR(MATCH(D237,'CrediAltoque (SI)'!$H$18:$H$19,0))=FALSE,\"C\",IF(ISERROR(MATCH(D237,'CrediAltoque (SI)'!$H$20:$H$21,0))=FALSE,\"D\",\"\"))","v":""},{"$f":"IF(E237=\"C\",0,IF(E237 =\"D\",ROUND(1/((1+'CrediAltoque (SI)'!$R$14)^A237),9) * 2,ROUND(1/((1+'CrediAltoque (SI)'!$R$14)^A237),9)))","v":6.4999999999999996E-6},19.096010012999994]
[235,235,"2042-09-15",9,{"$f":"IF(ISERROR(MATCH(D238,'CrediAltoque (SI)'!$H$18:$H$19,0))=FALSE,\"C\",IF(ISERROR(MATCH(D238,'CrediAltoque (SI)'!$H$20:$H$21,0))=FALSE,\"D\",\"\"))","v":""},{"$f":"IF(E238=\"C\",0,IF(E238 =\"D\",ROUND(1/((1+'CrediAltoque (SI)'!$R$14)^A238),9) * 2,ROUND(1/((1+'CrediAltoque (SI)'!$R$14)^A238),9)))","v":6.1759999999999998E-6},19.096016188999993]
[236,236,"2042-10-15",10,{"$f":"IF(ISERROR(MATCH(D239,'CrediAltoque (SI)'!$H$18:$H$19,0))=FALSE,\"C\",IF(ISERROR(MATCH(D239,'CrediAltoque (SI)'!$H$20:$H$21,0))=FALSE,\"D\",\"\"))","v":""},{"$f":"IF(E239=\"C\",0,IF(E239 =\"D\",ROUND(1/((1+'CrediAltoque (SI)'!$R$14)^A239),9) * 2,ROUND(1/((1+'CrediAltoque (SI)'!$R$14)^A239),9)))","v":5.8690000000000001E-6},19.096022057999992]
[237,237,"2042-11-15",11,{"$f":"IF(ISERROR(MATCH(D240,'CrediAltoque (SI)'!$H$18:$H$19,0))=FALSE,\"C\",IF(ISERROR(MATCH(D240,'CrediAltoque (SI)'!$H$20:$H$21,0))=FALSE,\"D\",\"\"))","v":""},{"$f":"IF(E240=\"C\",0,IF(E240 =\"D\",ROUND(1/((1+'CrediAltoque (SI)'!$R$14)^A240),9) * 2,ROUND(1/((1+'CrediAltoque (SI)'!$R$14)^A240),9)))","v":5.5770000000000001E-6},19.096027634999992]
[238,238,"2042-12-15",12,{"$f":"IF(ISERROR(MATCH(D241,'CrediAltoque (SI)'!$H$18:$H$19,0))=FALSE,\"C\",IF(ISERROR(MATCH(D241,'CrediAltoque (SI)'!$H$20:$H$21,0))=FALSE,\"D\",\"\"))","v":""},{"$f":"IF(E241=\"C\",0,IF(E241 =\"D\",ROUND(1/((1+'CrediAltoque (SI)'!$R$14)^A241),9) * 2,ROUND(1/((1+'CrediAltoque (SI)'!$R$14)^A241),9)))","v":5.3000000000000001E-6},19.096032934999993]
[239,239,"2043-01-15",1,{"$f":"IF(ISERROR(MATCH(D242,'CrediAltoque (SI)'!$H$18:$H$19,0))=FALSE,\"C\",IF(ISERROR(MATCH(D242,'CrediAltoque (SI)'!$H$20:$H$21,0))=FALSE,\"D\",\"\"))","v":""},{"$f":"IF(E242=\"C\",0,IF(E242 =\"D\",ROUND(1/((1+'CrediAltoque (SI)'!$R$14)^A242),9) * 2,ROUND(1/((1+'CrediAltoque (SI)'!$R$14)^A242),9)))","v":5.0359999999999997E-6},19.096037970999994]
[240,240,"2043-02-15",2,{"$f":"IF(ISERROR(MATCH(D243,'CrediAltoque (SI)'!$H$18:$H$19,0))=FALSE,\"C\",IF(ISERROR(MATCH(D243,'CrediAltoque (SI)'!$H$20:$H$21,0))=FALSE,\"D\",\"\"))","v":""},{"$f":"IF(E243=\"C\",0,IF(E243 =\"D\",ROUND(1/((1+'CrediAltoque (SI)'!$R$14)^A243),9) * 2,ROUND(1/((1+'CrediAltoque (SI)'!$R$14)^A243),9)))","v":4.7849999999999999E-6},19.096042755999996]
[241,241,"2043-03-15",3,{"$f":"IF(ISERROR(MATCH(D244,'CrediAltoque (SI)'!$H$18:$H$19,0))=FALSE,\"C\",IF(ISERROR(MATCH(D244,'CrediAltoque (SI)'!$H$20:$H$21,0))=FALSE,\"D\",\"\"))","v":""},{"$f":"IF(E244=\"C\",0,IF(E244 =\"D\",ROUND(1/((1+'CrediAltoque (SI)'!$R$14)^A244),9) * 2,ROUND(1/((1+'CrediAltoque (SI)'!$R$14)^A244),9)))","v":4.5469999999999998E-6},19.096047302999995]
[242,242,"2043-04-15",4,{"$f":"IF(ISERROR(MATCH(D245,'CrediAltoque (SI)'!$H$18:$H$19,0))=FALSE,\"C\",IF(ISERROR(MATCH(D245,'CrediAltoque (SI)'!$H$20:$H$21,0))=FALSE,\"D\",\"\"))","v":""},{"$f":"IF(E245=\"C\",0,IF(E245 =\"D\",ROUND(1/((1+'CrediAltoque (SI)'!$R$14)^A245),9) * 2,ROUND(1/((1+'CrediAltoque (SI)'!$R$14)^A245),9)))","v":4.3209999999999998E-6},19.096051623999994]
[243,243,"2043-05-15",5,{"$f":"IF(ISERROR(MATCH(D246,'CrediAltoque (SI)'!$H$18:$H$19,0))=FALSE,\"C\",IF(ISERROR(MATCH(D246,'CrediAltoque (SI)'!$H$20:$H$21,0))=FALSE,\"D\",\"\"))","v":""},{"$f":"IF(E246=\"C\",0,IF(E246 =\"D\",ROUND(1/((1+'CrediAltoque (SI)'!$R$14)^A246),9) * 2,ROUND(1/((1+'CrediAltoque (SI)'!$R$14)^A246),9)))","v":4.1060000000000002E-6},19.096055729999993]
[244,244,"2043-06-15",6,{"$f":"IF(ISERROR(MATCH(D247,'CrediAltoque (SI)'!$H$18:$H$19,0))=FALSE,\"C\",IF(ISERROR(MATCH(D247,'CrediAltoque (SI)'!$H$20:$H$21,0))=FALSE,\"D\",\"\"))","v":""},{"$f":"IF(E247=\"C\",0,IF(E247 =\"D\",ROUND(1/((1+'CrediAltoque (SI)'!$R$14)^A247),9) * 2,ROUND(1/((1+'CrediAltoque (SI)'!$R$14)^A247),9)))","v":3.9020000000000001E-6},19.096059631999992]
[245,245,"2043-07-15",7,{"$f":"IF(ISERROR(MATCH(D248,'CrediAltoque (SI)'!$H$18:$H$19,0))=FALSE,\"C\",IF(ISERROR(MATCH(D248,'CrediAltoque (SI)'!$H$20:$H$21,0))=FALSE,\"D\",\"\"))","v":""},{"$f":"IF(E248=\"C\",0,IF(E248 =\"D\",ROUND(1/((1+'CrediAltoque (SI)'!$R$14)^A248),9) * 2,ROUND(1/((1+'CrediAltoque (SI)'!$R$14)^A248),9)))","v":3.7069999999999998E-6},19.096063338999993]
[246,246,"2043-08-15",8,{"$f":"IF(ISERROR(MATCH(D249,'CrediAltoque (SI)'!$H$18:$H$19,0))=FALSE,\"C\",IF(ISERROR(MATCH(D249,'CrediAltoque (SI)'!$H$20:$H$21,0))=FALSE,\"D\",\"\"))","v":""},{"$f":"IF(E249=\"C\",0,IF(E249 =\"D\",ROUND(1/((1+'CrediAltoque (SI)'!$R$14)^A249),9) * 2,ROUND(1/((1+'CrediAltoque (SI)'!$R$14)^A249),9)))","v":3.523E-6},19.096066861999994]
[247,247,"2043-09-15",9,{"$f":"IF(ISERROR(MATCH(D250,'CrediAltoque (SI)'!$H$18:$H$19,0))=FALSE,\"C\",IF(ISERROR(MATCH(D250,'CrediAltoque (SI)'!$H$20:$H$21,0))=FALSE,\"D\",\"\"))","v":""},{"$f":"IF(E250=\"C\",0,IF(E250 =\"D\",ROUND(1/((1+'CrediAltoque (SI)'!$R$14)^A250),9) * 2,ROUND(1/((1+'CrediAltoque (SI)'!$R$14)^A250),9)))","v":3.348E-6},19.096070209999993]
[248,248,"2043-10-15",10,{"$f":"IF(ISERROR(MATCH(D251,'CrediAltoque (SI)'!$H$18:$H$19,0))=FALSE,\"C\",IF(ISERROR(MATCH(D251,'CrediAltoque (SI)'!$H$20:$H$21,0))=FALSE,\"D\",\"\"))","v":""},{"$f":"IF(E251=\"C\",0,IF(E251 =\"D\",ROUND(1/((1+'CrediAltoque (SI)'!$R$14)^A251),9) * 2,ROUND(1/((1+'CrediAltoque (SI)'!$R$14)^A251),9)))","v":3.1810000000000001E-6},19.096073390999994]
[249,249,"2043-11-15",11,{"$f":"IF(ISERROR(MATCH(D252,'CrediAltoque (SI)'!$H$18:$H$19,0))=FALSE,\"C\",IF(ISERROR(MATCH(D252,'CrediAltoque (SI)'!$H$20:$H$21,0))=FALSE,\"D\",\"\"))","v":""},{"$f":"IF(E252=\"C\",0,IF(E252 =\"D\",ROUND(1/((1+'CrediAltoque (SI)'!$R$14)^A252),9) * 2,ROUND(1/((1+'CrediAltoque (SI)'!$R$14)^A252),9)))","v":3.0230000000000001E-6},19.096076413999995]
[250,250,"2043-12-15",12,{"$f":"IF(ISERROR(MATCH(D253,'CrediAltoque (SI)'!$H$18:$H$19,0))=FALSE,\"C\",IF(ISERROR(MATCH(D253,'CrediAltoque (SI)'!$H$20:$H$21,0))=FALSE,\"D\",\"\"))","v":""},{"$f":"IF(E253=\"C\",0,IF(E253 =\"D\",ROUND(1/((1+'CrediAltoque (SI)'!$R$14)^A253),9) * 2,ROUND(1/((1+'CrediAltoque (SI)'!$R$14)^A253),9)))","v":2.8720000000000002E-6},19.096079285999995]
[251,251,"2044-01-15",1,{"$f":"IF(ISERROR(MATCH(D254,'CrediAltoque (SI)'!$H$18:$H$19,0))=FALSE,\"C\",IF(ISERROR(MATCH(D254,'CrediAltoque (SI)'!$H$20:$H$21,0))=FALSE,\"D\",\"\"))","v":""},{"$f":"IF(E254=\"C\",0,IF(E254 =\"D\",ROUND(1/((1+'CrediAltoque (SI)'!$R$14)^A254),9) * 2,ROUND(1/((1+'CrediAltoque (SI)'!$R$14)^A254),9)))","v":2.729E-6},19.096082014999993]
[252,252,"2044-02-15",2,{"$f":"IF(ISERROR(MATCH(D255,'CrediAltoque (SI)'!$H$18:$H$19,0))=FALSE,\"C\",IF(ISERROR(MATCH(D255,'CrediAltoque (SI)'!$H$20:$H$21,0))=FALSE,\"D\",\"\"))","v":""},{"$f":"IF(E255=\"C\",0,IF(E255 =\"D\",ROUND(1/((1+'CrediAltoque (SI)'!$R$14)^A255),9) * 2,ROUND(1/((1+'CrediAltoque (SI)'!$R$14)^A255),9)))","v":2.5940000000000001E-6},19.096084608999995]
[253,253,"2044-03-15",3,{"$f":"IF(ISERROR(MATCH(D256,'CrediAltoque (SI)'!$H$18:$H$19,0))=FALSE,\"C\",IF(ISERROR(MATCH(D256,'CrediAltoque (SI)'!$H$20:$H$21,0))=FALSE,\"D\",\"\"))","v":""},{"$f":"IF(E256=\"C\",0,IF(E256 =\"D\",ROUND(1/((1+'CrediAltoque (SI)'!$R$14)^A256),9) * 2,ROUND(1/((1+'CrediAltoque (SI)'!$R$14)^A256),9)))","v":2.4650000000000001E-6},19.096087073999996]
[254,254,"2044-04-15",4,{"$f":"IF(ISERROR(MATCH(D257,'CrediAltoque (SI)'!$H$18:$H$19,0))=FALSE,\"C\",IF(ISERROR(MATCH(D257,'CrediAltoque (SI)'!$H$20:$H$21,0))=FALSE,\"D\",\"\"))","v":""},{"$f":"IF(E257=\"C\",0,IF(E257 =\"D\",ROUND(1/((1+'CrediAltoque (SI)'!$R$14)^A257),9) * 2,ROUND(1/((1+'CrediAltoque (SI)'!$R$14)^A257),9)))","v":2.3420000000000002E-6},19.096089415999995]
[255,255,"2044-05-15",5,{"$f":"IF(ISERROR(MATCH(D258,'CrediAltoque (SI)'!$H$18:$H$19,0))=FALSE,\"C\",IF(ISERROR(MATCH(D258,'CrediAltoque (SI)'!$H$20:$H$21,0))=FALSE,\"D\",\"\"))","v":""},{"$f":"IF(E258=\"C\",0,IF(E258 =\"D\",ROUND(1/((1+'CrediAltoque (SI)'!$R$14)^A258),9) * 2,ROUND(1/((1+'CrediAltoque (SI)'!$R$14)^A258),9)))","v":2.2249999999999999E-6},19.096091640999994]
[256,256,"2044-06-15",6,{"$f":"IF(ISERROR(MATCH(D259,'CrediAltoque (SI)'!$H$18:$H$19,0))=FALSE,\"C\",IF(ISERROR(MATCH(D259,'CrediAltoque (SI)'!$H$20:$H$21,0))=FALSE,\"D\",\"\"))","v":""},{"$f":"IF(E259=\"C\",0,IF(E259 =\"D\",ROUND(1/((1+'CrediAltoque (SI)'!$R$14)^A259),9) * 2,ROUND(1/((1+'CrediAltoque (SI)'!$R$14)^A259),9)))","v":2.1150000000000001E-6},19.096093755999995]
[257,257,"2044-07-15",{"$f":"MONTH(C260)","v":7},{"$f":"IF(ISERROR(MATCH(D260,'CrediAltoque (SI)'!$H$18:$H$19,0))=FALSE,\"C\",IF(ISERROR(MATCH(D260,'CrediAltoque (SI)'!$H$20:$H$21,0))=FALSE,\"D\",\"\"))","v":""},{"$f":"IF(E260=\"C\",0,IF(E260 =\"D\",ROUND(1/((1+'CrediAltoque (SI)'!$R$14)^A260),9) * 2,ROUND(1/((1+'CrediAltoque (SI)'!$R$14)^A260),9)))","v":2.0090000000000002E-6},19.096095764999994]
[{"$f":"A260+1","v":258},{"$f":"IF(E261<>\"C\",IF(ISERROR(1+B260)=TRUE,1,1+B260),IF(ISNUMBER(B260),B260,1))","v":258},{"$f":"DATE(YEAR(C260) + 1/12,MONTH(C260)+1,DAY(C260))","v":"2044-08-15"},8,{"$f":"IF(ISERROR(MATCH(D261,'CrediAltoque (SI)'!$H$18:$H$19,0))=FALSE,\"C\",IF(ISERROR(MATCH(D261,'CrediAltoque (SI)'!$H$20:$H$21,0))=FALSE,\"D\",\"\"))","v":""},{"$f":"IF(E261=\"C\",0,IF(E261 =\"D\",ROUND(1/((1+'CrediAltoque (SI)'!$R$14)^A261),9) * 2,ROUND(1/((1+'CrediAltoque (SI)'!$R$14)^A261),9)))","v":1.9089999999999998E-6},19.096097673999996]
[259,259,"2044-09-15",9,{"$f":"IF(ISERROR(MATCH(D262,'CrediAltoque (SI)'!$H$18:$H$19,0))=FALSE,\"C\",IF(ISERROR(MATCH(D262,'CrediAltoque (SI)'!$H$20:$H$21,0))=FALSE,\"D\",\"\"))","v":""},{"$f":"IF(E262=\"C\",0,IF(E262 =\"D\",ROUND(1/((1+'CrediAltoque (SI)'!$R$14)^A262),9) * 2,ROUND(1/((1+'CrediAltoque (SI)'!$R$14)^A262),9)))","v":1.8139999999999999E-6},{"$f":"G261+ROUND(F262,9)","v":19.096099487999997}]
[260,260,"2044-10-15",10,{"$f":"IF(ISERROR(MATCH(D263,'CrediAltoque (SI)'!$H$18:$H$19,0))=FALSE,\"C\",IF(ISERROR(MATCH(D263,'CrediAltoque (SI)'!$H$20:$H$21,0))=FALSE,\"D\",\"\"))","v":""},{"$f":"IF(E263=\"C\",0,IF(E263 =\"D\",ROUND(1/((1+'CrediAltoque (SI)'!$R$14)^A263),9) * 2,ROUND(1/((1+'CrediAltoque (SI)'!$R$14)^A263),9)))","v":1.7239999999999999E-6},19.096101211999997]
[261,261,"2044-11-15",11,{"$f":"IF(ISERROR(MATCH(D264,'CrediAltoque (SI)'!$H$18:$H$19,0))=FALSE,\"C\",IF(ISERROR(MATCH(D264,'CrediAltoque (SI)'!$H$20:$H$21,0))=FALSE,\"D\",\"\"))","v":""},{"$f":"IF(E264=\"C\",0,IF(E264 =\"D\",ROUND(1/((1+'CrediAltoque (SI)'!$R$14)^A264),9) * 2,ROUND(1/((1+'CrediAltoque (SI)'!$R$14)^A264),9)))","v":1.638E-6},19.096102849999998]
[262,262,"2044-12-15",12,{"$f":"IF(ISERROR(MATCH(D265,'CrediAltoque (SI)'!$H$18:$H$19,0))=FALSE,\"C\",IF(ISERROR(MATCH(D265,'CrediAltoque (SI)'!$H$20:$H$21,0))=FALSE,\"D\",\"\"))","v":""},{"$f":"IF(E265=\"C\",0,IF(E265 =\"D\",ROUND(1/((1+'CrediAltoque (SI)'!$R$14)^A265),9) * 2,ROUND(1/((1+'CrediAltoque (SI)'!$R$14)^A265),9)))","v":1.5570000000000001E-6},19.096104406999999]
[263,263,"2045-01-15",1,{"$f":"IF(ISERROR(MATCH(D266,'CrediAltoque (SI)'!$H$18:$H$19,0))=FALSE,\"C\",IF(ISERROR(MATCH(D266,'CrediAltoque (SI)'!$H$20:$H$21,0))=FALSE,\"D\",\"\"))","v":""},{"$f":"IF(E266=\"C\",0,IF(E266 =\"D\",ROUND(1/((1+'CrediAltoque (SI)'!$R$14)^A266),9) * 2,ROUND(1/((1+'CrediAltoque (SI)'!$R$14)^A266),9)))","v":1.4789999999999999E-6},19.096105886]
[264,264,"2045-02-15",2,{"$f":"IF(ISERROR(MATCH(D267,'CrediAltoque (SI)'!$H$18:$H$19,0))=FALSE,\"C\",IF(ISERROR(MATCH(D267,'CrediAltoque (SI)'!$H$20:$H$21,0))=FALSE,\"D\",\"\"))","v":""},{"$f":"IF(E267=\"C\",0,IF(E267 =\"D\",ROUND(1/((1+'CrediAltoque (SI)'!$R$14)^A267),9) * 2,ROUND(1/((1+'CrediAltoque (SI)'!$R$14)^A267),9)))","v":1.406E-6},19.096107291999999]
[265,265,"2045-03-15",3,{"$f":"IF(ISERROR(MATCH(D268,'CrediAltoque (SI)'!$H$18:$H$19,0))=FALSE,\"C\",IF(ISERROR(MATCH(D268,'CrediAltoque (SI)'!$H$20:$H$21,0))=FALSE,\"D\",\"\"))","v":""},{"$f":"IF(E268=\"C\",0,IF(E268 =\"D\",ROUND(1/((1+'CrediAltoque (SI)'!$R$14)^A268),9) * 2,ROUND(1/((1+'CrediAltoque (SI)'!$R$14)^A268),9)))","v":1.336E-6},19.096108628]
[266,266,"2045-04-15",4,{"$f":"IF(ISERROR(MATCH(D269,'CrediAltoque (SI)'!$H$18:$H$19,0))=FALSE,\"C\",IF(ISERROR(MATCH(D269,'CrediAltoque (SI)'!$H$20:$H$21,0))=FALSE,\"D\",\"\"))","v":""},{"$f":"IF(E269=\"C\",0,IF(E269 =\"D\",ROUND(1/((1+'CrediAltoque (SI)'!$R$14)^A269),9) * 2,ROUND(1/((1+'CrediAltoque (SI)'!$R$14)^A269),9)))","v":1.269E-6},19.096109896999998]
[267,267,"2045-05-15",5,{"$f":"IF(ISERROR(MATCH(D270,'CrediAltoque (SI)'!$H$18:$H$19,0))=FALSE,\"C\",IF(ISERROR(MATCH(D270,'CrediAltoque (SI)'!$H$20:$H$21,0))=FALSE,\"D\",\"\"))","v":""},{"$f":"IF(E270=\"C\",0,IF(E270 =\"D\",ROUND(1/((1+'CrediAltoque (SI)'!$R$14)^A270),9) * 2,ROUND(1/((1+'CrediAltoque (SI)'!$R$14)^A270),9)))","v":1.206E-6},19.096111102999998]
[268,268,"2045-06-15",6,{"$f":"IF(ISERROR(MATCH(D271,'CrediAltoque (SI)'!$H$18:$H$19,0))=FALSE,\"C\",IF(ISERROR(MATCH(D271,'CrediAltoque (SI)'!$H$20:$H$21,0))=FALSE,\"D\",\"\"))","v":""},{"$f":"IF(E271=\"C\",0,IF(E271 =\"D\",ROUND(1/((1+'CrediAltoque (SI)'!$R$14)^A271),9) * 2,ROUND(1/((1+'CrediAltoque (SI)'!$R$14)^A271),9)))","v":1.1459999999999999E-6},19.096112248999997]
[269,269,"2045-07-15",7,{"$f":"IF(ISERROR(MATCH(D272,'CrediAltoque (SI)'!$H$18:$H$19,0))=FALSE,\"C\",IF(ISERROR(MATCH(D272,'CrediAltoque (SI)'!$H$20:$H$21,0))=FALSE,\"D\",\"\"))","v":""},{"$f":"IF(E272=\"C\",0,IF(E272 =\"D\",ROUND(1/((1+'CrediAltoque (SI)'!$R$14)^A272),9) * 2,ROUND(1/((1+'CrediAltoque (SI)'!$R$14)^A272),9)))","v":1.0890000000000001E-6},19.096113337999999]
[270,270,"2045-08-15",8,{"$f":"IF(ISERROR(MATCH(D273,'CrediAltoque (SI)'!$H$18:$H$19,0))=FALSE,\"C\",IF(ISERROR(MATCH(D273,'CrediAltoque (SI)'!$H$20:$H$21,0))=FALSE,\"D\",\"\"))","v":""},{"$f":"IF(E273=\"C\",0,IF(E273 =\"D\",ROUND(1/((1+'CrediAltoque (SI)'!$R$14)^A273),9) * 2,ROUND(1/((1+'CrediAltoque (SI)'!$R$14)^A273),9)))","v":1.035E-6},19.096114372999999]
[271,271,"2045-09-15",9,{"$f":"IF(ISERROR(MATCH(D274,'CrediAltoque (SI)'!$H$18:$H$19,0))=FALSE,\"C\",IF(ISERROR(MATCH(D274,'CrediAltoque (SI)'!$H$20:$H$21,0))=FALSE,\"D\",\"\"))","v":""},{"$f":"IF(E274=\"C\",0,IF(E274 =\"D\",ROUND(1/((1+'CrediAltoque (SI)'!$R$14)^A274),9) * 2,ROUND(1/((1+'CrediAltoque (SI)'!$R$14)^A274),9)))","v":9.8299999999999995E-7},19.096115355999999]
[272,272,"2045-10-15",10,{"$f":"IF(ISERROR(MATCH(D275,'CrediAltoque (SI)'!$H$18:$H$19,0))=FALSE,\"C\",IF(ISERROR(MATCH(D275,'CrediAltoque (SI)'!$H$20:$H$21,0))=FALSE,\"D\",\"\"))","v":""},{"$f":"IF(E275=\"C\",0,IF(E275 =\"D\",ROUND(1/((1+'CrediAltoque (SI)'!$R$14)^A275),9) * 2,ROUND(1/((1+'CrediAltoque (SI)'!$R$14)^A275),9)))","v":9.3399999999999997E-7},19.096116289999998]
[273,273,"2045-11-15",11,{"$f":"IF(ISERROR(MATCH(D276,'CrediAltoque (SI)'!$H$18:$H$19,0))=FALSE,\"C\",IF(ISERROR(MATCH(D276,'CrediAltoque (SI)'!$H$20:$H$21,0))=FALSE,\"D\",\"\"))","v":""},{"$f":"IF(E276=\"C\",0,IF(E276 =\"D\",ROUND(1/((1+'CrediAltoque (SI)'!$R$14)^A276),9) * 2,ROUND(1/((1+'CrediAltoque (SI)'!$R$14)^A276),9)))","v":8.8800000000000001E-7},19.096117177999997]
[274,274,"2045-12-15",12,{"$f":"IF(ISERROR(MATCH(D277,'CrediAltoque (SI)'!$H$18:$H$19,0))=FALSE,\"C\",IF(ISERROR(MATCH(D277,'CrediAltoque (SI)'!$H$20:$H$21,0))=FALSE,\"D\",\"\"))","v":""},{"$f":"IF(E277=\"C\",0,IF(E277 =\"D\",ROUND(1/((1+'CrediAltoque (SI)'!$R$14)^A277),9) * 2,ROUND(1/((1+'CrediAltoque (SI)'!$R$14)^A277),9)))","v":8.4399999999999999E-7},19.096118021999995]
[275,275,"2046-01-15",1,{"$f":"IF(ISERROR(MATCH(D278,'CrediAltoque (SI)'!$H$18:$H$19,0))=FALSE,\"C\",IF(ISERROR(MATCH(D278,'CrediAltoque (SI)'!$H$20:$H$21,0))=FALSE,\"D\",\"\"))","v":""},{"$f":"IF(E278=\"C\",0,IF(E278 =\"D\",ROUND(1/((1+'CrediAltoque (SI)'!$R$14)^A278),9) * 2,ROUND(1/((1+'CrediAltoque (SI)'!$R$14)^A278),9)))","v":8.0200000000000001E-7},19.096118823999994]
[276,276,"2046-02-15",2,{"$f":"IF(ISERROR(MATCH(D279,'CrediAltoque (SI)'!$H$18:$H$19,0))=FALSE,\"C\",IF(ISERROR(MATCH(D279,'CrediAltoque (SI)'!$H$20:$H$21,0))=FALSE,\"D\",\"\"))","v":""},{"$f":"IF(E279=\"C\",0,IF(E279 =\"D\",ROUND(1/((1+'CrediAltoque (SI)'!$R$14)^A279),9) * 2,ROUND(1/((1+'CrediAltoque (SI)'!$R$14)^A279),9)))","v":7.6199999999999997E-7},19.096119585999993]
[277,277,"2046-03-15",3,{"$f":"IF(ISERROR(MATCH(D280,'CrediAltoque (SI)'!$H$18:$H$19,0))=FALSE,\"C\",IF(ISERROR(MATCH(D280,'CrediAltoque (SI)'!$H$20:$H$21,0))=FALSE,\"D\",\"\"))","v":""},{"$f":"IF(E280=\"C\",0,IF(E280 =\"D\",ROUND(1/((1+'CrediAltoque (SI)'!$R$14)^A280),9) * 2,ROUND(1/((1+'CrediAltoque (SI)'!$R$14)^A280),9)))","v":7.2399999999999997E-7},19.096120309999993]
[278,278,"2046-04-15",4,{"$f":"IF(ISERROR(MATCH(D281,'CrediAltoque (SI)'!$H$18:$H$19,0))=FALSE,\"C\",IF(ISERROR(MATCH(D281,'CrediAltoque (SI)'!$H$20:$H$21,0))=FALSE,\"D\",\"\"))","v":""},{"$f":"IF(E281=\"C\",0,IF(E281 =\"D\",ROUND(1/((1+'CrediAltoque (SI)'!$R$14)^A281),9) * 2,ROUND(1/((1+'CrediAltoque (SI)'!$R$14)^A281),9)))","v":6.8800000000000002E-7},19.096120997999993]
[279,279,"2046-05-15",5,{"$f":"IF(ISERROR(MATCH(D282,'CrediAltoque (SI)'!$H$18:$H$19,0))=FALSE,\"C\",IF(ISERROR(MATCH(D282,'CrediAltoque (SI)'!$H$20:$H$21,0))=FALSE,\"D\",\"\"))","v":""},{"$f":"IF(E282=\"C\",0,IF(E282 =\"D\",ROUND(1/((1+'CrediAltoque (SI)'!$R$14)^A282),9) * 2,ROUND(1/((1+'CrediAltoque (SI)'!$R$14)^A282),9)))","v":6.5400000000000001E-7},19.096121651999994]
[280,280,"2046-06-15",6,{"$f":"IF(ISERROR(MATCH(D283,'CrediAltoque (SI)'!$H$18:$H$19,0))=FALSE,\"C\",IF(ISERROR(MATCH(D283,'CrediAltoque (SI)'!$H$20:$H$21,0))=FALSE,\"D\",\"\"))","v":""},{"$f":"IF(E283=\"C\",0,IF(E283 =\"D\",ROUND(1/((1+'CrediAltoque (SI)'!$R$14)^A283),9) * 2,ROUND(1/((1+'CrediAltoque (SI)'!$R$14)^A283),9)))","v":6.2099999999999996E-7},19.096122272999995]
[281,281,"2046-07-15",7,{"$f":"IF(ISERROR(MATCH(D284,'CrediAltoque (SI)'!$H$18:$H$19,0))=FALSE,\"C\",IF(ISERROR(MATCH(D284,'CrediAltoque (SI)'!$H$20:$H$21,0))=FALSE,\"D\",\"\"))","v":""},{"$f":"IF(E284=\"C\",0,IF(E284 =\"D\",ROUND(1/((1+'CrediAltoque (SI)'!$R$14)^A284),9) * 2,ROUND(1/((1+'CrediAltoque (SI)'!$R$14)^A284),9)))","v":5.8999999999999996E-7},19.096122862999994]
[282,282,"2046-08-15",8,{"$f":"IF(ISERROR(MATCH(D285,'CrediAltoque (SI)'!$H$18:$H$19,0))=FALSE,\"C\",IF(ISERROR(MATCH(D285,'CrediAltoque (SI)'!$H$20:$H$21,0))=FALSE,\"D\",\"\"))","v":""},{"$f":"IF(E285=\"C\",0,IF(E285 =\"D\",ROUND(1/((1+'CrediAltoque (SI)'!$R$14)^A285),9) * 2,ROUND(1/((1+'CrediAltoque (SI)'!$R$14)^A285),9)))","v":5.6100000000000001E-7},19.096123423999995]
[283,283,"2046-09-15",9,{"$f":"IF(ISERROR(MATCH(D286,'CrediAltoque (SI)'!$H$18:$H$19,0))=FALSE,\"C\",IF(ISERROR(MATCH(D286,'CrediAltoque (SI)'!$H$20:$H$21,0))=FALSE,\"D\",\"\"))","v":""},{"$f":"IF(E286=\"C\",0,IF(E286 =\"D\",ROUND(1/((1+'CrediAltoque (SI)'!$R$14)^A286),9) * 2,ROUND(1/((1+'CrediAltoque (SI)'!$R$14)^A286),9)))","v":5.3300000000000002E-7},19.096123956999996]
[284,284,"2046-10-15",10,{"$f":"IF(ISERROR(MATCH(D287,'CrediAltoque (SI)'!$H$18:$H$19,0))=FALSE,\"C\",IF(ISERROR(MATCH(D287,'CrediAltoque (SI)'!$H$20:$H$21,0))=FALSE,\"D\",\"\"))","v":""},{"$f":"IF(E287=\"C\",0,IF(E287 =\"D\",ROUND(1/((1+'CrediAltoque (SI)'!$R$14)^A287),9) * 2,ROUND(1/((1+'CrediAltoque (SI)'!$R$14)^A287),9)))","v":5.06E-7},19.096124462999995]
[285,285,"2046-11-15",11,{"$f":"IF(ISERROR(MATCH(D288,'CrediAltoque (SI)'!$H$18:$H$19,0))=FALSE,\"C\",IF(ISERROR(MATCH(D288,'CrediAltoque (SI)'!$H$20:$H$21,0))=FALSE,\"D\",\"\"))","v":""},{"$f":"IF(E288=\"C\",0,IF(E288 =\"D\",ROUND(1/((1+'CrediAltoque (SI)'!$R$14)^A288),9) * 2,ROUND(1/((1+'CrediAltoque (SI)'!$R$14)^A288),9)))","v":4.8100000000000003E-7},19.096124943999996]
[286,286,"2046-12-15",12,{"$f":"IF(ISERROR(MATCH(D289,'CrediAltoque (SI)'!$H$18:$H$19,0))=FALSE,\"C\",IF(ISERROR(MATCH(D289,'CrediAltoque (SI)'!$H$20:$H$21,0))=FALSE,\"D\",\"\"))","v":""},{"$f":"IF(E289=\"C\",0,IF(E289 =\"D\",ROUND(1/((1+'CrediAltoque (SI)'!$R$14)^A289),9) * 2,ROUND(1/((1+'CrediAltoque (SI)'!$R$14)^A289),9)))","v":4.5699999999999998E-7},19.096125400999995]
[287,287,"2047-01-15",1,{"$f":"IF(ISERROR(MATCH(D290,'CrediAltoque (SI)'!$H$18:$H$19,0))=FALSE,\"C\",IF(ISERROR(MATCH(D290,'CrediAltoque (SI)'!$H$20:$H$21,0))=FALSE,\"D\",\"\"))","v":""},{"$f":"IF(E290=\"C\",0,IF(E290 =\"D\",ROUND(1/((1+'CrediAltoque (SI)'!$R$14)^A290),9) * 2,ROUND(1/((1+'CrediAltoque (SI)'!$R$14)^A290),9)))","v":4.3500000000000002E-7},19.096125835999995]
[288,288,"2047-02-15",2,{"$f":"IF(ISERROR(MATCH(D291,'CrediAltoque (SI)'!$H$18:$H$19,0))=FALSE,\"C\",IF(ISERROR(MATCH(D291,'CrediAltoque (SI)'!$H$20:$H$21,0))=FALSE,\"D\",\"\"))","v":""},{"$f":"IF(E291=\"C\",0,IF(E291 =\"D\",ROUND(1/((1+'CrediAltoque (SI)'!$R$14)^A291),9) * 2,ROUND(1/((1+'CrediAltoque (SI)'!$R$14)^A291),9)))","v":4.1300000000000001E-7},19.096126248999994]
[289,289,"2047-03-15",3,{"$f":"IF(ISERROR(MATCH(D292,'CrediAltoque (SI)'!$H$18:$H$19,0))=FALSE,\"C\",IF(ISERROR(MATCH(D292,'CrediAltoque (SI)'!$H$20:$H$21,0))=FALSE,\"D\",\"\"))","v":""},{"$f":"IF(E292=\"C\",0,IF(E292 =\"D\",ROUND(1/((1+'CrediAltoque (SI)'!$R$14)^A292),9) * 2,ROUND(1/((1+'CrediAltoque (SI)'!$R$14)^A292),9)))","v":3.9200000000000002E-7},19.096126640999994]
[290,290,"2047-04-15",4,{"$f":"IF(ISERROR(MATCH(D293,'CrediAltoque (SI)'!$H$18:$H$19,0))=FALSE,\"C\",IF(ISERROR(MATCH(D293,'CrediAltoque (SI)'!$H$20:$H$21,0))=FALSE,\"D\",\"\"))","v":""},{"$f":"IF(E293=\"C\",0,IF(E293 =\"D\",ROUND(1/((1+'CrediAltoque (SI)'!$R$14)^A293),9) * 2,ROUND(1/((1+'CrediAltoque (SI)'!$R$14)^A293),9)))","v":3.7300000000000002E-7},19.096127013999993]
[291,291,"2047-05-15",5,{"$f":"IF(ISERROR(MATCH(D294,'CrediAltoque (SI)'!$H$18:$H$19,0))=FALSE,\"C\",IF(ISERROR(MATCH(D294,'CrediAltoque (SI)'!$H$20:$H$21,0))=FALSE,\"D\",\"\"))","v":""},{"$f":"IF(E294=\"C\",0,IF(E294 =\"D\",ROUND(1/((1+'CrediAltoque (SI)'!$R$14)^A294),9) * 2,ROUND(1/((1+'CrediAltoque (SI)'!$R$14)^A294),9)))","v":3.5400000000000002E-7},19.096127367999994]
[292,292,"2047-06-15",6,{"$f":"IF(ISERROR(MATCH(D295,'CrediAltoque (SI)'!$H$18:$H$19,0))=FALSE,\"C\",IF(ISERROR(MATCH(D295,'CrediAltoque (SI)'!$H$20:$H$21,0))=FALSE,\"D\",\"\"))","v":""},{"$f":"IF(E295=\"C\",0,IF(E295 =\"D\",ROUND(1/((1+'CrediAltoque (SI)'!$R$14)^A295),9) * 2,ROUND(1/((1+'CrediAltoque (SI)'!$R$14)^A295),9)))","v":3.3700000000000001E-7},19.096127704999994]
[293,293,"2047-07-15",7,{"$f":"IF(ISERROR(MATCH(D296,'CrediAltoque (SI)'!$H$18:$H$19,0))=FALSE,\"C\",IF(ISERROR(MATCH(D296,'CrediAltoque (SI)'!$H$20:$H$21,0))=FALSE,\"D\",\"\"))","v":""},{"$f":"IF(E296=\"C\",0,IF(E296 =\"D\",ROUND(1/((1+'CrediAltoque (SI)'!$R$14)^A296),9) * 2,ROUND(1/((1+'CrediAltoque (SI)'!$R$14)^A296),9)))","v":3.2000000000000001E-7},19.096128024999995]
[294,294,"2047-08-15",8,{"$f":"IF(ISERROR(MATCH(D297,'CrediAltoque (SI)'!$H$18:$H$19,0))=FALSE,\"C\",IF(ISERROR(MATCH(D297,'CrediAltoque (SI)'!$H$20:$H$21,0))=FALSE,\"D\",\"\"))","v":""},{"$f":"IF(E297=\"C\",0,IF(E297 =\"D\",ROUND(1/((1+'CrediAltoque (SI)'!$R$14)^A297),9) * 2,ROUND(1/((1+'CrediAltoque (SI)'!$R$14)^A297),9)))","v":3.0400000000000002E-7},19.096128328999995]
[295,295,"2047-09-15",9,{"$f":"IF(ISERROR(MATCH(D298,'CrediAltoque (SI)'!$H$18:$H$19,0))=FALSE,\"C\",IF(ISERROR(MATCH(D298,'CrediAltoque (SI)'!$H$20:$H$21,0))=FALSE,\"D\",\"\"))","v":""},{"$f":"IF(E298=\"C\",0,IF(E298 =\"D\",ROUND(1/((1+'CrediAltoque (SI)'!$R$14)^A298),9) * 2,ROUND(1/((1+'CrediAltoque (SI)'!$R$14)^A298),9)))","v":2.8900000000000001E-7},19.096128617999995]
[296,296,"2047-10-15",10,{"$f":"IF(ISERROR(MATCH(D299,'CrediAltoque (SI)'!$H$18:$H$19,0))=FALSE,\"C\",IF(ISERROR(MATCH(D299,'CrediAltoque (SI)'!$H$20:$H$21,0))=FALSE,\"D\",\"\"))","v":""},{"$f":"IF(E299=\"C\",0,IF(E299 =\"D\",ROUND(1/((1+'CrediAltoque (SI)'!$R$14)^A299),9) * 2,ROUND(1/((1+'CrediAltoque (SI)'!$R$14)^A299),9)))","v":2.7500000000000001E-7},19.096128892999996]
[297,297,"2047-11-15",11,{"$f":"IF(ISERROR(MATCH(D300,'CrediAltoque (SI)'!$H$18:$H$19,0))=FALSE,\"C\",IF(ISERROR(MATCH(D300,'CrediAltoque (SI)'!$H$20:$H$21,0))=FALSE,\"D\",\"\"))","v":""},{"$f":"IF(E300=\"C\",0,IF(E300 =\"D\",ROUND(1/((1+'CrediAltoque (SI)'!$R$14)^A300),9) * 2,ROUND(1/((1+'CrediAltoque (SI)'!$R$14)^A300),9)))","v":2.6100000000000002E-7},19.096129153999996]
[298,298,"2047-12-15",12,{"$f":"IF(ISERROR(MATCH(D301,'CrediAltoque (SI)'!$H$18:$H$19,0))=FALSE,\"C\",IF(ISERROR(MATCH(D301,'CrediAltoque (SI)'!$H$20:$H$21,0))=FALSE,\"D\",\"\"))","v":""},{"$f":"IF(E301=\"C\",0,IF(E301 =\"D\",ROUND(1/((1+'CrediAltoque (SI)'!$R$14)^A301),9) * 2,ROUND(1/((1+'CrediAltoque (SI)'!$R$14)^A301),9)))","v":2.48E-7},19.096129401999995]
[299,299,"2048-01-15",1,{"$f":"IF(ISERROR(MATCH(D302,'CrediAltoque (SI)'!$H$18:$H$19,0))=FALSE,\"C\",IF(ISERROR(MATCH(D302,'CrediAltoque (SI)'!$H$20:$H$21,0))=FALSE,\"D\",\"\"))","v":""},{"$f":"IF(E302=\"C\",0,IF(E302 =\"D\",ROUND(1/((1+'CrediAltoque (SI)'!$R$14)^A302),9) * 2,ROUND(1/((1+'CrediAltoque (SI)'!$R$14)^A302),9)))","v":2.36E-7},19.096129637999997]
[300,300,"2048-02-15",2,{"$f":"IF(ISERROR(MATCH(D303,'CrediAltoque (SI)'!$H$18:$H$19,0))=FALSE,\"C\",IF(ISERROR(MATCH(D303,'CrediAltoque (SI)'!$H$20:$H$21,0))=FALSE,\"D\",\"\"))","v":""},{"$f":"IF(E303=\"C\",0,IF(E303 =\"D\",ROUND(1/((1+'CrediAltoque (SI)'!$R$14)^A303),9) * 2,ROUND(1/((1+'CrediAltoque (SI)'!$R$14)^A303),9)))","v":2.2399999999999999E-7},19.096129861999998]
[301,301,"2048-03-15",3,{"$f":"IF(ISERROR(MATCH(D304,'CrediAltoque (SI)'!$H$18:$H$19,0))=FALSE,\"C\",IF(ISERROR(MATCH(D304,'CrediAltoque (SI)'!$H$20:$H$21,0))=FALSE,\"D\",\"\"))","v":""},{"$f":"IF(E304=\"C\",0,IF(E304 =\"D\",ROUND(1/((1+'CrediAltoque (SI)'!$R$14)^A304),9) * 2,ROUND(1/((1+'CrediAltoque (SI)'!$R$14)^A304),9)))","v":2.1299999999999999E-7},19.096130074999998]
[302,302,"2048-04-15",4,{"$f":"IF(ISERROR(MATCH(D305,'CrediAltoque (SI)'!$H$18:$H$19,0))=FALSE,\"C\",IF(ISERROR(MATCH(D305,'CrediAltoque (SI)'!$H$20:$H$21,0))=FALSE,\"D\",\"\"))","v":""},{"$f":"IF(E305=\"C\",0,IF(E305 =\"D\",ROUND(1/((1+'CrediAltoque (SI)'!$R$14)^A305),9) * 2,ROUND(1/((1+'CrediAltoque (SI)'!$R$14)^A305),9)))","v":2.0200000000000001E-7},19.096130276999997]
[303,303,"2048-05-15",5,{"$f":"IF(ISERROR(MATCH(D306,'CrediAltoque (SI)'!$H$18:$H$19,0))=FALSE,\"C\",IF(ISERROR(MATCH(D306,'CrediAltoque (SI)'!$H$20:$H$21,0))=FALSE,\"D\",\"\"))","v":""},{"$f":"IF(E306=\"C\",0,IF(E306 =\"D\",ROUND(1/((1+'CrediAltoque (SI)'!$R$14)^A306),9) * 2,ROUND(1/((1+'CrediAltoque (SI)'!$R$14)^A306),9)))","v":1.92E-7},19.096130468999998]
[304,304,"2048-06-15",6,{"$f":"IF(ISERROR(MATCH(D307,'CrediAltoque (SI)'!$H$18:$H$19,0))=FALSE,\"C\",IF(ISERROR(MATCH(D307,'CrediAltoque (SI)'!$H$20:$H$21,0))=FALSE,\"D\",\"\"))","v":""},{"$f":"IF(E307=\"C\",0,IF(E307 =\"D\",ROUND(1/((1+'CrediAltoque (SI)'!$R$14)^A307),9) * 2,ROUND(1/((1+'CrediAltoque (SI)'!$R$14)^A307),9)))","v":1.8199999999999999E-7},19.096130650999999]
[305,305,"2048-07-15",7,{"$f":"IF(ISERROR(MATCH(D308,'CrediAltoque (SI)'!$H$18:$H$19,0))=FALSE,\"C\",IF(ISERROR(MATCH(D308,'CrediAltoque (SI)'!$H$20:$H$21,0))=FALSE,\"D\",\"\"))","v":""},{"$f":"IF(E308=\"C\",0,IF(E308 =\"D\",ROUND(1/((1+'CrediAltoque (SI)'!$R$14)^A308),9) * 2,ROUND(1/((1+'CrediAltoque (SI)'!$R$14)^A308),9)))","v":1.73E-7},19.096130823999999]
[306,306,"2048-08-15",8,{"$f":"IF(ISERROR(MATCH(D309,'CrediAltoque (SI)'!$H$18:$H$19,0))=FALSE,\"C\",IF(ISERROR(MATCH(D309,'CrediAltoque (SI)'!$H$20:$H$21,0))=FALSE,\"D\",\"\"))","v":""},{"$f":"IF(E309=\"C\",0,IF(E309 =\"D\",ROUND(1/((1+'CrediAltoque (SI)'!$R$14)^A309),9) * 2,ROUND(1/((1+'CrediAltoque (SI)'!$R$14)^A309),9)))","v":1.6500000000000001E-7},19.096130988999999]
[307,307,"2048-09-15",9,{"$f":"IF(ISERROR(MATCH(D310,'CrediAltoque (SI)'!$H$18:$H$19,0))=FALSE,\"C\",IF(ISERROR(MATCH(D310,'CrediAltoque (SI)'!$H$20:$H$21,0))=FALSE,\"D\",\"\"))","v":""},{"$f":"IF(E310=\"C\",0,IF(E310 =\"D\",ROUND(1/((1+'CrediAltoque (SI)'!$R$14)^A310),9) * 2,ROUND(1/((1+'CrediAltoque (SI)'!$R$14)^A310),9)))","v":1.5699999999999999E-7},19.096131145999998]
[308,308,"2048-10-15",10,{"$f":"IF(ISERROR(MATCH(D311,'CrediAltoque (SI)'!$H$18:$H$19,0))=FALSE,\"C\",IF(ISERROR(MATCH(D311,'CrediAltoque (SI)'!$H$20:$H$21,0))=FALSE,\"D\",\"\"))","v":""},{"$f":"IF(E311=\"C\",0,IF(E311 =\"D\",ROUND(1/((1+'CrediAltoque (SI)'!$R$14)^A311),9) * 2,ROUND(1/((1+'CrediAltoque (SI)'!$R$14)^A311),9)))","v":1.49E-7},19.096131294999999]
[309,309,"2048-11-15",11,{"$f":"IF(ISERROR(MATCH(D312,'CrediAltoque (SI)'!$H$18:$H$19,0))=FALSE,\"C\",IF(ISERROR(MATCH(D312,'CrediAltoque (SI)'!$H$20:$H$21,0))=FALSE,\"D\",\"\"))","v":""},{"$f":"IF(E312=\"C\",0,IF(E312 =\"D\",ROUND(1/((1+'CrediAltoque (SI)'!$R$14)^A312),9) * 2,ROUND(1/((1+'CrediAltoque (SI)'!$R$14)^A312),9)))","v":1.4100000000000001E-7},19.096131436]
[310,310,"2048-12-15",12,{"$f":"IF(ISERROR(MATCH(D313,'CrediAltoque (SI)'!$H$18:$H$19,0))=FALSE,\"C\",IF(ISERROR(MATCH(D313,'CrediAltoque (SI)'!$H$20:$H$21,0))=FALSE,\"D\",\"\"))","v":""},{"$f":"IF(E313=\"C\",0,IF(E313 =\"D\",ROUND(1/((1+'CrediAltoque (SI)'!$R$14)^A313),9) * 2,ROUND(1/((1+'CrediAltoque (SI)'!$R$14)^A313),9)))","v":1.3400000000000001E-7},19.096131570000001]
[311,311,"2049-01-15",1,{"$f":"IF(ISERROR(MATCH(D314,'CrediAltoque (SI)'!$H$18:$H$19,0))=FALSE,\"C\",IF(ISERROR(MATCH(D314,'CrediAltoque (SI)'!$H$20:$H$21,0))=FALSE,\"D\",\"\"))","v":""},{"$f":"IF(E314=\"C\",0,IF(E314 =\"D\",ROUND(1/((1+'CrediAltoque (SI)'!$R$14)^A314),9) * 2,ROUND(1/((1+'CrediAltoque (SI)'!$R$14)^A314),9)))","v":1.2800000000000001E-7},19.096131698000001]
[312,312,"2049-02-15",2,{"$f":"IF(ISERROR(MATCH(D315,'CrediAltoque (SI)'!$H$18:$H$19,0))=FALSE,\"C\",IF(ISERROR(MATCH(D315,'CrediAltoque (SI)'!$H$20:$H$21,0))=FALSE,\"D\",\"\"))","v":""},{"$f":"IF(E315=\"C\",0,IF(E315 =\"D\",ROUND(1/((1+'CrediAltoque (SI)'!$R$14)^A315),9) * 2,ROUND(1/((1+'CrediAltoque (SI)'!$R$14)^A315),9)))","v":1.2100000000000001E-7},19.096131819]
[313,313,"2049-03-15",3,{"$f":"IF(ISERROR(MATCH(D316,'CrediAltoque (SI)'!$H$18:$H$19,0))=FALSE,\"C\",IF(ISERROR(MATCH(D316,'CrediAltoque (SI)'!$H$20:$H$21,0))=FALSE,\"D\",\"\"))","v":""},{"$f":"IF(E316=\"C\",0,IF(E316 =\"D\",ROUND(1/((1+'CrediAltoque (SI)'!$R$14)^A316),9) * 2,ROUND(1/((1+'CrediAltoque (SI)'!$R$14)^A316),9)))","v":1.15E-7},19.096131933999999]
[314,314,"2049-04-15",4,{"$f":"IF(ISERROR(MATCH(D317,'CrediAltoque (SI)'!$H$18:$H$19,0))=FALSE,\"C\",IF(ISERROR(MATCH(D317,'CrediAltoque (SI)'!$H$20:$H$21,0))=FALSE,\"D\",\"\"))","v":""},{"$f":"IF(E317=\"C\",0,IF(E317 =\"D\",ROUND(1/((1+'CrediAltoque (SI)'!$R$14)^A317),9) * 2,ROUND(1/((1+'CrediAltoque (SI)'!$R$14)^A317),9)))","v":1.1000000000000001E-7},19.096132043999997]
[315,315,"2049-05-15",5,{"$f":"IF(ISERROR(MATCH(D318,'CrediAltoque (SI)'!$H$18:$H$19,0))=FALSE,\"C\",IF(ISERROR(MATCH(D318,'CrediAltoque (SI)'!$H$20:$H$21,0))=FALSE,\"D\",\"\"))","v":""},{"$f":"IF(E318=\"C\",0,IF(E318 =\"D\",ROUND(1/((1+'CrediAltoque (SI)'!$R$14)^A318),9) * 2,ROUND(1/((1+'CrediAltoque (SI)'!$R$14)^A318),9)))","v":1.04E-7},19.096132147999999]
[316,316,"2049-06-15",6,{"$f":"IF(ISERROR(MATCH(D319,'CrediAltoque (SI)'!$H$18:$H$19,0))=FALSE,\"C\",IF(ISERROR(MATCH(D319,'CrediAltoque (SI)'!$H$20:$H$21,0))=FALSE,\"D\",\"\"))","v":""},{"$f":"IF(E319=\"C\",0,IF(E319 =\"D\",ROUND(1/((1+'CrediAltoque (SI)'!$R$14)^A319),9) * 2,ROUND(1/((1+'CrediAltoque (SI)'!$R$14)^A319),9)))","v":9.9E-8},19.096132247]
[317,317,"2049-07-15",7,{"$f":"IF(ISERROR(MATCH(D320,'CrediAltoque (SI)'!$H$18:$H$19,0))=FALSE,\"C\",IF(ISERROR(MATCH(D320,'CrediAltoque (SI)'!$H$20:$H$21,0))=FALSE,\"D\",\"\"))","v":""},{"$f":"IF(E320=\"C\",0,IF(E320 =\"D\",ROUND(1/((1+'CrediAltoque (SI)'!$R$14)^A320),9) * 2,ROUND(1/((1+'CrediAltoque (SI)'!$R$14)^A320),9)))","v":9.3999999999999995E-8},19.096132341000001]
[318,318,"2049-08-15",8,{"$f":"IF(ISERROR(MATCH(D321,'CrediAltoque (SI)'!$H$18:$H$19,0))=FALSE,\"C\",IF(ISERROR(MATCH(D321,'CrediAltoque (SI)'!$H$20:$H$21,0))=FALSE,\"D\",\"\"))","v":""},{"$f":"IF(E321=\"C\",0,IF(E321 =\"D\",ROUND(1/((1+'CrediAltoque (SI)'!$R$14)^A321),9) * 2,ROUND(1/((1+'CrediAltoque (SI)'!$R$14)^A321),9)))","v":8.9000000000000003E-8},19.096132430000001]
[319,319,"2049-09-15",9,{"$f":"IF(ISERROR(MATCH(D322,'CrediAltoque (SI)'!$H$18:$H$19,0))=FALSE,\"C\",IF(ISERROR(MATCH(D322,'CrediAltoque (SI)'!$H$20:$H$21,0))=FALSE,\"D\",\"\"))","v":""},{"$f":"IF(E322=\"C\",0,IF(E322 =\"D\",ROUND(1/((1+'CrediAltoque (SI)'!$R$14)^A322),9) * 2,ROUND(1/((1+'CrediAltoque (SI)'!$R$14)^A322),9)))","v":8.4999999999999994E-8},19.096132515000001]
[320,320,"2049-10-15",10,{"$f":"IF(ISERROR(MATCH(D323,'CrediAltoque (SI)'!$H$18:$H$19,0))=FALSE,\"C\",IF(ISERROR(MATCH(D323,'CrediAltoque (SI)'!$H$20:$H$21,0))=FALSE,\"D\",\"\"))","v":""},{"$f":"IF(E323=\"C\",0,IF(E323 =\"D\",ROUND(1/((1+'CrediAltoque (SI)'!$R$14)^A323),9) * 2,ROUND(1/((1+'CrediAltoque (SI)'!$R$14)^A323),9)))","v":8.0999999999999997E-8},19.096132596]
[321,321,"2049-11-15",{"$f":"MONTH(C324)","v":11},{"$f":"IF(ISERROR(MATCH(D324,'CrediAltoque (SI)'!$H$18:$H$19,0))=FALSE,\"C\",IF(ISERROR(MATCH(D324,'CrediAltoque (SI)'!$H$20:$H$21,0))=FALSE,\"D\",\"\"))","v":""},{"$f":"IF(E324=\"C\",0,IF(E324 =\"D\",ROUND(1/((1+'CrediAltoque (SI)'!$R$14)^A324),9) * 2,ROUND(1/((1+'CrediAltoque (SI)'!$R$14)^A324),9)))","v":7.7000000000000001E-8},19.096132673]
[{"$f":"A324+1","v":322},{"$f":"IF(E325<>\"C\",IF(ISERROR(1+B324)=TRUE,1,1+B324),IF(ISNUMBER(B324),B324,1))","v":322},{"$f":"DATE(YEAR(C324) + 1/12,MONTH(C324)+1,DAY(C324))","v":"2049-12-15"},12,{"$f":"IF(ISERROR(MATCH(D325,'CrediAltoque (SI)'!$H$18:$H$19,0))=FALSE,\"C\",IF(ISERROR(MATCH(D325,'CrediAltoque (SI)'!$H$20:$H$21,0))=FALSE,\"D\",\"\"))","v":""},{"$f":"IF(E325=\"C\",0,IF(E325 =\"D\",ROUND(1/((1+'CrediAltoque (SI)'!$R$14)^A325),9) * 2,ROUND(1/((1+'CrediAltoque (SI)'!$R$14)^A325),9)))","v":7.3000000000000005E-8},19.096132745999999]
[323,323,"2050-01-15",1,{"$f":"IF(ISERROR(MATCH(D326,'CrediAltoque (SI)'!$H$18:$H$19,0))=FALSE,\"C\",IF(ISERROR(MATCH(D326,'CrediAltoque (SI)'!$H$20:$H$21,0))=FALSE,\"D\",\"\"))","v":""},{"$f":"IF(E326=\"C\",0,IF(E326 =\"D\",ROUND(1/((1+'CrediAltoque (SI)'!$R$14)^A326),9) * 2,ROUND(1/((1+'CrediAltoque (SI)'!$R$14)^A326),9)))","v":6.8999999999999996E-8},{"$f":"G325+ROUND(F326,9)","v":19.096132814999997}]
[324,324,"2050-02-15",2,{"$f":"IF(ISERROR(MATCH(D327,'CrediAltoque (SI)'!$H$18:$H$19,0))=FALSE,\"C\",IF(ISERROR(MATCH(D327,'CrediAltoque (SI)'!$H$20:$H$21,0))=FALSE,\"D\",\"\"))","v":""},{"$f":"IF(E327=\"C\",0,IF(E327 =\"D\",ROUND(1/((1+'CrediAltoque (SI)'!$R$14)^A327),9) * 2,ROUND(1/((1+'CrediAltoque (SI)'!$R$14)^A327),9)))","v":6.5999999999999995E-8},19.096132880999996]
[325,325,"2050-03-15",3,{"$f":"IF(ISERROR(MATCH(D328,'CrediAltoque (SI)'!$H$18:$H$19,0))=FALSE,\"C\",IF(ISERROR(MATCH(D328,'CrediAltoque (SI)'!$H$20:$H$21,0))=FALSE,\"D\",\"\"))","v":""},{"$f":"IF(E328=\"C\",0,IF(E328 =\"D\",ROUND(1/((1+'CrediAltoque (SI)'!$R$14)^A328),9) * 2,ROUND(1/((1+'CrediAltoque (SI)'!$R$14)^A328),9)))","v":6.1999999999999999E-8},19.096132942999997]
[326,326,"2050-04-15",4,{"$f":"IF(ISERROR(MATCH(D329,'CrediAltoque (SI)'!$H$18:$H$19,0))=FALSE,\"C\",IF(ISERROR(MATCH(D329,'CrediAltoque (SI)'!$H$20:$H$21,0))=FALSE,\"D\",\"\"))","v":""},{"$f":"IF(E329=\"C\",0,IF(E329 =\"D\",ROUND(1/((1+'CrediAltoque (SI)'!$R$14)^A329),9) * 2,ROUND(1/((1+'CrediAltoque (SI)'!$R$14)^A329),9)))","v":5.8999999999999999E-8},19.096133001999998]
[327,327,"2050-05-15",5,{"$f":"IF(ISERROR(MATCH(D330,'CrediAltoque (SI)'!$H$18:$H$19,0))=FALSE,\"C\",IF(ISERROR(MATCH(D330,'CrediAltoque (SI)'!$H$20:$H$21,0))=FALSE,\"D\",\"\"))","v":""},{"$f":"IF(E330=\"C\",0,IF(E330 =\"D\",ROUND(1/((1+'CrediAltoque (SI)'!$R$14)^A330),9) * 2,ROUND(1/((1+'CrediAltoque (SI)'!$R$14)^A330),9)))","v":5.5999999999999999E-8},19.096133057999999]
[328,328,"2050-06-15",6,{"$f":"IF(ISERROR(MATCH(D331,'CrediAltoque (SI)'!$H$18:$H$19,0))=FALSE,\"C\",IF(ISERROR(MATCH(D331,'CrediAltoque (SI)'!$H$20:$H$21,0))=FALSE,\"D\",\"\"))","v":""},{"$f":"IF(E331=\"C\",0,IF(E331 =\"D\",ROUND(1/((1+'CrediAltoque (SI)'!$R$14)^A331),9) * 2,ROUND(1/((1+'CrediAltoque (SI)'!$R$14)^A331),9)))","v":5.4E-8},19.096133112]
[329,329,"2050-07-15",7,{"$f":"IF(ISERROR(MATCH(D332,'CrediAltoque (SI)'!$H$18:$H$19,0))=FALSE,\"C\",IF(ISERROR(MATCH(D332,'CrediAltoque (SI)'!$H$20:$H$21,0))=FALSE,\"D\",\"\"))","v":""},{"$f":"IF(E332=\"C\",0,IF(E332 =\"D\",ROUND(1/((1+'CrediAltoque (SI)'!$R$14)^A332),9) * 2,ROUND(1/((1+'CrediAltoque (SI)'!$R$14)^A332),9)))","v":5.1E-8},19.096133163000001]
[330,330,"2050-08-15",8,{"$f":"IF(ISERROR(MATCH(D333,'CrediAltoque (SI)'!$H$18:$H$19,0))=FALSE,\"C\",IF(ISERROR(MATCH(D333,'CrediAltoque (SI)'!$H$20:$H$21,0))=FALSE,\"D\",\"\"))","v":""},{"$f":"IF(E333=\"C\",0,IF(E333 =\"D\",ROUND(1/((1+'CrediAltoque (SI)'!$R$14)^A333),9) * 2,ROUND(1/((1+'CrediAltoque (SI)'!$R$14)^A333),9)))","v":4.8E-8},19.096133211000001]
[331,331,"2050-09-15",9,{"$f":"IF(ISERROR(MATCH(D334,'CrediAltoque (SI)'!$H$18:$H$19,0))=FALSE,\"C\",IF(ISERROR(MATCH(D334,'CrediAltoque (SI)'!$H$20:$H$21,0))=FALSE,\"D\",\"\"))","v":""},{"$f":"IF(E334=\"C\",0,IF(E334 =\"D\",ROUND(1/((1+'CrediAltoque (SI)'!$R$14)^A334),9) * 2,ROUND(1/((1+'CrediAltoque (SI)'!$R$14)^A334),9)))","v":4.6000000000000002E-8},19.096133257000002]
[332,332,"2050-10-15",10,{"$f":"IF(ISERROR(MATCH(D335,'CrediAltoque (SI)'!$H$18:$H$19,0))=FALSE,\"C\",IF(ISERROR(MATCH(D335,'CrediAltoque (SI)'!$H$20:$H$21,0))=FALSE,\"D\",\"\"))","v":""},{"$f":"IF(E335=\"C\",0,IF(E335 =\"D\",ROUND(1/((1+'CrediAltoque (SI)'!$R$14)^A335),9) * 2,ROUND(1/((1+'CrediAltoque (SI)'!$R$14)^A335),9)))","v":4.3999999999999997E-8},19.096133301000002]
[333,333,"2050-11-15",11,{"$f":"IF(ISERROR(MATCH(D336,'CrediAltoque (SI)'!$H$18:$H$19,0))=FALSE,\"C\",IF(ISERROR(MATCH(D336,'CrediAltoque (SI)'!$H$20:$H$21,0))=FALSE,\"D\",\"\"))","v":""},{"$f":"IF(E336=\"C\",0,IF(E336 =\"D\",ROUND(1/((1+'CrediAltoque (SI)'!$R$14)^A336),9) * 2,ROUND(1/((1+'CrediAltoque (SI)'!$R$14)^A336),9)))","v":4.1999999999999999E-8},19.096133343000002]
[334,334,"2050-12-15",12,{"$f":"IF(ISERROR(MATCH(D337,'CrediAltoque (SI)'!$H$18:$H$19,0))=FALSE,\"C\",IF(ISERROR(MATCH(D337,'CrediAltoque (SI)'!$H$20:$H$21,0))=FALSE,\"D\",\"\"))","v":""},{"$f":"IF(E337=\"C\",0,IF(E337 =\"D\",ROUND(1/((1+'CrediAltoque (SI)'!$R$14)^A337),9) * 2,ROUND(1/((1+'CrediAltoque (SI)'!$R$14)^A337),9)))","v":3.8999999999999998E-8},19.096133382000001]
[335,335,"2051-01-15",1,{"$f":"IF(ISERROR(MATCH(D338,'CrediAltoque (SI)'!$H$18:$H$19,0))=FALSE,\"C\",IF(ISERROR(MATCH(D338,'CrediAltoque (SI)'!$H$20:$H$21,0))=FALSE,\"D\",\"\"))","v":""},{"$f":"IF(E338=\"C\",0,IF(E338 =\"D\",ROUND(1/((1+'CrediAltoque (SI)'!$R$14)^A338),9) * 2,ROUND(1/((1+'CrediAltoque (SI)'!$R$14)^A338),9)))","v":3.8000000000000003E-8},19.096133420000001]
[336,336,"2051-02-15",2,{"$f":"IF(ISERROR(MATCH(D339,'CrediAltoque (SI)'!$H$18:$H$19,0))=FALSE,\"C\",IF(ISERROR(MATCH(D339,'CrediAltoque (SI)'!$H$20:$H$21,0))=FALSE,\"D\",\"\"))","v":""},{"$f":"IF(E339=\"C\",0,IF(E339 =\"D\",ROUND(1/((1+'CrediAltoque (SI)'!$R$14)^A339),9) * 2,ROUND(1/((1+'CrediAltoque (SI)'!$R$14)^A339),9)))","v":3.5999999999999998E-8},19.096133456]
[337,337,"2051-03-15",3,{"$f":"IF(ISERROR(MATCH(D340,'CrediAltoque (SI)'!$H$18:$H$19,0))=FALSE,\"C\",IF(ISERROR(MATCH(D340,'CrediAltoque (SI)'!$H$20:$H$21,0))=FALSE,\"D\",\"\"))","v":""},{"$f":"IF(E340=\"C\",0,IF(E340 =\"D\",ROUND(1/((1+'CrediAltoque (SI)'!$R$14)^A340),9) * 2,ROUND(1/((1+'CrediAltoque (SI)'!$R$14)^A340),9)))","v":3.4E-8},19.09613349]
[338,338,"2051-04-15",4,{"$f":"IF(ISERROR(MATCH(D341,'CrediAltoque (SI)'!$H$18:$H$19,0))=FALSE,\"C\",IF(ISERROR(MATCH(D341,'CrediAltoque (SI)'!$H$20:$H$21,0))=FALSE,\"D\",\"\"))","v":""},{"$f":"IF(E341=\"C\",0,IF(E341 =\"D\",ROUND(1/((1+'CrediAltoque (SI)'!$R$14)^A341),9) * 2,ROUND(1/((1+'CrediAltoque (SI)'!$R$14)^A341),9)))","v":3.2000000000000002E-8},19.096133521999999]
[339,339,"2051-05-15",5,{"$f":"IF(ISERROR(MATCH(D342,'CrediAltoque (SI)'!$H$18:$H$19,0))=FALSE,\"C\",IF(ISERROR(MATCH(D342,'CrediAltoque (SI)'!$H$20:$H$21,0))=FALSE,\"D\",\"\"))","v":""},{"$f":"IF(E342=\"C\",0,IF(E342 =\"D\",ROUND(1/((1+'CrediAltoque (SI)'!$R$14)^A342),9) * 2,ROUND(1/((1+'CrediAltoque (SI)'!$R$14)^A342),9)))","v":3.1E-8},19.096133552999998]
[340,340,"2051-06-15",6,{"$f":"IF(ISERROR(MATCH(D343,'CrediAltoque (SI)'!$H$18:$H$19,0))=FALSE,\"C\",IF(ISERROR(MATCH(D343,'CrediAltoque (SI)'!$H$20:$H$21,0))=FALSE,\"D\",\"\"))","v":""},{"$f":"IF(E343=\"C\",0,IF(E343 =\"D\",ROUND(1/((1+'CrediAltoque (SI)'!$R$14)^A343),9) * 2,ROUND(1/((1+'CrediAltoque (SI)'!$R$14)^A343),9)))","v":2.9000000000000002E-8},19.096133581999997]
[341,341,"2051-07-15",7,{"$f":"IF(ISERROR(MATCH(D344,'CrediAltoque (SI)'!$H$18:$H$19,0))=FALSE,\"C\",IF(ISERROR(MATCH(D344,'CrediAltoque (SI)'!$H$20:$H$21,0))=FALSE,\"D\",\"\"))","v":""},{"$f":"IF(E344=\"C\",0,IF(E344 =\"D\",ROUND(1/((1+'CrediAltoque (SI)'!$R$14)^A344),9) * 2,ROUND(1/((1+'CrediAltoque (SI)'!$R$14)^A344),9)))","v":2.7999999999999999E-8},19.096133609999995]
[342,342,"2051-08-15",8,{"$f":"IF(ISERROR(MATCH(D345,'CrediAltoque (SI)'!$H$18:$H$19,0))=FALSE,\"C\",IF(ISERROR(MATCH(D345,'CrediAltoque (SI)'!$H$20:$H$21,0))=FALSE,\"D\",\"\"))","v":""},{"$f":"IF(E345=\"C\",0,IF(E345 =\"D\",ROUND(1/((1+'CrediAltoque (SI)'!$R$14)^A345),9) * 2,ROUND(1/((1+'CrediAltoque (SI)'!$R$14)^A345),9)))","v":2.6000000000000001E-8},19.096133635999994]
[343,343,"2051-09-15",9,{"$f":"IF(ISERROR(MATCH(D346,'CrediAltoque (SI)'!$H$18:$H$19,0))=FALSE,\"C\",IF(ISERROR(MATCH(D346,'CrediAltoque (SI)'!$H$20:$H$21,0))=FALSE,\"D\",\"\"))","v":""},{"$f":"IF(E346=\"C\",0,IF(E346 =\"D\",ROUND(1/((1+'CrediAltoque (SI)'!$R$14)^A346),9) * 2,ROUND(1/((1+'CrediAltoque (SI)'!$R$14)^A346),9)))","v":2.4999999999999999E-8},19.096133660999993]
[344,344,"2051-10-15",10,{"$f":"IF(ISERROR(MATCH(D347,'CrediAltoque (SI)'!$H$18:$H$19,0))=FALSE,\"C\",IF(ISERROR(MATCH(D347,'CrediAltoque (SI)'!$H$20:$H$21,0))=FALSE,\"D\",\"\"))","v":""},{"$f":"IF(E347=\"C\",0,IF(E347 =\"D\",ROUND(1/((1+'CrediAltoque (SI)'!$R$14)^A347),9) * 2,ROUND(1/((1+'CrediAltoque (SI)'!$R$14)^A347),9)))","v":2.4E-8},19.096133684999991]
[345,345,"2051-11-15",11,{"$f":"IF(ISERROR(MATCH(D348,'CrediAltoque (SI)'!$H$18:$H$19,0))=FALSE,\"C\",IF(ISERROR(MATCH(D348,'CrediAltoque (SI)'!$H$20:$H$21,0))=FALSE,\"D\",\"\"))","v":""},{"$f":"IF(E348=\"C\",0,IF(E348 =\"D\",ROUND(1/((1+'CrediAltoque (SI)'!$R$14)^A348),9) * 2,ROUND(1/((1+'CrediAltoque (SI)'!$R$14)^A348),9)))","v":2.3000000000000001E-8},19.096133707999989]
[346,346,"2051-12-15",12,{"$f":"IF(ISERROR(MATCH(D349,'CrediAltoque (SI)'!$H$18:$H$19,0))=FALSE,\"C\",IF(ISERROR(MATCH(D349,'CrediAltoque (SI)'!$H$20:$H$21,0))=FALSE,\"D\",\"\"))","v":""},{"$f":"IF(E349=\"C\",0,IF(E349 =\"D\",ROUND(1/((1+'CrediAltoque (SI)'!$R$14)^A349),9) * 2,ROUND(1/((1+'CrediAltoque (SI)'!$R$14)^A349),9)))","v":2.0999999999999999E-8},19.096133728999991]
[347,347,"2052-01-15",1,{"$f":"IF(ISERROR(MATCH(D350,'CrediAltoque (SI)'!$H$18:$H$19,0))=FALSE,\"C\",IF(ISERROR(MATCH(D350,'CrediAltoque (SI)'!$H$20:$H$21,0))=FALSE,\"D\",\"\"))","v":""},{"$f":"IF(E350=\"C\",0,IF(E350 =\"D\",ROUND(1/((1+'CrediAltoque (SI)'!$R$14)^A350),9) * 2,ROUND(1/((1+'CrediAltoque (SI)'!$R$14)^A350),9)))","v":2E-8},19.096133748999993]
[348,348,"2052-02-15",2,{"$f":"IF(ISERROR(MATCH(D351,'CrediAltoque (SI)'!$H$18:$H$19,0))=FALSE,\"C\",IF(ISERROR(MATCH(D351,'CrediAltoque (SI)'!$H$20:$H$21,0))=FALSE,\"D\",\"\"))","v":""},{"$f":"IF(E351=\"C\",0,IF(E351 =\"D\",ROUND(1/((1+'CrediAltoque (SI)'!$R$14)^A351),9) * 2,ROUND(1/((1+'CrediAltoque (SI)'!$R$14)^A351),9)))","v":1.9000000000000001E-8},19.096133767999994]
[349,349,"2052-03-15",3,{"$f":"IF(ISERROR(MATCH(D352,'CrediAltoque (SI)'!$H$18:$H$19,0))=FALSE,\"C\",IF(ISERROR(MATCH(D352,'CrediAltoque (SI)'!$H$20:$H$21,0))=FALSE,\"D\",\"\"))","v":""},{"$f":"IF(E352=\"C\",0,IF(E352 =\"D\",ROUND(1/((1+'CrediAltoque (SI)'!$R$14)^A352),9) * 2,ROUND(1/((1+'CrediAltoque (SI)'!$R$14)^A352),9)))","v":1.7999999999999999E-8},19.096133785999996]
[350,350,"2052-04-15",4,{"$f":"IF(ISERROR(MATCH(D353,'CrediAltoque (SI)'!$H$18:$H$19,0))=FALSE,\"C\",IF(ISERROR(MATCH(D353,'CrediAltoque (SI)'!$H$20:$H$21,0))=FALSE,\"D\",\"\"))","v":""},{"$f":"IF(E353=\"C\",0,IF(E353 =\"D\",ROUND(1/((1+'CrediAltoque (SI)'!$R$14)^A353),9) * 2,ROUND(1/((1+'CrediAltoque (SI)'!$R$14)^A353),9)))","v":1.7E-8},19.096133802999997]
[351,351,"2052-05-15",5,{"$f":"IF(ISERROR(MATCH(D354,'CrediAltoque (SI)'!$H$18:$H$19,0))=FALSE,\"C\",IF(ISERROR(MATCH(D354,'CrediAltoque (SI)'!$H$20:$H$21,0))=FALSE,\"D\",\"\"))","v":""},{"$f":"IF(E354=\"C\",0,IF(E354 =\"D\",ROUND(1/((1+'CrediAltoque (SI)'!$R$14)^A354),9) * 2,ROUND(1/((1+'CrediAltoque (SI)'!$R$14)^A354),9)))","v":1.7E-8},19.096133819999999]
[352,352,"2052-06-15",6,{"$f":"IF(ISERROR(MATCH(D355,'CrediAltoque (SI)'!$H$18:$H$19,0))=FALSE,\"C\",IF(ISERROR(MATCH(D355,'CrediAltoque (SI)'!$H$20:$H$21,0))=FALSE,\"D\",\"\"))","v":""},{"$f":"IF(E355=\"C\",0,IF(E355 =\"D\",ROUND(1/((1+'CrediAltoque (SI)'!$R$14)^A355),9) * 2,ROUND(1/((1+'CrediAltoque (SI)'!$R$14)^A355),9)))","v":1.6000000000000001E-8},19.096133836]
[353,353,"2052-07-15",7,{"$f":"IF(ISERROR(MATCH(D356,'CrediAltoque (SI)'!$H$18:$H$19,0))=FALSE,\"C\",IF(ISERROR(MATCH(D356,'CrediAltoque (SI)'!$H$20:$H$21,0))=FALSE,\"D\",\"\"))","v":""},{"$f":"IF(E356=\"C\",0,IF(E356 =\"D\",ROUND(1/((1+'CrediAltoque (SI)'!$R$14)^A356),9) * 2,ROUND(1/((1+'CrediAltoque (SI)'!$R$14)^A356),9)))","v":1.4999999999999999E-8},19.096133851000001]
[354,354,"2052-08-15",8,{"$f":"IF(ISERROR(MATCH(D357,'CrediAltoque (SI)'!$H$18:$H$19,0))=FALSE,\"C\",IF(ISERROR(MATCH(D357,'CrediAltoque (SI)'!$H$20:$H$21,0))=FALSE,\"D\",\"\"))","v":""},{"$f":"IF(E357=\"C\",0,IF(E357 =\"D\",ROUND(1/((1+'CrediAltoque (SI)'!$R$14)^A357),9) * 2,ROUND(1/((1+'CrediAltoque (SI)'!$R$14)^A357),9)))","v":1.4E-8},19.096133865000002]
[355,355,"2052-09-15",9,{"$f":"IF(ISERROR(MATCH(D358,'CrediAltoque (SI)'!$H$18:$H$19,0))=FALSE,\"C\",IF(ISERROR(MATCH(D358,'CrediAltoque (SI)'!$H$20:$H$21,0))=FALSE,\"D\",\"\"))","v":""},{"$f":"IF(E358=\"C\",0,IF(E358 =\"D\",ROUND(1/((1+'CrediAltoque (SI)'!$R$14)^A358),9) * 2,ROUND(1/((1+'CrediAltoque (SI)'!$R$14)^A358),9)))","v":1.4E-8},19.096133879000003]
[356,356,"2052-10-15",10,{"$f":"IF(ISERROR(MATCH(D359,'CrediAltoque (SI)'!$H$18:$H$19,0))=FALSE,\"C\",IF(ISERROR(MATCH(D359,'CrediAltoque (SI)'!$H$20:$H$21,0))=FALSE,\"D\",\"\"))","v":""},{"$f":"IF(E359=\"C\",0,IF(E359 =\"D\",ROUND(1/((1+'CrediAltoque (SI)'!$R$14)^A359),9) * 2,ROUND(1/((1+'CrediAltoque (SI)'!$R$14)^A359),9)))","v":1.3000000000000001E-8},19.096133892000005]
[357,357,"2052-11-15",11,{"$f":"IF(ISERROR(MATCH(D360,'CrediAltoque (SI)'!$H$18:$H$19,0))=FALSE,\"C\",IF(ISERROR(MATCH(D360,'CrediAltoque (SI)'!$H$20:$H$21,0))=FALSE,\"D\",\"\"))","v":""},{"$f":"IF(E360=\"C\",0,IF(E360 =\"D\",ROUND(1/((1+'CrediAltoque (SI)'!$R$14)^A360),9) * 2,ROUND(1/((1+'CrediAltoque (SI)'!$R$14)^A360),9)))","v":1.2E-8},19.096133904000006]
[358,358,"2052-12-15",12,{"$f":"IF(ISERROR(MATCH(D361,'CrediAltoque (SI)'!$H$18:$H$19,0))=FALSE,\"C\",IF(ISERROR(MATCH(D361,'CrediAltoque (SI)'!$H$20:$H$21,0))=FALSE,\"D\",\"\"))","v":""},{"$f":"IF(E361=\"C\",0,IF(E361 =\"D\",ROUND(1/((1+'CrediAltoque (SI)'!$R$14)^A361),9) * 2,ROUND(1/((1+'CrediAltoque (SI)'!$R$14)^A361),9)))","v":1.2E-8},19.096133916000007]
[359,359,"2053-01-15",1,{"$f":"IF(ISERROR(MATCH(D362,'CrediAltoque (SI)'!$H$18:$H$19,0))=FALSE,\"C\",IF(ISERROR(MATCH(D362,'CrediAltoque (SI)'!$H$20:$H$21,0))=FALSE,\"D\",\"\"))","v":""},{"$f":"IF(E362=\"C\",0,IF(E362 =\"D\",ROUND(1/((1+'CrediAltoque (SI)'!$R$14)^A362),9) * 2,ROUND(1/((1+'CrediAltoque (SI)'!$R$14)^A362),9)))","v":1.0999999999999999E-8},19.096133927000007]
[360,360,"2053-02-15",2,{"$f":"IF(ISERROR(MATCH(D363,'CrediAltoque (SI)'!$H$18:$H$19,0))=FALSE,\"C\",IF(ISERROR(MATCH(D363,'CrediAltoque (SI)'!$H$20:$H$21,0))=FALSE,\"D\",\"\"))","v":""},{"$f":"IF(E363=\"C\",0,IF(E363 =\"D\",ROUND(1/((1+'CrediAltoque (SI)'!$R$14)^A363),9) * 2,ROUND(1/((1+'CrediAltoque (SI)'!$R$14)^A363),9)))","v":1E-8},19.096133937000008]
[361,361,"2053-03-15",3,{"$f":"IF(ISERROR(MATCH(D364,'CrediAltoque (SI)'!$H$18:$H$19,0))=FALSE,\"C\",IF(ISERROR(MATCH(D364,'CrediAltoque (SI)'!$H$20:$H$21,0))=FALSE,\"D\",\"\"))","v":""},{"$f":"IF(E364=\"C\",0,IF(E364 =\"D\",ROUND(1/((1+'CrediAltoque (SI)'!$R$14)^A364),9) * 2,ROUND(1/((1+'CrediAltoque (SI)'!$R$14)^A364),9)))","v":1E-8},19.096133947000009]
[362,362,"2053-04-15",4,{"$f":"IF(ISERROR(MATCH(D365,'CrediAltoque (SI)'!$H$18:$H$19,0))=FALSE,\"C\",IF(ISERROR(MATCH(D365,'CrediAltoque (SI)'!$H$20:$H$21,0))=FALSE,\"D\",\"\"))","v":""},{"$f":"IF(E365=\"C\",0,IF(E365 =\"D\",ROUND(1/((1+'CrediAltoque (SI)'!$R$14)^A365),9) * 2,ROUND(1/((1+'CrediAltoque (SI)'!$R$14)^A365),9)))","v":8.9999999999999995E-9},19.09613395600001]
[363,363,"2053-05-15",5,{"$f":"IF(ISERROR(MATCH(D366,'CrediAltoque (SI)'!$H$18:$H$19,0))=FALSE,\"C\",IF(ISERROR(MATCH(D366,'CrediAltoque (SI)'!$H$20:$H$21,0))=FALSE,\"D\",\"\"))","v":""},{"$f":"IF(E366=\"C\",0,IF(E366 =\"D\",ROUND(1/((1+'CrediAltoque (SI)'!$R$14)^A366),9) * 2,ROUND(1/((1+'CrediAltoque (SI)'!$R$14)^A366),9)))","v":8.9999999999999995E-9},19.096133965000011]
[364,364,"2053-06-15",6,{"$f":"IF(ISERROR(MATCH(D367,'CrediAltoque (SI)'!$H$18:$H$19,0))=FALSE,\"C\",IF(ISERROR(MATCH(D367,'CrediAltoque (SI)'!$H$20:$H$21,0))=FALSE,\"D\",\"\"))","v":""},{"$f":"IF(E367=\"C\",0,IF(E367 =\"D\",ROUND(1/((1+'CrediAltoque (SI)'!$R$14)^A367),9) * 2,ROUND(1/((1+'CrediAltoque (SI)'!$R$14)^A367),9)))","v":8.9999999999999995E-9},19.096133974000011]
[365,365,"2053-07-15",7,{"$f":"IF(ISERROR(MATCH(D368,'CrediAltoque (SI)'!$H$18:$H$19,0))=FALSE,\"C\",IF(ISERROR(MATCH(D368,'CrediAltoque (SI)'!$H$20:$H$21,0))=FALSE,\"D\",\"\"))","v":""},{"$f":"IF(E368=\"C\",0,IF(E368 =\"D\",ROUND(1/((1+'CrediAltoque (SI)'!$R$14)^A368),9) * 2,ROUND(1/((1+'CrediAltoque (SI)'!$R$14)^A368),9)))","v":8.0000000000000005E-9},19.096133982000012]
[366,366,"2053-08-15",8,{"$f":"IF(ISERROR(MATCH(D369,'CrediAltoque (SI)'!$H$18:$H$19,0))=FALSE,\"C\",IF(ISERROR(MATCH(D369,'CrediAltoque (SI)'!$H$20:$H$21,0))=FALSE,\"D\",\"\"))","v":""},{"$f":"IF(E369=\"C\",0,IF(E369 =\"D\",ROUND(1/((1+'CrediAltoque (SI)'!$R$14)^A369),9) * 2,ROUND(1/((1+'CrediAltoque (SI)'!$R$14)^A369),9)))","v":8.0000000000000005E-9},19.096133990000013]
[367,367,"2053-09-15",9,{"$f":"IF(ISERROR(MATCH(D370,'CrediAltoque (SI)'!$H$18:$H$19,0))=FALSE,\"C\",IF(ISERROR(MATCH(D370,'CrediAltoque (SI)'!$H$20:$H$21,0))=FALSE,\"D\",\"\"))","v":""},{"$f":"IF(E370=\"C\",0,IF(E370 =\"D\",ROUND(1/((1+'CrediAltoque (SI)'!$R$14)^A370),9) * 2,ROUND(1/((1+'CrediAltoque (SI)'!$R$14)^A370),9)))","v":6.9999999999999998E-9},19.096133997000013]
[368,368,"2053-10-15",10,{"$f":"IF(ISERROR(MATCH(D371,'CrediAltoque (SI)'!$H$18:$H$19,0))=FALSE,\"C\",IF(ISERROR(MATCH(D371,'CrediAltoque (SI)'!$H$20:$H$21,0))=FALSE,\"D\",\"\"))","v":""},{"$f":"IF(E371=\"C\",0,IF(E371 =\"D\",ROUND(1/((1+'CrediAltoque (SI)'!$R$14)^A371),9) * 2,ROUND(1/((1+'CrediAltoque (SI)'!$R$14)^A371),9)))","v":6.9999999999999998E-9},19.096134004000014]
[369,369,"2053-11-15",11,{"$f":"IF(ISERROR(MATCH(D372,'CrediAltoque (SI)'!$H$18:$H$19,0))=FALSE,\"C\",IF(ISERROR(MATCH(D372,'CrediAltoque (SI)'!$H$20:$H$21,0))=FALSE,\"D\",\"\"))","v":""},{"$f":"IF(E372=\"C\",0,IF(E372 =\"D\",ROUND(1/((1+'CrediAltoque (SI)'!$R$14)^A372),9) * 2,ROUND(1/((1+'CrediAltoque (SI)'!$R$14)^A372),9)))","v":6.9999999999999998E-9},19.096134011000014]
[370,370,"2053-12-15",12,{"$f":"IF(ISERROR(MATCH(D373,'CrediAltoque (SI)'!$H$18:$H$19,0))=FALSE,\"C\",IF(ISERROR(MATCH(D373,'CrediAltoque (SI)'!$H$20:$H$21,0))=FALSE,\"D\",\"\"))","v":""},{"$f":"IF(E373=\"C\",0,IF(E373 =\"D\",ROUND(1/((1+'CrediAltoque (SI)'!$R$14)^A373),9) * 2,ROUND(1/((1+'CrediAltoque (SI)'!$R$14)^A373),9)))","v":6E-9},19.096134017000015]
[371,371,"2054-01-15",1,{"$f":"IF(ISERROR(MATCH(D374,'CrediAltoque (SI)'!$H$18:$H$19,0))=FALSE,\"C\",IF(ISERROR(MATCH(D374,'CrediAltoque (SI)'!$H$20:$H$21,0))=FALSE,\"D\",\"\"))","v":""},{"$f":"IF(E374=\"C\",0,IF(E374 =\"D\",ROUND(1/((1+'CrediAltoque (SI)'!$R$14)^A374),9) * 2,ROUND(1/((1+'CrediAltoque (SI)'!$R$14)^A374),9)))","v":6E-9},19.096134023000015]
[372,372,"2054-02-15",2,{"$f":"IF(ISERROR(MATCH(D375,'CrediAltoque (SI)'!$H$18:$H$19,0))=FALSE,\"C\",IF(ISERROR(MATCH(D375,'CrediAltoque (SI)'!$H$20:$H$21,0))=FALSE,\"D\",\"\"))","v":""},{"$f":"IF(E375=\"C\",0,IF(E375 =\"D\",ROUND(1/((1+'CrediAltoque (SI)'!$R$14)^A375),9) * 2,ROUND(1/((1+'CrediAltoque (SI)'!$R$14)^A375),9)))","v":6E-9},19.096134029000016]
[373,373,"2054-03-15",3,{"$f":"IF(ISERROR(MATCH(D376,'CrediAltoque (SI)'!$H$18:$H$19,0))=FALSE,\"C\",IF(ISERROR(MATCH(D376,'CrediAltoque (SI)'!$H$20:$H$21,0))=FALSE,\"D\",\"\"))","v":""},{"$f":"IF(E376=\"C\",0,IF(E376 =\"D\",ROUND(1/((1+'CrediAltoque (SI)'!$R$14)^A376),9) * 2,ROUND(1/((1+'CrediAltoque (SI)'!$R$14)^A376),9)))","v":5.0000000000000001E-9},19.096134034000016]
[374,374,"2054-04-15",4,{"$f":"IF(ISERROR(MATCH(D377,'CrediAltoque (SI)'!$H$18:$H$19,0))=FALSE,\"C\",IF(ISERROR(MATCH(D377,'CrediAltoque (SI)'!$H$20:$H$21,0))=FALSE,\"D\",\"\"))","v":""},{"$f":"IF(E377=\"C\",0,IF(E377 =\"D\",ROUND(1/((1+'CrediAltoque (SI)'!$R$14)^A377),9) * 2,ROUND(1/((1+'CrediAltoque (SI)'!$R$14)^A377),9)))","v":5.0000000000000001E-9},19.096134039000017]
[375,375,"2054-05-15",5,{"$f":"IF(ISERROR(MATCH(D378,'CrediAltoque (SI)'!$H$18:$H$19,0))=FALSE,\"C\",IF(ISERROR(MATCH(D378,'CrediAltoque (SI)'!$H$20:$H$21,0))=FALSE,\"D\",\"\"))","v":""},{"$f":"IF(E378=\"C\",0,IF(E378 =\"D\",ROUND(1/((1+'CrediAltoque (SI)'!$R$14)^A378),9) * 2,ROUND(1/((1+'CrediAltoque (SI)'!$R$14)^A378),9)))","v":5.0000000000000001E-9},19.096134044000017]
[376,376,"2054-06-15",6,{"$f":"IF(ISERROR(MATCH(D379,'CrediAltoque (SI)'!$H$18:$H$19,0))=FALSE,\"C\",IF(ISERROR(MATCH(D379,'CrediAltoque (SI)'!$H$20:$H$21,0))=FALSE,\"D\",\"\"))","v":""},{"$f":"IF(E379=\"C\",0,IF(E379 =\"D\",ROUND(1/((1+'CrediAltoque (SI)'!$R$14)^A379),9) * 2,ROUND(1/((1+'CrediAltoque (SI)'!$R$14)^A379),9)))","v":5.0000000000000001E-9},19.096134049000018]
[377,377,"2054-07-15",7,{"$f":"IF(ISERROR(MATCH(D380,'CrediAltoque (SI)'!$H$18:$H$19,0))=FALSE,\"C\",IF(ISERROR(MATCH(D380,'CrediAltoque (SI)'!$H$20:$H$21,0))=FALSE,\"D\",\"\"))","v":""},{"$f":"IF(E380=\"C\",0,IF(E380 =\"D\",ROUND(1/((1+'CrediAltoque (SI)'!$R$14)^A380),9) * 2,ROUND(1/((1+'CrediAltoque (SI)'!$R$14)^A380),9)))","v":4.0000000000000002E-9},19.096134053000018]
[378,378,"2054-08-15",8,{"$f":"IF(ISERROR(MATCH(D381,'CrediAltoque (SI)'!$H$18:$H$19,0))=FALSE,\"C\",IF(ISERROR(MATCH(D381,'CrediAltoque (SI)'!$H$20:$H$21,0))=FALSE,\"D\",\"\"))","v":""},{"$f":"IF(E381=\"C\",0,IF(E381 =\"D\",ROUND(1/((1+'CrediAltoque (SI)'!$R$14)^A381),9) * 2,ROUND(1/((1+'CrediAltoque (SI)'!$R$14)^A381),9)))","v":4.0000000000000002E-9},19.096134057000018]
[379,379,"2054-09-15",9,{"$f":"IF(ISERROR(MATCH(D382,'CrediAltoque (SI)'!$H$18:$H$19,0))=FALSE,\"C\",IF(ISERROR(MATCH(D382,'CrediAltoque (SI)'!$H$20:$H$21,0))=FALSE,\"D\",\"\"))","v":""},{"$f":"IF(E382=\"C\",0,IF(E382 =\"D\",ROUND(1/((1+'CrediAltoque (SI)'!$R$14)^A382),9) * 2,ROUND(1/((1+'CrediAltoque (SI)'!$R$14)^A382),9)))","v":4.0000000000000002E-9},19.096134061000019]
[380,380,"2054-10-15",10,{"$f":"IF(ISERROR(MATCH(D383,'CrediAltoque (SI)'!$H$18:$H$19,0))=FALSE,\"C\",IF(ISERROR(MATCH(D383,'CrediAltoque (SI)'!$H$20:$H$21,0))=FALSE,\"D\",\"\"))","v":""},{"$f":"IF(E383=\"C\",0,IF(E383 =\"D\",ROUND(1/((1+'CrediAltoque (SI)'!$R$14)^A383),9) * 2,ROUND(1/((1+'CrediAltoque (SI)'!$R$14)^A383),9)))","v":4.0000000000000002E-9},19.096134065000019]
[381,381,"2054-11-15",11,{"$f":"IF(ISERROR(MATCH(D384,'CrediAltoque (SI)'!$H$18:$H$19,0))=FALSE,\"C\",IF(ISERROR(MATCH(D384,'CrediAltoque (SI)'!$H$20:$H$21,0))=FALSE,\"D\",\"\"))","v":""},{"$f":"IF(E384=\"C\",0,IF(E384 =\"D\",ROUND(1/((1+'CrediAltoque (SI)'!$R$14)^A384),9) * 2,ROUND(1/((1+'CrediAltoque (SI)'!$R$14)^A384),9)))","v":4.0000000000000002E-9},19.096134069000019]
[382,382,"2054-12-15",12,{"$f":"IF(ISERROR(MATCH(D385,'CrediAltoque (SI)'!$H$18:$H$19,0))=FALSE,\"C\",IF(ISERROR(MATCH(D385,'CrediAltoque (SI)'!$H$20:$H$21,0))=FALSE,\"D\",\"\"))","v":""},{"$f":"IF(E385=\"C\",0,IF(E385 =\"D\",ROUND(1/((1+'CrediAltoque (SI)'!$R$14)^A385),9) * 2,ROUND(1/((1+'CrediAltoque (SI)'!$R$14)^A385),9)))","v":3E-9},19.096134072000019]
[383,383,"2055-01-15",1,{"$f":"IF(ISERROR(MATCH(D386,'CrediAltoque (SI)'!$H$18:$H$19,0))=FALSE,\"C\",IF(ISERROR(MATCH(D386,'CrediAltoque (SI)'!$H$20:$H$21,0))=FALSE,\"D\",\"\"))","v":""},{"$f":"IF(E386=\"C\",0,IF(E386 =\"D\",ROUND(1/((1+'CrediAltoque (SI)'!$R$14)^A386),9) * 2,ROUND(1/((1+'CrediAltoque (SI)'!$R$14)^A386),9)))","v":3E-9},19.09613407500002]