{"text_format":"1","workbook":"xlsx","n_sheets":5,"sheets":["Calculos","Hoja1","Hoja1 (2)","Simulador","Calculos PLD"],"not_rendered":{"charts":0,"images":2,"macros":1,"external_links":0,"defined_names":0,"comments":1,"pivot_tables":0},"unopened":[],"bounds":{"document_bytes":16777216,"sheet_cells":100000,"rows_first":2000,"rows_last":500,"rows_between":2000,"halvings":0,"cell_chars":16384,"cell_head_chars":4096},"cells_cut":0,"cells_raw":0,"read":"whole","date_system":"1900"}

{"sheet":"Calculos","index":0,"n_rows":386,"n_cols":7,"rows_kept":386,"cut":false,"hidden":true,"merged":[[0,0,0,6]]}
["Factores utilizados en Meses de No Pago para cálculo del valor cuota"]
[]
["N° de Cuota","Equivalente","Fecha","Mes","Marca Cuota No Pago","Factor (10)","Acumulado"]
[1,{"$f":"IF(E4<>\"C\",IF(ISERROR(1+B3)=TRUE,1,1+B3),IF(ISNUMBER(B3),B3,1))","v":1},{"$f":"+#REF!","v":{"$error":"#REF!"}},{"$f":"MONTH(C4)","v":{"$error":"#REF!"}},{"$f":"IF(ISERROR(MATCH(D4,#REF!,0))=FALSE,\"C\",IF(ISERROR(MATCH(D4,#REF!,0))=FALSE,\"D\",\"\"))","v":""},{"$f":"IF(E4=\"C\",0,IF(E4 =\"D\",ROUND(1/((1+#REF!)^A4),9) * 2,ROUND(1/((1+#REF!)^A4),9)))","v":{"$error":"#REF!"}},{"$f":"ROUND(F4,9)","v":{"$error":"#REF!"}}]
[{"$f":"A4+1","v":2},{"$f":"IF(E5<>\"C\",IF(ISERROR(1+B4)=TRUE,1,1+B4),IF(ISNUMBER(B4),B4,1))","v":2},{"$f":"DATE(YEAR(C4) + 1/12,MONTH(C4)+1,DAY(C4))","v":{"$error":"#REF!"}},{"$error":"#REF!"},{"$f":"IF(ISERROR(MATCH(D5,#REF!,0))=FALSE,\"C\",IF(ISERROR(MATCH(D5,#REF!,0))=FALSE,\"D\",\"\"))","v":""},{"$f":"IF(E5=\"C\",0,IF(E5 =\"D\",ROUND(1/((1+#REF!)^A5),9) * 2,ROUND(1/((1+#REF!)^A5),9)))","v":{"$error":"#REF!"}},{"$f":"G4+ROUND(F5,9)","v":{"$error":"#REF!"}}]
[3,3,{"$error":"#REF!"},{"$error":"#REF!"},{"$f":"IF(ISERROR(MATCH(D6,#REF!,0))=FALSE,\"C\",IF(ISERROR(MATCH(D6,#REF!,0))=FALSE,\"D\",\"\"))","v":""},{"$f":"IF(E6=\"C\",0,IF(E6 =\"D\",ROUND(1/((1+#REF!)^A6),9) * 2,ROUND(1/((1+#REF!)^A6),9)))","v":{"$error":"#REF!"}},{"$f":"G5+ROUND(F6,9)","v":{"$error":"#REF!"}}]
[4,4,{"$error":"#REF!"},{"$error":"#REF!"},{"$f":"IF(ISERROR(MATCH(D7,#REF!,0))=FALSE,\"C\",IF(ISERROR(MATCH(D7,#REF!,0))=FALSE,\"D\",\"\"))","v":""},{"$f":"IF(E7=\"C\",0,IF(E7 =\"D\",ROUND(1/((1+#REF!)^A7),9) * 2,ROUND(1/((1+#REF!)^A7),9)))","v":{"$error":"#REF!"}},{"$error":"#REF!"}]
[5,5,{"$error":"#REF!"},{"$error":"#REF!"},{"$f":"IF(ISERROR(MATCH(D8,#REF!,0))=FALSE,\"C\",IF(ISERROR(MATCH(D8,#REF!,0))=FALSE,\"D\",\"\"))","v":""},{"$f":"IF(E8=\"C\",0,IF(E8 =\"D\",ROUND(1/((1+#REF!)^A8),9) * 2,ROUND(1/((1+#REF!)^A8),9)))","v":{"$error":"#REF!"}},{"$error":"#REF!"}]
[6,6,{"$error":"#REF!"},{"$error":"#REF!"},{"$f":"IF(ISERROR(MATCH(D9,#REF!,0))=FALSE,\"C\",IF(ISERROR(MATCH(D9,#REF!,0))=FALSE,\"D\",\"\"))","v":""},{"$f":"IF(E9=\"C\",0,IF(E9 =\"D\",ROUND(1/((1+#REF!)^A9),9) * 2,ROUND(1/((1+#REF!)^A9),9)))","v":{"$error":"#REF!"}},{"$error":"#REF!"}]
[7,7,{"$error":"#REF!"},{"$error":"#REF!"},{"$f":"IF(ISERROR(MATCH(D10,#REF!,0))=FALSE,\"C\",IF(ISERROR(MATCH(D10,#REF!,0))=FALSE,\"D\",\"\"))","v":""},{"$f":"IF(E10=\"C\",0,IF(E10 =\"D\",ROUND(1/((1+#REF!)^A10),9) * 2,ROUND(1/((1+#REF!)^A10),9)))","v":{"$error":"#REF!"}},{"$error":"#REF!"}]
[8,8,{"$error":"#REF!"},{"$error":"#REF!"},{"$f":"IF(ISERROR(MATCH(D11,#REF!,0))=FALSE,\"C\",IF(ISERROR(MATCH(D11,#REF!,0))=FALSE,\"D\",\"\"))","v":""},{"$f":"IF(E11=\"C\",0,IF(E11 =\"D\",ROUND(1/((1+#REF!)^A11),9) * 2,ROUND(1/((1+#REF!)^A11),9)))","v":{"$error":"#REF!"}},{"$error":"#REF!"}]
[9,9,{"$error":"#REF!"},{"$error":"#REF!"},{"$f":"IF(ISERROR(MATCH(D12,#REF!,0))=FALSE,\"C\",IF(ISERROR(MATCH(D12,#REF!,0))=FALSE,\"D\",\"\"))","v":""},{"$f":"IF(E12=\"C\",0,IF(E12 =\"D\",ROUND(1/((1+#REF!)^A12),9) * 2,ROUND(1/((1+#REF!)^A12),9)))","v":{"$error":"#REF!"}},{"$error":"#REF!"}]
[10,10,{"$error":"#REF!"},{"$error":"#REF!"},{"$f":"IF(ISERROR(MATCH(D13,#REF!,0))=FALSE,\"C\",IF(ISERROR(MATCH(D13,#REF!,0))=FALSE,\"D\",\"\"))","v":""},{"$f":"IF(E13=\"C\",0,IF(E13 =\"D\",ROUND(1/((1+#REF!)^A13),9) * 2,ROUND(1/((1+#REF!)^A13),9)))","v":{"$error":"#REF!"}},{"$error":"#REF!"}]
[11,11,{"$error":"#REF!"},{"$error":"#REF!"},{"$f":"IF(ISERROR(MATCH(D14,#REF!,0))=FALSE,\"C\",IF(ISERROR(MATCH(D14,#REF!,0))=FALSE,\"D\",\"\"))","v":""},{"$f":"IF(E14=\"C\",0,IF(E14 =\"D\",ROUND(1/((1+#REF!)^A14),9) * 2,ROUND(1/((1+#REF!)^A14),9)))","v":{"$error":"#REF!"}},{"$error":"#REF!"}]
[12,12,{"$error":"#REF!"},{"$error":"#REF!"},{"$f":"IF(ISERROR(MATCH(D15,#REF!,0))=FALSE,\"C\",IF(ISERROR(MATCH(D15,#REF!,0))=FALSE,\"D\",\"\"))","v":""},{"$f":"IF(E15=\"C\",0,IF(E15 =\"D\",ROUND(1/((1+#REF!)^A15),9) * 2,ROUND(1/((1+#REF!)^A15),9)))","v":{"$error":"#REF!"}},{"$error":"#REF!"}]
[13,13,{"$error":"#REF!"},{"$error":"#REF!"},{"$f":"IF(ISERROR(MATCH(D16,#REF!,0))=FALSE,\"C\",IF(ISERROR(MATCH(D16,#REF!,0))=FALSE,\"D\",\"\"))","v":""},{"$f":"IF(E16=\"C\",0,IF(E16 =\"D\",ROUND(1/((1+#REF!)^A16),9) * 2,ROUND(1/((1+#REF!)^A16),9)))","v":{"$error":"#REF!"}},{"$error":"#REF!"}]
[14,14,{"$error":"#REF!"},{"$error":"#REF!"},{"$f":"IF(ISERROR(MATCH(D17,#REF!,0))=FALSE,\"C\",IF(ISERROR(MATCH(D17,#REF!,0))=FALSE,\"D\",\"\"))","v":""},{"$f":"IF(E17=\"C\",0,IF(E17 =\"D\",ROUND(1/((1+#REF!)^A17),9) * 2,ROUND(1/((1+#REF!)^A17),9)))","v":{"$error":"#REF!"}},{"$error":"#REF!"}]
[15,15,{"$error":"#REF!"},{"$error":"#REF!"},{"$f":"IF(ISERROR(MATCH(D18,#REF!,0))=FALSE,\"C\",IF(ISERROR(MATCH(D18,#REF!,0))=FALSE,\"D\",\"\"))","v":""},{"$f":"IF(E18=\"C\",0,IF(E18 =\"D\",ROUND(1/((1+#REF!)^A18),9) * 2,ROUND(1/((1+#REF!)^A18),9)))","v":{"$error":"#REF!"}},{"$error":"#REF!"}]
[16,16,{"$error":"#REF!"},{"$error":"#REF!"},{"$f":"IF(ISERROR(MATCH(D19,#REF!,0))=FALSE,\"C\",IF(ISERROR(MATCH(D19,#REF!,0))=FALSE,\"D\",\"\"))","v":""},{"$f":"IF(E19=\"C\",0,IF(E19 =\"D\",ROUND(1/((1+#REF!)^A19),9) * 2,ROUND(1/((1+#REF!)^A19),9)))","v":{"$error":"#REF!"}},{"$error":"#REF!"}]
[17,17,{"$error":"#REF!"},{"$error":"#REF!"},{"$f":"IF(ISERROR(MATCH(D20,#REF!,0))=FALSE,\"C\",IF(ISERROR(MATCH(D20,#REF!,0))=FALSE,\"D\",\"\"))","v":""},{"$f":"IF(E20=\"C\",0,IF(E20 =\"D\",ROUND(1/((1+#REF!)^A20),9) * 2,ROUND(1/((1+#REF!)^A20),9)))","v":{"$error":"#REF!"}},{"$error":"#REF!"}]
[18,18,{"$error":"#REF!"},{"$error":"#REF!"},{"$f":"IF(ISERROR(MATCH(D21,#REF!,0))=FALSE,\"C\",IF(ISERROR(MATCH(D21,#REF!,0))=FALSE,\"D\",\"\"))","v":""},{"$f":"IF(E21=\"C\",0,IF(E21 =\"D\",ROUND(1/((1+#REF!)^A21),9) * 2,ROUND(1/((1+#REF!)^A21),9)))","v":{"$error":"#REF!"}},{"$error":"#REF!"}]
[19,19,{"$error":"#REF!"},{"$error":"#REF!"},{"$f":"IF(ISERROR(MATCH(D22,#REF!,0))=FALSE,\"C\",IF(ISERROR(MATCH(D22,#REF!,0))=FALSE,\"D\",\"\"))","v":""},{"$f":"IF(E22=\"C\",0,IF(E22 =\"D\",ROUND(1/((1+#REF!)^A22),9) * 2,ROUND(1/((1+#REF!)^A22),9)))","v":{"$error":"#REF!"}},{"$error":"#REF!"}]
[20,20,{"$error":"#REF!"},{"$error":"#REF!"},{"$f":"IF(ISERROR(MATCH(D23,#REF!,0))=FALSE,\"C\",IF(ISERROR(MATCH(D23,#REF!,0))=FALSE,\"D\",\"\"))","v":""},{"$f":"IF(E23=\"C\",0,IF(E23 =\"D\",ROUND(1/((1+#REF!)^A23),9) * 2,ROUND(1/((1+#REF!)^A23),9)))","v":{"$error":"#REF!"}},{"$error":"#REF!"}]
[21,21,{"$error":"#REF!"},{"$error":"#REF!"},{"$f":"IF(ISERROR(MATCH(D24,#REF!,0))=FALSE,\"C\",IF(ISERROR(MATCH(D24,#REF!,0))=FALSE,\"D\",\"\"))","v":""},{"$f":"IF(E24=\"C\",0,IF(E24 =\"D\",ROUND(1/((1+#REF!)^A24),9) * 2,ROUND(1/((1+#REF!)^A24),9)))","v":{"$error":"#REF!"}},{"$error":"#REF!"}]
[22,22,{"$error":"#REF!"},{"$error":"#REF!"},{"$f":"IF(ISERROR(MATCH(D25,#REF!,0))=FALSE,\"C\",IF(ISERROR(MATCH(D25,#REF!,0))=FALSE,\"D\",\"\"))","v":""},{"$f":"IF(E25=\"C\",0,IF(E25 =\"D\",ROUND(1/((1+#REF!)^A25),9) * 2,ROUND(1/((1+#REF!)^A25),9)))","v":{"$error":"#REF!"}},{"$error":"#REF!"}]
[23,23,{"$error":"#REF!"},{"$error":"#REF!"},{"$f":"IF(ISERROR(MATCH(D26,#REF!,0))=FALSE,\"C\",IF(ISERROR(MATCH(D26,#REF!,0))=FALSE,\"D\",\"\"))","v":""},{"$f":"IF(E26=\"C\",0,IF(E26 =\"D\",ROUND(1/((1+#REF!)^A26),9) * 2,ROUND(1/((1+#REF!)^A26),9)))","v":{"$error":"#REF!"}},{"$error":"#REF!"}]
[24,24,{"$error":"#REF!"},{"$error":"#REF!"},{"$f":"IF(ISERROR(MATCH(D27,#REF!,0))=FALSE,\"C\",IF(ISERROR(MATCH(D27,#REF!,0))=FALSE,\"D\",\"\"))","v":""},{"$f":"IF(E27=\"C\",0,IF(E27 =\"D\",ROUND(1/((1+#REF!)^A27),9) * 2,ROUND(1/((1+#REF!)^A27),9)))","v":{"$error":"#REF!"}},{"$error":"#REF!"}]
[25,25,{"$error":"#REF!"},{"$error":"#REF!"},{"$f":"IF(ISERROR(MATCH(D28,#REF!,0))=FALSE,\"C\",IF(ISERROR(MATCH(D28,#REF!,0))=FALSE,\"D\",\"\"))","v":""},{"$f":"IF(E28=\"C\",0,IF(E28 =\"D\",ROUND(1/((1+#REF!)^A28),9) * 2,ROUND(1/((1+#REF!)^A28),9)))","v":{"$error":"#REF!"}},{"$error":"#REF!"}]
[26,26,{"$error":"#REF!"},{"$error":"#REF!"},{"$f":"IF(ISERROR(MATCH(D29,#REF!,0))=FALSE,\"C\",IF(ISERROR(MATCH(D29,#REF!,0))=FALSE,\"D\",\"\"))","v":""},{"$f":"IF(E29=\"C\",0,IF(E29 =\"D\",ROUND(1/((1+#REF!)^A29),9) * 2,ROUND(1/((1+#REF!)^A29),9)))","v":{"$error":"#REF!"}},{"$error":"#REF!"}]
[27,27,{"$error":"#REF!"},{"$error":"#REF!"},{"$f":"IF(ISERROR(MATCH(D30,#REF!,0))=FALSE,\"C\",IF(ISERROR(MATCH(D30,#REF!,0))=FALSE,\"D\",\"\"))","v":""},{"$f":"IF(E30=\"C\",0,IF(E30 =\"D\",ROUND(1/((1+#REF!)^A30),9) * 2,ROUND(1/((1+#REF!)^A30),9)))","v":{"$error":"#REF!"}},{"$error":"#REF!"}]
[28,28,{"$error":"#REF!"},{"$error":"#REF!"},{"$f":"IF(ISERROR(MATCH(D31,#REF!,0))=FALSE,\"C\",IF(ISERROR(MATCH(D31,#REF!,0))=FALSE,\"D\",\"\"))","v":""},{"$f":"IF(E31=\"C\",0,IF(E31 =\"D\",ROUND(1/((1+#REF!)^A31),9) * 2,ROUND(1/((1+#REF!)^A31),9)))","v":{"$error":"#REF!"}},{"$error":"#REF!"}]
[29,29,{"$error":"#REF!"},{"$error":"#REF!"},{"$f":"IF(ISERROR(MATCH(D32,#REF!,0))=FALSE,\"C\",IF(ISERROR(MATCH(D32,#REF!,0))=FALSE,\"D\",\"\"))","v":""},{"$f":"IF(E32=\"C\",0,IF(E32 =\"D\",ROUND(1/((1+#REF!)^A32),9) * 2,ROUND(1/((1+#REF!)^A32),9)))","v":{"$error":"#REF!"}},{"$error":"#REF!"}]
[30,30,{"$error":"#REF!"},{"$error":"#REF!"},{"$f":"IF(ISERROR(MATCH(D33,#REF!,0))=FALSE,\"C\",IF(ISERROR(MATCH(D33,#REF!,0))=FALSE,\"D\",\"\"))","v":""},{"$f":"IF(E33=\"C\",0,IF(E33 =\"D\",ROUND(1/((1+#REF!)^A33),9) * 2,ROUND(1/((1+#REF!)^A33),9)))","v":{"$error":"#REF!"}},{"$error":"#REF!"}]
[31,31,{"$error":"#REF!"},{"$error":"#REF!"},{"$f":"IF(ISERROR(MATCH(D34,#REF!,0))=FALSE,\"C\",IF(ISERROR(MATCH(D34,#REF!,0))=FALSE,\"D\",\"\"))","v":""},{"$f":"IF(E34=\"C\",0,IF(E34 =\"D\",ROUND(1/((1+#REF!)^A34),9) * 2,ROUND(1/((1+#REF!)^A34),9)))","v":{"$error":"#REF!"}},{"$error":"#REF!"}]
[32,32,{"$error":"#REF!"},{"$error":"#REF!"},{"$f":"IF(ISERROR(MATCH(D35,#REF!,0))=FALSE,\"C\",IF(ISERROR(MATCH(D35,#REF!,0))=FALSE,\"D\",\"\"))","v":""},{"$f":"IF(E35=\"C\",0,IF(E35 =\"D\",ROUND(1/((1+#REF!)^A35),9) * 2,ROUND(1/((1+#REF!)^A35),9)))","v":{"$error":"#REF!"}},{"$error":"#REF!"}]
[33,33,{"$error":"#REF!"},{"$error":"#REF!"},{"$f":"IF(ISERROR(MATCH(D36,#REF!,0))=FALSE,\"C\",IF(ISERROR(MATCH(D36,#REF!,0))=FALSE,\"D\",\"\"))","v":""},{"$f":"IF(E36=\"C\",0,IF(E36 =\"D\",ROUND(1/((1+#REF!)^A36),9) * 2,ROUND(1/((1+#REF!)^A36),9)))","v":{"$error":"#REF!"}},{"$error":"#REF!"}]
[34,34,{"$error":"#REF!"},{"$error":"#REF!"},{"$f":"IF(ISERROR(MATCH(D37,#REF!,0))=FALSE,\"C\",IF(ISERROR(MATCH(D37,#REF!,0))=FALSE,\"D\",\"\"))","v":""},{"$f":"IF(E37=\"C\",0,IF(E37 =\"D\",ROUND(1/((1+#REF!)^A37),9) * 2,ROUND(1/((1+#REF!)^A37),9)))","v":{"$error":"#REF!"}},{"$error":"#REF!"}]
[35,35,{"$error":"#REF!"},{"$error":"#REF!"},{"$f":"IF(ISERROR(MATCH(D38,#REF!,0))=FALSE,\"C\",IF(ISERROR(MATCH(D38,#REF!,0))=FALSE,\"D\",\"\"))","v":""},{"$f":"IF(E38=\"C\",0,IF(E38 =\"D\",ROUND(1/((1+#REF!)^A38),9) * 2,ROUND(1/((1+#REF!)^A38),9)))","v":{"$error":"#REF!"}},{"$error":"#REF!"}]
[36,36,{"$error":"#REF!"},{"$error":"#REF!"},{"$f":"IF(ISERROR(MATCH(D39,#REF!,0))=FALSE,\"C\",IF(ISERROR(MATCH(D39,#REF!,0))=FALSE,\"D\",\"\"))","v":""},{"$f":"IF(E39=\"C\",0,IF(E39 =\"D\",ROUND(1/((1+#REF!)^A39),9) * 2,ROUND(1/((1+#REF!)^A39),9)))","v":{"$error":"#REF!"}},{"$error":"#REF!"}]
[37,37,{"$error":"#REF!"},{"$error":"#REF!"},{"$f":"IF(ISERROR(MATCH(D40,#REF!,0))=FALSE,\"C\",IF(ISERROR(MATCH(D40,#REF!,0))=FALSE,\"D\",\"\"))","v":""},{"$f":"IF(E40=\"C\",0,IF(E40 =\"D\",ROUND(1/((1+#REF!)^A40),9) * 2,ROUND(1/((1+#REF!)^A40),9)))","v":{"$error":"#REF!"}},{"$error":"#REF!"}]
[38,38,{"$error":"#REF!"},{"$error":"#REF!"},{"$f":"IF(ISERROR(MATCH(D41,#REF!,0))=FALSE,\"C\",IF(ISERROR(MATCH(D41,#REF!,0))=FALSE,\"D\",\"\"))","v":""},{"$f":"IF(E41=\"C\",0,IF(E41 =\"D\",ROUND(1/((1+#REF!)^A41),9) * 2,ROUND(1/((1+#REF!)^A41),9)))","v":{"$error":"#REF!"}},{"$error":"#REF!"}]
[39,39,{"$error":"#REF!"},{"$error":"#REF!"},{"$f":"IF(ISERROR(MATCH(D42,#REF!,0))=FALSE,\"C\",IF(ISERROR(MATCH(D42,#REF!,0))=FALSE,\"D\",\"\"))","v":""},{"$f":"IF(E42=\"C\",0,IF(E42 =\"D\",ROUND(1/((1+#REF!)^A42),9) * 2,ROUND(1/((1+#REF!)^A42),9)))","v":{"$error":"#REF!"}},{"$error":"#REF!"}]
[40,40,{"$error":"#REF!"},{"$error":"#REF!"},{"$f":"IF(ISERROR(MATCH(D43,#REF!,0))=FALSE,\"C\",IF(ISERROR(MATCH(D43,#REF!,0))=FALSE,\"D\",\"\"))","v":""},{"$f":"IF(E43=\"C\",0,IF(E43 =\"D\",ROUND(1/((1+#REF!)^A43),9) * 2,ROUND(1/((1+#REF!)^A43),9)))","v":{"$error":"#REF!"}},{"$error":"#REF!"}]
[41,41,{"$error":"#REF!"},{"$error":"#REF!"},{"$f":"IF(ISERROR(MATCH(D44,#REF!,0))=FALSE,\"C\",IF(ISERROR(MATCH(D44,#REF!,0))=FALSE,\"D\",\"\"))","v":""},{"$f":"IF(E44=\"C\",0,IF(E44 =\"D\",ROUND(1/((1+#REF!)^A44),9) * 2,ROUND(1/((1+#REF!)^A44),9)))","v":{"$error":"#REF!"}},{"$error":"#REF!"}]
[42,42,{"$error":"#REF!"},{"$error":"#REF!"},{"$f":"IF(ISERROR(MATCH(D45,#REF!,0))=FALSE,\"C\",IF(ISERROR(MATCH(D45,#REF!,0))=FALSE,\"D\",\"\"))","v":""},{"$f":"IF(E45=\"C\",0,IF(E45 =\"D\",ROUND(1/((1+#REF!)^A45),9) * 2,ROUND(1/((1+#REF!)^A45),9)))","v":{"$error":"#REF!"}},{"$error":"#REF!"}]
[43,43,{"$error":"#REF!"},{"$error":"#REF!"},{"$f":"IF(ISERROR(MATCH(D46,#REF!,0))=FALSE,\"C\",IF(ISERROR(MATCH(D46,#REF!,0))=FALSE,\"D\",\"\"))","v":""},{"$f":"IF(E46=\"C\",0,IF(E46 =\"D\",ROUND(1/((1+#REF!)^A46),9) * 2,ROUND(1/((1+#REF!)^A46),9)))","v":{"$error":"#REF!"}},{"$error":"#REF!"}]
[44,44,{"$error":"#REF!"},{"$error":"#REF!"},{"$f":"IF(ISERROR(MATCH(D47,#REF!,0))=FALSE,\"C\",IF(ISERROR(MATCH(D47,#REF!,0))=FALSE,\"D\",\"\"))","v":""},{"$f":"IF(E47=\"C\",0,IF(E47 =\"D\",ROUND(1/((1+#REF!)^A47),9) * 2,ROUND(1/((1+#REF!)^A47),9)))","v":{"$error":"#REF!"}},{"$error":"#REF!"}]
[45,45,{"$error":"#REF!"},{"$error":"#REF!"},{"$f":"IF(ISERROR(MATCH(D48,#REF!,0))=FALSE,\"C\",IF(ISERROR(MATCH(D48,#REF!,0))=FALSE,\"D\",\"\"))","v":""},{"$f":"IF(E48=\"C\",0,IF(E48 =\"D\",ROUND(1/((1+#REF!)^A48),9) * 2,ROUND(1/((1+#REF!)^A48),9)))","v":{"$error":"#REF!"}},{"$error":"#REF!"}]
[46,46,{"$error":"#REF!"},{"$error":"#REF!"},{"$f":"IF(ISERROR(MATCH(D49,#REF!,0))=FALSE,\"C\",IF(ISERROR(MATCH(D49,#REF!,0))=FALSE,\"D\",\"\"))","v":""},{"$f":"IF(E49=\"C\",0,IF(E49 =\"D\",ROUND(1/((1+#REF!)^A49),9) * 2,ROUND(1/((1+#REF!)^A49),9)))","v":{"$error":"#REF!"}},{"$error":"#REF!"}]
[47,47,{"$error":"#REF!"},{"$error":"#REF!"},{"$f":"IF(ISERROR(MATCH(D50,#REF!,0))=FALSE,\"C\",IF(ISERROR(MATCH(D50,#REF!,0))=FALSE,\"D\",\"\"))","v":""},{"$f":"IF(E50=\"C\",0,IF(E50 =\"D\",ROUND(1/((1+#REF!)^A50),9) * 2,ROUND(1/((1+#REF!)^A50),9)))","v":{"$error":"#REF!"}},{"$error":"#REF!"}]
[48,48,{"$error":"#REF!"},{"$error":"#REF!"},{"$f":"IF(ISERROR(MATCH(D51,#REF!,0))=FALSE,\"C\",IF(ISERROR(MATCH(D51,#REF!,0))=FALSE,\"D\",\"\"))","v":""},{"$f":"IF(E51=\"C\",0,IF(E51 =\"D\",ROUND(1/((1+#REF!)^A51),9) * 2,ROUND(1/((1+#REF!)^A51),9)))","v":{"$error":"#REF!"}},{"$error":"#REF!"}]
[49,49,{"$error":"#REF!"},{"$error":"#REF!"},{"$f":"IF(ISERROR(MATCH(D52,#REF!,0))=FALSE,\"C\",IF(ISERROR(MATCH(D52,#REF!,0))=FALSE,\"D\",\"\"))","v":""},{"$f":"IF(E52=\"C\",0,IF(E52 =\"D\",ROUND(1/((1+#REF!)^A52),9) * 2,ROUND(1/((1+#REF!)^A52),9)))","v":{"$error":"#REF!"}},{"$error":"#REF!"}]
[50,50,{"$error":"#REF!"},{"$error":"#REF!"},{"$f":"IF(ISERROR(MATCH(D53,#REF!,0))=FALSE,\"C\",IF(ISERROR(MATCH(D53,#REF!,0))=FALSE,\"D\",\"\"))","v":""},{"$f":"IF(E53=\"C\",0,IF(E53 =\"D\",ROUND(1/((1+#REF!)^A53),9) * 2,ROUND(1/((1+#REF!)^A53),9)))","v":{"$error":"#REF!"}},{"$error":"#REF!"}]
[51,51,{"$error":"#REF!"},{"$error":"#REF!"},{"$f":"IF(ISERROR(MATCH(D54,#REF!,0))=FALSE,\"C\",IF(ISERROR(MATCH(D54,#REF!,0))=FALSE,\"D\",\"\"))","v":""},{"$f":"IF(E54=\"C\",0,IF(E54 =\"D\",ROUND(1/((1+#REF!)^A54),9) * 2,ROUND(1/((1+#REF!)^A54),9)))","v":{"$error":"#REF!"}},{"$error":"#REF!"}]
[52,52,{"$error":"#REF!"},{"$error":"#REF!"},{"$f":"IF(ISERROR(MATCH(D55,#REF!,0))=FALSE,\"C\",IF(ISERROR(MATCH(D55,#REF!,0))=FALSE,\"D\",\"\"))","v":""},{"$f":"IF(E55=\"C\",0,IF(E55 =\"D\",ROUND(1/((1+#REF!)^A55),9) * 2,ROUND(1/((1+#REF!)^A55),9)))","v":{"$error":"#REF!"}},{"$error":"#REF!"}]
[53,53,{"$error":"#REF!"},{"$error":"#REF!"},{"$f":"IF(ISERROR(MATCH(D56,#REF!,0))=FALSE,\"C\",IF(ISERROR(MATCH(D56,#REF!,0))=FALSE,\"D\",\"\"))","v":""},{"$f":"IF(E56=\"C\",0,IF(E56 =\"D\",ROUND(1/((1+#REF!)^A56),9) * 2,ROUND(1/((1+#REF!)^A56),9)))","v":{"$error":"#REF!"}},{"$error":"#REF!"}]
[54,54,{"$error":"#REF!"},{"$error":"#REF!"},{"$f":"IF(ISERROR(MATCH(D57,#REF!,0))=FALSE,\"C\",IF(ISERROR(MATCH(D57,#REF!,0))=FALSE,\"D\",\"\"))","v":""},{"$f":"IF(E57=\"C\",0,IF(E57 =\"D\",ROUND(1/((1+#REF!)^A57),9) * 2,ROUND(1/((1+#REF!)^A57),9)))","v":{"$error":"#REF!"}},{"$error":"#REF!"}]
[55,55,{"$error":"#REF!"},{"$error":"#REF!"},{"$f":"IF(ISERROR(MATCH(D58,#REF!,0))=FALSE,\"C\",IF(ISERROR(MATCH(D58,#REF!,0))=FALSE,\"D\",\"\"))","v":""},{"$f":"IF(E58=\"C\",0,IF(E58 =\"D\",ROUND(1/((1+#REF!)^A58),9) * 2,ROUND(1/((1+#REF!)^A58),9)))","v":{"$error":"#REF!"}},{"$error":"#REF!"}]
[56,56,{"$error":"#REF!"},{"$error":"#REF!"},{"$f":"IF(ISERROR(MATCH(D59,#REF!,0))=FALSE,\"C\",IF(ISERROR(MATCH(D59,#REF!,0))=FALSE,\"D\",\"\"))","v":""},{"$f":"IF(E59=\"C\",0,IF(E59 =\"D\",ROUND(1/((1+#REF!)^A59),9) * 2,ROUND(1/((1+#REF!)^A59),9)))","v":{"$error":"#REF!"}},{"$error":"#REF!"}]
[57,57,{"$error":"#REF!"},{"$error":"#REF!"},{"$f":"IF(ISERROR(MATCH(D60,#REF!,0))=FALSE,\"C\",IF(ISERROR(MATCH(D60,#REF!,0))=FALSE,\"D\",\"\"))","v":""},{"$f":"IF(E60=\"C\",0,IF(E60 =\"D\",ROUND(1/((1+#REF!)^A60),9) * 2,ROUND(1/((1+#REF!)^A60),9)))","v":{"$error":"#REF!"}},{"$error":"#REF!"}]
[58,58,{"$error":"#REF!"},{"$error":"#REF!"},{"$f":"IF(ISERROR(MATCH(D61,#REF!,0))=FALSE,\"C\",IF(ISERROR(MATCH(D61,#REF!,0))=FALSE,\"D\",\"\"))","v":""},{"$f":"IF(E61=\"C\",0,IF(E61 =\"D\",ROUND(1/((1+#REF!)^A61),9) * 2,ROUND(1/((1+#REF!)^A61),9)))","v":{"$error":"#REF!"}},{"$error":"#REF!"}]
[59,59,{"$error":"#REF!"},{"$error":"#REF!"},{"$f":"IF(ISERROR(MATCH(D62,#REF!,0))=FALSE,\"C\",IF(ISERROR(MATCH(D62,#REF!,0))=FALSE,\"D\",\"\"))","v":""},{"$f":"IF(E62=\"C\",0,IF(E62 =\"D\",ROUND(1/((1+#REF!)^A62),9) * 2,ROUND(1/((1+#REF!)^A62),9)))","v":{"$error":"#REF!"}},{"$error":"#REF!"}]
[60,60,{"$error":"#REF!"},{"$error":"#REF!"},{"$f":"IF(ISERROR(MATCH(D63,#REF!,0))=FALSE,\"C\",IF(ISERROR(MATCH(D63,#REF!,0))=FALSE,\"D\",\"\"))","v":""},{"$f":"IF(E63=\"C\",0,IF(E63 =\"D\",ROUND(1/((1+#REF!)^A63),9) * 2,ROUND(1/((1+#REF!)^A63),9)))","v":{"$error":"#REF!"}},{"$error":"#REF!"}]
[61,61,{"$error":"#REF!"},{"$error":"#REF!"},{"$f":"IF(ISERROR(MATCH(D64,#REF!,0))=FALSE,\"C\",IF(ISERROR(MATCH(D64,#REF!,0))=FALSE,\"D\",\"\"))","v":""},{"$f":"IF(E64=\"C\",0,IF(E64 =\"D\",ROUND(1/((1+#REF!)^A64),9) * 2,ROUND(1/((1+#REF!)^A64),9)))","v":{"$error":"#REF!"}},{"$error":"#REF!"}]
[62,62,{"$error":"#REF!"},{"$error":"#REF!"},{"$f":"IF(ISERROR(MATCH(D65,#REF!,0))=FALSE,\"C\",IF(ISERROR(MATCH(D65,#REF!,0))=FALSE,\"D\",\"\"))","v":""},{"$f":"IF(E65=\"C\",0,IF(E65 =\"D\",ROUND(1/((1+#REF!)^A65),9) * 2,ROUND(1/((1+#REF!)^A65),9)))","v":{"$error":"#REF!"}},{"$error":"#REF!"}]
[63,63,{"$error":"#REF!"},{"$error":"#REF!"},{"$f":"IF(ISERROR(MATCH(D66,#REF!,0))=FALSE,\"C\",IF(ISERROR(MATCH(D66,#REF!,0))=FALSE,\"D\",\"\"))","v":""},{"$f":"IF(E66=\"C\",0,IF(E66 =\"D\",ROUND(1/((1+#REF!)^A66),9) * 2,ROUND(1/((1+#REF!)^A66),9)))","v":{"$error":"#REF!"}},{"$error":"#REF!"}]
[64,64,{"$error":"#REF!"},{"$error":"#REF!"},{"$f":"IF(ISERROR(MATCH(D67,#REF!,0))=FALSE,\"C\",IF(ISERROR(MATCH(D67,#REF!,0))=FALSE,\"D\",\"\"))","v":""},{"$f":"IF(E67=\"C\",0,IF(E67 =\"D\",ROUND(1/((1+#REF!)^A67),9) * 2,ROUND(1/((1+#REF!)^A67),9)))","v":{"$error":"#REF!"}},{"$error":"#REF!"}]
[65,65,{"$error":"#REF!"},{"$f":"MONTH(C68)","v":{"$error":"#REF!"}},{"$f":"IF(ISERROR(MATCH(D68,#REF!,0))=FALSE,\"C\",IF(ISERROR(MATCH(D68,#REF!,0))=FALSE,\"D\",\"\"))","v":""},{"$f":"IF(E68=\"C\",0,IF(E68 =\"D\",ROUND(1/((1+#REF!)^A68),9) * 2,ROUND(1/((1+#REF!)^A68),9)))","v":{"$error":"#REF!"}},{"$error":"#REF!"}]
[{"$f":"A68+1","v":66},{"$f":"IF(E69<>\"C\",IF(ISERROR(1+B68)=TRUE,1,1+B68),IF(ISNUMBER(B68),B68,1))","v":66},{"$f":"DATE(YEAR(C68) + 1/12,MONTH(C68)+1,DAY(C68))","v":{"$error":"#REF!"}},{"$error":"#REF!"},{"$f":"IF(ISERROR(MATCH(D69,#REF!,0))=FALSE,\"C\",IF(ISERROR(MATCH(D69,#REF!,0))=FALSE,\"D\",\"\"))","v":""},{"$f":"IF(E69=\"C\",0,IF(E69 =\"D\",ROUND(1/((1+#REF!)^A69),9) * 2,ROUND(1/((1+#REF!)^A69),9)))","v":{"$error":"#REF!"}},{"$error":"#REF!"}]
[67,67,{"$error":"#REF!"},{"$error":"#REF!"},{"$f":"IF(ISERROR(MATCH(D70,#REF!,0))=FALSE,\"C\",IF(ISERROR(MATCH(D70,#REF!,0))=FALSE,\"D\",\"\"))","v":""},{"$f":"IF(E70=\"C\",0,IF(E70 =\"D\",ROUND(1/((1+#REF!)^A70),9) * 2,ROUND(1/((1+#REF!)^A70),9)))","v":{"$error":"#REF!"}},{"$f":"G69+ROUND(F70,9)","v":{"$error":"#REF!"}}]
[68,68,{"$error":"#REF!"},{"$error":"#REF!"},{"$f":"IF(ISERROR(MATCH(D71,#REF!,0))=FALSE,\"C\",IF(ISERROR(MATCH(D71,#REF!,0))=FALSE,\"D\",\"\"))","v":""},{"$f":"IF(E71=\"C\",0,IF(E71 =\"D\",ROUND(1/((1+#REF!)^A71),9) * 2,ROUND(1/((1+#REF!)^A71),9)))","v":{"$error":"#REF!"}},{"$error":"#REF!"}]
[69,69,{"$error":"#REF!"},{"$error":"#REF!"},{"$f":"IF(ISERROR(MATCH(D72,#REF!,0))=FALSE,\"C\",IF(ISERROR(MATCH(D72,#REF!,0))=FALSE,\"D\",\"\"))","v":""},{"$f":"IF(E72=\"C\",0,IF(E72 =\"D\",ROUND(1/((1+#REF!)^A72),9) * 2,ROUND(1/((1+#REF!)^A72),9)))","v":{"$error":"#REF!"}},{"$error":"#REF!"}]
[70,70,{"$error":"#REF!"},{"$error":"#REF!"},{"$f":"IF(ISERROR(MATCH(D73,#REF!,0))=FALSE,\"C\",IF(ISERROR(MATCH(D73,#REF!,0))=FALSE,\"D\",\"\"))","v":""},{"$f":"IF(E73=\"C\",0,IF(E73 =\"D\",ROUND(1/((1+#REF!)^A73),9) * 2,ROUND(1/((1+#REF!)^A73),9)))","v":{"$error":"#REF!"}},{"$error":"#REF!"}]
[71,71,{"$error":"#REF!"},{"$error":"#REF!"},{"$f":"IF(ISERROR(MATCH(D74,#REF!,0))=FALSE,\"C\",IF(ISERROR(MATCH(D74,#REF!,0))=FALSE,\"D\",\"\"))","v":""},{"$f":"IF(E74=\"C\",0,IF(E74 =\"D\",ROUND(1/((1+#REF!)^A74),9) * 2,ROUND(1/((1+#REF!)^A74),9)))","v":{"$error":"#REF!"}},{"$error":"#REF!"}]
[72,72,{"$error":"#REF!"},{"$error":"#REF!"},{"$f":"IF(ISERROR(MATCH(D75,#REF!,0))=FALSE,\"C\",IF(ISERROR(MATCH(D75,#REF!,0))=FALSE,\"D\",\"\"))","v":""},{"$f":"IF(E75=\"C\",0,IF(E75 =\"D\",ROUND(1/((1+#REF!)^A75),9) * 2,ROUND(1/((1+#REF!)^A75),9)))","v":{"$error":"#REF!"}},{"$error":"#REF!"}]
[73,73,{"$error":"#REF!"},{"$error":"#REF!"},{"$f":"IF(ISERROR(MATCH(D76,#REF!,0))=FALSE,\"C\",IF(ISERROR(MATCH(D76,#REF!,0))=FALSE,\"D\",\"\"))","v":""},{"$f":"IF(E76=\"C\",0,IF(E76 =\"D\",ROUND(1/((1+#REF!)^A76),9) * 2,ROUND(1/((1+#REF!)^A76),9)))","v":{"$error":"#REF!"}},{"$error":"#REF!"}]
[74,74,{"$error":"#REF!"},{"$error":"#REF!"},{"$f":"IF(ISERROR(MATCH(D77,#REF!,0))=FALSE,\"C\",IF(ISERROR(MATCH(D77,#REF!,0))=FALSE,\"D\",\"\"))","v":""},{"$f":"IF(E77=\"C\",0,IF(E77 =\"D\",ROUND(1/((1+#REF!)^A77),9) * 2,ROUND(1/((1+#REF!)^A77),9)))","v":{"$error":"#REF!"}},{"$error":"#REF!"}]
[75,75,{"$error":"#REF!"},{"$error":"#REF!"},{"$f":"IF(ISERROR(MATCH(D78,#REF!,0))=FALSE,\"C\",IF(ISERROR(MATCH(D78,#REF!,0))=FALSE,\"D\",\"\"))","v":""},{"$f":"IF(E78=\"C\",0,IF(E78 =\"D\",ROUND(1/((1+#REF!)^A78),9) * 2,ROUND(1/((1+#REF!)^A78),9)))","v":{"$error":"#REF!"}},{"$error":"#REF!"}]
[76,76,{"$error":"#REF!"},{"$error":"#REF!"},{"$f":"IF(ISERROR(MATCH(D79,#REF!,0))=FALSE,\"C\",IF(ISERROR(MATCH(D79,#REF!,0))=FALSE,\"D\",\"\"))","v":""},{"$f":"IF(E79=\"C\",0,IF(E79 =\"D\",ROUND(1/((1+#REF!)^A79),9) * 2,ROUND(1/((1+#REF!)^A79),9)))","v":{"$error":"#REF!"}},{"$error":"#REF!"}]
[77,77,{"$error":"#REF!"},{"$error":"#REF!"},{"$f":"IF(ISERROR(MATCH(D80,#REF!,0))=FALSE,\"C\",IF(ISERROR(MATCH(D80,#REF!,0))=FALSE,\"D\",\"\"))","v":""},{"$f":"IF(E80=\"C\",0,IF(E80 =\"D\",ROUND(1/((1+#REF!)^A80),9) * 2,ROUND(1/((1+#REF!)^A80),9)))","v":{"$error":"#REF!"}},{"$error":"#REF!"}]
[78,78,{"$error":"#REF!"},{"$error":"#REF!"},{"$f":"IF(ISERROR(MATCH(D81,#REF!,0))=FALSE,\"C\",IF(ISERROR(MATCH(D81,#REF!,0))=FALSE,\"D\",\"\"))","v":""},{"$f":"IF(E81=\"C\",0,IF(E81 =\"D\",ROUND(1/((1+#REF!)^A81),9) * 2,ROUND(1/((1+#REF!)^A81),9)))","v":{"$error":"#REF!"}},{"$error":"#REF!"}]
[79,79,{"$error":"#REF!"},{"$error":"#REF!"},{"$f":"IF(ISERROR(MATCH(D82,#REF!,0))=FALSE,\"C\",IF(ISERROR(MATCH(D82,#REF!,0))=FALSE,\"D\",\"\"))","v":""},{"$f":"IF(E82=\"C\",0,IF(E82 =\"D\",ROUND(1/((1+#REF!)^A82),9) * 2,ROUND(1/((1+#REF!)^A82),9)))","v":{"$error":"#REF!"}},{"$error":"#REF!"}]
[80,80,{"$error":"#REF!"},{"$error":"#REF!"},{"$f":"IF(ISERROR(MATCH(D83,#REF!,0))=FALSE,\"C\",IF(ISERROR(MATCH(D83,#REF!,0))=FALSE,\"D\",\"\"))","v":""},{"$f":"IF(E83=\"C\",0,IF(E83 =\"D\",ROUND(1/((1+#REF!)^A83),9) * 2,ROUND(1/((1+#REF!)^A83),9)))","v":{"$error":"#REF!"}},{"$error":"#REF!"}]
[81,81,{"$error":"#REF!"},{"$error":"#REF!"},{"$f":"IF(ISERROR(MATCH(D84,#REF!,0))=FALSE,\"C\",IF(ISERROR(MATCH(D84,#REF!,0))=FALSE,\"D\",\"\"))","v":""},{"$f":"IF(E84=\"C\",0,IF(E84 =\"D\",ROUND(1/((1+#REF!)^A84),9) * 2,ROUND(1/((1+#REF!)^A84),9)))","v":{"$error":"#REF!"}},{"$error":"#REF!"}]
[82,82,{"$error":"#REF!"},{"$error":"#REF!"},{"$f":"IF(ISERROR(MATCH(D85,#REF!,0))=FALSE,\"C\",IF(ISERROR(MATCH(D85,#REF!,0))=FALSE,\"D\",\"\"))","v":""},{"$f":"IF(E85=\"C\",0,IF(E85 =\"D\",ROUND(1/((1+#REF!)^A85),9) * 2,ROUND(1/((1+#REF!)^A85),9)))","v":{"$error":"#REF!"}},{"$error":"#REF!"}]
[83,83,{"$error":"#REF!"},{"$error":"#REF!"},{"$f":"IF(ISERROR(MATCH(D86,#REF!,0))=FALSE,\"C\",IF(ISERROR(MATCH(D86,#REF!,0))=FALSE,\"D\",\"\"))","v":""},{"$f":"IF(E86=\"C\",0,IF(E86 =\"D\",ROUND(1/((1+#REF!)^A86),9) * 2,ROUND(1/((1+#REF!)^A86),9)))","v":{"$error":"#REF!"}},{"$error":"#REF!"}]
[84,84,{"$error":"#REF!"},{"$error":"#REF!"},{"$f":"IF(ISERROR(MATCH(D87,#REF!,0))=FALSE,\"C\",IF(ISERROR(MATCH(D87,#REF!,0))=FALSE,\"D\",\"\"))","v":""},{"$f":"IF(E87=\"C\",0,IF(E87 =\"D\",ROUND(1/((1+#REF!)^A87),9) * 2,ROUND(1/((1+#REF!)^A87),9)))","v":{"$error":"#REF!"}},{"$error":"#REF!"}]
[85,85,{"$error":"#REF!"},{"$error":"#REF!"},{"$f":"IF(ISERROR(MATCH(D88,#REF!,0))=FALSE,\"C\",IF(ISERROR(MATCH(D88,#REF!,0))=FALSE,\"D\",\"\"))","v":""},{"$f":"IF(E88=\"C\",0,IF(E88 =\"D\",ROUND(1/((1+#REF!)^A88),9) * 2,ROUND(1/((1+#REF!)^A88),9)))","v":{"$error":"#REF!"}},{"$error":"#REF!"}]
[86,86,{"$error":"#REF!"},{"$error":"#REF!"},{"$f":"IF(ISERROR(MATCH(D89,#REF!,0))=FALSE,\"C\",IF(ISERROR(MATCH(D89,#REF!,0))=FALSE,\"D\",\"\"))","v":""},{"$f":"IF(E89=\"C\",0,IF(E89 =\"D\",ROUND(1/((1+#REF!)^A89),9) * 2,ROUND(1/((1+#REF!)^A89),9)))","v":{"$error":"#REF!"}},{"$error":"#REF!"}]
[87,87,{"$error":"#REF!"},{"$error":"#REF!"},{"$f":"IF(ISERROR(MATCH(D90,#REF!,0))=FALSE,\"C\",IF(ISERROR(MATCH(D90,#REF!,0))=FALSE,\"D\",\"\"))","v":""},{"$f":"IF(E90=\"C\",0,IF(E90 =\"D\",ROUND(1/((1+#REF!)^A90),9) * 2,ROUND(1/((1+#REF!)^A90),9)))","v":{"$error":"#REF!"}},{"$error":"#REF!"}]
[88,88,{"$error":"#REF!"},{"$error":"#REF!"},{"$f":"IF(ISERROR(MATCH(D91,#REF!,0))=FALSE,\"C\",IF(ISERROR(MATCH(D91,#REF!,0))=FALSE,\"D\",\"\"))","v":""},{"$f":"IF(E91=\"C\",0,IF(E91 =\"D\",ROUND(1/((1+#REF!)^A91),9) * 2,ROUND(1/((1+#REF!)^A91),9)))","v":{"$error":"#REF!"}},{"$error":"#REF!"}]
[89,89,{"$error":"#REF!"},{"$error":"#REF!"},{"$f":"IF(ISERROR(MATCH(D92,#REF!,0))=FALSE,\"C\",IF(ISERROR(MATCH(D92,#REF!,0))=FALSE,\"D\",\"\"))","v":""},{"$f":"IF(E92=\"C\",0,IF(E92 =\"D\",ROUND(1/((1+#REF!)^A92),9) * 2,ROUND(1/((1+#REF!)^A92),9)))","v":{"$error":"#REF!"}},{"$error":"#REF!"}]
[90,90,{"$error":"#REF!"},{"$error":"#REF!"},{"$f":"IF(ISERROR(MATCH(D93,#REF!,0))=FALSE,\"C\",IF(ISERROR(MATCH(D93,#REF!,0))=FALSE,\"D\",\"\"))","v":""},{"$f":"IF(E93=\"C\",0,IF(E93 =\"D\",ROUND(1/((1+#REF!)^A93),9) * 2,ROUND(1/((1+#REF!)^A93),9)))","v":{"$error":"#REF!"}},{"$error":"#REF!"}]
[91,91,{"$error":"#REF!"},{"$error":"#REF!"},{"$f":"IF(ISERROR(MATCH(D94,#REF!,0))=FALSE,\"C\",IF(ISERROR(MATCH(D94,#REF!,0))=FALSE,\"D\",\"\"))","v":""},{"$f":"IF(E94=\"C\",0,IF(E94 =\"D\",ROUND(1/((1+#REF!)^A94),9) * 2,ROUND(1/((1+#REF!)^A94),9)))","v":{"$error":"#REF!"}},{"$error":"#REF!"}]
[92,92,{"$error":"#REF!"},{"$error":"#REF!"},{"$f":"IF(ISERROR(MATCH(D95,#REF!,0))=FALSE,\"C\",IF(ISERROR(MATCH(D95,#REF!,0))=FALSE,\"D\",\"\"))","v":""},{"$f":"IF(E95=\"C\",0,IF(E95 =\"D\",ROUND(1/((1+#REF!)^A95),9) * 2,ROUND(1/((1+#REF!)^A95),9)))","v":{"$error":"#REF!"}},{"$error":"#REF!"}]
[93,93,{"$error":"#REF!"},{"$error":"#REF!"},{"$f":"IF(ISERROR(MATCH(D96,#REF!,0))=FALSE,\"C\",IF(ISERROR(MATCH(D96,#REF!,0))=FALSE,\"D\",\"\"))","v":""},{"$f":"IF(E96=\"C\",0,IF(E96 =\"D\",ROUND(1/((1+#REF!)^A96),9) * 2,ROUND(1/((1+#REF!)^A96),9)))","v":{"$error":"#REF!"}},{"$error":"#REF!"}]
[94,94,{"$error":"#REF!"},{"$error":"#REF!"},{"$f":"IF(ISERROR(MATCH(D97,#REF!,0))=FALSE,\"C\",IF(ISERROR(MATCH(D97,#REF!,0))=FALSE,\"D\",\"\"))","v":""},{"$f":"IF(E97=\"C\",0,IF(E97 =\"D\",ROUND(1/((1+#REF!)^A97),9) * 2,ROUND(1/((1+#REF!)^A97),9)))","v":{"$error":"#REF!"}},{"$error":"#REF!"}]
[95,95,{"$error":"#REF!"},{"$error":"#REF!"},{"$f":"IF(ISERROR(MATCH(D98,#REF!,0))=FALSE,\"C\",IF(ISERROR(MATCH(D98,#REF!,0))=FALSE,\"D\",\"\"))","v":""},{"$f":"IF(E98=\"C\",0,IF(E98 =\"D\",ROUND(1/((1+#REF!)^A98),9) * 2,ROUND(1/((1+#REF!)^A98),9)))","v":{"$error":"#REF!"}},{"$error":"#REF!"}]
[96,96,{"$error":"#REF!"},{"$error":"#REF!"},{"$f":"IF(ISERROR(MATCH(D99,#REF!,0))=FALSE,\"C\",IF(ISERROR(MATCH(D99,#REF!,0))=FALSE,\"D\",\"\"))","v":""},{"$f":"IF(E99=\"C\",0,IF(E99 =\"D\",ROUND(1/((1+#REF!)^A99),9) * 2,ROUND(1/((1+#REF!)^A99),9)))","v":{"$error":"#REF!"}},{"$error":"#REF!"}]
[97,{"$f":"IF(E100<>\"C\",IF(ISERROR(1+B99)=TRUE,1,1+B99),IF(ISNUMBER(B99),B99,1))","v":97},{"$error":"#REF!"},{"$f":"MONTH(C100)","v":{"$error":"#REF!"}},{"$f":"IF(ISERROR(MATCH(D100,#REF!,0))=FALSE,\"C\",IF(ISERROR(MATCH(D100,#REF!,0))=FALSE,\"D\",\"\"))","v":""},{"$f":"IF(E100=\"C\",0,IF(E100 =\"D\",ROUND(1/((1+#REF!)^A100),9) * 2,ROUND(1/((1+#REF!)^A100),9)))","v":{"$error":"#REF!"}},{"$f":"G99+ROUND(F100,9)","v":{"$error":"#REF!"}}]
[98,98,{"$error":"#REF!"},{"$error":"#REF!"},{"$f":"IF(ISERROR(MATCH(D101,#REF!,0))=FALSE,\"C\",IF(ISERROR(MATCH(D101,#REF!,0))=FALSE,\"D\",\"\"))","v":""},{"$f":"IF(E101=\"C\",0,IF(E101 =\"D\",ROUND(1/((1+#REF!)^A101),9) * 2,ROUND(1/((1+#REF!)^A101),9)))","v":{"$error":"#REF!"}},{"$error":"#REF!"}]
[99,99,{"$error":"#REF!"},{"$error":"#REF!"},{"$f":"IF(ISERROR(MATCH(D102,#REF!,0))=FALSE,\"C\",IF(ISERROR(MATCH(D102,#REF!,0))=FALSE,\"D\",\"\"))","v":""},{"$f":"IF(E102=\"C\",0,IF(E102 =\"D\",ROUND(1/((1+#REF!)^A102),9) * 2,ROUND(1/((1+#REF!)^A102),9)))","v":{"$error":"#REF!"}},{"$error":"#REF!"}]
[100,100,{"$error":"#REF!"},{"$error":"#REF!"},{"$f":"IF(ISERROR(MATCH(D103,#REF!,0))=FALSE,\"C\",IF(ISERROR(MATCH(D103,#REF!,0))=FALSE,\"D\",\"\"))","v":""},{"$f":"IF(E103=\"C\",0,IF(E103 =\"D\",ROUND(1/((1+#REF!)^A103),9) * 2,ROUND(1/((1+#REF!)^A103),9)))","v":{"$error":"#REF!"}},{"$error":"#REF!"}]
[101,101,{"$error":"#REF!"},{"$error":"#REF!"},{"$f":"IF(ISERROR(MATCH(D104,#REF!,0))=FALSE,\"C\",IF(ISERROR(MATCH(D104,#REF!,0))=FALSE,\"D\",\"\"))","v":""},{"$f":"IF(E104=\"C\",0,IF(E104 =\"D\",ROUND(1/((1+#REF!)^A104),9) * 2,ROUND(1/((1+#REF!)^A104),9)))","v":{"$error":"#REF!"}},{"$error":"#REF!"}]
[102,102,{"$error":"#REF!"},{"$error":"#REF!"},{"$f":"IF(ISERROR(MATCH(D105,#REF!,0))=FALSE,\"C\",IF(ISERROR(MATCH(D105,#REF!,0))=FALSE,\"D\",\"\"))","v":""},{"$f":"IF(E105=\"C\",0,IF(E105 =\"D\",ROUND(1/((1+#REF!)^A105),9) * 2,ROUND(1/((1+#REF!)^A105),9)))","v":{"$error":"#REF!"}},{"$error":"#REF!"}]
[103,103,{"$error":"#REF!"},{"$error":"#REF!"},{"$f":"IF(ISERROR(MATCH(D106,#REF!,0))=FALSE,\"C\",IF(ISERROR(MATCH(D106,#REF!,0))=FALSE,\"D\",\"\"))","v":""},{"$f":"IF(E106=\"C\",0,IF(E106 =\"D\",ROUND(1/((1+#REF!)^A106),9) * 2,ROUND(1/((1+#REF!)^A106),9)))","v":{"$error":"#REF!"}},{"$error":"#REF!"}]
[104,104,{"$error":"#REF!"},{"$error":"#REF!"},{"$f":"IF(ISERROR(MATCH(D107,#REF!,0))=FALSE,\"C\",IF(ISERROR(MATCH(D107,#REF!,0))=FALSE,\"D\",\"\"))","v":""},{"$f":"IF(E107=\"C\",0,IF(E107 =\"D\",ROUND(1/((1+#REF!)^A107),9) * 2,ROUND(1/((1+#REF!)^A107),9)))","v":{"$error":"#REF!"}},{"$error":"#REF!"}]
[105,105,{"$error":"#REF!"},{"$error":"#REF!"},{"$f":"IF(ISERROR(MATCH(D108,#REF!,0))=FALSE,\"C\",IF(ISERROR(MATCH(D108,#REF!,0))=FALSE,\"D\",\"\"))","v":""},{"$f":"IF(E108=\"C\",0,IF(E108 =\"D\",ROUND(1/((1+#REF!)^A108),9) * 2,ROUND(1/((1+#REF!)^A108),9)))","v":{"$error":"#REF!"}},{"$error":"#REF!"}]
[106,106,{"$error":"#REF!"},{"$error":"#REF!"},{"$f":"IF(ISERROR(MATCH(D109,#REF!,0))=FALSE,\"C\",IF(ISERROR(MATCH(D109,#REF!,0))=FALSE,\"D\",\"\"))","v":""},{"$f":"IF(E109=\"C\",0,IF(E109 =\"D\",ROUND(1/((1+#REF!)^A109),9) * 2,ROUND(1/((1+#REF!)^A109),9)))","v":{"$error":"#REF!"}},{"$error":"#REF!"}]
[107,107,{"$error":"#REF!"},{"$error":"#REF!"},{"$f":"IF(ISERROR(MATCH(D110,#REF!,0))=FALSE,\"C\",IF(ISERROR(MATCH(D110,#REF!,0))=FALSE,\"D\",\"\"))","v":""},{"$f":"IF(E110=\"C\",0,IF(E110 =\"D\",ROUND(1/((1+#REF!)^A110),9) * 2,ROUND(1/((1+#REF!)^A110),9)))","v":{"$error":"#REF!"}},{"$error":"#REF!"}]
[108,108,{"$error":"#REF!"},{"$error":"#REF!"},{"$f":"IF(ISERROR(MATCH(D111,#REF!,0))=FALSE,\"C\",IF(ISERROR(MATCH(D111,#REF!,0))=FALSE,\"D\",\"\"))","v":""},{"$f":"IF(E111=\"C\",0,IF(E111 =\"D\",ROUND(1/((1+#REF!)^A111),9) * 2,ROUND(1/((1+#REF!)^A111),9)))","v":{"$error":"#REF!"}},{"$error":"#REF!"}]
[109,109,{"$error":"#REF!"},{"$error":"#REF!"},{"$f":"IF(ISERROR(MATCH(D112,#REF!,0))=FALSE,\"C\",IF(ISERROR(MATCH(D112,#REF!,0))=FALSE,\"D\",\"\"))","v":""},{"$f":"IF(E112=\"C\",0,IF(E112 =\"D\",ROUND(1/((1+#REF!)^A112),9) * 2,ROUND(1/((1+#REF!)^A112),9)))","v":{"$error":"#REF!"}},{"$error":"#REF!"}]
[110,110,{"$error":"#REF!"},{"$error":"#REF!"},{"$f":"IF(ISERROR(MATCH(D113,#REF!,0))=FALSE,\"C\",IF(ISERROR(MATCH(D113,#REF!,0))=FALSE,\"D\",\"\"))","v":""},{"$f":"IF(E113=\"C\",0,IF(E113 =\"D\",ROUND(1/((1+#REF!)^A113),9) * 2,ROUND(1/((1+#REF!)^A113),9)))","v":{"$error":"#REF!"}},{"$error":"#REF!"}]
[111,111,{"$error":"#REF!"},{"$error":"#REF!"},{"$f":"IF(ISERROR(MATCH(D114,#REF!,0))=FALSE,\"C\",IF(ISERROR(MATCH(D114,#REF!,0))=FALSE,\"D\",\"\"))","v":""},{"$f":"IF(E114=\"C\",0,IF(E114 =\"D\",ROUND(1/((1+#REF!)^A114),9) * 2,ROUND(1/((1+#REF!)^A114),9)))","v":{"$error":"#REF!"}},{"$error":"#REF!"}]
[112,112,{"$error":"#REF!"},{"$error":"#REF!"},{"$f":"IF(ISERROR(MATCH(D115,#REF!,0))=FALSE,\"C\",IF(ISERROR(MATCH(D115,#REF!,0))=FALSE,\"D\",\"\"))","v":""},{"$f":"IF(E115=\"C\",0,IF(E115 =\"D\",ROUND(1/((1+#REF!)^A115),9) * 2,ROUND(1/((1+#REF!)^A115),9)))","v":{"$error":"#REF!"}},{"$error":"#REF!"}]
[113,113,{"$error":"#REF!"},{"$error":"#REF!"},{"$f":"IF(ISERROR(MATCH(D116,#REF!,0))=FALSE,\"C\",IF(ISERROR(MATCH(D116,#REF!,0))=FALSE,\"D\",\"\"))","v":""},{"$f":"IF(E116=\"C\",0,IF(E116 =\"D\",ROUND(1/((1+#REF!)^A116),9) * 2,ROUND(1/((1+#REF!)^A116),9)))","v":{"$error":"#REF!"}},{"$error":"#REF!"}]
[114,114,{"$error":"#REF!"},{"$error":"#REF!"},{"$f":"IF(ISERROR(MATCH(D117,#REF!,0))=FALSE,\"C\",IF(ISERROR(MATCH(D117,#REF!,0))=FALSE,\"D\",\"\"))","v":""},{"$f":"IF(E117=\"C\",0,IF(E117 =\"D\",ROUND(1/((1+#REF!)^A117),9) * 2,ROUND(1/((1+#REF!)^A117),9)))","v":{"$error":"#REF!"}},{"$error":"#REF!"}]
[115,115,{"$error":"#REF!"},{"$error":"#REF!"},{"$f":"IF(ISERROR(MATCH(D118,#REF!,0))=FALSE,\"C\",IF(ISERROR(MATCH(D118,#REF!,0))=FALSE,\"D\",\"\"))","v":""},{"$f":"IF(E118=\"C\",0,IF(E118 =\"D\",ROUND(1/((1+#REF!)^A118),9) * 2,ROUND(1/((1+#REF!)^A118),9)))","v":{"$error":"#REF!"}},{"$error":"#REF!"}]
[116,116,{"$error":"#REF!"},{"$error":"#REF!"},{"$f":"IF(ISERROR(MATCH(D119,#REF!,0))=FALSE,\"C\",IF(ISERROR(MATCH(D119,#REF!,0))=FALSE,\"D\",\"\"))","v":""},{"$f":"IF(E119=\"C\",0,IF(E119 =\"D\",ROUND(1/((1+#REF!)^A119),9) * 2,ROUND(1/((1+#REF!)^A119),9)))","v":{"$error":"#REF!"}},{"$error":"#REF!"}]
[117,117,{"$error":"#REF!"},{"$error":"#REF!"},{"$f":"IF(ISERROR(MATCH(D120,#REF!,0))=FALSE,\"C\",IF(ISERROR(MATCH(D120,#REF!,0))=FALSE,\"D\",\"\"))","v":""},{"$f":"IF(E120=\"C\",0,IF(E120 =\"D\",ROUND(1/((1+#REF!)^A120),9) * 2,ROUND(1/((1+#REF!)^A120),9)))","v":{"$error":"#REF!"}},{"$error":"#REF!"}]
[118,118,{"$error":"#REF!"},{"$error":"#REF!"},{"$f":"IF(ISERROR(MATCH(D121,#REF!,0))=FALSE,\"C\",IF(ISERROR(MATCH(D121,#REF!,0))=FALSE,\"D\",\"\"))","v":""},{"$f":"IF(E121=\"C\",0,IF(E121 =\"D\",ROUND(1/((1+#REF!)^A121),9) * 2,ROUND(1/((1+#REF!)^A121),9)))","v":{"$error":"#REF!"}},{"$error":"#REF!"}]
[119,119,{"$error":"#REF!"},{"$error":"#REF!"},{"$f":"IF(ISERROR(MATCH(D122,#REF!,0))=FALSE,\"C\",IF(ISERROR(MATCH(D122,#REF!,0))=FALSE,\"D\",\"\"))","v":""},{"$f":"IF(E122=\"C\",0,IF(E122 =\"D\",ROUND(1/((1+#REF!)^A122),9) * 2,ROUND(1/((1+#REF!)^A122),9)))","v":{"$error":"#REF!"}},{"$error":"#REF!"}]
[120,120,{"$error":"#REF!"},{"$error":"#REF!"},{"$f":"IF(ISERROR(MATCH(D123,#REF!,0))=FALSE,\"C\",IF(ISERROR(MATCH(D123,#REF!,0))=FALSE,\"D\",\"\"))","v":""},{"$f":"IF(E123=\"C\",0,IF(E123 =\"D\",ROUND(1/((1+#REF!)^A123),9) * 2,ROUND(1/((1+#REF!)^A123),9)))","v":{"$error":"#REF!"}},{"$error":"#REF!"}]
[121,121,{"$error":"#REF!"},{"$error":"#REF!"},{"$f":"IF(ISERROR(MATCH(D124,#REF!,0))=FALSE,\"C\",IF(ISERROR(MATCH(D124,#REF!,0))=FALSE,\"D\",\"\"))","v":""},{"$f":"IF(E124=\"C\",0,IF(E124 =\"D\",ROUND(1/((1+#REF!)^A124),9) * 2,ROUND(1/((1+#REF!)^A124),9)))","v":{"$error":"#REF!"}},{"$error":"#REF!"}]
[122,122,{"$error":"#REF!"},{"$error":"#REF!"},{"$f":"IF(ISERROR(MATCH(D125,#REF!,0))=FALSE,\"C\",IF(ISERROR(MATCH(D125,#REF!,0))=FALSE,\"D\",\"\"))","v":""},{"$f":"IF(E125=\"C\",0,IF(E125 =\"D\",ROUND(1/((1+#REF!)^A125),9) * 2,ROUND(1/((1+#REF!)^A125),9)))","v":{"$error":"#REF!"}},{"$error":"#REF!"}]
[123,123,{"$error":"#REF!"},{"$error":"#REF!"},{"$f":"IF(ISERROR(MATCH(D126,#REF!,0))=FALSE,\"C\",IF(ISERROR(MATCH(D126,#REF!,0))=FALSE,\"D\",\"\"))","v":""},{"$f":"IF(E126=\"C\",0,IF(E126 =\"D\",ROUND(1/((1+#REF!)^A126),9) * 2,ROUND(1/((1+#REF!)^A126),9)))","v":{"$error":"#REF!"}},{"$error":"#REF!"}]
[124,124,{"$error":"#REF!"},{"$error":"#REF!"},{"$f":"IF(ISERROR(MATCH(D127,#REF!,0))=FALSE,\"C\",IF(ISERROR(MATCH(D127,#REF!,0))=FALSE,\"D\",\"\"))","v":""},{"$f":"IF(E127=\"C\",0,IF(E127 =\"D\",ROUND(1/((1+#REF!)^A127),9) * 2,ROUND(1/((1+#REF!)^A127),9)))","v":{"$error":"#REF!"}},{"$error":"#REF!"}]
[125,125,{"$error":"#REF!"},{"$error":"#REF!"},{"$f":"IF(ISERROR(MATCH(D128,#REF!,0))=FALSE,\"C\",IF(ISERROR(MATCH(D128,#REF!,0))=FALSE,\"D\",\"\"))","v":""},{"$f":"IF(E128=\"C\",0,IF(E128 =\"D\",ROUND(1/((1+#REF!)^A128),9) * 2,ROUND(1/((1+#REF!)^A128),9)))","v":{"$error":"#REF!"}},{"$error":"#REF!"}]
[126,126,{"$error":"#REF!"},{"$error":"#REF!"},{"$f":"IF(ISERROR(MATCH(D129,#REF!,0))=FALSE,\"C\",IF(ISERROR(MATCH(D129,#REF!,0))=FALSE,\"D\",\"\"))","v":""},{"$f":"IF(E129=\"C\",0,IF(E129 =\"D\",ROUND(1/((1+#REF!)^A129),9) * 2,ROUND(1/((1+#REF!)^A129),9)))","v":{"$error":"#REF!"}},{"$error":"#REF!"}]
[127,127,{"$error":"#REF!"},{"$error":"#REF!"},{"$f":"IF(ISERROR(MATCH(D130,#REF!,0))=FALSE,\"C\",IF(ISERROR(MATCH(D130,#REF!,0))=FALSE,\"D\",\"\"))","v":""},{"$f":"IF(E130=\"C\",0,IF(E130 =\"D\",ROUND(1/((1+#REF!)^A130),9) * 2,ROUND(1/((1+#REF!)^A130),9)))","v":{"$error":"#REF!"}},{"$error":"#REF!"}]
[128,128,{"$error":"#REF!"},{"$error":"#REF!"},{"$f":"IF(ISERROR(MATCH(D131,#REF!,0))=FALSE,\"C\",IF(ISERROR(MATCH(D131,#REF!,0))=FALSE,\"D\",\"\"))","v":""},{"$f":"IF(E131=\"C\",0,IF(E131 =\"D\",ROUND(1/((1+#REF!)^A131),9) * 2,ROUND(1/((1+#REF!)^A131),9)))","v":{"$error":"#REF!"}},{"$error":"#REF!"}]
[129,129,{"$error":"#REF!"},{"$error":"#REF!"},{"$f":"IF(ISERROR(MATCH(D132,#REF!,0))=FALSE,\"C\",IF(ISERROR(MATCH(D132,#REF!,0))=FALSE,\"D\",\"\"))","v":""},{"$f":"IF(E132=\"C\",0,IF(E132 =\"D\",ROUND(1/((1+#REF!)^A132),9) * 2,ROUND(1/((1+#REF!)^A132),9)))","v":{"$error":"#REF!"}},{"$error":"#REF!"}]
[{"$f":"A132+1","v":130},130,{"$f":"DATE(YEAR(C132) + 1/12,MONTH(C132)+1,DAY(C132))","v":{"$error":"#REF!"}},{"$error":"#REF!"},{"$f":"IF(ISERROR(MATCH(D133,#REF!,0))=FALSE,\"C\",IF(ISERROR(MATCH(D133,#REF!,0))=FALSE,\"D\",\"\"))","v":""},{"$f":"IF(E133=\"C\",0,IF(E133 =\"D\",ROUND(1/((1+#REF!)^A133),9) * 2,ROUND(1/((1+#REF!)^A133),9)))","v":{"$error":"#REF!"}},{"$error":"#REF!"}]
[131,131,{"$error":"#REF!"},{"$error":"#REF!"},{"$f":"IF(ISERROR(MATCH(D134,#REF!,0))=FALSE,\"C\",IF(ISERROR(MATCH(D134,#REF!,0))=FALSE,\"D\",\"\"))","v":""},{"$f":"IF(E134=\"C\",0,IF(E134 =\"D\",ROUND(1/((1+#REF!)^A134),9) * 2,ROUND(1/((1+#REF!)^A134),9)))","v":{"$error":"#REF!"}},{"$error":"#REF!"}]
[132,132,{"$error":"#REF!"},{"$error":"#REF!"},{"$f":"IF(ISERROR(MATCH(D135,#REF!,0))=FALSE,\"C\",IF(ISERROR(MATCH(D135,#REF!,0))=FALSE,\"D\",\"\"))","v":""},{"$f":"IF(E135=\"C\",0,IF(E135 =\"D\",ROUND(1/((1+#REF!)^A135),9) * 2,ROUND(1/((1+#REF!)^A135),9)))","v":{"$error":"#REF!"}},{"$error":"#REF!"}]
[133,133,{"$error":"#REF!"},{"$error":"#REF!"},{"$f":"IF(ISERROR(MATCH(D136,#REF!,0))=FALSE,\"C\",IF(ISERROR(MATCH(D136,#REF!,0))=FALSE,\"D\",\"\"))","v":""},{"$f":"IF(E136=\"C\",0,IF(E136 =\"D\",ROUND(1/((1+#REF!)^A136),9) * 2,ROUND(1/((1+#REF!)^A136),9)))","v":{"$error":"#REF!"}},{"$error":"#REF!"}]
[134,134,{"$error":"#REF!"},{"$error":"#REF!"},{"$f":"IF(ISERROR(MATCH(D137,#REF!,0))=FALSE,\"C\",IF(ISERROR(MATCH(D137,#REF!,0))=FALSE,\"D\",\"\"))","v":""},{"$f":"IF(E137=\"C\",0,IF(E137 =\"D\",ROUND(1/((1+#REF!)^A137),9) * 2,ROUND(1/((1+#REF!)^A137),9)))","v":{"$error":"#REF!"}},{"$error":"#REF!"}]
[135,135,{"$error":"#REF!"},{"$error":"#REF!"},{"$f":"IF(ISERROR(MATCH(D138,#REF!,0))=FALSE,\"C\",IF(ISERROR(MATCH(D138,#REF!,0))=FALSE,\"D\",\"\"))","v":""},{"$f":"IF(E138=\"C\",0,IF(E138 =\"D\",ROUND(1/((1+#REF!)^A138),9) * 2,ROUND(1/((1+#REF!)^A138),9)))","v":{"$error":"#REF!"}},{"$error":"#REF!"}]
[136,136,{"$error":"#REF!"},{"$error":"#REF!"},{"$f":"IF(ISERROR(MATCH(D139,#REF!,0))=FALSE,\"C\",IF(ISERROR(MATCH(D139,#REF!,0))=FALSE,\"D\",\"\"))","v":""},{"$f":"IF(E139=\"C\",0,IF(E139 =\"D\",ROUND(1/((1+#REF!)^A139),9) * 2,ROUND(1/((1+#REF!)^A139),9)))","v":{"$error":"#REF!"}},{"$error":"#REF!"}]
[137,137,{"$error":"#REF!"},{"$error":"#REF!"},{"$f":"IF(ISERROR(MATCH(D140,#REF!,0))=FALSE,\"C\",IF(ISERROR(MATCH(D140,#REF!,0))=FALSE,\"D\",\"\"))","v":""},{"$f":"IF(E140=\"C\",0,IF(E140 =\"D\",ROUND(1/((1+#REF!)^A140),9) * 2,ROUND(1/((1+#REF!)^A140),9)))","v":{"$error":"#REF!"}},{"$error":"#REF!"}]
[138,138,{"$error":"#REF!"},{"$error":"#REF!"},{"$f":"IF(ISERROR(MATCH(D141,#REF!,0))=FALSE,\"C\",IF(ISERROR(MATCH(D141,#REF!,0))=FALSE,\"D\",\"\"))","v":""},{"$f":"IF(E141=\"C\",0,IF(E141 =\"D\",ROUND(1/((1+#REF!)^A141),9) * 2,ROUND(1/((1+#REF!)^A141),9)))","v":{"$error":"#REF!"}},{"$error":"#REF!"}]
[139,139,{"$error":"#REF!"},{"$error":"#REF!"},{"$f":"IF(ISERROR(MATCH(D142,#REF!,0))=FALSE,\"C\",IF(ISERROR(MATCH(D142,#REF!,0))=FALSE,\"D\",\"\"))","v":""},{"$f":"IF(E142=\"C\",0,IF(E142 =\"D\",ROUND(1/((1+#REF!)^A142),9) * 2,ROUND(1/((1+#REF!)^A142),9)))","v":{"$error":"#REF!"}},{"$error":"#REF!"}]
[140,140,{"$error":"#REF!"},{"$error":"#REF!"},{"$f":"IF(ISERROR(MATCH(D143,#REF!,0))=FALSE,\"C\",IF(ISERROR(MATCH(D143,#REF!,0))=FALSE,\"D\",\"\"))","v":""},{"$f":"IF(E143=\"C\",0,IF(E143 =\"D\",ROUND(1/((1+#REF!)^A143),9) * 2,ROUND(1/((1+#REF!)^A143),9)))","v":{"$error":"#REF!"}},{"$error":"#REF!"}]
[141,141,{"$error":"#REF!"},{"$error":"#REF!"},{"$f":"IF(ISERROR(MATCH(D144,#REF!,0))=FALSE,\"C\",IF(ISERROR(MATCH(D144,#REF!,0))=FALSE,\"D\",\"\"))","v":""},{"$f":"IF(E144=\"C\",0,IF(E144 =\"D\",ROUND(1/((1+#REF!)^A144),9) * 2,ROUND(1/((1+#REF!)^A144),9)))","v":{"$error":"#REF!"}},{"$error":"#REF!"}]
[142,142,{"$error":"#REF!"},{"$error":"#REF!"},{"$f":"IF(ISERROR(MATCH(D145,#REF!,0))=FALSE,\"C\",IF(ISERROR(MATCH(D145,#REF!,0))=FALSE,\"D\",\"\"))","v":""},{"$f":"IF(E145=\"C\",0,IF(E145 =\"D\",ROUND(1/((1+#REF!)^A145),9) * 2,ROUND(1/((1+#REF!)^A145),9)))","v":{"$error":"#REF!"}},{"$error":"#REF!"}]
[143,143,{"$error":"#REF!"},{"$error":"#REF!"},{"$f":"IF(ISERROR(MATCH(D146,#REF!,0))=FALSE,\"C\",IF(ISERROR(MATCH(D146,#REF!,0))=FALSE,\"D\",\"\"))","v":""},{"$f":"IF(E146=\"C\",0,IF(E146 =\"D\",ROUND(1/((1+#REF!)^A146),9) * 2,ROUND(1/((1+#REF!)^A146),9)))","v":{"$error":"#REF!"}},{"$error":"#REF!"}]
[144,144,{"$error":"#REF!"},{"$error":"#REF!"},{"$f":"IF(ISERROR(MATCH(D147,#REF!,0))=FALSE,\"C\",IF(ISERROR(MATCH(D147,#REF!,0))=FALSE,\"D\",\"\"))","v":""},{"$f":"IF(E147=\"C\",0,IF(E147 =\"D\",ROUND(1/((1+#REF!)^A147),9) * 2,ROUND(1/((1+#REF!)^A147),9)))","v":{"$error":"#REF!"}},{"$error":"#REF!"}]
[145,145,{"$error":"#REF!"},{"$error":"#REF!"},{"$f":"IF(ISERROR(MATCH(D148,#REF!,0))=FALSE,\"C\",IF(ISERROR(MATCH(D148,#REF!,0))=FALSE,\"D\",\"\"))","v":""},{"$f":"IF(E148=\"C\",0,IF(E148 =\"D\",ROUND(1/((1+#REF!)^A148),9) * 2,ROUND(1/((1+#REF!)^A148),9)))","v":{"$error":"#REF!"}},{"$error":"#REF!"}]
[146,146,{"$error":"#REF!"},{"$error":"#REF!"},{"$f":"IF(ISERROR(MATCH(D149,#REF!,0))=FALSE,\"C\",IF(ISERROR(MATCH(D149,#REF!,0))=FALSE,\"D\",\"\"))","v":""},{"$f":"IF(E149=\"C\",0,IF(E149 =\"D\",ROUND(1/((1+#REF!)^A149),9) * 2,ROUND(1/((1+#REF!)^A149),9)))","v":{"$error":"#REF!"}},{"$error":"#REF!"}]
[147,147,{"$error":"#REF!"},{"$error":"#REF!"},{"$f":"IF(ISERROR(MATCH(D150,#REF!,0))=FALSE,\"C\",IF(ISERROR(MATCH(D150,#REF!,0))=FALSE,\"D\",\"\"))","v":""},{"$f":"IF(E150=\"C\",0,IF(E150 =\"D\",ROUND(1/((1+#REF!)^A150),9) * 2,ROUND(1/((1+#REF!)^A150),9)))","v":{"$error":"#REF!"}},{"$error":"#REF!"}]
[148,148,{"$error":"#REF!"},{"$error":"#REF!"},{"$f":"IF(ISERROR(MATCH(D151,#REF!,0))=FALSE,\"C\",IF(ISERROR(MATCH(D151,#REF!,0))=FALSE,\"D\",\"\"))","v":""},{"$f":"IF(E151=\"C\",0,IF(E151 =\"D\",ROUND(1/((1+#REF!)^A151),9) * 2,ROUND(1/((1+#REF!)^A151),9)))","v":{"$error":"#REF!"}},{"$error":"#REF!"}]
[149,149,{"$error":"#REF!"},{"$error":"#REF!"},{"$f":"IF(ISERROR(MATCH(D152,#REF!,0))=FALSE,\"C\",IF(ISERROR(MATCH(D152,#REF!,0))=FALSE,\"D\",\"\"))","v":""},{"$f":"IF(E152=\"C\",0,IF(E152 =\"D\",ROUND(1/((1+#REF!)^A152),9) * 2,ROUND(1/((1+#REF!)^A152),9)))","v":{"$error":"#REF!"}},{"$error":"#REF!"}]
[150,150,{"$error":"#REF!"},{"$error":"#REF!"},{"$f":"IF(ISERROR(MATCH(D153,#REF!,0))=FALSE,\"C\",IF(ISERROR(MATCH(D153,#REF!,0))=FALSE,\"D\",\"\"))","v":""},{"$f":"IF(E153=\"C\",0,IF(E153 =\"D\",ROUND(1/((1+#REF!)^A153),9) * 2,ROUND(1/((1+#REF!)^A153),9)))","v":{"$error":"#REF!"}},{"$error":"#REF!"}]
[151,151,{"$error":"#REF!"},{"$error":"#REF!"},{"$f":"IF(ISERROR(MATCH(D154,#REF!,0))=FALSE,\"C\",IF(ISERROR(MATCH(D154,#REF!,0))=FALSE,\"D\",\"\"))","v":""},{"$f":"IF(E154=\"C\",0,IF(E154 =\"D\",ROUND(1/((1+#REF!)^A154),9) * 2,ROUND(1/((1+#REF!)^A154),9)))","v":{"$error":"#REF!"}},{"$error":"#REF!"}]
[152,152,{"$error":"#REF!"},{"$error":"#REF!"},{"$f":"IF(ISERROR(MATCH(D155,#REF!,0))=FALSE,\"C\",IF(ISERROR(MATCH(D155,#REF!,0))=FALSE,\"D\",\"\"))","v":""},{"$f":"IF(E155=\"C\",0,IF(E155 =\"D\",ROUND(1/((1+#REF!)^A155),9) * 2,ROUND(1/((1+#REF!)^A155),9)))","v":{"$error":"#REF!"}},{"$error":"#REF!"}]
[153,153,{"$error":"#REF!"},{"$error":"#REF!"},{"$f":"IF(ISERROR(MATCH(D156,#REF!,0))=FALSE,\"C\",IF(ISERROR(MATCH(D156,#REF!,0))=FALSE,\"D\",\"\"))","v":""},{"$f":"IF(E156=\"C\",0,IF(E156 =\"D\",ROUND(1/((1+#REF!)^A156),9) * 2,ROUND(1/((1+#REF!)^A156),9)))","v":{"$error":"#REF!"}},{"$error":"#REF!"}]
[154,154,{"$error":"#REF!"},{"$error":"#REF!"},{"$f":"IF(ISERROR(MATCH(D157,#REF!,0))=FALSE,\"C\",IF(ISERROR(MATCH(D157,#REF!,0))=FALSE,\"D\",\"\"))","v":""},{"$f":"IF(E157=\"C\",0,IF(E157 =\"D\",ROUND(1/((1+#REF!)^A157),9) * 2,ROUND(1/((1+#REF!)^A157),9)))","v":{"$error":"#REF!"}},{"$error":"#REF!"}]
[155,155,{"$error":"#REF!"},{"$error":"#REF!"},{"$f":"IF(ISERROR(MATCH(D158,#REF!,0))=FALSE,\"C\",IF(ISERROR(MATCH(D158,#REF!,0))=FALSE,\"D\",\"\"))","v":""},{"$f":"IF(E158=\"C\",0,IF(E158 =\"D\",ROUND(1/((1+#REF!)^A158),9) * 2,ROUND(1/((1+#REF!)^A158),9)))","v":{"$error":"#REF!"}},{"$error":"#REF!"}]
[156,156,{"$error":"#REF!"},{"$error":"#REF!"},{"$f":"IF(ISERROR(MATCH(D159,#REF!,0))=FALSE,\"C\",IF(ISERROR(MATCH(D159,#REF!,0))=FALSE,\"D\",\"\"))","v":""},{"$f":"IF(E159=\"C\",0,IF(E159 =\"D\",ROUND(1/((1+#REF!)^A159),9) * 2,ROUND(1/((1+#REF!)^A159),9)))","v":{"$error":"#REF!"}},{"$error":"#REF!"}]
[157,157,{"$error":"#REF!"},{"$error":"#REF!"},{"$f":"IF(ISERROR(MATCH(D160,#REF!,0))=FALSE,\"C\",IF(ISERROR(MATCH(D160,#REF!,0))=FALSE,\"D\",\"\"))","v":""},{"$f":"IF(E160=\"C\",0,IF(E160 =\"D\",ROUND(1/((1+#REF!)^A160),9) * 2,ROUND(1/((1+#REF!)^A160),9)))","v":{"$error":"#REF!"}},{"$error":"#REF!"}]
[158,158,{"$error":"#REF!"},{"$error":"#REF!"},{"$f":"IF(ISERROR(MATCH(D161,#REF!,0))=FALSE,\"C\",IF(ISERROR(MATCH(D161,#REF!,0))=FALSE,\"D\",\"\"))","v":""},{"$f":"IF(E161=\"C\",0,IF(E161 =\"D\",ROUND(1/((1+#REF!)^A161),9) * 2,ROUND(1/((1+#REF!)^A161),9)))","v":{"$error":"#REF!"}},{"$error":"#REF!"}]
[159,159,{"$error":"#REF!"},{"$error":"#REF!"},{"$f":"IF(ISERROR(MATCH(D162,#REF!,0))=FALSE,\"C\",IF(ISERROR(MATCH(D162,#REF!,0))=FALSE,\"D\",\"\"))","v":""},{"$f":"IF(E162=\"C\",0,IF(E162 =\"D\",ROUND(1/((1+#REF!)^A162),9) * 2,ROUND(1/((1+#REF!)^A162),9)))","v":{"$error":"#REF!"}},{"$error":"#REF!"}]
[160,160,{"$error":"#REF!"},{"$error":"#REF!"},{"$f":"IF(ISERROR(MATCH(D163,#REF!,0))=FALSE,\"C\",IF(ISERROR(MATCH(D163,#REF!,0))=FALSE,\"D\",\"\"))","v":""},{"$f":"IF(E163=\"C\",0,IF(E163 =\"D\",ROUND(1/((1+#REF!)^A163),9) * 2,ROUND(1/((1+#REF!)^A163),9)))","v":{"$error":"#REF!"}},{"$error":"#REF!"}]
[161,{"$f":"IF(E164<>\"C\",IF(ISERROR(1+B163)=TRUE,1,1+B163),IF(ISNUMBER(B163),B163,1))","v":161},{"$error":"#REF!"},{"$f":"MONTH(C164)","v":{"$error":"#REF!"}},{"$f":"IF(ISERROR(MATCH(D164,#REF!,0))=FALSE,\"C\",IF(ISERROR(MATCH(D164,#REF!,0))=FALSE,\"D\",\"\"))","v":""},{"$f":"IF(E164=\"C\",0,IF(E164 =\"D\",ROUND(1/((1+#REF!)^A164),9) * 2,ROUND(1/((1+#REF!)^A164),9)))","v":{"$error":"#REF!"}},{"$f":"G163+ROUND(F164,9)","v":{"$error":"#REF!"}}]
[162,162,{"$error":"#REF!"},{"$error":"#REF!"},{"$f":"IF(ISERROR(MATCH(D165,#REF!,0))=FALSE,\"C\",IF(ISERROR(MATCH(D165,#REF!,0))=FALSE,\"D\",\"\"))","v":""},{"$f":"IF(E165=\"C\",0,IF(E165 =\"D\",ROUND(1/((1+#REF!)^A165),9) * 2,ROUND(1/((1+#REF!)^A165),9)))","v":{"$error":"#REF!"}},{"$error":"#REF!"}]
[163,163,{"$error":"#REF!"},{"$error":"#REF!"},{"$f":"IF(ISERROR(MATCH(D166,#REF!,0))=FALSE,\"C\",IF(ISERROR(MATCH(D166,#REF!,0))=FALSE,\"D\",\"\"))","v":""},{"$f":"IF(E166=\"C\",0,IF(E166 =\"D\",ROUND(1/((1+#REF!)^A166),9) * 2,ROUND(1/((1+#REF!)^A166),9)))","v":{"$error":"#REF!"}},{"$error":"#REF!"}]
[164,164,{"$error":"#REF!"},{"$error":"#REF!"},{"$f":"IF(ISERROR(MATCH(D167,#REF!,0))=FALSE,\"C\",IF(ISERROR(MATCH(D167,#REF!,0))=FALSE,\"D\",\"\"))","v":""},{"$f":"IF(E167=\"C\",0,IF(E167 =\"D\",ROUND(1/((1+#REF!)^A167),9) * 2,ROUND(1/((1+#REF!)^A167),9)))","v":{"$error":"#REF!"}},{"$error":"#REF!"}]
[165,165,{"$error":"#REF!"},{"$error":"#REF!"},{"$f":"IF(ISERROR(MATCH(D168,#REF!,0))=FALSE,\"C\",IF(ISERROR(MATCH(D168,#REF!,0))=FALSE,\"D\",\"\"))","v":""},{"$f":"IF(E168=\"C\",0,IF(E168 =\"D\",ROUND(1/((1+#REF!)^A168),9) * 2,ROUND(1/((1+#REF!)^A168),9)))","v":{"$error":"#REF!"}},{"$error":"#REF!"}]
[166,166,{"$error":"#REF!"},{"$error":"#REF!"},{"$f":"IF(ISERROR(MATCH(D169,#REF!,0))=FALSE,\"C\",IF(ISERROR(MATCH(D169,#REF!,0))=FALSE,\"D\",\"\"))","v":""},{"$f":"IF(E169=\"C\",0,IF(E169 =\"D\",ROUND(1/((1+#REF!)^A169),9) * 2,ROUND(1/((1+#REF!)^A169),9)))","v":{"$error":"#REF!"}},{"$error":"#REF!"}]
[167,167,{"$error":"#REF!"},{"$error":"#REF!"},{"$f":"IF(ISERROR(MATCH(D170,#REF!,0))=FALSE,\"C\",IF(ISERROR(MATCH(D170,#REF!,0))=FALSE,\"D\",\"\"))","v":""},{"$f":"IF(E170=\"C\",0,IF(E170 =\"D\",ROUND(1/((1+#REF!)^A170),9) * 2,ROUND(1/((1+#REF!)^A170),9)))","v":{"$error":"#REF!"}},{"$error":"#REF!"}]
[168,168,{"$error":"#REF!"},{"$error":"#REF!"},{"$f":"IF(ISERROR(MATCH(D171,#REF!,0))=FALSE,\"C\",IF(ISERROR(MATCH(D171,#REF!,0))=FALSE,\"D\",\"\"))","v":""},{"$f":"IF(E171=\"C\",0,IF(E171 =\"D\",ROUND(1/((1+#REF!)^A171),9) * 2,ROUND(1/((1+#REF!)^A171),9)))","v":{"$error":"#REF!"}},{"$error":"#REF!"}]
[169,169,{"$error":"#REF!"},{"$error":"#REF!"},{"$f":"IF(ISERROR(MATCH(D172,#REF!,0))=FALSE,\"C\",IF(ISERROR(MATCH(D172,#REF!,0))=FALSE,\"D\",\"\"))","v":""},{"$f":"IF(E172=\"C\",0,IF(E172 =\"D\",ROUND(1/((1+#REF!)^A172),9) * 2,ROUND(1/((1+#REF!)^A172),9)))","v":{"$error":"#REF!"}},{"$error":"#REF!"}]
[170,170,{"$error":"#REF!"},{"$error":"#REF!"},{"$f":"IF(ISERROR(MATCH(D173,#REF!,0))=FALSE,\"C\",IF(ISERROR(MATCH(D173,#REF!,0))=FALSE,\"D\",\"\"))","v":""},{"$f":"IF(E173=\"C\",0,IF(E173 =\"D\",ROUND(1/((1+#REF!)^A173),9) * 2,ROUND(1/((1+#REF!)^A173),9)))","v":{"$error":"#REF!"}},{"$error":"#REF!"}]
[171,171,{"$error":"#REF!"},{"$error":"#REF!"},{"$f":"IF(ISERROR(MATCH(D174,#REF!,0))=FALSE,\"C\",IF(ISERROR(MATCH(D174,#REF!,0))=FALSE,\"D\",\"\"))","v":""},{"$f":"IF(E174=\"C\",0,IF(E174 =\"D\",ROUND(1/((1+#REF!)^A174),9) * 2,ROUND(1/((1+#REF!)^A174),9)))","v":{"$error":"#REF!"}},{"$error":"#REF!"}]
[172,172,{"$error":"#REF!"},{"$error":"#REF!"},{"$f":"IF(ISERROR(MATCH(D175,#REF!,0))=FALSE,\"C\",IF(ISERROR(MATCH(D175,#REF!,0))=FALSE,\"D\",\"\"))","v":""},{"$f":"IF(E175=\"C\",0,IF(E175 =\"D\",ROUND(1/((1+#REF!)^A175),9) * 2,ROUND(1/((1+#REF!)^A175),9)))","v":{"$error":"#REF!"}},{"$error":"#REF!"}]
[173,173,{"$error":"#REF!"},{"$error":"#REF!"},{"$f":"IF(ISERROR(MATCH(D176,#REF!,0))=FALSE,\"C\",IF(ISERROR(MATCH(D176,#REF!,0))=FALSE,\"D\",\"\"))","v":""},{"$f":"IF(E176=\"C\",0,IF(E176 =\"D\",ROUND(1/((1+#REF!)^A176),9) * 2,ROUND(1/((1+#REF!)^A176),9)))","v":{"$error":"#REF!"}},{"$error":"#REF!"}]
[174,174,{"$error":"#REF!"},{"$error":"#REF!"},{"$f":"IF(ISERROR(MATCH(D177,#REF!,0))=FALSE,\"C\",IF(ISERROR(MATCH(D177,#REF!,0))=FALSE,\"D\",\"\"))","v":""},{"$f":"IF(E177=\"C\",0,IF(E177 =\"D\",ROUND(1/((1+#REF!)^A177),9) * 2,ROUND(1/((1+#REF!)^A177),9)))","v":{"$error":"#REF!"}},{"$error":"#REF!"}]
[175,175,{"$error":"#REF!"},{"$error":"#REF!"},{"$f":"IF(ISERROR(MATCH(D178,#REF!,0))=FALSE,\"C\",IF(ISERROR(MATCH(D178,#REF!,0))=FALSE,\"D\",\"\"))","v":""},{"$f":"IF(E178=\"C\",0,IF(E178 =\"D\",ROUND(1/((1+#REF!)^A178),9) * 2,ROUND(1/((1+#REF!)^A178),9)))","v":{"$error":"#REF!"}},{"$error":"#REF!"}]
[176,176,{"$error":"#REF!"},{"$error":"#REF!"},{"$f":"IF(ISERROR(MATCH(D179,#REF!,0))=FALSE,\"C\",IF(ISERROR(MATCH(D179,#REF!,0))=FALSE,\"D\",\"\"))","v":""},{"$f":"IF(E179=\"C\",0,IF(E179 =\"D\",ROUND(1/((1+#REF!)^A179),9) * 2,ROUND(1/((1+#REF!)^A179),9)))","v":{"$error":"#REF!"}},{"$error":"#REF!"}]
[177,177,{"$error":"#REF!"},{"$error":"#REF!"},{"$f":"IF(ISERROR(MATCH(D180,#REF!,0))=FALSE,\"C\",IF(ISERROR(MATCH(D180,#REF!,0))=FALSE,\"D\",\"\"))","v":""},{"$f":"IF(E180=\"C\",0,IF(E180 =\"D\",ROUND(1/((1+#REF!)^A180),9) * 2,ROUND(1/((1+#REF!)^A180),9)))","v":{"$error":"#REF!"}},{"$error":"#REF!"}]
[178,178,{"$error":"#REF!"},{"$error":"#REF!"},{"$f":"IF(ISERROR(MATCH(D181,#REF!,0))=FALSE,\"C\",IF(ISERROR(MATCH(D181,#REF!,0))=FALSE,\"D\",\"\"))","v":""},{"$f":"IF(E181=\"C\",0,IF(E181 =\"D\",ROUND(1/((1+#REF!)^A181),9) * 2,ROUND(1/((1+#REF!)^A181),9)))","v":{"$error":"#REF!"}},{"$error":"#REF!"}]
[179,179,{"$error":"#REF!"},{"$error":"#REF!"},{"$f":"IF(ISERROR(MATCH(D182,#REF!,0))=FALSE,\"C\",IF(ISERROR(MATCH(D182,#REF!,0))=FALSE,\"D\",\"\"))","v":""},{"$f":"IF(E182=\"C\",0,IF(E182 =\"D\",ROUND(1/((1+#REF!)^A182),9) * 2,ROUND(1/((1+#REF!)^A182),9)))","v":{"$error":"#REF!"}},{"$error":"#REF!"}]
[180,180,{"$error":"#REF!"},{"$error":"#REF!"},{"$f":"IF(ISERROR(MATCH(D183,#REF!,0))=FALSE,\"C\",IF(ISERROR(MATCH(D183,#REF!,0))=FALSE,\"D\",\"\"))","v":""},{"$f":"IF(E183=\"C\",0,IF(E183 =\"D\",ROUND(1/((1+#REF!)^A183),9) * 2,ROUND(1/((1+#REF!)^A183),9)))","v":{"$error":"#REF!"}},{"$error":"#REF!"}]
[181,181,{"$error":"#REF!"},{"$error":"#REF!"},{"$f":"IF(ISERROR(MATCH(D184,#REF!,0))=FALSE,\"C\",IF(ISERROR(MATCH(D184,#REF!,0))=FALSE,\"D\",\"\"))","v":""},{"$f":"IF(E184=\"C\",0,IF(E184 =\"D\",ROUND(1/((1+#REF!)^A184),9) * 2,ROUND(1/((1+#REF!)^A184),9)))","v":{"$error":"#REF!"}},{"$error":"#REF!"}]
[182,182,{"$error":"#REF!"},{"$error":"#REF!"},{"$f":"IF(ISERROR(MATCH(D185,#REF!,0))=FALSE,\"C\",IF(ISERROR(MATCH(D185,#REF!,0))=FALSE,\"D\",\"\"))","v":""},{"$f":"IF(E185=\"C\",0,IF(E185 =\"D\",ROUND(1/((1+#REF!)^A185),9) * 2,ROUND(1/((1+#REF!)^A185),9)))","v":{"$error":"#REF!"}},{"$error":"#REF!"}]
[183,183,{"$error":"#REF!"},{"$error":"#REF!"},{"$f":"IF(ISERROR(MATCH(D186,#REF!,0))=FALSE,\"C\",IF(ISERROR(MATCH(D186,#REF!,0))=FALSE,\"D\",\"\"))","v":""},{"$f":"IF(E186=\"C\",0,IF(E186 =\"D\",ROUND(1/((1+#REF!)^A186),9) * 2,ROUND(1/((1+#REF!)^A186),9)))","v":{"$error":"#REF!"}},{"$error":"#REF!"}]
[184,184,{"$error":"#REF!"},{"$error":"#REF!"},{"$f":"IF(ISERROR(MATCH(D187,#REF!,0))=FALSE,\"C\",IF(ISERROR(MATCH(D187,#REF!,0))=FALSE,\"D\",\"\"))","v":""},{"$f":"IF(E187=\"C\",0,IF(E187 =\"D\",ROUND(1/((1+#REF!)^A187),9) * 2,ROUND(1/((1+#REF!)^A187),9)))","v":{"$error":"#REF!"}},{"$error":"#REF!"}]
[185,185,{"$error":"#REF!"},{"$error":"#REF!"},{"$f":"IF(ISERROR(MATCH(D188,#REF!,0))=FALSE,\"C\",IF(ISERROR(MATCH(D188,#REF!,0))=FALSE,\"D\",\"\"))","v":""},{"$f":"IF(E188=\"C\",0,IF(E188 =\"D\",ROUND(1/((1+#REF!)^A188),9) * 2,ROUND(1/((1+#REF!)^A188),9)))","v":{"$error":"#REF!"}},{"$error":"#REF!"}]
[186,186,{"$error":"#REF!"},{"$error":"#REF!"},{"$f":"IF(ISERROR(MATCH(D189,#REF!,0))=FALSE,\"C\",IF(ISERROR(MATCH(D189,#REF!,0))=FALSE,\"D\",\"\"))","v":""},{"$f":"IF(E189=\"C\",0,IF(E189 =\"D\",ROUND(1/((1+#REF!)^A189),9) * 2,ROUND(1/((1+#REF!)^A189),9)))","v":{"$error":"#REF!"}},{"$error":"#REF!"}]
[187,187,{"$error":"#REF!"},{"$error":"#REF!"},{"$f":"IF(ISERROR(MATCH(D190,#REF!,0))=FALSE,\"C\",IF(ISERROR(MATCH(D190,#REF!,0))=FALSE,\"D\",\"\"))","v":""},{"$f":"IF(E190=\"C\",0,IF(E190 =\"D\",ROUND(1/((1+#REF!)^A190),9) * 2,ROUND(1/((1+#REF!)^A190),9)))","v":{"$error":"#REF!"}},{"$error":"#REF!"}]
[188,188,{"$error":"#REF!"},{"$error":"#REF!"},{"$f":"IF(ISERROR(MATCH(D191,#REF!,0))=FALSE,\"C\",IF(ISERROR(MATCH(D191,#REF!,0))=FALSE,\"D\",\"\"))","v":""},{"$f":"IF(E191=\"C\",0,IF(E191 =\"D\",ROUND(1/((1+#REF!)^A191),9) * 2,ROUND(1/((1+#REF!)^A191),9)))","v":{"$error":"#REF!"}},{"$error":"#REF!"}]
[189,189,{"$error":"#REF!"},{"$error":"#REF!"},{"$f":"IF(ISERROR(MATCH(D192,#REF!,0))=FALSE,\"C\",IF(ISERROR(MATCH(D192,#REF!,0))=FALSE,\"D\",\"\"))","v":""},{"$f":"IF(E192=\"C\",0,IF(E192 =\"D\",ROUND(1/((1+#REF!)^A192),9) * 2,ROUND(1/((1+#REF!)^A192),9)))","v":{"$error":"#REF!"}},{"$error":"#REF!"}]
[190,190,{"$error":"#REF!"},{"$error":"#REF!"},{"$f":"IF(ISERROR(MATCH(D193,#REF!,0))=FALSE,\"C\",IF(ISERROR(MATCH(D193,#REF!,0))=FALSE,\"D\",\"\"))","v":""},{"$f":"IF(E193=\"C\",0,IF(E193 =\"D\",ROUND(1/((1+#REF!)^A193),9) * 2,ROUND(1/((1+#REF!)^A193),9)))","v":{"$error":"#REF!"}},{"$error":"#REF!"}]
[191,191,{"$error":"#REF!"},{"$error":"#REF!"},{"$f":"IF(ISERROR(MATCH(D194,#REF!,0))=FALSE,\"C\",IF(ISERROR(MATCH(D194,#REF!,0))=FALSE,\"D\",\"\"))","v":""},{"$f":"IF(E194=\"C\",0,IF(E194 =\"D\",ROUND(1/((1+#REF!)^A194),9) * 2,ROUND(1/((1+#REF!)^A194),9)))","v":{"$error":"#REF!"}},{"$error":"#REF!"}]
[192,192,{"$error":"#REF!"},{"$error":"#REF!"},{"$f":"IF(ISERROR(MATCH(D195,#REF!,0))=FALSE,\"C\",IF(ISERROR(MATCH(D195,#REF!,0))=FALSE,\"D\",\"\"))","v":""},{"$f":"IF(E195=\"C\",0,IF(E195 =\"D\",ROUND(1/((1+#REF!)^A195),9) * 2,ROUND(1/((1+#REF!)^A195),9)))","v":{"$error":"#REF!"}},{"$error":"#REF!"}]
[193,193,{"$error":"#REF!"},{"$error":"#REF!"},{"$f":"IF(ISERROR(MATCH(D196,#REF!,0))=FALSE,\"C\",IF(ISERROR(MATCH(D196,#REF!,0))=FALSE,\"D\",\"\"))","v":""},{"$f":"IF(E196=\"C\",0,IF(E196 =\"D\",ROUND(1/((1+#REF!)^A196),9) * 2,ROUND(1/((1+#REF!)^A196),9)))","v":{"$error":"#REF!"}},{"$error":"#REF!"}]
[{"$f":"A196+1","v":194},194,{"$f":"DATE(YEAR(C196) + 1/12,MONTH(C196)+1,DAY(C196))","v":{"$error":"#REF!"}},{"$error":"#REF!"},{"$f":"IF(ISERROR(MATCH(D197,#REF!,0))=FALSE,\"C\",IF(ISERROR(MATCH(D197,#REF!,0))=FALSE,\"D\",\"\"))","v":""},{"$f":"IF(E197=\"C\",0,IF(E197 =\"D\",ROUND(1/((1+#REF!)^A197),9) * 2,ROUND(1/((1+#REF!)^A197),9)))","v":{"$error":"#REF!"}},{"$error":"#REF!"}]
[195,195,{"$error":"#REF!"},{"$error":"#REF!"},{"$f":"IF(ISERROR(MATCH(D198,#REF!,0))=FALSE,\"C\",IF(ISERROR(MATCH(D198,#REF!,0))=FALSE,\"D\",\"\"))","v":""},{"$f":"IF(E198=\"C\",0,IF(E198 =\"D\",ROUND(1/((1+#REF!)^A198),9) * 2,ROUND(1/((1+#REF!)^A198),9)))","v":{"$error":"#REF!"}},{"$error":"#REF!"}]
[196,196,{"$error":"#REF!"},{"$error":"#REF!"},{"$f":"IF(ISERROR(MATCH(D199,#REF!,0))=FALSE,\"C\",IF(ISERROR(MATCH(D199,#REF!,0))=FALSE,\"D\",\"\"))","v":""},{"$f":"IF(E199=\"C\",0,IF(E199 =\"D\",ROUND(1/((1+#REF!)^A199),9) * 2,ROUND(1/((1+#REF!)^A199),9)))","v":{"$error":"#REF!"}},{"$error":"#REF!"}]
[197,197,{"$error":"#REF!"},{"$error":"#REF!"},{"$f":"IF(ISERROR(MATCH(D200,#REF!,0))=FALSE,\"C\",IF(ISERROR(MATCH(D200,#REF!,0))=FALSE,\"D\",\"\"))","v":""},{"$f":"IF(E200=\"C\",0,IF(E200 =\"D\",ROUND(1/((1+#REF!)^A200),9) * 2,ROUND(1/((1+#REF!)^A200),9)))","v":{"$error":"#REF!"}},{"$error":"#REF!"}]
[198,198,{"$error":"#REF!"},{"$error":"#REF!"},{"$f":"IF(ISERROR(MATCH(D201,#REF!,0))=FALSE,\"C\",IF(ISERROR(MATCH(D201,#REF!,0))=FALSE,\"D\",\"\"))","v":""},{"$f":"IF(E201=\"C\",0,IF(E201 =\"D\",ROUND(1/((1+#REF!)^A201),9) * 2,ROUND(1/((1+#REF!)^A201),9)))","v":{"$error":"#REF!"}},{"$error":"#REF!"}]
[199,199,{"$error":"#REF!"},{"$error":"#REF!"},{"$f":"IF(ISERROR(MATCH(D202,#REF!,0))=FALSE,\"C\",IF(ISERROR(MATCH(D202,#REF!,0))=FALSE,\"D\",\"\"))","v":""},{"$f":"IF(E202=\"C\",0,IF(E202 =\"D\",ROUND(1/((1+#REF!)^A202),9) * 2,ROUND(1/((1+#REF!)^A202),9)))","v":{"$error":"#REF!"}},{"$error":"#REF!"}]
[200,200,{"$error":"#REF!"},{"$error":"#REF!"},{"$f":"IF(ISERROR(MATCH(D203,#REF!,0))=FALSE,\"C\",IF(ISERROR(MATCH(D203,#REF!,0))=FALSE,\"D\",\"\"))","v":""},{"$f":"IF(E203=\"C\",0,IF(E203 =\"D\",ROUND(1/((1+#REF!)^A203),9) * 2,ROUND(1/((1+#REF!)^A203),9)))","v":{"$error":"#REF!"}},{"$error":"#REF!"}]
[201,201,{"$error":"#REF!"},{"$error":"#REF!"},{"$f":"IF(ISERROR(MATCH(D204,#REF!,0))=FALSE,\"C\",IF(ISERROR(MATCH(D204,#REF!,0))=FALSE,\"D\",\"\"))","v":""},{"$f":"IF(E204=\"C\",0,IF(E204 =\"D\",ROUND(1/((1+#REF!)^A204),9) * 2,ROUND(1/((1+#REF!)^A204),9)))","v":{"$error":"#REF!"}},{"$error":"#REF!"}]
[202,202,{"$error":"#REF!"},{"$error":"#REF!"},{"$f":"IF(ISERROR(MATCH(D205,#REF!,0))=FALSE,\"C\",IF(ISERROR(MATCH(D205,#REF!,0))=FALSE,\"D\",\"\"))","v":""},{"$f":"IF(E205=\"C\",0,IF(E205 =\"D\",ROUND(1/((1+#REF!)^A205),9) * 2,ROUND(1/((1+#REF!)^A205),9)))","v":{"$error":"#REF!"}},{"$error":"#REF!"}]
[203,203,{"$error":"#REF!"},{"$error":"#REF!"},{"$f":"IF(ISERROR(MATCH(D206,#REF!,0))=FALSE,\"C\",IF(ISERROR(MATCH(D206,#REF!,0))=FALSE,\"D\",\"\"))","v":""},{"$f":"IF(E206=\"C\",0,IF(E206 =\"D\",ROUND(1/((1+#REF!)^A206),9) * 2,ROUND(1/((1+#REF!)^A206),9)))","v":{"$error":"#REF!"}},{"$error":"#REF!"}]
[204,204,{"$error":"#REF!"},{"$error":"#REF!"},{"$f":"IF(ISERROR(MATCH(D207,#REF!,0))=FALSE,\"C\",IF(ISERROR(MATCH(D207,#REF!,0))=FALSE,\"D\",\"\"))","v":""},{"$f":"IF(E207=\"C\",0,IF(E207 =\"D\",ROUND(1/((1+#REF!)^A207),9) * 2,ROUND(1/((1+#REF!)^A207),9)))","v":{"$error":"#REF!"}},{"$error":"#REF!"}]
[205,205,{"$error":"#REF!"},{"$error":"#REF!"},{"$f":"IF(ISERROR(MATCH(D208,#REF!,0))=FALSE,\"C\",IF(ISERROR(MATCH(D208,#REF!,0))=FALSE,\"D\",\"\"))","v":""},{"$f":"IF(E208=\"C\",0,IF(E208 =\"D\",ROUND(1/((1+#REF!)^A208),9) * 2,ROUND(1/((1+#REF!)^A208),9)))","v":{"$error":"#REF!"}},{"$error":"#REF!"}]
[206,206,{"$error":"#REF!"},{"$error":"#REF!"},{"$f":"IF(ISERROR(MATCH(D209,#REF!,0))=FALSE,\"C\",IF(ISERROR(MATCH(D209,#REF!,0))=FALSE,\"D\",\"\"))","v":""},{"$f":"IF(E209=\"C\",0,IF(E209 =\"D\",ROUND(1/((1+#REF!)^A209),9) * 2,ROUND(1/((1+#REF!)^A209),9)))","v":{"$error":"#REF!"}},{"$error":"#REF!"}]
[207,207,{"$error":"#REF!"},{"$error":"#REF!"},{"$f":"IF(ISERROR(MATCH(D210,#REF!,0))=FALSE,\"C\",IF(ISERROR(MATCH(D210,#REF!,0))=FALSE,\"D\",\"\"))","v":""},{"$f":"IF(E210=\"C\",0,IF(E210 =\"D\",ROUND(1/((1+#REF!)^A210),9) * 2,ROUND(1/((1+#REF!)^A210),9)))","v":{"$error":"#REF!"}},{"$error":"#REF!"}]
[208,208,{"$error":"#REF!"},{"$error":"#REF!"},{"$f":"IF(ISERROR(MATCH(D211,#REF!,0))=FALSE,\"C\",IF(ISERROR(MATCH(D211,#REF!,0))=FALSE,\"D\",\"\"))","v":""},{"$f":"IF(E211=\"C\",0,IF(E211 =\"D\",ROUND(1/((1+#REF!)^A211),9) * 2,ROUND(1/((1+#REF!)^A211),9)))","v":{"$error":"#REF!"}},{"$error":"#REF!"}]
[209,209,{"$error":"#REF!"},{"$error":"#REF!"},{"$f":"IF(ISERROR(MATCH(D212,#REF!,0))=FALSE,\"C\",IF(ISERROR(MATCH(D212,#REF!,0))=FALSE,\"D\",\"\"))","v":""},{"$f":"IF(E212=\"C\",0,IF(E212 =\"D\",ROUND(1/((1+#REF!)^A212),9) * 2,ROUND(1/((1+#REF!)^A212),9)))","v":{"$error":"#REF!"}},{"$error":"#REF!"}]
[210,210,{"$error":"#REF!"},{"$error":"#REF!"},{"$f":"IF(ISERROR(MATCH(D213,#REF!,0))=FALSE,\"C\",IF(ISERROR(MATCH(D213,#REF!,0))=FALSE,\"D\",\"\"))","v":""},{"$f":"IF(E213=\"C\",0,IF(E213 =\"D\",ROUND(1/((1+#REF!)^A213),9) * 2,ROUND(1/((1+#REF!)^A213),9)))","v":{"$error":"#REF!"}},{"$error":"#REF!"}]
[211,211,{"$error":"#REF!"},{"$error":"#REF!"},{"$f":"IF(ISERROR(MATCH(D214,#REF!,0))=FALSE,\"C\",IF(ISERROR(MATCH(D214,#REF!,0))=FALSE,\"D\",\"\"))","v":""},{"$f":"IF(E214=\"C\",0,IF(E214 =\"D\",ROUND(1/((1+#REF!)^A214),9) * 2,ROUND(1/((1+#REF!)^A214),9)))","v":{"$error":"#REF!"}},{"$error":"#REF!"}]
[212,212,{"$error":"#REF!"},{"$error":"#REF!"},{"$f":"IF(ISERROR(MATCH(D215,#REF!,0))=FALSE,\"C\",IF(ISERROR(MATCH(D215,#REF!,0))=FALSE,\"D\",\"\"))","v":""},{"$f":"IF(E215=\"C\",0,IF(E215 =\"D\",ROUND(1/((1+#REF!)^A215),9) * 2,ROUND(1/((1+#REF!)^A215),9)))","v":{"$error":"#REF!"}},{"$error":"#REF!"}]
[213,213,{"$error":"#REF!"},{"$error":"#REF!"},{"$f":"IF(ISERROR(MATCH(D216,#REF!,0))=FALSE,\"C\",IF(ISERROR(MATCH(D216,#REF!,0))=FALSE,\"D\",\"\"))","v":""},{"$f":"IF(E216=\"C\",0,IF(E216 =\"D\",ROUND(1/((1+#REF!)^A216),9) * 2,ROUND(1/((1+#REF!)^A216),9)))","v":{"$error":"#REF!"}},{"$error":"#REF!"}]
[214,214,{"$error":"#REF!"},{"$error":"#REF!"},{"$f":"IF(ISERROR(MATCH(D217,#REF!,0))=FALSE,\"C\",IF(ISERROR(MATCH(D217,#REF!,0))=FALSE,\"D\",\"\"))","v":""},{"$f":"IF(E217=\"C\",0,IF(E217 =\"D\",ROUND(1/((1+#REF!)^A217),9) * 2,ROUND(1/((1+#REF!)^A217),9)))","v":{"$error":"#REF!"}},{"$error":"#REF!"}]
[215,215,{"$error":"#REF!"},{"$error":"#REF!"},{"$f":"IF(ISERROR(MATCH(D218,#REF!,0))=FALSE,\"C\",IF(ISERROR(MATCH(D218,#REF!,0))=FALSE,\"D\",\"\"))","v":""},{"$f":"IF(E218=\"C\",0,IF(E218 =\"D\",ROUND(1/((1+#REF!)^A218),9) * 2,ROUND(1/((1+#REF!)^A218),9)))","v":{"$error":"#REF!"}},{"$error":"#REF!"}]
[216,216,{"$error":"#REF!"},{"$error":"#REF!"},{"$f":"IF(ISERROR(MATCH(D219,#REF!,0))=FALSE,\"C\",IF(ISERROR(MATCH(D219,#REF!,0))=FALSE,\"D\",\"\"))","v":""},{"$f":"IF(E219=\"C\",0,IF(E219 =\"D\",ROUND(1/((1+#REF!)^A219),9) * 2,ROUND(1/((1+#REF!)^A219),9)))","v":{"$error":"#REF!"}},{"$error":"#REF!"}]
[217,217,{"$error":"#REF!"},{"$error":"#REF!"},{"$f":"IF(ISERROR(MATCH(D220,#REF!,0))=FALSE,\"C\",IF(ISERROR(MATCH(D220,#REF!,0))=FALSE,\"D\",\"\"))","v":""},{"$f":"IF(E220=\"C\",0,IF(E220 =\"D\",ROUND(1/((1+#REF!)^A220),9) * 2,ROUND(1/((1+#REF!)^A220),9)))","v":{"$error":"#REF!"}},{"$error":"#REF!"}]
[218,218,{"$error":"#REF!"},{"$error":"#REF!"},{"$f":"IF(ISERROR(MATCH(D221,#REF!,0))=FALSE,\"C\",IF(ISERROR(MATCH(D221,#REF!,0))=FALSE,\"D\",\"\"))","v":""},{"$f":"IF(E221=\"C\",0,IF(E221 =\"D\",ROUND(1/((1+#REF!)^A221),9) * 2,ROUND(1/((1+#REF!)^A221),9)))","v":{"$error":"#REF!"}},{"$error":"#REF!"}]
[219,219,{"$error":"#REF!"},{"$error":"#REF!"},{"$f":"IF(ISERROR(MATCH(D222,#REF!,0))=FALSE,\"C\",IF(ISERROR(MATCH(D222,#REF!,0))=FALSE,\"D\",\"\"))","v":""},{"$f":"IF(E222=\"C\",0,IF(E222 =\"D\",ROUND(1/((1+#REF!)^A222),9) * 2,ROUND(1/((1+#REF!)^A222),9)))","v":{"$error":"#REF!"}},{"$error":"#REF!"}]
[220,220,{"$error":"#REF!"},{"$error":"#REF!"},{"$f":"IF(ISERROR(MATCH(D223,#REF!,0))=FALSE,\"C\",IF(ISERROR(MATCH(D223,#REF!,0))=FALSE,\"D\",\"\"))","v":""},{"$f":"IF(E223=\"C\",0,IF(E223 =\"D\",ROUND(1/((1+#REF!)^A223),9) * 2,ROUND(1/((1+#REF!)^A223),9)))","v":{"$error":"#REF!"}},{"$error":"#REF!"}]
[221,221,{"$error":"#REF!"},{"$error":"#REF!"},{"$f":"IF(ISERROR(MATCH(D224,#REF!,0))=FALSE,\"C\",IF(ISERROR(MATCH(D224,#REF!,0))=FALSE,\"D\",\"\"))","v":""},{"$f":"IF(E224=\"C\",0,IF(E224 =\"D\",ROUND(1/((1+#REF!)^A224),9) * 2,ROUND(1/((1+#REF!)^A224),9)))","v":{"$error":"#REF!"}},{"$error":"#REF!"}]
[222,222,{"$error":"#REF!"},{"$error":"#REF!"},{"$f":"IF(ISERROR(MATCH(D225,#REF!,0))=FALSE,\"C\",IF(ISERROR(MATCH(D225,#REF!,0))=FALSE,\"D\",\"\"))","v":""},{"$f":"IF(E225=\"C\",0,IF(E225 =\"D\",ROUND(1/((1+#REF!)^A225),9) * 2,ROUND(1/((1+#REF!)^A225),9)))","v":{"$error":"#REF!"}},{"$error":"#REF!"}]
[223,223,{"$error":"#REF!"},{"$error":"#REF!"},{"$f":"IF(ISERROR(MATCH(D226,#REF!,0))=FALSE,\"C\",IF(ISERROR(MATCH(D226,#REF!,0))=FALSE,\"D\",\"\"))","v":""},{"$f":"IF(E226=\"C\",0,IF(E226 =\"D\",ROUND(1/((1+#REF!)^A226),9) * 2,ROUND(1/((1+#REF!)^A226),9)))","v":{"$error":"#REF!"}},{"$error":"#REF!"}]
[224,224,{"$error":"#REF!"},{"$error":"#REF!"},{"$f":"IF(ISERROR(MATCH(D227,#REF!,0))=FALSE,\"C\",IF(ISERROR(MATCH(D227,#REF!,0))=FALSE,\"D\",\"\"))","v":""},{"$f":"IF(E227=\"C\",0,IF(E227 =\"D\",ROUND(1/((1+#REF!)^A227),9) * 2,ROUND(1/((1+#REF!)^A227),9)))","v":{"$error":"#REF!"}},{"$error":"#REF!"}]
[225,{"$f":"IF(E228<>\"C\",IF(ISERROR(1+B227)=TRUE,1,1+B227),IF(ISNUMBER(B227),B227,1))","v":225},{"$error":"#REF!"},{"$f":"MONTH(C228)","v":{"$error":"#REF!"}},{"$f":"IF(ISERROR(MATCH(D228,#REF!,0))=FALSE,\"C\",IF(ISERROR(MATCH(D228,#REF!,0))=FALSE,\"D\",\"\"))","v":""},{"$f":"IF(E228=\"C\",0,IF(E228 =\"D\",ROUND(1/((1+#REF!)^A228),9) * 2,ROUND(1/((1+#REF!)^A228),9)))","v":{"$error":"#REF!"}},{"$f":"G227+ROUND(F228,9)","v":{"$error":"#REF!"}}]
[226,226,{"$error":"#REF!"},{"$error":"#REF!"},{"$f":"IF(ISERROR(MATCH(D229,#REF!,0))=FALSE,\"C\",IF(ISERROR(MATCH(D229,#REF!,0))=FALSE,\"D\",\"\"))","v":""},{"$f":"IF(E229=\"C\",0,IF(E229 =\"D\",ROUND(1/((1+#REF!)^A229),9) * 2,ROUND(1/((1+#REF!)^A229),9)))","v":{"$error":"#REF!"}},{"$error":"#REF!"}]
[227,227,{"$error":"#REF!"},{"$error":"#REF!"},{"$f":"IF(ISERROR(MATCH(D230,#REF!,0))=FALSE,\"C\",IF(ISERROR(MATCH(D230,#REF!,0))=FALSE,\"D\",\"\"))","v":""},{"$f":"IF(E230=\"C\",0,IF(E230 =\"D\",ROUND(1/((1+#REF!)^A230),9) * 2,ROUND(1/((1+#REF!)^A230),9)))","v":{"$error":"#REF!"}},{"$error":"#REF!"}]
[228,228,{"$error":"#REF!"},{"$error":"#REF!"},{"$f":"IF(ISERROR(MATCH(D231,#REF!,0))=FALSE,\"C\",IF(ISERROR(MATCH(D231,#REF!,0))=FALSE,\"D\",\"\"))","v":""},{"$f":"IF(E231=\"C\",0,IF(E231 =\"D\",ROUND(1/((1+#REF!)^A231),9) * 2,ROUND(1/((1+#REF!)^A231),9)))","v":{"$error":"#REF!"}},{"$error":"#REF!"}]
[229,229,{"$error":"#REF!"},{"$error":"#REF!"},{"$f":"IF(ISERROR(MATCH(D232,#REF!,0))=FALSE,\"C\",IF(ISERROR(MATCH(D232,#REF!,0))=FALSE,\"D\",\"\"))","v":""},{"$f":"IF(E232=\"C\",0,IF(E232 =\"D\",ROUND(1/((1+#REF!)^A232),9) * 2,ROUND(1/((1+#REF!)^A232),9)))","v":{"$error":"#REF!"}},{"$error":"#REF!"}]
[230,230,{"$error":"#REF!"},{"$error":"#REF!"},{"$f":"IF(ISERROR(MATCH(D233,#REF!,0))=FALSE,\"C\",IF(ISERROR(MATCH(D233,#REF!,0))=FALSE,\"D\",\"\"))","v":""},{"$f":"IF(E233=\"C\",0,IF(E233 =\"D\",ROUND(1/((1+#REF!)^A233),9) * 2,ROUND(1/((1+#REF!)^A233),9)))","v":{"$error":"#REF!"}},{"$error":"#REF!"}]
[231,231,{"$error":"#REF!"},{"$error":"#REF!"},{"$f":"IF(ISERROR(MATCH(D234,#REF!,0))=FALSE,\"C\",IF(ISERROR(MATCH(D234,#REF!,0))=FALSE,\"D\",\"\"))","v":""},{"$f":"IF(E234=\"C\",0,IF(E234 =\"D\",ROUND(1/((1+#REF!)^A234),9) * 2,ROUND(1/((1+#REF!)^A234),9)))","v":{"$error":"#REF!"}},{"$error":"#REF!"}]
[232,232,{"$error":"#REF!"},{"$error":"#REF!"},{"$f":"IF(ISERROR(MATCH(D235,#REF!,0))=FALSE,\"C\",IF(ISERROR(MATCH(D235,#REF!,0))=FALSE,\"D\",\"\"))","v":""},{"$f":"IF(E235=\"C\",0,IF(E235 =\"D\",ROUND(1/((1+#REF!)^A235),9) * 2,ROUND(1/((1+#REF!)^A235),9)))","v":{"$error":"#REF!"}},{"$error":"#REF!"}]
[233,233,{"$error":"#REF!"},{"$error":"#REF!"},{"$f":"IF(ISERROR(MATCH(D236,#REF!,0))=FALSE,\"C\",IF(ISERROR(MATCH(D236,#REF!,0))=FALSE,\"D\",\"\"))","v":""},{"$f":"IF(E236=\"C\",0,IF(E236 =\"D\",ROUND(1/((1+#REF!)^A236),9) * 2,ROUND(1/((1+#REF!)^A236),9)))","v":{"$error":"#REF!"}},{"$error":"#REF!"}]
[234,234,{"$error":"#REF!"},{"$error":"#REF!"},{"$f":"IF(ISERROR(MATCH(D237,#REF!,0))=FALSE,\"C\",IF(ISERROR(MATCH(D237,#REF!,0))=FALSE,\"D\",\"\"))","v":""},{"$f":"IF(E237=\"C\",0,IF(E237 =\"D\",ROUND(1/((1+#REF!)^A237),9) * 2,ROUND(1/((1+#REF!)^A237),9)))","v":{"$error":"#REF!"}},{"$error":"#REF!"}]
[235,235,{"$error":"#REF!"},{"$error":"#REF!"},{"$f":"IF(ISERROR(MATCH(D238,#REF!,0))=FALSE,\"C\",IF(ISERROR(MATCH(D238,#REF!,0))=FALSE,\"D\",\"\"))","v":""},{"$f":"IF(E238=\"C\",0,IF(E238 =\"D\",ROUND(1/((1+#REF!)^A238),9) * 2,ROUND(1/((1+#REF!)^A238),9)))","v":{"$error":"#REF!"}},{"$error":"#REF!"}]
[236,236,{"$error":"#REF!"},{"$error":"#REF!"},{"$f":"IF(ISERROR(MATCH(D239,#REF!,0))=FALSE,\"C\",IF(ISERROR(MATCH(D239,#REF!,0))=FALSE,\"D\",\"\"))","v":""},{"$f":"IF(E239=\"C\",0,IF(E239 =\"D\",ROUND(1/((1+#REF!)^A239),9) * 2,ROUND(1/((1+#REF!)^A239),9)))","v":{"$error":"#REF!"}},{"$error":"#REF!"}]
[237,237,{"$error":"#REF!"},{"$error":"#REF!"},{"$f":"IF(ISERROR(MATCH(D240,#REF!,0))=FALSE,\"C\",IF(ISERROR(MATCH(D240,#REF!,0))=FALSE,\"D\",\"\"))","v":""},{"$f":"IF(E240=\"C\",0,IF(E240 =\"D\",ROUND(1/((1+#REF!)^A240),9) * 2,ROUND(1/((1+#REF!)^A240),9)))","v":{"$error":"#REF!"}},{"$error":"#REF!"}]
[238,238,{"$error":"#REF!"},{"$error":"#REF!"},{"$f":"IF(ISERROR(MATCH(D241,#REF!,0))=FALSE,\"C\",IF(ISERROR(MATCH(D241,#REF!,0))=FALSE,\"D\",\"\"))","v":""},{"$f":"IF(E241=\"C\",0,IF(E241 =\"D\",ROUND(1/((1+#REF!)^A241),9) * 2,ROUND(1/((1+#REF!)^A241),9)))","v":{"$error":"#REF!"}},{"$error":"#REF!"}]
[239,239,{"$error":"#REF!"},{"$error":"#REF!"},{"$f":"IF(ISERROR(MATCH(D242,#REF!,0))=FALSE,\"C\",IF(ISERROR(MATCH(D242,#REF!,0))=FALSE,\"D\",\"\"))","v":""},{"$f":"IF(E242=\"C\",0,IF(E242 =\"D\",ROUND(1/((1+#REF!)^A242),9) * 2,ROUND(1/((1+#REF!)^A242),9)))","v":{"$error":"#REF!"}},{"$error":"#REF!"}]
[240,240,{"$error":"#REF!"},{"$error":"#REF!"},{"$f":"IF(ISERROR(MATCH(D243,#REF!,0))=FALSE,\"C\",IF(ISERROR(MATCH(D243,#REF!,0))=FALSE,\"D\",\"\"))","v":""},{"$f":"IF(E243=\"C\",0,IF(E243 =\"D\",ROUND(1/((1+#REF!)^A243),9) * 2,ROUND(1/((1+#REF!)^A243),9)))","v":{"$error":"#REF!"}},{"$error":"#REF!"}]
[241,241,{"$error":"#REF!"},{"$error":"#REF!"},{"$f":"IF(ISERROR(MATCH(D244,#REF!,0))=FALSE,\"C\",IF(ISERROR(MATCH(D244,#REF!,0))=FALSE,\"D\",\"\"))","v":""},{"$f":"IF(E244=\"C\",0,IF(E244 =\"D\",ROUND(1/((1+#REF!)^A244),9) * 2,ROUND(1/((1+#REF!)^A244),9)))","v":{"$error":"#REF!"}},{"$error":"#REF!"}]
[242,242,{"$error":"#REF!"},{"$error":"#REF!"},{"$f":"IF(ISERROR(MATCH(D245,#REF!,0))=FALSE,\"C\",IF(ISERROR(MATCH(D245,#REF!,0))=FALSE,\"D\",\"\"))","v":""},{"$f":"IF(E245=\"C\",0,IF(E245 =\"D\",ROUND(1/((1+#REF!)^A245),9) * 2,ROUND(1/((1+#REF!)^A245),9)))","v":{"$error":"#REF!"}},{"$error":"#REF!"}]
[243,243,{"$error":"#REF!"},{"$error":"#REF!"},{"$f":"IF(ISERROR(MATCH(D246,#REF!,0))=FALSE,\"C\",IF(ISERROR(MATCH(D246,#REF!,0))=FALSE,\"D\",\"\"))","v":""},{"$f":"IF(E246=\"C\",0,IF(E246 =\"D\",ROUND(1/((1+#REF!)^A246),9) * 2,ROUND(1/((1+#REF!)^A246),9)))","v":{"$error":"#REF!"}},{"$error":"#REF!"}]
[244,244,{"$error":"#REF!"},{"$error":"#REF!"},{"$f":"IF(ISERROR(MATCH(D247,#REF!,0))=FALSE,\"C\",IF(ISERROR(MATCH(D247,#REF!,0))=FALSE,\"D\",\"\"))","v":""},{"$f":"IF(E247=\"C\",0,IF(E247 =\"D\",ROUND(1/((1+#REF!)^A247),9) * 2,ROUND(1/((1+#REF!)^A247),9)))","v":{"$error":"#REF!"}},{"$error":"#REF!"}]
[245,245,{"$error":"#REF!"},{"$error":"#REF!"},{"$f":"IF(ISERROR(MATCH(D248,#REF!,0))=FALSE,\"C\",IF(ISERROR(MATCH(D248,#REF!,0))=FALSE,\"D\",\"\"))","v":""},{"$f":"IF(E248=\"C\",0,IF(E248 =\"D\",ROUND(1/((1+#REF!)^A248),9) * 2,ROUND(1/((1+#REF!)^A248),9)))","v":{"$error":"#REF!"}},{"$error":"#REF!"}]
[246,246,{"$error":"#REF!"},{"$error":"#REF!"},{"$f":"IF(ISERROR(MATCH(D249,#REF!,0))=FALSE,\"C\",IF(ISERROR(MATCH(D249,#REF!,0))=FALSE,\"D\",\"\"))","v":""},{"$f":"IF(E249=\"C\",0,IF(E249 =\"D\",ROUND(1/((1+#REF!)^A249),9) * 2,ROUND(1/((1+#REF!)^A249),9)))","v":{"$error":"#REF!"}},{"$error":"#REF!"}]
[247,247,{"$error":"#REF!"},{"$error":"#REF!"},{"$f":"IF(ISERROR(MATCH(D250,#REF!,0))=FALSE,\"C\",IF(ISERROR(MATCH(D250,#REF!,0))=FALSE,\"D\",\"\"))","v":""},{"$f":"IF(E250=\"C\",0,IF(E250 =\"D\",ROUND(1/((1+#REF!)^A250),9) * 2,ROUND(1/((1+#REF!)^A250),9)))","v":{"$error":"#REF!"}},{"$error":"#REF!"}]
[248,248,{"$error":"#REF!"},{"$error":"#REF!"},{"$f":"IF(ISERROR(MATCH(D251,#REF!,0))=FALSE,\"C\",IF(ISERROR(MATCH(D251,#REF!,0))=FALSE,\"D\",\"\"))","v":""},{"$f":"IF(E251=\"C\",0,IF(E251 =\"D\",ROUND(1/((1+#REF!)^A251),9) * 2,ROUND(1/((1+#REF!)^A251),9)))","v":{"$error":"#REF!"}},{"$error":"#REF!"}]
[249,249,{"$error":"#REF!"},{"$error":"#REF!"},{"$f":"IF(ISERROR(MATCH(D252,#REF!,0))=FALSE,\"C\",IF(ISERROR(MATCH(D252,#REF!,0))=FALSE,\"D\",\"\"))","v":""},{"$f":"IF(E252=\"C\",0,IF(E252 =\"D\",ROUND(1/((1+#REF!)^A252),9) * 2,ROUND(1/((1+#REF!)^A252),9)))","v":{"$error":"#REF!"}},{"$error":"#REF!"}]
[250,250,{"$error":"#REF!"},{"$error":"#REF!"},{"$f":"IF(ISERROR(MATCH(D253,#REF!,0))=FALSE,\"C\",IF(ISERROR(MATCH(D253,#REF!,0))=FALSE,\"D\",\"\"))","v":""},{"$f":"IF(E253=\"C\",0,IF(E253 =\"D\",ROUND(1/((1+#REF!)^A253),9) * 2,ROUND(1/((1+#REF!)^A253),9)))","v":{"$error":"#REF!"}},{"$error":"#REF!"}]
[251,251,{"$error":"#REF!"},{"$error":"#REF!"},{"$f":"IF(ISERROR(MATCH(D254,#REF!,0))=FALSE,\"C\",IF(ISERROR(MATCH(D254,#REF!,0))=FALSE,\"D\",\"\"))","v":""},{"$f":"IF(E254=\"C\",0,IF(E254 =\"D\",ROUND(1/((1+#REF!)^A254),9) * 2,ROUND(1/((1+#REF!)^A254),9)))","v":{"$error":"#REF!"}},{"$error":"#REF!"}]
[252,252,{"$error":"#REF!"},{"$error":"#REF!"},{"$f":"IF(ISERROR(MATCH(D255,#REF!,0))=FALSE,\"C\",IF(ISERROR(MATCH(D255,#REF!,0))=FALSE,\"D\",\"\"))","v":""},{"$f":"IF(E255=\"C\",0,IF(E255 =\"D\",ROUND(1/((1+#REF!)^A255),9) * 2,ROUND(1/((1+#REF!)^A255),9)))","v":{"$error":"#REF!"}},{"$error":"#REF!"}]
[253,253,{"$error":"#REF!"},{"$error":"#REF!"},{"$f":"IF(ISERROR(MATCH(D256,#REF!,0))=FALSE,\"C\",IF(ISERROR(MATCH(D256,#REF!,0))=FALSE,\"D\",\"\"))","v":""},{"$f":"IF(E256=\"C\",0,IF(E256 =\"D\",ROUND(1/((1+#REF!)^A256),9) * 2,ROUND(1/((1+#REF!)^A256),9)))","v":{"$error":"#REF!"}},{"$error":"#REF!"}]
[254,254,{"$error":"#REF!"},{"$error":"#REF!"},{"$f":"IF(ISERROR(MATCH(D257,#REF!,0))=FALSE,\"C\",IF(ISERROR(MATCH(D257,#REF!,0))=FALSE,\"D\",\"\"))","v":""},{"$f":"IF(E257=\"C\",0,IF(E257 =\"D\",ROUND(1/((1+#REF!)^A257),9) * 2,ROUND(1/((1+#REF!)^A257),9)))","v":{"$error":"#REF!"}},{"$error":"#REF!"}]
[255,255,{"$error":"#REF!"},{"$error":"#REF!"},{"$f":"IF(ISERROR(MATCH(D258,#REF!,0))=FALSE,\"C\",IF(ISERROR(MATCH(D258,#REF!,0))=FALSE,\"D\",\"\"))","v":""},{"$f":"IF(E258=\"C\",0,IF(E258 =\"D\",ROUND(1/((1+#REF!)^A258),9) * 2,ROUND(1/((1+#REF!)^A258),9)))","v":{"$error":"#REF!"}},{"$error":"#REF!"}]
[256,256,{"$error":"#REF!"},{"$error":"#REF!"},{"$f":"IF(ISERROR(MATCH(D259,#REF!,0))=FALSE,\"C\",IF(ISERROR(MATCH(D259,#REF!,0))=FALSE,\"D\",\"\"))","v":""},{"$f":"IF(E259=\"C\",0,IF(E259 =\"D\",ROUND(1/((1+#REF!)^A259),9) * 2,ROUND(1/((1+#REF!)^A259),9)))","v":{"$error":"#REF!"}},{"$error":"#REF!"}]
[257,257,{"$error":"#REF!"},{"$error":"#REF!"},{"$f":"IF(ISERROR(MATCH(D260,#REF!,0))=FALSE,\"C\",IF(ISERROR(MATCH(D260,#REF!,0))=FALSE,\"D\",\"\"))","v":""},{"$f":"IF(E260=\"C\",0,IF(E260 =\"D\",ROUND(1/((1+#REF!)^A260),9) * 2,ROUND(1/((1+#REF!)^A260),9)))","v":{"$error":"#REF!"}},{"$error":"#REF!"}]
[{"$f":"A260+1","v":258},258,{"$f":"DATE(YEAR(C260) + 1/12,MONTH(C260)+1,DAY(C260))","v":{"$error":"#REF!"}},{"$error":"#REF!"},{"$f":"IF(ISERROR(MATCH(D261,#REF!,0))=FALSE,\"C\",IF(ISERROR(MATCH(D261,#REF!,0))=FALSE,\"D\",\"\"))","v":""},{"$f":"IF(E261=\"C\",0,IF(E261 =\"D\",ROUND(1/((1+#REF!)^A261),9) * 2,ROUND(1/((1+#REF!)^A261),9)))","v":{"$error":"#REF!"}},{"$error":"#REF!"}]
[259,259,{"$error":"#REF!"},{"$error":"#REF!"},{"$f":"IF(ISERROR(MATCH(D262,#REF!,0))=FALSE,\"C\",IF(ISERROR(MATCH(D262,#REF!,0))=FALSE,\"D\",\"\"))","v":""},{"$f":"IF(E262=\"C\",0,IF(E262 =\"D\",ROUND(1/((1+#REF!)^A262),9) * 2,ROUND(1/((1+#REF!)^A262),9)))","v":{"$error":"#REF!"}},{"$error":"#REF!"}]
[260,260,{"$error":"#REF!"},{"$error":"#REF!"},{"$f":"IF(ISERROR(MATCH(D263,#REF!,0))=FALSE,\"C\",IF(ISERROR(MATCH(D263,#REF!,0))=FALSE,\"D\",\"\"))","v":""},{"$f":"IF(E263=\"C\",0,IF(E263 =\"D\",ROUND(1/((1+#REF!)^A263),9) * 2,ROUND(1/((1+#REF!)^A263),9)))","v":{"$error":"#REF!"}},{"$error":"#REF!"}]
[261,261,{"$error":"#REF!"},{"$error":"#REF!"},{"$f":"IF(ISERROR(MATCH(D264,#REF!,0))=FALSE,\"C\",IF(ISERROR(MATCH(D264,#REF!,0))=FALSE,\"D\",\"\"))","v":""},{"$f":"IF(E264=\"C\",0,IF(E264 =\"D\",ROUND(1/((1+#REF!)^A264),9) * 2,ROUND(1/((1+#REF!)^A264),9)))","v":{"$error":"#REF!"}},{"$error":"#REF!"}]
[262,262,{"$error":"#REF!"},{"$error":"#REF!"},{"$f":"IF(ISERROR(MATCH(D265,#REF!,0))=FALSE,\"C\",IF(ISERROR(MATCH(D265,#REF!,0))=FALSE,\"D\",\"\"))","v":""},{"$f":"IF(E265=\"C\",0,IF(E265 =\"D\",ROUND(1/((1+#REF!)^A265),9) * 2,ROUND(1/((1+#REF!)^A265),9)))","v":{"$error":"#REF!"}},{"$error":"#REF!"}]
[263,263,{"$error":"#REF!"},{"$error":"#REF!"},{"$f":"IF(ISERROR(MATCH(D266,#REF!,0))=FALSE,\"C\",IF(ISERROR(MATCH(D266,#REF!,0))=FALSE,\"D\",\"\"))","v":""},{"$f":"IF(E266=\"C\",0,IF(E266 =\"D\",ROUND(1/((1+#REF!)^A266),9) * 2,ROUND(1/((1+#REF!)^A266),9)))","v":{"$error":"#REF!"}},{"$error":"#REF!"}]
[264,264,{"$error":"#REF!"},{"$error":"#REF!"},{"$f":"IF(ISERROR(MATCH(D267,#REF!,0))=FALSE,\"C\",IF(ISERROR(MATCH(D267,#REF!,0))=FALSE,\"D\",\"\"))","v":""},{"$f":"IF(E267=\"C\",0,IF(E267 =\"D\",ROUND(1/((1+#REF!)^A267),9) * 2,ROUND(1/((1+#REF!)^A267),9)))","v":{"$error":"#REF!"}},{"$error":"#REF!"}]
[265,265,{"$error":"#REF!"},{"$error":"#REF!"},{"$f":"IF(ISERROR(MATCH(D268,#REF!,0))=FALSE,\"C\",IF(ISERROR(MATCH(D268,#REF!,0))=FALSE,\"D\",\"\"))","v":""},{"$f":"IF(E268=\"C\",0,IF(E268 =\"D\",ROUND(1/((1+#REF!)^A268),9) * 2,ROUND(1/((1+#REF!)^A268),9)))","v":{"$error":"#REF!"}},{"$error":"#REF!"}]
[266,266,{"$error":"#REF!"},{"$error":"#REF!"},{"$f":"IF(ISERROR(MATCH(D269,#REF!,0))=FALSE,\"C\",IF(ISERROR(MATCH(D269,#REF!,0))=FALSE,\"D\",\"\"))","v":""},{"$f":"IF(E269=\"C\",0,IF(E269 =\"D\",ROUND(1/((1+#REF!)^A269),9) * 2,ROUND(1/((1+#REF!)^A269),9)))","v":{"$error":"#REF!"}},{"$error":"#REF!"}]
[267,267,{"$error":"#REF!"},{"$error":"#REF!"},{"$f":"IF(ISERROR(MATCH(D270,#REF!,0))=FALSE,\"C\",IF(ISERROR(MATCH(D270,#REF!,0))=FALSE,\"D\",\"\"))","v":""},{"$f":"IF(E270=\"C\",0,IF(E270 =\"D\",ROUND(1/((1+#REF!)^A270),9) * 2,ROUND(1/((1+#REF!)^A270),9)))","v":{"$error":"#REF!"}},{"$error":"#REF!"}]
[268,268,{"$error":"#REF!"},{"$error":"#REF!"},{"$f":"IF(ISERROR(MATCH(D271,#REF!,0))=FALSE,\"C\",IF(ISERROR(MATCH(D271,#REF!,0))=FALSE,\"D\",\"\"))","v":""},{"$f":"IF(E271=\"C\",0,IF(E271 =\"D\",ROUND(1/((1+#REF!)^A271),9) * 2,ROUND(1/((1+#REF!)^A271),9)))","v":{"$error":"#REF!"}},{"$error":"#REF!"}]
[269,269,{"$error":"#REF!"},{"$error":"#REF!"},{"$f":"IF(ISERROR(MATCH(D272,#REF!,0))=FALSE,\"C\",IF(ISERROR(MATCH(D272,#REF!,0))=FALSE,\"D\",\"\"))","v":""},{"$f":"IF(E272=\"C\",0,IF(E272 =\"D\",ROUND(1/((1+#REF!)^A272),9) * 2,ROUND(1/((1+#REF!)^A272),9)))","v":{"$error":"#REF!"}},{"$error":"#REF!"}]
[270,270,{"$error":"#REF!"},{"$error":"#REF!"},{"$f":"IF(ISERROR(MATCH(D273,#REF!,0))=FALSE,\"C\",IF(ISERROR(MATCH(D273,#REF!,0))=FALSE,\"D\",\"\"))","v":""},{"$f":"IF(E273=\"C\",0,IF(E273 =\"D\",ROUND(1/((1+#REF!)^A273),9) * 2,ROUND(1/((1+#REF!)^A273),9)))","v":{"$error":"#REF!"}},{"$error":"#REF!"}]
[271,271,{"$error":"#REF!"},{"$error":"#REF!"},{"$f":"IF(ISERROR(MATCH(D274,#REF!,0))=FALSE,\"C\",IF(ISERROR(MATCH(D274,#REF!,0))=FALSE,\"D\",\"\"))","v":""},{"$f":"IF(E274=\"C\",0,IF(E274 =\"D\",ROUND(1/((1+#REF!)^A274),9) * 2,ROUND(1/((1+#REF!)^A274),9)))","v":{"$error":"#REF!"}},{"$error":"#REF!"}]
[272,272,{"$error":"#REF!"},{"$error":"#REF!"},{"$f":"IF(ISERROR(MATCH(D275,#REF!,0))=FALSE,\"C\",IF(ISERROR(MATCH(D275,#REF!,0))=FALSE,\"D\",\"\"))","v":""},{"$f":"IF(E275=\"C\",0,IF(E275 =\"D\",ROUND(1/((1+#REF!)^A275),9) * 2,ROUND(1/((1+#REF!)^A275),9)))","v":{"$error":"#REF!"}},{"$error":"#REF!"}]
[273,273,{"$error":"#REF!"},{"$error":"#REF!"},{"$f":"IF(ISERROR(MATCH(D276,#REF!,0))=FALSE,\"C\",IF(ISERROR(MATCH(D276,#REF!,0))=FALSE,\"D\",\"\"))","v":""},{"$f":"IF(E276=\"C\",0,IF(E276 =\"D\",ROUND(1/((1+#REF!)^A276),9) * 2,ROUND(1/((1+#REF!)^A276),9)))","v":{"$error":"#REF!"}},{"$error":"#REF!"}]
[274,274,{"$error":"#REF!"},{"$error":"#REF!"},{"$f":"IF(ISERROR(MATCH(D277,#REF!,0))=FALSE,\"C\",IF(ISERROR(MATCH(D277,#REF!,0))=FALSE,\"D\",\"\"))","v":""},{"$f":"IF(E277=\"C\",0,IF(E277 =\"D\",ROUND(1/((1+#REF!)^A277),9) * 2,ROUND(1/((1+#REF!)^A277),9)))","v":{"$error":"#REF!"}},{"$error":"#REF!"}]
[275,275,{"$error":"#REF!"},{"$error":"#REF!"},{"$f":"IF(ISERROR(MATCH(D278,#REF!,0))=FALSE,\"C\",IF(ISERROR(MATCH(D278,#REF!,0))=FALSE,\"D\",\"\"))","v":""},{"$f":"IF(E278=\"C\",0,IF(E278 =\"D\",ROUND(1/((1+#REF!)^A278),9) * 2,ROUND(1/((1+#REF!)^A278),9)))","v":{"$error":"#REF!"}},{"$error":"#REF!"}]
[276,276,{"$error":"#REF!"},{"$error":"#REF!"},{"$f":"IF(ISERROR(MATCH(D279,#REF!,0))=FALSE,\"C\",IF(ISERROR(MATCH(D279,#REF!,0))=FALSE,\"D\",\"\"))","v":""},{"$f":"IF(E279=\"C\",0,IF(E279 =\"D\",ROUND(1/((1+#REF!)^A279),9) * 2,ROUND(1/((1+#REF!)^A279),9)))","v":{"$error":"#REF!"}},{"$error":"#REF!"}]
[277,277,{"$error":"#REF!"},{"$error":"#REF!"},{"$f":"IF(ISERROR(MATCH(D280,#REF!,0))=FALSE,\"C\",IF(ISERROR(MATCH(D280,#REF!,0))=FALSE,\"D\",\"\"))","v":""},{"$f":"IF(E280=\"C\",0,IF(E280 =\"D\",ROUND(1/((1+#REF!)^A280),9) * 2,ROUND(1/((1+#REF!)^A280),9)))","v":{"$error":"#REF!"}},{"$error":"#REF!"}]
[278,278,{"$error":"#REF!"},{"$error":"#REF!"},{"$f":"IF(ISERROR(MATCH(D281,#REF!,0))=FALSE,\"C\",IF(ISERROR(MATCH(D281,#REF!,0))=FALSE,\"D\",\"\"))","v":""},{"$f":"IF(E281=\"C\",0,IF(E281 =\"D\",ROUND(1/((1+#REF!)^A281),9) * 2,ROUND(1/((1+#REF!)^A281),9)))","v":{"$error":"#REF!"}},{"$error":"#REF!"}]
[279,279,{"$error":"#REF!"},{"$error":"#REF!"},{"$f":"IF(ISERROR(MATCH(D282,#REF!,0))=FALSE,\"C\",IF(ISERROR(MATCH(D282,#REF!,0))=FALSE,\"D\",\"\"))","v":""},{"$f":"IF(E282=\"C\",0,IF(E282 =\"D\",ROUND(1/((1+#REF!)^A282),9) * 2,ROUND(1/((1+#REF!)^A282),9)))","v":{"$error":"#REF!"}},{"$error":"#REF!"}]
[280,280,{"$error":"#REF!"},{"$error":"#REF!"},{"$f":"IF(ISERROR(MATCH(D283,#REF!,0))=FALSE,\"C\",IF(ISERROR(MATCH(D283,#REF!,0))=FALSE,\"D\",\"\"))","v":""},{"$f":"IF(E283=\"C\",0,IF(E283 =\"D\",ROUND(1/((1+#REF!)^A283),9) * 2,ROUND(1/((1+#REF!)^A283),9)))","v":{"$error":"#REF!"}},{"$error":"#REF!"}]
[281,281,{"$error":"#REF!"},{"$error":"#REF!"},{"$f":"IF(ISERROR(MATCH(D284,#REF!,0))=FALSE,\"C\",IF(ISERROR(MATCH(D284,#REF!,0))=FALSE,\"D\",\"\"))","v":""},{"$f":"IF(E284=\"C\",0,IF(E284 =\"D\",ROUND(1/((1+#REF!)^A284),9) * 2,ROUND(1/((1+#REF!)^A284),9)))","v":{"$error":"#REF!"}},{"$error":"#REF!"}]
[282,282,{"$error":"#REF!"},{"$error":"#REF!"},{"$f":"IF(ISERROR(MATCH(D285,#REF!,0))=FALSE,\"C\",IF(ISERROR(MATCH(D285,#REF!,0))=FALSE,\"D\",\"\"))","v":""},{"$f":"IF(E285=\"C\",0,IF(E285 =\"D\",ROUND(1/((1+#REF!)^A285),9) * 2,ROUND(1/((1+#REF!)^A285),9)))","v":{"$error":"#REF!"}},{"$error":"#REF!"}]
[283,283,{"$error":"#REF!"},{"$error":"#REF!"},{"$f":"IF(ISERROR(MATCH(D286,#REF!,0))=FALSE,\"C\",IF(ISERROR(MATCH(D286,#REF!,0))=FALSE,\"D\",\"\"))","v":""},{"$f":"IF(E286=\"C\",0,IF(E286 =\"D\",ROUND(1/((1+#REF!)^A286),9) * 2,ROUND(1/((1+#REF!)^A286),9)))","v":{"$error":"#REF!"}},{"$error":"#REF!"}]
[284,284,{"$error":"#REF!"},{"$error":"#REF!"},{"$f":"IF(ISERROR(MATCH(D287,#REF!,0))=FALSE,\"C\",IF(ISERROR(MATCH(D287,#REF!,0))=FALSE,\"D\",\"\"))","v":""},{"$f":"IF(E287=\"C\",0,IF(E287 =\"D\",ROUND(1/((1+#REF!)^A287),9) * 2,ROUND(1/((1+#REF!)^A287),9)))","v":{"$error":"#REF!"}},{"$error":"#REF!"}]
[285,285,{"$error":"#REF!"},{"$error":"#REF!"},{"$f":"IF(ISERROR(MATCH(D288,#REF!,0))=FALSE,\"C\",IF(ISERROR(MATCH(D288,#REF!,0))=FALSE,\"D\",\"\"))","v":""},{"$f":"IF(E288=\"C\",0,IF(E288 =\"D\",ROUND(1/((1+#REF!)^A288),9) * 2,ROUND(1/((1+#REF!)^A288),9)))","v":{"$error":"#REF!"}},{"$error":"#REF!"}]
[286,286,{"$error":"#REF!"},{"$error":"#REF!"},{"$f":"IF(ISERROR(MATCH(D289,#REF!,0))=FALSE,\"C\",IF(ISERROR(MATCH(D289,#REF!,0))=FALSE,\"D\",\"\"))","v":""},{"$f":"IF(E289=\"C\",0,IF(E289 =\"D\",ROUND(1/((1+#REF!)^A289),9) * 2,ROUND(1/((1+#REF!)^A289),9)))","v":{"$error":"#REF!"}},{"$error":"#REF!"}]
[287,287,{"$error":"#REF!"},{"$error":"#REF!"},{"$f":"IF(ISERROR(MATCH(D290,#REF!,0))=FALSE,\"C\",IF(ISERROR(MATCH(D290,#REF!,0))=FALSE,\"D\",\"\"))","v":""},{"$f":"IF(E290=\"C\",0,IF(E290 =\"D\",ROUND(1/((1+#REF!)^A290),9) * 2,ROUND(1/((1+#REF!)^A290),9)))","v":{"$error":"#REF!"}},{"$error":"#REF!"}]
[288,288,{"$error":"#REF!"},{"$error":"#REF!"},{"$f":"IF(ISERROR(MATCH(D291,#REF!,0))=FALSE,\"C\",IF(ISERROR(MATCH(D291,#REF!,0))=FALSE,\"D\",\"\"))","v":""},{"$f":"IF(E291=\"C\",0,IF(E291 =\"D\",ROUND(1/((1+#REF!)^A291),9) * 2,ROUND(1/((1+#REF!)^A291),9)))","v":{"$error":"#REF!"}},{"$error":"#REF!"}]
[289,{"$f":"IF(E292<>\"C\",IF(ISERROR(1+B291)=TRUE,1,1+B291),IF(ISNUMBER(B291),B291,1))","v":289},{"$error":"#REF!"},{"$f":"MONTH(C292)","v":{"$error":"#REF!"}},{"$f":"IF(ISERROR(MATCH(D292,#REF!,0))=FALSE,\"C\",IF(ISERROR(MATCH(D292,#REF!,0))=FALSE,\"D\",\"\"))","v":""},{"$f":"IF(E292=\"C\",0,IF(E292 =\"D\",ROUND(1/((1+#REF!)^A292),9) * 2,ROUND(1/((1+#REF!)^A292),9)))","v":{"$error":"#REF!"}},{"$f":"G291+ROUND(F292,9)","v":{"$error":"#REF!"}}]
[290,290,{"$error":"#REF!"},{"$error":"#REF!"},{"$f":"IF(ISERROR(MATCH(D293,#REF!,0))=FALSE,\"C\",IF(ISERROR(MATCH(D293,#REF!,0))=FALSE,\"D\",\"\"))","v":""},{"$f":"IF(E293=\"C\",0,IF(E293 =\"D\",ROUND(1/((1+#REF!)^A293),9) * 2,ROUND(1/((1+#REF!)^A293),9)))","v":{"$error":"#REF!"}},{"$error":"#REF!"}]
[291,291,{"$error":"#REF!"},{"$error":"#REF!"},{"$f":"IF(ISERROR(MATCH(D294,#REF!,0))=FALSE,\"C\",IF(ISERROR(MATCH(D294,#REF!,0))=FALSE,\"D\",\"\"))","v":""},{"$f":"IF(E294=\"C\",0,IF(E294 =\"D\",ROUND(1/((1+#REF!)^A294),9) * 2,ROUND(1/((1+#REF!)^A294),9)))","v":{"$error":"#REF!"}},{"$error":"#REF!"}]
[292,292,{"$error":"#REF!"},{"$error":"#REF!"},{"$f":"IF(ISERROR(MATCH(D295,#REF!,0))=FALSE,\"C\",IF(ISERROR(MATCH(D295,#REF!,0))=FALSE,\"D\",\"\"))","v":""},{"$f":"IF(E295=\"C\",0,IF(E295 =\"D\",ROUND(1/((1+#REF!)^A295),9) * 2,ROUND(1/((1+#REF!)^A295),9)))","v":{"$error":"#REF!"}},{"$error":"#REF!"}]
[293,293,{"$error":"#REF!"},{"$error":"#REF!"},{"$f":"IF(ISERROR(MATCH(D296,#REF!,0))=FALSE,\"C\",IF(ISERROR(MATCH(D296,#REF!,0))=FALSE,\"D\",\"\"))","v":""},{"$f":"IF(E296=\"C\",0,IF(E296 =\"D\",ROUND(1/((1+#REF!)^A296),9) * 2,ROUND(1/((1+#REF!)^A296),9)))","v":{"$error":"#REF!"}},{"$error":"#REF!"}]
[294,294,{"$error":"#REF!"},{"$error":"#REF!"},{"$f":"IF(ISERROR(MATCH(D297,#REF!,0))=FALSE,\"C\",IF(ISERROR(MATCH(D297,#REF!,0))=FALSE,\"D\",\"\"))","v":""},{"$f":"IF(E297=\"C\",0,IF(E297 =\"D\",ROUND(1/((1+#REF!)^A297),9) * 2,ROUND(1/((1+#REF!)^A297),9)))","v":{"$error":"#REF!"}},{"$error":"#REF!"}]
[295,295,{"$error":"#REF!"},{"$error":"#REF!"},{"$f":"IF(ISERROR(MATCH(D298,#REF!,0))=FALSE,\"C\",IF(ISERROR(MATCH(D298,#REF!,0))=FALSE,\"D\",\"\"))","v":""},{"$f":"IF(E298=\"C\",0,IF(E298 =\"D\",ROUND(1/((1+#REF!)^A298),9) * 2,ROUND(1/((1+#REF!)^A298),9)))","v":{"$error":"#REF!"}},{"$error":"#REF!"}]
[296,296,{"$error":"#REF!"},{"$error":"#REF!"},{"$f":"IF(ISERROR(MATCH(D299,#REF!,0))=FALSE,\"C\",IF(ISERROR(MATCH(D299,#REF!,0))=FALSE,\"D\",\"\"))","v":""},{"$f":"IF(E299=\"C\",0,IF(E299 =\"D\",ROUND(1/((1+#REF!)^A299),9) * 2,ROUND(1/((1+#REF!)^A299),9)))","v":{"$error":"#REF!"}},{"$error":"#REF!"}]
[297,297,{"$error":"#REF!"},{"$error":"#REF!"},{"$f":"IF(ISERROR(MATCH(D300,#REF!,0))=FALSE,\"C\",IF(ISERROR(MATCH(D300,#REF!,0))=FALSE,\"D\",\"\"))","v":""},{"$f":"IF(E300=\"C\",0,IF(E300 =\"D\",ROUND(1/((1+#REF!)^A300),9) * 2,ROUND(1/((1+#REF!)^A300),9)))","v":{"$error":"#REF!"}},{"$error":"#REF!"}]
[298,298,{"$error":"#REF!"},{"$error":"#REF!"},{"$f":"IF(ISERROR(MATCH(D301,#REF!,0))=FALSE,\"C\",IF(ISERROR(MATCH(D301,#REF!,0))=FALSE,\"D\",\"\"))","v":""},{"$f":"IF(E301=\"C\",0,IF(E301 =\"D\",ROUND(1/((1+#REF!)^A301),9) * 2,ROUND(1/((1+#REF!)^A301),9)))","v":{"$error":"#REF!"}},{"$error":"#REF!"}]
[299,299,{"$error":"#REF!"},{"$error":"#REF!"},{"$f":"IF(ISERROR(MATCH(D302,#REF!,0))=FALSE,\"C\",IF(ISERROR(MATCH(D302,#REF!,0))=FALSE,\"D\",\"\"))","v":""},{"$f":"IF(E302=\"C\",0,IF(E302 =\"D\",ROUND(1/((1+#REF!)^A302),9) * 2,ROUND(1/((1+#REF!)^A302),9)))","v":{"$error":"#REF!"}},{"$error":"#REF!"}]
[300,300,{"$error":"#REF!"},{"$error":"#REF!"},{"$f":"IF(ISERROR(MATCH(D303,#REF!,0))=FALSE,\"C\",IF(ISERROR(MATCH(D303,#REF!,0))=FALSE,\"D\",\"\"))","v":""},{"$f":"IF(E303=\"C\",0,IF(E303 =\"D\",ROUND(1/((1+#REF!)^A303),9) * 2,ROUND(1/((1+#REF!)^A303),9)))","v":{"$error":"#REF!"}},{"$error":"#REF!"}]
[301,301,{"$error":"#REF!"},{"$error":"#REF!"},{"$f":"IF(ISERROR(MATCH(D304,#REF!,0))=FALSE,\"C\",IF(ISERROR(MATCH(D304,#REF!,0))=FALSE,\"D\",\"\"))","v":""},{"$f":"IF(E304=\"C\",0,IF(E304 =\"D\",ROUND(1/((1+#REF!)^A304),9) * 2,ROUND(1/((1+#REF!)^A304),9)))","v":{"$error":"#REF!"}},{"$error":"#REF!"}]
[302,302,{"$error":"#REF!"},{"$error":"#REF!"},{"$f":"IF(ISERROR(MATCH(D305,#REF!,0))=FALSE,\"C\",IF(ISERROR(MATCH(D305,#REF!,0))=FALSE,\"D\",\"\"))","v":""},{"$f":"IF(E305=\"C\",0,IF(E305 =\"D\",ROUND(1/((1+#REF!)^A305),9) * 2,ROUND(1/((1+#REF!)^A305),9)))","v":{"$error":"#REF!"}},{"$error":"#REF!"}]
[303,303,{"$error":"#REF!"},{"$error":"#REF!"},{"$f":"IF(ISERROR(MATCH(D306,#REF!,0))=FALSE,\"C\",IF(ISERROR(MATCH(D306,#REF!,0))=FALSE,\"D\",\"\"))","v":""},{"$f":"IF(E306=\"C\",0,IF(E306 =\"D\",ROUND(1/((1+#REF!)^A306),9) * 2,ROUND(1/((1+#REF!)^A306),9)))","v":{"$error":"#REF!"}},{"$error":"#REF!"}]
[304,304,{"$error":"#REF!"},{"$error":"#REF!"},{"$f":"IF(ISERROR(MATCH(D307,#REF!,0))=FALSE,\"C\",IF(ISERROR(MATCH(D307,#REF!,0))=FALSE,\"D\",\"\"))","v":""},{"$f":"IF(E307=\"C\",0,IF(E307 =\"D\",ROUND(1/((1+#REF!)^A307),9) * 2,ROUND(1/((1+#REF!)^A307),9)))","v":{"$error":"#REF!"}},{"$error":"#REF!"}]
[305,305,{"$error":"#REF!"},{"$error":"#REF!"},{"$f":"IF(ISERROR(MATCH(D308,#REF!,0))=FALSE,\"C\",IF(ISERROR(MATCH(D308,#REF!,0))=FALSE,\"D\",\"\"))","v":""},{"$f":"IF(E308=\"C\",0,IF(E308 =\"D\",ROUND(1/((1+#REF!)^A308),9) * 2,ROUND(1/((1+#REF!)^A308),9)))","v":{"$error":"#REF!"}},{"$error":"#REF!"}]
[306,306,{"$error":"#REF!"},{"$error":"#REF!"},{"$f":"IF(ISERROR(MATCH(D309,#REF!,0))=FALSE,\"C\",IF(ISERROR(MATCH(D309,#REF!,0))=FALSE,\"D\",\"\"))","v":""},{"$f":"IF(E309=\"C\",0,IF(E309 =\"D\",ROUND(1/((1+#REF!)^A309),9) * 2,ROUND(1/((1+#REF!)^A309),9)))","v":{"$error":"#REF!"}},{"$error":"#REF!"}]
[307,307,{"$error":"#REF!"},{"$error":"#REF!"},{"$f":"IF(ISERROR(MATCH(D310,#REF!,0))=FALSE,\"C\",IF(ISERROR(MATCH(D310,#REF!,0))=FALSE,\"D\",\"\"))","v":""},{"$f":"IF(E310=\"C\",0,IF(E310 =\"D\",ROUND(1/((1+#REF!)^A310),9) * 2,ROUND(1/((1+#REF!)^A310),9)))","v":{"$error":"#REF!"}},{"$error":"#REF!"}]
[308,308,{"$error":"#REF!"},{"$error":"#REF!"},{"$f":"IF(ISERROR(MATCH(D311,#REF!,0))=FALSE,\"C\",IF(ISERROR(MATCH(D311,#REF!,0))=FALSE,\"D\",\"\"))","v":""},{"$f":"IF(E311=\"C\",0,IF(E311 =\"D\",ROUND(1/((1+#REF!)^A311),9) * 2,ROUND(1/((1+#REF!)^A311),9)))","v":{"$error":"#REF!"}},{"$error":"#REF!"}]
[309,309,{"$error":"#REF!"},{"$error":"#REF!"},{"$f":"IF(ISERROR(MATCH(D312,#REF!,0))=FALSE,\"C\",IF(ISERROR(MATCH(D312,#REF!,0))=FALSE,\"D\",\"\"))","v":""},{"$f":"IF(E312=\"C\",0,IF(E312 =\"D\",ROUND(1/((1+#REF!)^A312),9) * 2,ROUND(1/((1+#REF!)^A312),9)))","v":{"$error":"#REF!"}},{"$error":"#REF!"}]
[310,310,{"$error":"#REF!"},{"$error":"#REF!"},{"$f":"IF(ISERROR(MATCH(D313,#REF!,0))=FALSE,\"C\",IF(ISERROR(MATCH(D313,#REF!,0))=FALSE,\"D\",\"\"))","v":""},{"$f":"IF(E313=\"C\",0,IF(E313 =\"D\",ROUND(1/((1+#REF!)^A313),9) * 2,ROUND(1/((1+#REF!)^A313),9)))","v":{"$error":"#REF!"}},{"$error":"#REF!"}]
[311,311,{"$error":"#REF!"},{"$error":"#REF!"},{"$f":"IF(ISERROR(MATCH(D314,#REF!,0))=FALSE,\"C\",IF(ISERROR(MATCH(D314,#REF!,0))=FALSE,\"D\",\"\"))","v":""},{"$f":"IF(E314=\"C\",0,IF(E314 =\"D\",ROUND(1/((1+#REF!)^A314),9) * 2,ROUND(1/((1+#REF!)^A314),9)))","v":{"$error":"#REF!"}},{"$error":"#REF!"}]
[312,312,{"$error":"#REF!"},{"$error":"#REF!"},{"$f":"IF(ISERROR(MATCH(D315,#REF!,0))=FALSE,\"C\",IF(ISERROR(MATCH(D315,#REF!,0))=FALSE,\"D\",\"\"))","v":""},{"$f":"IF(E315=\"C\",0,IF(E315 =\"D\",ROUND(1/((1+#REF!)^A315),9) * 2,ROUND(1/((1+#REF!)^A315),9)))","v":{"$error":"#REF!"}},{"$error":"#REF!"}]
[313,313,{"$error":"#REF!"},{"$error":"#REF!"},{"$f":"IF(ISERROR(MATCH(D316,#REF!,0))=FALSE,\"C\",IF(ISERROR(MATCH(D316,#REF!,0))=FALSE,\"D\",\"\"))","v":""},{"$f":"IF(E316=\"C\",0,IF(E316 =\"D\",ROUND(1/((1+#REF!)^A316),9) * 2,ROUND(1/((1+#REF!)^A316),9)))","v":{"$error":"#REF!"}},{"$error":"#REF!"}]
[314,314,{"$error":"#REF!"},{"$error":"#REF!"},{"$f":"IF(ISERROR(MATCH(D317,#REF!,0))=FALSE,\"C\",IF(ISERROR(MATCH(D317,#REF!,0))=FALSE,\"D\",\"\"))","v":""},{"$f":"IF(E317=\"C\",0,IF(E317 =\"D\",ROUND(1/((1+#REF!)^A317),9) * 2,ROUND(1/((1+#REF!)^A317),9)))","v":{"$error":"#REF!"}},{"$error":"#REF!"}]
[315,315,{"$error":"#REF!"},{"$error":"#REF!"},{"$f":"IF(ISERROR(MATCH(D318,#REF!,0))=FALSE,\"C\",IF(ISERROR(MATCH(D318,#REF!,0))=FALSE,\"D\",\"\"))","v":""},{"$f":"IF(E318=\"C\",0,IF(E318 =\"D\",ROUND(1/((1+#REF!)^A318),9) * 2,ROUND(1/((1+#REF!)^A318),9)))","v":{"$error":"#REF!"}},{"$error":"#REF!"}]
[316,316,{"$error":"#REF!"},{"$error":"#REF!"},{"$f":"IF(ISERROR(MATCH(D319,#REF!,0))=FALSE,\"C\",IF(ISERROR(MATCH(D319,#REF!,0))=FALSE,\"D\",\"\"))","v":""},{"$f":"IF(E319=\"C\",0,IF(E319 =\"D\",ROUND(1/((1+#REF!)^A319),9) * 2,ROUND(1/((1+#REF!)^A319),9)))","v":{"$error":"#REF!"}},{"$error":"#REF!"}]
[317,317,{"$error":"#REF!"},{"$error":"#REF!"},{"$f":"IF(ISERROR(MATCH(D320,#REF!,0))=FALSE,\"C\",IF(ISERROR(MATCH(D320,#REF!,0))=FALSE,\"D\",\"\"))","v":""},{"$f":"IF(E320=\"C\",0,IF(E320 =\"D\",ROUND(1/((1+#REF!)^A320),9) * 2,ROUND(1/((1+#REF!)^A320),9)))","v":{"$error":"#REF!"}},{"$error":"#REF!"}]
[318,318,{"$error":"#REF!"},{"$error":"#REF!"},{"$f":"IF(ISERROR(MATCH(D321,#REF!,0))=FALSE,\"C\",IF(ISERROR(MATCH(D321,#REF!,0))=FALSE,\"D\",\"\"))","v":""},{"$f":"IF(E321=\"C\",0,IF(E321 =\"D\",ROUND(1/((1+#REF!)^A321),9) * 2,ROUND(1/((1+#REF!)^A321),9)))","v":{"$error":"#REF!"}},{"$error":"#REF!"}]
[319,319,{"$error":"#REF!"},{"$error":"#REF!"},{"$f":"IF(ISERROR(MATCH(D322,#REF!,0))=FALSE,\"C\",IF(ISERROR(MATCH(D322,#REF!,0))=FALSE,\"D\",\"\"))","v":""},{"$f":"IF(E322=\"C\",0,IF(E322 =\"D\",ROUND(1/((1+#REF!)^A322),9) * 2,ROUND(1/((1+#REF!)^A322),9)))","v":{"$error":"#REF!"}},{"$error":"#REF!"}]
[320,320,{"$error":"#REF!"},{"$error":"#REF!"},{"$f":"IF(ISERROR(MATCH(D323,#REF!,0))=FALSE,\"C\",IF(ISERROR(MATCH(D323,#REF!,0))=FALSE,\"D\",\"\"))","v":""},{"$f":"IF(E323=\"C\",0,IF(E323 =\"D\",ROUND(1/((1+#REF!)^A323),9) * 2,ROUND(1/((1+#REF!)^A323),9)))","v":{"$error":"#REF!"}},{"$error":"#REF!"}]
[321,321,{"$error":"#REF!"},{"$error":"#REF!"},{"$f":"IF(ISERROR(MATCH(D324,#REF!,0))=FALSE,\"C\",IF(ISERROR(MATCH(D324,#REF!,0))=FALSE,\"D\",\"\"))","v":""},{"$f":"IF(E324=\"C\",0,IF(E324 =\"D\",ROUND(1/((1+#REF!)^A324),9) * 2,ROUND(1/((1+#REF!)^A324),9)))","v":{"$error":"#REF!"}},{"$error":"#REF!"}]
[{"$f":"A324+1","v":322},322,{"$f":"DATE(YEAR(C324) + 1/12,MONTH(C324)+1,DAY(C324))","v":{"$error":"#REF!"}},{"$error":"#REF!"},{"$f":"IF(ISERROR(MATCH(D325,#REF!,0))=FALSE,\"C\",IF(ISERROR(MATCH(D325,#REF!,0))=FALSE,\"D\",\"\"))","v":""},{"$f":"IF(E325=\"C\",0,IF(E325 =\"D\",ROUND(1/((1+#REF!)^A325),9) * 2,ROUND(1/((1+#REF!)^A325),9)))","v":{"$error":"#REF!"}},{"$error":"#REF!"}]
[323,323,{"$error":"#REF!"},{"$error":"#REF!"},{"$f":"IF(ISERROR(MATCH(D326,#REF!,0))=FALSE,\"C\",IF(ISERROR(MATCH(D326,#REF!,0))=FALSE,\"D\",\"\"))","v":""},{"$f":"IF(E326=\"C\",0,IF(E326 =\"D\",ROUND(1/((1+#REF!)^A326),9) * 2,ROUND(1/((1+#REF!)^A326),9)))","v":{"$error":"#REF!"}},{"$error":"#REF!"}]
[324,324,{"$error":"#REF!"},{"$error":"#REF!"},{"$f":"IF(ISERROR(MATCH(D327,#REF!,0))=FALSE,\"C\",IF(ISERROR(MATCH(D327,#REF!,0))=FALSE,\"D\",\"\"))","v":""},{"$f":"IF(E327=\"C\",0,IF(E327 =\"D\",ROUND(1/((1+#REF!)^A327),9) * 2,ROUND(1/((1+#REF!)^A327),9)))","v":{"$error":"#REF!"}},{"$error":"#REF!"}]
[325,325,{"$error":"#REF!"},{"$error":"#REF!"},{"$f":"IF(ISERROR(MATCH(D328,#REF!,0))=FALSE,\"C\",IF(ISERROR(MATCH(D328,#REF!,0))=FALSE,\"D\",\"\"))","v":""},{"$f":"IF(E328=\"C\",0,IF(E328 =\"D\",ROUND(1/((1+#REF!)^A328),9) * 2,ROUND(1/((1+#REF!)^A328),9)))","v":{"$error":"#REF!"}},{"$error":"#REF!"}]
[326,326,{"$error":"#REF!"},{"$error":"#REF!"},{"$f":"IF(ISERROR(MATCH(D329,#REF!,0))=FALSE,\"C\",IF(ISERROR(MATCH(D329,#REF!,0))=FALSE,\"D\",\"\"))","v":""},{"$f":"IF(E329=\"C\",0,IF(E329 =\"D\",ROUND(1/((1+#REF!)^A329),9) * 2,ROUND(1/((1+#REF!)^A329),9)))","v":{"$error":"#REF!"}},{"$error":"#REF!"}]
[327,327,{"$error":"#REF!"},{"$error":"#REF!"},{"$f":"IF(ISERROR(MATCH(D330,#REF!,0))=FALSE,\"C\",IF(ISERROR(MATCH(D330,#REF!,0))=FALSE,\"D\",\"\"))","v":""},{"$f":"IF(E330=\"C\",0,IF(E330 =\"D\",ROUND(1/((1+#REF!)^A330),9) * 2,ROUND(1/((1+#REF!)^A330),9)))","v":{"$error":"#REF!"}},{"$error":"#REF!"}]
[328,328,{"$error":"#REF!"},{"$error":"#REF!"},{"$f":"IF(ISERROR(MATCH(D331,#REF!,0))=FALSE,\"C\",IF(ISERROR(MATCH(D331,#REF!,0))=FALSE,\"D\",\"\"))","v":""},{"$f":"IF(E331=\"C\",0,IF(E331 =\"D\",ROUND(1/((1+#REF!)^A331),9) * 2,ROUND(1/((1+#REF!)^A331),9)))","v":{"$error":"#REF!"}},{"$error":"#REF!"}]
[329,329,{"$error":"#REF!"},{"$error":"#REF!"},{"$f":"IF(ISERROR(MATCH(D332,#REF!,0))=FALSE,\"C\",IF(ISERROR(MATCH(D332,#REF!,0))=FALSE,\"D\",\"\"))","v":""},{"$f":"IF(E332=\"C\",0,IF(E332 =\"D\",ROUND(1/((1+#REF!)^A332),9) * 2,ROUND(1/((1+#REF!)^A332),9)))","v":{"$error":"#REF!"}},{"$error":"#REF!"}]
[330,330,{"$error":"#REF!"},{"$error":"#REF!"},{"$f":"IF(ISERROR(MATCH(D333,#REF!,0))=FALSE,\"C\",IF(ISERROR(MATCH(D333,#REF!,0))=FALSE,\"D\",\"\"))","v":""},{"$f":"IF(E333=\"C\",0,IF(E333 =\"D\",ROUND(1/((1+#REF!)^A333),9) * 2,ROUND(1/((1+#REF!)^A333),9)))","v":{"$error":"#REF!"}},{"$error":"#REF!"}]
[331,331,{"$error":"#REF!"},{"$error":"#REF!"},{"$f":"IF(ISERROR(MATCH(D334,#REF!,0))=FALSE,\"C\",IF(ISERROR(MATCH(D334,#REF!,0))=FALSE,\"D\",\"\"))","v":""},{"$f":"IF(E334=\"C\",0,IF(E334 =\"D\",ROUND(1/((1+#REF!)^A334),9) * 2,ROUND(1/((1+#REF!)^A334),9)))","v":{"$error":"#REF!"}},{"$error":"#REF!"}]
[332,332,{"$error":"#REF!"},{"$error":"#REF!"},{"$f":"IF(ISERROR(MATCH(D335,#REF!,0))=FALSE,\"C\",IF(ISERROR(MATCH(D335,#REF!,0))=FALSE,\"D\",\"\"))","v":""},{"$f":"IF(E335=\"C\",0,IF(E335 =\"D\",ROUND(1/((1+#REF!)^A335),9) * 2,ROUND(1/((1+#REF!)^A335),9)))","v":{"$error":"#REF!"}},{"$error":"#REF!"}]
[333,333,{"$error":"#REF!"},{"$error":"#REF!"},{"$f":"IF(ISERROR(MATCH(D336,#REF!,0))=FALSE,\"C\",IF(ISERROR(MATCH(D336,#REF!,0))=FALSE,\"D\",\"\"))","v":""},{"$f":"IF(E336=\"C\",0,IF(E336 =\"D\",ROUND(1/((1+#REF!)^A336),9) * 2,ROUND(1/((1+#REF!)^A336),9)))","v":{"$error":"#REF!"}},{"$error":"#REF!"}]
[334,334,{"$error":"#REF!"},{"$error":"#REF!"},{"$f":"IF(ISERROR(MATCH(D337,#REF!,0))=FALSE,\"C\",IF(ISERROR(MATCH(D337,#REF!,0))=FALSE,\"D\",\"\"))","v":""},{"$f":"IF(E337=\"C\",0,IF(E337 =\"D\",ROUND(1/((1+#REF!)^A337),9) * 2,ROUND(1/((1+#REF!)^A337),9)))","v":{"$error":"#REF!"}},{"$error":"#REF!"}]
[335,335,{"$error":"#REF!"},{"$error":"#REF!"},{"$f":"IF(ISERROR(MATCH(D338,#REF!,0))=FALSE,\"C\",IF(ISERROR(MATCH(D338,#REF!,0))=FALSE,\"D\",\"\"))","v":""},{"$f":"IF(E338=\"C\",0,IF(E338 =\"D\",ROUND(1/((1+#REF!)^A338),9) * 2,ROUND(1/((1+#REF!)^A338),9)))","v":{"$error":"#REF!"}},{"$error":"#REF!"}]
[336,336,{"$error":"#REF!"},{"$error":"#REF!"},{"$f":"IF(ISERROR(MATCH(D339,#REF!,0))=FALSE,\"C\",IF(ISERROR(MATCH(D339,#REF!,0))=FALSE,\"D\",\"\"))","v":""},{"$f":"IF(E339=\"C\",0,IF(E339 =\"D\",ROUND(1/((1+#REF!)^A339),9) * 2,ROUND(1/((1+#REF!)^A339),9)))","v":{"$error":"#REF!"}},{"$error":"#REF!"}]
[337,337,{"$error":"#REF!"},{"$error":"#REF!"},{"$f":"IF(ISERROR(MATCH(D340,#REF!,0))=FALSE,\"C\",IF(ISERROR(MATCH(D340,#REF!,0))=FALSE,\"D\",\"\"))","v":""},{"$f":"IF(E340=\"C\",0,IF(E340 =\"D\",ROUND(1/((1+#REF!)^A340),9) * 2,ROUND(1/((1+#REF!)^A340),9)))","v":{"$error":"#REF!"}},{"$error":"#REF!"}]
[338,338,{"$error":"#REF!"},{"$error":"#REF!"},{"$f":"IF(ISERROR(MATCH(D341,#REF!,0))=FALSE,\"C\",IF(ISERROR(MATCH(D341,#REF!,0))=FALSE,\"D\",\"\"))","v":""},{"$f":"IF(E341=\"C\",0,IF(E341 =\"D\",ROUND(1/((1+#REF!)^A341),9) * 2,ROUND(1/((1+#REF!)^A341),9)))","v":{"$error":"#REF!"}},{"$error":"#REF!"}]
[339,339,{"$error":"#REF!"},{"$error":"#REF!"},{"$f":"IF(ISERROR(MATCH(D342,#REF!,0))=FALSE,\"C\",IF(ISERROR(MATCH(D342,#REF!,0))=FALSE,\"D\",\"\"))","v":""},{"$f":"IF(E342=\"C\",0,IF(E342 =\"D\",ROUND(1/((1+#REF!)^A342),9) * 2,ROUND(1/((1+#REF!)^A342),9)))","v":{"$error":"#REF!"}},{"$error":"#REF!"}]
[340,340,{"$error":"#REF!"},{"$error":"#REF!"},{"$f":"IF(ISERROR(MATCH(D343,#REF!,0))=FALSE,\"C\",IF(ISERROR(MATCH(D343,#REF!,0))=FALSE,\"D\",\"\"))","v":""},{"$f":"IF(E343=\"C\",0,IF(E343 =\"D\",ROUND(1/((1+#REF!)^A343),9) * 2,ROUND(1/((1+#REF!)^A343),9)))","v":{"$error":"#REF!"}},{"$error":"#REF!"}]
[341,341,{"$error":"#REF!"},{"$error":"#REF!"},{"$f":"IF(ISERROR(MATCH(D344,#REF!,0))=FALSE,\"C\",IF(ISERROR(MATCH(D344,#REF!,0))=FALSE,\"D\",\"\"))","v":""},{"$f":"IF(E344=\"C\",0,IF(E344 =\"D\",ROUND(1/((1+#REF!)^A344),9) * 2,ROUND(1/((1+#REF!)^A344),9)))","v":{"$error":"#REF!"}},{"$error":"#REF!"}]
[342,342,{"$error":"#REF!"},{"$error":"#REF!"},{"$f":"IF(ISERROR(MATCH(D345,#REF!,0))=FALSE,\"C\",IF(ISERROR(MATCH(D345,#REF!,0))=FALSE,\"D\",\"\"))","v":""},{"$f":"IF(E345=\"C\",0,IF(E345 =\"D\",ROUND(1/((1+#REF!)^A345),9) * 2,ROUND(1/((1+#REF!)^A345),9)))","v":{"$error":"#REF!"}},{"$error":"#REF!"}]
[343,343,{"$error":"#REF!"},{"$error":"#REF!"},{"$f":"IF(ISERROR(MATCH(D346,#REF!,0))=FALSE,\"C\",IF(ISERROR(MATCH(D346,#REF!,0))=FALSE,\"D\",\"\"))","v":""},{"$f":"IF(E346=\"C\",0,IF(E346 =\"D\",ROUND(1/((1+#REF!)^A346),9) * 2,ROUND(1/((1+#REF!)^A346),9)))","v":{"$error":"#REF!"}},{"$error":"#REF!"}]
[344,344,{"$error":"#REF!"},{"$error":"#REF!"},{"$f":"IF(ISERROR(MATCH(D347,#REF!,0))=FALSE,\"C\",IF(ISERROR(MATCH(D347,#REF!,0))=FALSE,\"D\",\"\"))","v":""},{"$f":"IF(E347=\"C\",0,IF(E347 =\"D\",ROUND(1/((1+#REF!)^A347),9) * 2,ROUND(1/((1+#REF!)^A347),9)))","v":{"$error":"#REF!"}},{"$error":"#REF!"}]
[345,345,{"$error":"#REF!"},{"$error":"#REF!"},{"$f":"IF(ISERROR(MATCH(D348,#REF!,0))=FALSE,\"C\",IF(ISERROR(MATCH(D348,#REF!,0))=FALSE,\"D\",\"\"))","v":""},{"$f":"IF(E348=\"C\",0,IF(E348 =\"D\",ROUND(1/((1+#REF!)^A348),9) * 2,ROUND(1/((1+#REF!)^A348),9)))","v":{"$error":"#REF!"}},{"$error":"#REF!"}]
[346,346,{"$error":"#REF!"},{"$error":"#REF!"},{"$f":"IF(ISERROR(MATCH(D349,#REF!,0))=FALSE,\"C\",IF(ISERROR(MATCH(D349,#REF!,0))=FALSE,\"D\",\"\"))","v":""},{"$f":"IF(E349=\"C\",0,IF(E349 =\"D\",ROUND(1/((1+#REF!)^A349),9) * 2,ROUND(1/((1+#REF!)^A349),9)))","v":{"$error":"#REF!"}},{"$error":"#REF!"}]
[347,347,{"$error":"#REF!"},{"$error":"#REF!"},{"$f":"IF(ISERROR(MATCH(D350,#REF!,0))=FALSE,\"C\",IF(ISERROR(MATCH(D350,#REF!,0))=FALSE,\"D\",\"\"))","v":""},{"$f":"IF(E350=\"C\",0,IF(E350 =\"D\",ROUND(1/((1+#REF!)^A350),9) * 2,ROUND(1/((1+#REF!)^A350),9)))","v":{"$error":"#REF!"}},{"$error":"#REF!"}]
[348,348,{"$error":"#REF!"},{"$error":"#REF!"},{"$f":"IF(ISERROR(MATCH(D351,#REF!,0))=FALSE,\"C\",IF(ISERROR(MATCH(D351,#REF!,0))=FALSE,\"D\",\"\"))","v":""},{"$f":"IF(E351=\"C\",0,IF(E351 =\"D\",ROUND(1/((1+#REF!)^A351),9) * 2,ROUND(1/((1+#REF!)^A351),9)))","v":{"$error":"#REF!"}},{"$error":"#REF!"}]
[349,349,{"$error":"#REF!"},{"$error":"#REF!"},{"$f":"IF(ISERROR(MATCH(D352,#REF!,0))=FALSE,\"C\",IF(ISERROR(MATCH(D352,#REF!,0))=FALSE,\"D\",\"\"))","v":""},{"$f":"IF(E352=\"C\",0,IF(E352 =\"D\",ROUND(1/((1+#REF!)^A352),9) * 2,ROUND(1/((1+#REF!)^A352),9)))","v":{"$error":"#REF!"}},{"$error":"#REF!"}]
[350,350,{"$error":"#REF!"},{"$error":"#REF!"},{"$f":"IF(ISERROR(MATCH(D353,#REF!,0))=FALSE,\"C\",IF(ISERROR(MATCH(D353,#REF!,0))=FALSE,\"D\",\"\"))","v":""},{"$f":"IF(E353=\"C\",0,IF(E353 =\"D\",ROUND(1/((1+#REF!)^A353),9) * 2,ROUND(1/((1+#REF!)^A353),9)))","v":{"$error":"#REF!"}},{"$error":"#REF!"}]
[351,351,{"$error":"#REF!"},{"$error":"#REF!"},{"$f":"IF(ISERROR(MATCH(D354,#REF!,0))=FALSE,\"C\",IF(ISERROR(MATCH(D354,#REF!,0))=FALSE,\"D\",\"\"))","v":""},{"$f":"IF(E354=\"C\",0,IF(E354 =\"D\",ROUND(1/((1+#REF!)^A354),9) * 2,ROUND(1/((1+#REF!)^A354),9)))","v":{"$error":"#REF!"}},{"$error":"#REF!"}]
[352,352,{"$error":"#REF!"},{"$error":"#REF!"},{"$f":"IF(ISERROR(MATCH(D355,#REF!,0))=FALSE,\"C\",IF(ISERROR(MATCH(D355,#REF!,0))=FALSE,\"D\",\"\"))","v":""},{"$f":"IF(E355=\"C\",0,IF(E355 =\"D\",ROUND(1/((1+#REF!)^A355),9) * 2,ROUND(1/((1+#REF!)^A355),9)))","v":{"$error":"#REF!"}},{"$error":"#REF!"}]
[353,{"$f":"IF(E356<>\"C\",IF(ISERROR(1+B355)=TRUE,1,1+B355),IF(ISNUMBER(B355),B355,1))","v":353},{"$error":"#REF!"},{"$f":"MONTH(C356)","v":{"$error":"#REF!"}},{"$f":"IF(ISERROR(MATCH(D356,#REF!,0))=FALSE,\"C\",IF(ISERROR(MATCH(D356,#REF!,0))=FALSE,\"D\",\"\"))","v":""},{"$f":"IF(E356=\"C\",0,IF(E356 =\"D\",ROUND(1/((1+#REF!)^A356),9) * 2,ROUND(1/((1+#REF!)^A356),9)))","v":{"$error":"#REF!"}},{"$f":"G355+ROUND(F356,9)","v":{"$error":"#REF!"}}]
[354,354,{"$error":"#REF!"},{"$error":"#REF!"},{"$f":"IF(ISERROR(MATCH(D357,#REF!,0))=FALSE,\"C\",IF(ISERROR(MATCH(D357,#REF!,0))=FALSE,\"D\",\"\"))","v":""},{"$f":"IF(E357=\"C\",0,IF(E357 =\"D\",ROUND(1/((1+#REF!)^A357),9) * 2,ROUND(1/((1+#REF!)^A357),9)))","v":{"$error":"#REF!"}},{"$error":"#REF!"}]
[355,355,{"$error":"#REF!"},{"$error":"#REF!"},{"$f":"IF(ISERROR(MATCH(D358,#REF!,0))=FALSE,\"C\",IF(ISERROR(MATCH(D358,#REF!,0))=FALSE,\"D\",\"\"))","v":""},{"$f":"IF(E358=\"C\",0,IF(E358 =\"D\",ROUND(1/((1+#REF!)^A358),9) * 2,ROUND(1/((1+#REF!)^A358),9)))","v":{"$error":"#REF!"}},{"$error":"#REF!"}]
[356,356,{"$error":"#REF!"},{"$error":"#REF!"},{"$f":"IF(ISERROR(MATCH(D359,#REF!,0))=FALSE,\"C\",IF(ISERROR(MATCH(D359,#REF!,0))=FALSE,\"D\",\"\"))","v":""},{"$f":"IF(E359=\"C\",0,IF(E359 =\"D\",ROUND(1/((1+#REF!)^A359),9) * 2,ROUND(1/((1+#REF!)^A359),9)))","v":{"$error":"#REF!"}},{"$error":"#REF!"}]
[357,357,{"$error":"#REF!"},{"$error":"#REF!"},{"$f":"IF(ISERROR(MATCH(D360,#REF!,0))=FALSE,\"C\",IF(ISERROR(MATCH(D360,#REF!,0))=FALSE,\"D\",\"\"))","v":""},{"$f":"IF(E360=\"C\",0,IF(E360 =\"D\",ROUND(1/((1+#REF!)^A360),9) * 2,ROUND(1/((1+#REF!)^A360),9)))","v":{"$error":"#REF!"}},{"$error":"#REF!"}]
[358,358,{"$error":"#REF!"},{"$error":"#REF!"},{"$f":"IF(ISERROR(MATCH(D361,#REF!,0))=FALSE,\"C\",IF(ISERROR(MATCH(D361,#REF!,0))=FALSE,\"D\",\"\"))","v":""},{"$f":"IF(E361=\"C\",0,IF(E361 =\"D\",ROUND(1/((1+#REF!)^A361),9) * 2,ROUND(1/((1+#REF!)^A361),9)))","v":{"$error":"#REF!"}},{"$error":"#REF!"}]
[359,359,{"$error":"#REF!"},{"$error":"#REF!"},{"$f":"IF(ISERROR(MATCH(D362,#REF!,0))=FALSE,\"C\",IF(ISERROR(MATCH(D362,#REF!,0))=FALSE,\"D\",\"\"))","v":""},{"$f":"IF(E362=\"C\",0,IF(E362 =\"D\",ROUND(1/((1+#REF!)^A362),9) * 2,ROUND(1/((1+#REF!)^A362),9)))","v":{"$error":"#REF!"}},{"$error":"#REF!"}]
[360,360,{"$error":"#REF!"},{"$error":"#REF!"},{"$f":"IF(ISERROR(MATCH(D363,#REF!,0))=FALSE,\"C\",IF(ISERROR(MATCH(D363,#REF!,0))=FALSE,\"D\",\"\"))","v":""},{"$f":"IF(E363=\"C\",0,IF(E363 =\"D\",ROUND(1/((1+#REF!)^A363),9) * 2,ROUND(1/((1+#REF!)^A363),9)))","v":{"$error":"#REF!"}},{"$error":"#REF!"}]
[361,361,{"$error":"#REF!"},{"$error":"#REF!"},{"$f":"IF(ISERROR(MATCH(D364,#REF!,0))=FALSE,\"C\",IF(ISERROR(MATCH(D364,#REF!,0))=FALSE,\"D\",\"\"))","v":""},{"$f":"IF(E364=\"C\",0,IF(E364 =\"D\",ROUND(1/((1+#REF!)^A364),9) * 2,ROUND(1/((1+#REF!)^A364),9)))","v":{"$error":"#REF!"}},{"$error":"#REF!"}]
[362,362,{"$error":"#REF!"},{"$error":"#REF!"},{"$f":"IF(ISERROR(MATCH(D365,#REF!,0))=FALSE,\"C\",IF(ISERROR(MATCH(D365,#REF!,0))=FALSE,\"D\",\"\"))","v":""},{"$f":"IF(E365=\"C\",0,IF(E365 =\"D\",ROUND(1/((1+#REF!)^A365),9) * 2,ROUND(1/((1+#REF!)^A365),9)))","v":{"$error":"#REF!"}},{"$error":"#REF!"}]
[363,363,{"$error":"#REF!"},{"$error":"#REF!"},{"$f":"IF(ISERROR(MATCH(D366,#REF!,0))=FALSE,\"C\",IF(ISERROR(MATCH(D366,#REF!,0))=FALSE,\"D\",\"\"))","v":""},{"$f":"IF(E366=\"C\",0,IF(E366 =\"D\",ROUND(1/((1+#REF!)^A366),9) * 2,ROUND(1/((1+#REF!)^A366),9)))","v":{"$error":"#REF!"}},{"$error":"#REF!"}]
[364,364,{"$error":"#REF!"},{"$error":"#REF!"},{"$f":"IF(ISERROR(MATCH(D367,#REF!,0))=FALSE,\"C\",IF(ISERROR(MATCH(D367,#REF!,0))=FALSE,\"D\",\"\"))","v":""},{"$f":"IF(E367=\"C\",0,IF(E367 =\"D\",ROUND(1/((1+#REF!)^A367),9) * 2,ROUND(1/((1+#REF!)^A367),9)))","v":{"$error":"#REF!"}},{"$error":"#REF!"}]
[365,365,{"$error":"#REF!"},{"$error":"#REF!"},{"$f":"IF(ISERROR(MATCH(D368,#REF!,0))=FALSE,\"C\",IF(ISERROR(MATCH(D368,#REF!,0))=FALSE,\"D\",\"\"))","v":""},{"$f":"IF(E368=\"C\",0,IF(E368 =\"D\",ROUND(1/((1+#REF!)^A368),9) * 2,ROUND(1/((1+#REF!)^A368),9)))","v":{"$error":"#REF!"}},{"$error":"#REF!"}]
[366,366,{"$error":"#REF!"},{"$error":"#REF!"},{"$f":"IF(ISERROR(MATCH(D369,#REF!,0))=FALSE,\"C\",IF(ISERROR(MATCH(D369,#REF!,0))=FALSE,\"D\",\"\"))","v":""},{"$f":"IF(E369=\"C\",0,IF(E369 =\"D\",ROUND(1/((1+#REF!)^A369),9) * 2,ROUND(1/((1+#REF!)^A369),9)))","v":{"$error":"#REF!"}},{"$error":"#REF!"}]
[367,367,{"$error":"#REF!"},{"$error":"#REF!"},{"$f":"IF(ISERROR(MATCH(D370,#REF!,0))=FALSE,\"C\",IF(ISERROR(MATCH(D370,#REF!,0))=FALSE,\"D\",\"\"))","v":""},{"$f":"IF(E370=\"C\",0,IF(E370 =\"D\",ROUND(1/((1+#REF!)^A370),9) * 2,ROUND(1/((1+#REF!)^A370),9)))","v":{"$error":"#REF!"}},{"$error":"#REF!"}]
[368,368,{"$error":"#REF!"},{"$error":"#REF!"},{"$f":"IF(ISERROR(MATCH(D371,#REF!,0))=FALSE,\"C\",IF(ISERROR(MATCH(D371,#REF!,0))=FALSE,\"D\",\"\"))","v":""},{"$f":"IF(E371=\"C\",0,IF(E371 =\"D\",ROUND(1/((1+#REF!)^A371),9) * 2,ROUND(1/((1+#REF!)^A371),9)))","v":{"$error":"#REF!"}},{"$error":"#REF!"}]
[369,369,{"$error":"#REF!"},{"$error":"#REF!"},{"$f":"IF(ISERROR(MATCH(D372,#REF!,0))=FALSE,\"C\",IF(ISERROR(MATCH(D372,#REF!,0))=FALSE,\"D\",\"\"))","v":""},{"$f":"IF(E372=\"C\",0,IF(E372 =\"D\",ROUND(1/((1+#REF!)^A372),9) * 2,ROUND(1/((1+#REF!)^A372),9)))","v":{"$error":"#REF!"}},{"$error":"#REF!"}]
[370,370,{"$error":"#REF!"},{"$error":"#REF!"},{"$f":"IF(ISERROR(MATCH(D373,#REF!,0))=FALSE,\"C\",IF(ISERROR(MATCH(D373,#REF!,0))=FALSE,\"D\",\"\"))","v":""},{"$f":"IF(E373=\"C\",0,IF(E373 =\"D\",ROUND(1/((1+#REF!)^A373),9) * 2,ROUND(1/((1+#REF!)^A373),9)))","v":{"$error":"#REF!"}},{"$error":"#REF!"}]
[371,371,{"$error":"#REF!"},{"$error":"#REF!"},{"$f":"IF(ISERROR(MATCH(D374,#REF!,0))=FALSE,\"C\",IF(ISERROR(MATCH(D374,#REF!,0))=FALSE,\"D\",\"\"))","v":""},{"$f":"IF(E374=\"C\",0,IF(E374 =\"D\",ROUND(1/((1+#REF!)^A374),9) * 2,ROUND(1/((1+#REF!)^A374),9)))","v":{"$error":"#REF!"}},{"$error":"#REF!"}]
[372,372,{"$error":"#REF!"},{"$error":"#REF!"},{"$f":"IF(ISERROR(MATCH(D375,#REF!,0))=FALSE,\"C\",IF(ISERROR(MATCH(D375,#REF!,0))=FALSE,\"D\",\"\"))","v":""},{"$f":"IF(E375=\"C\",0,IF(E375 =\"D\",ROUND(1/((1+#REF!)^A375),9) * 2,ROUND(1/((1+#REF!)^A375),9)))","v":{"$error":"#REF!"}},{"$error":"#REF!"}]
[373,373,{"$error":"#REF!"},{"$error":"#REF!"},{"$f":"IF(ISERROR(MATCH(D376,#REF!,0))=FALSE,\"C\",IF(ISERROR(MATCH(D376,#REF!,0))=FALSE,\"D\",\"\"))","v":""},{"$f":"IF(E376=\"C\",0,IF(E376 =\"D\",ROUND(1/((1+#REF!)^A376),9) * 2,ROUND(1/((1+#REF!)^A376),9)))","v":{"$error":"#REF!"}},{"$error":"#REF!"}]
[374,374,{"$error":"#REF!"},{"$error":"#REF!"},{"$f":"IF(ISERROR(MATCH(D377,#REF!,0))=FALSE,\"C\",IF(ISERROR(MATCH(D377,#REF!,0))=FALSE,\"D\",\"\"))","v":""},{"$f":"IF(E377=\"C\",0,IF(E377 =\"D\",ROUND(1/((1+#REF!)^A377),9) * 2,ROUND(1/((1+#REF!)^A377),9)))","v":{"$error":"#REF!"}},{"$error":"#REF!"}]
[375,375,{"$error":"#REF!"},{"$error":"#REF!"},{"$f":"IF(ISERROR(MATCH(D378,#REF!,0))=FALSE,\"C\",IF(ISERROR(MATCH(D378,#REF!,0))=FALSE,\"D\",\"\"))","v":""},{"$f":"IF(E378=\"C\",0,IF(E378 =\"D\",ROUND(1/((1+#REF!)^A378),9) * 2,ROUND(1/((1+#REF!)^A378),9)))","v":{"$error":"#REF!"}},{"$error":"#REF!"}]
[376,376,{"$error":"#REF!"},{"$error":"#REF!"},{"$f":"IF(ISERROR(MATCH(D379,#REF!,0))=FALSE,\"C\",IF(ISERROR(MATCH(D379,#REF!,0))=FALSE,\"D\",\"\"))","v":""},{"$f":"IF(E379=\"C\",0,IF(E379 =\"D\",ROUND(1/((1+#REF!)^A379),9) * 2,ROUND(1/((1+#REF!)^A379),9)))","v":{"$error":"#REF!"}},{"$error":"#REF!"}]
[377,377,{"$error":"#REF!"},{"$error":"#REF!"},{"$f":"IF(ISERROR(MATCH(D380,#REF!,0))=FALSE,\"C\",IF(ISERROR(MATCH(D380,#REF!,0))=FALSE,\"D\",\"\"))","v":""},{"$f":"IF(E380=\"C\",0,IF(E380 =\"D\",ROUND(1/((1+#REF!)^A380),9) * 2,ROUND(1/((1+#REF!)^A380),9)))","v":{"$error":"#REF!"}},{"$error":"#REF!"}]
[378,378,{"$error":"#REF!"},{"$error":"#REF!"},{"$f":"IF(ISERROR(MATCH(D381,#REF!,0))=FALSE,\"C\",IF(ISERROR(MATCH(D381,#REF!,0))=FALSE,\"D\",\"\"))","v":""},{"$f":"IF(E381=\"C\",0,IF(E381 =\"D\",ROUND(1/((1+#REF!)^A381),9) * 2,ROUND(1/((1+#REF!)^A381),9)))","v":{"$error":"#REF!"}},{"$error":"#REF!"}]
[379,379,{"$error":"#REF!"},{"$error":"#REF!"},{"$f":"IF(ISERROR(MATCH(D382,#REF!,0))=FALSE,\"C\",IF(ISERROR(MATCH(D382,#REF!,0))=FALSE,\"D\",\"\"))","v":""},{"$f":"IF(E382=\"C\",0,IF(E382 =\"D\",ROUND(1/((1+#REF!)^A382),9) * 2,ROUND(1/((1+#REF!)^A382),9)))","v":{"$error":"#REF!"}},{"$error":"#REF!"}]
[380,380,{"$error":"#REF!"},{"$error":"#REF!"},{"$f":"IF(ISERROR(MATCH(D383,#REF!,0))=FALSE,\"C\",IF(ISERROR(MATCH(D383,#REF!,0))=FALSE,\"D\",\"\"))","v":""},{"$f":"IF(E383=\"C\",0,IF(E383 =\"D\",ROUND(1/((1+#REF!)^A383),9) * 2,ROUND(1/((1+#REF!)^A383),9)))","v":{"$error":"#REF!"}},{"$error":"#REF!"}]
[381,381,{"$error":"#REF!"},{"$error":"#REF!"},{"$f":"IF(ISERROR(MATCH(D384,#REF!,0))=FALSE,\"C\",IF(ISERROR(MATCH(D384,#REF!,0))=FALSE,\"D\",\"\"))","v":""},{"$f":"IF(E384=\"C\",0,IF(E384 =\"D\",ROUND(1/((1+#REF!)^A384),9) * 2,ROUND(1/((1+#REF!)^A384),9)))","v":{"$error":"#REF!"}},{"$error":"#REF!"}]
[382,382,{"$error":"#REF!"},{"$error":"#REF!"},{"$f":"IF(ISERROR(MATCH(D385,#REF!,0))=FALSE,\"C\",IF(ISERROR(MATCH(D385,#REF!,0))=FALSE,\"D\",\"\"))","v":""},{"$f":"IF(E385=\"C\",0,IF(E385 =\"D\",ROUND(1/((1+#REF!)^A385),9) * 2,ROUND(1/((1+#REF!)^A385),9)))","v":{"$error":"#REF!"}},{"$error":"#REF!"}]
[383,383,{"$error":"#REF!"},{"$error":"#REF!"},{"$f":"IF(ISERROR(MATCH(D386,#REF!,0))=FALSE,\"C\",IF(ISERROR(MATCH(D386,#REF!,0))=FALSE,\"D\",\"\"))","v":""},{"$f":"IF(E386=\"C\",0,IF(E386 =\"D\",ROUND(1/((1+#REF!)^A386),9) * 2,ROUND(1/((1+#REF!)^A386),9)))","v":{"$error":"#REF!"}},{"$error":"#REF!"}]

{"sheet":"Hoja1","index":1,"n_rows":19,"n_cols":13,"rows_kept":19,"cut":false,"hidden":false,"merged":[[15,0,15,1],[16,0,16,1],[2,2,3,3],[18,0,18,3]]}
[]
[]
[null,null,"SIMULADOR PRÉSTAMO PERSONAL\nSIN GARANTÍA",null,null,null,"Soles"]
[null,null,null,null,null,null,"Dólares"]
[]
[null,null,null,null,null,null,"No"]
[null,"Moneda","Soles",null,null,null,"Julio"]
[null,"Monto del Préstamo",50000,null,null,null,"Diciembre"]
[null,"Fecha de Desembolso","2022-12-01",null,null,null,null,null,null,null,null,null,0]
[null,"Plazo",48,null,null,null,"Seguro sin retorno",null,null,null,null,null,30]
[null,"TEA*",80,null,null,null,"Seguro con retorno",null,null,null,null,null,60]
[null,"Días de Gracia",60,null,null,null,"Endoso",null,null,null,null,null,90]
[null,"Seguro Desgravamen**","Seguro sin retorno"]
[null,"Cuota Doble 1","No",null,null,null,null,{"$f":"+Simulador!Q29","v":83.765000000046427},{"$f":"+Simulador!W28","v":0.16999999777181074}]
[null,"Cuota Doble 2","No",null,null,null,null,null,{"$f":"+IF(AND(I14>-1,I14<1),\"CORRECTO\",\"INCORRECTO\")","v":"CORRECTO"}]
[]
[]
[]
["Nota: Para hacer uso del simulador, debe tener habilitado la opción de macros."]

{"sheet":"Hoja1 (2)","index":2,"n_rows":68,"n_cols":9,"rows_kept":68,"cut":false,"hidden":false,"merged":[[13,1,13,2],[13,5,13,6],[4,1,4,7],[5,1,5,7],[8,1,8,2],[9,1,9,2],[10,1,10,2],[11,1,11,2],[12,1,12,2],[8,5,8,6],[9,5,9,6],[10,5,10,6],[11,5,11,6],[12,5,12,6]]}
[]
[]
[]
[]
[null,"(SIMULACIÓN)"]
[null,"CRONOGRAMA DE PAGOS"]
[]
[]
[null,"Moneda                                                  :",null,{"$f":"+Hoja1!C7","v":"Soles"},null,"Monto del Préstamo                                                    :",null,{"$f":"+Hoja1!C8","v":50000}]
[null,"Producto                                                :",null,"Préstamo Personal Sin Garantía",null,"Tasa Efectiva Anual (fija)                                                     :",null,{"$f":"+Hoja1!C11&\"%\"","v":"80%"}]
[null,"Fecha de desembolso                          :",null,{"$f":"+Hoja1!C9","v":"2022-12-01"},null,"Plazo (en meses)                                                          :",null,{"$f":"+Hoja1!C10","v":48}]
[null,"Mes de Cuota Doble 1                          :",null,{"$f":"+Hoja1!C14","v":"No"},null,"Tasa de Costo Efectiva Anual                                     :",null,{"$f":"+Simulador!Q18","v":0.83404722007208409},{"$f":"+RATE(H11,H18,-H9-I13)","v":5.2730626505371664E-2}]
[null,"Mes de Cuota Doble 2                          :",null,{"$f":"+Hoja1!C15","v":"No"},null,"Tasa Seguro de Desgravamen Mensual                   :",null,{"$f":"+IF(Hoja1!C13=\"Endoso\",0,IF(Hoja1!C13=\"Banco - retorno\",0.346%,0.18%))","v":1.8E-3},{"$f":"Simulador!Q16","v":5146.1785}]
[null,"Periodo de gracia                                 :",null,{"$f":"+Hoja1!C12&\" \"& \"días\"","v":"60 días"}]
[]
[null,{"$f":"+IF(AND(Simulador!W28<1,Simulador!W28>-1),\"\",\"No ha presionado el botón de calcular, por favor volver a simular\")","v":""}]
[null,"N°","Fecha Vencimiento","Capital","Interes","Interes de Gracia","Seguro Desgravamen","Total Cuota"]
[null,1,{"$f":"IFERROR(+IF(B18>0,VLOOKUP(B18,Simulador!$A$32:$T$550,3,0),\" \"),\" \")","v":"2023-02-28"},{"$f":"IFERROR(+IF(B18>0,VLOOKUP(B18,Simulador!$A$32:$T$550,11,0),\" \"),\" \")","v":194.45500000004631},{"$f":"IFERROR(+IF(B18>0,VLOOKUP(B18,Simulador!$A$32:$T$550,12,0),\" \"),\" \")","v":2424.42},{"$f":"IFERROR(+IF(B18>0,VLOOKUP(B18,Simulador!$A$32:$T$550,13,0),\" \"),\" \")","v":288.70999999999998},{"$f":"IFERROR(+IF(B18>0,VLOOKUP(B18,Simulador!$A$32:$T$550,20,0),\" \"),\" \")","v":270},{"$f":"IFERROR(+IF(B18>0,VLOOKUP(B18,Simulador!$A$32:$Z$550,22,0),\" \"),\" \")","v":3177.5850000000464}]
[null,{"$f":"IF(B18=0,\" \",IF(B18>=$H$11,\"\",B18+1))","v":2},{"$f":"IF($H$11=0,\" \",IF(B18=$H$11,\"TOTALES\",+IF(B19>0,VLOOKUP(B19,Simulador!$A$32:$T$550,3,0),\" \")))","v":"2023-03-30"},{"$f":"IF($H$11=0,\" \",IF(B18=$H$11,Simulador!$J$33,+IF(B19>0,VLOOKUP(B19,Simulador!$A$32:$T$550,11,0),\" \")))","v":298.90500000004624},{"$f":"IF($H$11=0,\" \",IF(B18=$H$11,Simulador!$L$31,+IF(B19>0,VLOOKUP(B19,Simulador!$A$32:$T$550,12,0),\" \")))","v":2500.3200000000002},{"$f":"IF($H$11=0,\" \",IF(B18=$H$11,Simulador!$M$31,+IF(B19>0,VLOOKUP(B19,Simulador!$A$32:$T$550,13,0),\" \")))","v":288.70999999999998},{"$f":"IF($H$11=0,\" \",IF(B18=$H$11,Simulador!$T$31,+IF(B19>0,VLOOKUP(B19,Simulador!$A$32:$T$550,20,0),\" \")))","v":89.65},{"$f":"IF($H$11=0,\" \",IF(B18=$H$11,Simulador!$V$31,+IF(B19>0,VLOOKUP(B19,Simulador!$A$32:$Z$550,22,0),\" \")))","v":3177.5850000000464}]
[null,{"$f":"IF(B19=0,\" \",IF(B19>=$H$11,\"\",B19+1))","v":3},{"$f":"IF($H$11=0,\" \",IF(B19=$H$11,\"TOTALES\",+IF(B20>0,VLOOKUP(B20,Simulador!$A$32:$T$550,3,0),\" \")))","v":"2023-04-30"},{"$f":"IF($H$11=0,\" \",IF(B19=$H$11,Simulador!$J$33,+IF(B20>0,VLOOKUP(B20,Simulador!$A$32:$T$550,11,0),\" \")))","v":226.5150000000462},{"$f":"IF($H$11=0,\" \",IF(B19=$H$11,Simulador!$L$31,+IF(B20>0,VLOOKUP(B20,Simulador!$A$32:$T$550,12,0),\" \")))","v":2570.2800000000002},{"$f":"IF($H$11=0,\" \",IF(B19=$H$11,Simulador!$M$31,+IF(B20>0,VLOOKUP(B20,Simulador!$A$32:$T$550,13,0),\" \")))","v":288.70999999999998},{"$f":"IF($H$11=0,\" \",IF(B19=$H$11,Simulador!$T$31,+IF(B20>0,VLOOKUP(B20,Simulador!$A$32:$T$550,20,0),\" \")))","v":92.08},{"$f":"IF($H$11=0,\" \",IF(B19=$H$11,Simulador!$V$31,+IF(B20>0,VLOOKUP(B20,Simulador!$A$32:$Z$550,22,0),\" \")))","v":3177.5850000000464}]
[null,4,{"$f":"IF($H$11=0,\" \",IF(B20=$H$11,\"TOTALES\",+IF(B21>0,VLOOKUP(B21,Simulador!$A$32:$T$550,3,0),\" \")))","v":"2023-05-30"},{"$f":"IF($H$11=0,\" \",IF(B20=$H$11,Simulador!$J$33,+IF(B21>0,VLOOKUP(B21,Simulador!$A$32:$T$550,11,0),\" \")))","v":326.22500000004658},{"$f":"IF($H$11=0,\" \",IF(B20=$H$11,Simulador!$L$31,+IF(B21>0,VLOOKUP(B21,Simulador!$A$32:$T$550,12,0),\" \")))","v":2473.9499999999998},{"$f":"IF($H$11=0,\" \",IF(B20=$H$11,Simulador!$M$31,+IF(B21>0,VLOOKUP(B21,Simulador!$A$32:$T$550,13,0),\" \")))","v":288.70999999999998},{"$f":"IF($H$11=0,\" \",IF(B20=$H$11,Simulador!$T$31,+IF(B21>0,VLOOKUP(B21,Simulador!$A$32:$T$550,20,0),\" \")))","v":88.7},{"$f":"IF($H$11=0,\" \",IF(B20=$H$11,Simulador!$V$31,+IF(B21>0,VLOOKUP(B21,Simulador!$A$32:$Z$550,22,0),\" \")))","v":3177.5850000000464}]
[null,5,{"$f":"IF($H$11=0,\" \",IF(B21=$H$11,\"TOTALES\",+IF(B22>0,VLOOKUP(B22,Simulador!$A$32:$T$550,3,0),\" \")))","v":"2023-06-30"},{"$f":"IF($H$11=0,\" \",IF(B21=$H$11,Simulador!$J$33,+IF(B22>0,VLOOKUP(B22,Simulador!$A$32:$T$550,11,0),\" \")))","v":256.24500000004645},{"$f":"IF($H$11=0,\" \",IF(B21=$H$11,Simulador!$L$31,+IF(B22>0,VLOOKUP(B22,Simulador!$A$32:$T$550,12,0),\" \")))","v":2541.58},{"$f":"IF($H$11=0,\" \",IF(B21=$H$11,Simulador!$M$31,+IF(B22>0,VLOOKUP(B22,Simulador!$A$32:$T$550,13,0),\" \")))","v":288.70999999999998},{"$f":"IF($H$11=0,\" \",IF(B21=$H$11,Simulador!$T$31,+IF(B22>0,VLOOKUP(B22,Simulador!$A$32:$T$550,20,0),\" \")))","v":91.05},{"$f":"IF($H$11=0,\" \",IF(B21=$H$11,Simulador!$V$31,+IF(B22>0,VLOOKUP(B22,Simulador!$A$32:$Z$550,22,0),\" \")))","v":3177.5850000000464}]
[null,6,{"$f":"IF($H$11=0,\" \",IF(B22=$H$11,\"TOTALES\",+IF(B23>0,VLOOKUP(B23,Simulador!$A$32:$T$550,3,0),\" \")))","v":"2023-07-30"},{"$f":"IF($H$11=0,\" \",IF(B22=$H$11,Simulador!$J$33,+IF(B23>0,VLOOKUP(B23,Simulador!$A$32:$T$550,11,0),\" \")))","v":356.5150000000466},{"$f":"IF($H$11=0,\" \",IF(B22=$H$11,Simulador!$L$31,+IF(B23>0,VLOOKUP(B23,Simulador!$A$32:$T$550,12,0),\" \")))","v":2444.6999999999998},{"$f":"IF($H$11=0,\" \",IF(B22=$H$11,Simulador!$M$31,+IF(B23>0,VLOOKUP(B23,Simulador!$A$32:$T$550,13,0),\" \")))","v":288.70999999999998},{"$f":"IF($H$11=0,\" \",IF(B22=$H$11,Simulador!$T$31,+IF(B23>0,VLOOKUP(B23,Simulador!$A$32:$T$550,20,0),\" \")))","v":87.66},{"$f":"IF($H$11=0,\" \",IF(B22=$H$11,Simulador!$V$31,+IF(B23>0,VLOOKUP(B23,Simulador!$A$32:$Z$550,22,0),\" \")))","v":3177.5850000000464}]
[null,7,{"$f":"IF($H$11=0,\" \",IF(B23=$H$11,\"TOTALES\",+IF(B24>0,VLOOKUP(B24,Simulador!$A$32:$T$550,3,0),\" \")))","v":"2023-08-30"},{"$f":"IF($H$11=0,\" \",IF(B23=$H$11,Simulador!$J$33,+IF(B24>0,VLOOKUP(B24,Simulador!$A$32:$T$550,11,0),\" \")))","v":289.19500000004643},{"$f":"IF($H$11=0,\" \",IF(B23=$H$11,Simulador!$L$31,+IF(B24>0,VLOOKUP(B24,Simulador!$A$32:$T$550,12,0),\" \")))","v":2509.77},{"$f":"IF($H$11=0,\" \",IF(B23=$H$11,Simulador!$M$31,+IF(B24>0,VLOOKUP(B24,Simulador!$A$32:$T$550,13,0),\" \")))","v":288.70999999999998},{"$f":"IF($H$11=0,\" \",IF(B23=$H$11,Simulador!$T$31,+IF(B24>0,VLOOKUP(B24,Simulador!$A$32:$T$550,20,0),\" \")))","v":89.91},{"$f":"IF($H$11=0,\" \",IF(B23=$H$11,Simulador!$V$31,+IF(B24>0,VLOOKUP(B24,Simulador!$A$32:$Z$550,22,0),\" \")))","v":3177.5850000000464}]
[null,8,{"$f":"IF($H$11=0,\" \",IF(B24=$H$11,\"TOTALES\",+IF(B25>0,VLOOKUP(B25,Simulador!$A$32:$T$550,3,0),\" \")))","v":"2023-09-30"},{"$f":"IF($H$11=0,\" \",IF(B24=$H$11,Simulador!$J$33,+IF(B25>0,VLOOKUP(B25,Simulador!$A$32:$T$550,11,0),\" \")))","v":304.74500000004639},{"$f":"IF($H$11=0,\" \",IF(B24=$H$11,Simulador!$L$31,+IF(B25>0,VLOOKUP(B25,Simulador!$A$32:$T$550,12,0),\" \")))","v":2494.75},{"$f":"IF($H$11=0,\" \",IF(B24=$H$11,Simulador!$M$31,+IF(B25>0,VLOOKUP(B25,Simulador!$A$32:$T$550,13,0),\" \")))","v":288.70999999999998},{"$f":"IF($H$11=0,\" \",IF(B24=$H$11,Simulador!$T$31,+IF(B25>0,VLOOKUP(B25,Simulador!$A$32:$T$550,20,0),\" \")))","v":89.38},{"$f":"IF($H$11=0,\" \",IF(B24=$H$11,Simulador!$V$31,+IF(B25>0,VLOOKUP(B25,Simulador!$A$32:$Z$550,22,0),\" \")))","v":3177.5850000000464}]
[null,9,{"$f":"IF($H$11=0,\" \",IF(B25=$H$11,\"TOTALES\",+IF(B26>0,VLOOKUP(B26,Simulador!$A$32:$T$550,3,0),\" \")))","v":"2023-10-30"},{"$f":"IF($H$11=0,\" \",IF(B25=$H$11,Simulador!$J$33,+IF(B26>0,VLOOKUP(B26,Simulador!$A$32:$T$550,11,0),\" \")))","v":405.93500000004661},{"$f":"IF($H$11=0,\" \",IF(B25=$H$11,Simulador!$L$31,+IF(B26>0,VLOOKUP(B26,Simulador!$A$32:$T$550,12,0),\" \")))","v":2396.9899999999998},{"$f":"IF($H$11=0,\" \",IF(B25=$H$11,Simulador!$M$31,+IF(B26>0,VLOOKUP(B26,Simulador!$A$32:$T$550,13,0),\" \")))","v":288.70999999999998},{"$f":"IF($H$11=0,\" \",IF(B25=$H$11,Simulador!$T$31,+IF(B26>0,VLOOKUP(B26,Simulador!$A$32:$T$550,20,0),\" \")))","v":85.95},{"$f":"IF($H$11=0,\" \",IF(B25=$H$11,Simulador!$V$31,+IF(B26>0,VLOOKUP(B26,Simulador!$A$32:$Z$550,22,0),\" \")))","v":3177.5850000000464}]
[null,10,{"$f":"IF($H$11=0,\" \",IF(B26=$H$11,\"TOTALES\",+IF(B27>0,VLOOKUP(B27,Simulador!$A$32:$T$550,3,0),\" \")))","v":"2023-11-30"},{"$f":"IF($H$11=0,\" \",IF(B26=$H$11,Simulador!$J$33,+IF(B27>0,VLOOKUP(B27,Simulador!$A$32:$T$550,11,0),\" \")))","v":342.96500000004625},{"$f":"IF($H$11=0,\" \",IF(B26=$H$11,Simulador!$L$31,+IF(B27>0,VLOOKUP(B27,Simulador!$A$32:$T$550,12,0),\" \")))","v":2457.86},{"$f":"IF($H$11=0,\" \",IF(B26=$H$11,Simulador!$M$31,+IF(B27>0,VLOOKUP(B27,Simulador!$A$32:$T$550,13,0),\" \")))","v":288.70999999999998},{"$f":"IF($H$11=0,\" \",IF(B26=$H$11,Simulador!$T$31,+IF(B27>0,VLOOKUP(B27,Simulador!$A$32:$T$550,20,0),\" \")))","v":88.05},{"$f":"IF($H$11=0,\" \",IF(B26=$H$11,Simulador!$V$31,+IF(B27>0,VLOOKUP(B27,Simulador!$A$32:$Z$550,22,0),\" \")))","v":3177.5850000000464}]
[null,11,{"$f":"IF($H$11=0,\" \",IF(B27=$H$11,\"TOTALES\",+IF(B28>0,VLOOKUP(B28,Simulador!$A$32:$T$550,3,0),\" \")))","v":"2023-12-30"},{"$f":"IF($H$11=0,\" \",IF(B27=$H$11,Simulador!$J$33,+IF(B28>0,VLOOKUP(B28,Simulador!$A$32:$T$550,11,0),\" \")))","v":444.87500000004627},{"$f":"IF($H$11=0,\" \",IF(B27=$H$11,Simulador!$L$31,+IF(B28>0,VLOOKUP(B28,Simulador!$A$32:$T$550,12,0),\" \")))","v":2359.4},{"$f":"IF($H$11=0,\" \",IF(B27=$H$11,Simulador!$M$31,+IF(B28>0,VLOOKUP(B28,Simulador!$A$32:$T$550,13,0),\" \")))","v":288.70999999999998},{"$f":"IF($H$11=0,\" \",IF(B27=$H$11,Simulador!$T$31,+IF(B28>0,VLOOKUP(B28,Simulador!$A$32:$T$550,20,0),\" \")))","v":84.6},{"$f":"IF($H$11=0,\" \",IF(B27=$H$11,Simulador!$V$31,+IF(B28>0,VLOOKUP(B28,Simulador!$A$32:$Z$550,22,0),\" \")))","v":3177.5850000000464}]
[null,12,{"$f":"IF($H$11=0,\" \",IF(B28=$H$11,\"TOTALES\",+IF(B29>0,VLOOKUP(B29,Simulador!$A$32:$T$550,3,0),\" \")))","v":"2024-01-30"},{"$f":"IF($H$11=0,\" \",IF(B28=$H$11,Simulador!$J$33,+IF(B29>0,VLOOKUP(B29,Simulador!$A$32:$T$550,11,0),\" \")))","v":385.33500000004653},{"$f":"IF($H$11=0,\" \",IF(B28=$H$11,Simulador!$L$31,+IF(B29>0,VLOOKUP(B29,Simulador!$A$32:$T$550,12,0),\" \")))","v":2416.9499999999998},{"$f":"IF($H$11=0,\" \",IF(B28=$H$11,Simulador!$M$31,+IF(B29>0,VLOOKUP(B29,Simulador!$A$32:$T$550,13,0),\" \")))","v":288.70999999999998},{"$f":"IF($H$11=0,\" \",IF(B28=$H$11,Simulador!$T$31,+IF(B29>0,VLOOKUP(B29,Simulador!$A$32:$T$550,20,0),\" \")))","v":86.59},{"$f":"IF($H$11=0,\" \",IF(B28=$H$11,Simulador!$V$31,+IF(B29>0,VLOOKUP(B29,Simulador!$A$32:$Z$550,22,0),\" \")))","v":3177.5850000000464}]
[null,13,{"$f":"IF($H$11=0,\" \",IF(B29=$H$11,\"TOTALES\",+IF(B30>0,VLOOKUP(B30,Simulador!$A$32:$T$550,3,0),\" \")))","v":"2024-02-29"},{"$f":"IF($H$11=0,\" \",IF(B29=$H$11,Simulador!$J$33,+IF(B30>0,VLOOKUP(B30,Simulador!$A$32:$T$550,11,0),\" \")))","v":488.05500000004656},{"$f":"IF($H$11=0,\" \",IF(B29=$H$11,Simulador!$L$31,+IF(B30>0,VLOOKUP(B30,Simulador!$A$32:$T$550,12,0),\" \")))","v":2317.7199999999998},{"$f":"IF($H$11=0,\" \",IF(B29=$H$11,Simulador!$M$31,+IF(B30>0,VLOOKUP(B30,Simulador!$A$32:$T$550,13,0),\" \")))","v":288.70999999999998},{"$f":"IF($H$11=0,\" \",IF(B29=$H$11,Simulador!$T$31,+IF(B30>0,VLOOKUP(B30,Simulador!$A$32:$T$550,20,0),\" \")))","v":83.1},{"$f":"IF($H$11=0,\" \",IF(B29=$H$11,Simulador!$V$31,+IF(B30>0,VLOOKUP(B30,Simulador!$A$32:$Z$550,22,0),\" \")))","v":3177.5850000000464}]
[null,14,{"$f":"IF($H$11=0,\" \",IF(B30=$H$11,\"TOTALES\",+IF(B31>0,VLOOKUP(B31,Simulador!$A$32:$T$550,3,0),\" \")))","v":"2024-03-30"},{"$f":"IF($H$11=0,\" \",IF(B30=$H$11,Simulador!$J$33,+IF(B31>0,VLOOKUP(B31,Simulador!$A$32:$T$550,11,0),\" \")))","v":513.43500000004656},{"$f":"IF($H$11=0,\" \",IF(B30=$H$11,Simulador!$L$31,+IF(B31>0,VLOOKUP(B31,Simulador!$A$32:$T$550,12,0),\" \")))","v":2293.2199999999998},{"$f":"IF($H$11=0,\" \",IF(B30=$H$11,Simulador!$M$31,+IF(B31>0,VLOOKUP(B31,Simulador!$A$32:$T$550,13,0),\" \")))","v":288.70999999999998},{"$f":"IF($H$11=0,\" \",IF(B30=$H$11,Simulador!$T$31,+IF(B31>0,VLOOKUP(B31,Simulador!$A$32:$T$550,20,0),\" \")))","v":82.22},{"$f":"IF($H$11=0,\" \",IF(B30=$H$11,Simulador!$V$31,+IF(B31>0,VLOOKUP(B31,Simulador!$A$32:$Z$550,22,0),\" \")))","v":3177.585000000046}]
[null,15,{"$f":"IF($H$11=0,\" \",IF(B31=$H$11,\"TOTALES\",+IF(B32>0,VLOOKUP(B32,Simulador!$A$32:$T$550,3,0),\" \")))","v":"2024-04-30"},{"$f":"IF($H$11=0,\" \",IF(B31=$H$11,Simulador!$J$33,+IF(B32>0,VLOOKUP(B32,Simulador!$A$32:$T$550,11,0),\" \")))","v":459.91500000004658},{"$f":"IF($H$11=0,\" \",IF(B31=$H$11,Simulador!$L$31,+IF(B32>0,VLOOKUP(B32,Simulador!$A$32:$T$550,12,0),\" \")))","v":2344.9499999999998},{"$f":"IF($H$11=0,\" \",IF(B31=$H$11,Simulador!$M$31,+IF(B32>0,VLOOKUP(B32,Simulador!$A$32:$T$550,13,0),\" \")))","v":288.70999999999998},{"$f":"IF($H$11=0,\" \",IF(B31=$H$11,Simulador!$T$31,+IF(B32>0,VLOOKUP(B32,Simulador!$A$32:$T$550,20,0),\" \")))","v":84.01},{"$f":"IF($H$11=0,\" \",IF(B31=$H$11,Simulador!$V$31,+IF(B32>0,VLOOKUP(B32,Simulador!$A$32:$Z$550,22,0),\" \")))","v":3177.5850000000464}]
[null,16,{"$f":"IF($H$11=0,\" \",IF(B32=$H$11,\"TOTALES\",+IF(B33>0,VLOOKUP(B33,Simulador!$A$32:$T$550,3,0),\" \")))","v":"2024-05-30"},{"$f":"IF($H$11=0,\" \",IF(B32=$H$11,Simulador!$J$33,+IF(B33>0,VLOOKUP(B33,Simulador!$A$32:$T$550,11,0),\" \")))","v":564.05500000004645},{"$f":"IF($H$11=0,\" \",IF(B32=$H$11,Simulador!$L$31,+IF(B33>0,VLOOKUP(B33,Simulador!$A$32:$T$550,12,0),\" \")))","v":2244.35},{"$f":"IF($H$11=0,\" \",IF(B32=$H$11,Simulador!$M$31,+IF(B33>0,VLOOKUP(B33,Simulador!$A$32:$T$550,13,0),\" \")))","v":288.70999999999998},{"$f":"IF($H$11=0,\" \",IF(B32=$H$11,Simulador!$T$31,+IF(B33>0,VLOOKUP(B33,Simulador!$A$32:$T$550,20,0),\" \")))","v":80.47},{"$f":"IF($H$11=0,\" \",IF(B32=$H$11,Simulador!$V$31,+IF(B33>0,VLOOKUP(B33,Simulador!$A$32:$Z$550,22,0),\" \")))","v":3177.585000000046}]
[null,17,{"$f":"IF($H$11=0,\" \",IF(B33=$H$11,\"TOTALES\",+IF(B34>0,VLOOKUP(B34,Simulador!$A$32:$T$550,3,0),\" \")))","v":"2024-06-30"},{"$f":"IF($H$11=0,\" \",IF(B33=$H$11,Simulador!$J$33,+IF(B34>0,VLOOKUP(B34,Simulador!$A$32:$T$550,11,0),\" \")))","v":514.97500000004641},{"$f":"IF($H$11=0,\" \",IF(B33=$H$11,Simulador!$L$31,+IF(B34>0,VLOOKUP(B34,Simulador!$A$32:$T$550,12,0),\" \")))","v":2291.79},{"$f":"IF($H$11=0,\" \",IF(B33=$H$11,Simulador!$M$31,+IF(B34>0,VLOOKUP(B34,Simulador!$A$32:$T$550,13,0),\" \")))","v":288.70999999999998},{"$f":"IF($H$11=0,\" \",IF(B33=$H$11,Simulador!$T$31,+IF(B34>0,VLOOKUP(B34,Simulador!$A$32:$T$550,20,0),\" \")))","v":82.11},{"$f":"IF($H$11=0,\" \",IF(B33=$H$11,Simulador!$V$31,+IF(B34>0,VLOOKUP(B34,Simulador!$A$32:$Z$550,22,0),\" \")))","v":3177.5850000000464}]
[null,18,{"$f":"IF($H$11=0,\" \",IF(B34=$H$11,\"TOTALES\",+IF(B35>0,VLOOKUP(B35,Simulador!$A$32:$T$550,3,0),\" \")))","v":"2024-07-30"},{"$f":"IF($H$11=0,\" \",IF(B34=$H$11,Simulador!$J$33,+IF(B35>0,VLOOKUP(B35,Simulador!$A$32:$T$550,11,0),\" \")))","v":620.16500000004658},{"$f":"IF($H$11=0,\" \",IF(B34=$H$11,Simulador!$L$31,+IF(B35>0,VLOOKUP(B35,Simulador!$A$32:$T$550,12,0),\" \")))","v":2190.1799999999998},{"$f":"IF($H$11=0,\" \",IF(B34=$H$11,Simulador!$M$31,+IF(B35>0,VLOOKUP(B35,Simulador!$A$32:$T$550,13,0),\" \")))","v":288.70999999999998},{"$f":"IF($H$11=0,\" \",IF(B34=$H$11,Simulador!$T$31,+IF(B35>0,VLOOKUP(B35,Simulador!$A$32:$T$550,20,0),\" \")))","v":78.53},{"$f":"IF($H$11=0,\" \",IF(B34=$H$11,Simulador!$V$31,+IF(B35>0,VLOOKUP(B35,Simulador!$A$32:$Z$550,22,0),\" \")))","v":3177.5850000000469}]
[null,19,{"$f":"IF($H$11=0,\" \",IF(B35=$H$11,\"TOTALES\",+IF(B36>0,VLOOKUP(B36,Simulador!$A$32:$T$550,3,0),\" \")))","v":"2024-08-30"},{"$f":"IF($H$11=0,\" \",IF(B35=$H$11,Simulador!$J$33,+IF(B36>0,VLOOKUP(B36,Simulador!$A$32:$T$550,11,0),\" \")))","v":576.02500000004625},{"$f":"IF($H$11=0,\" \",IF(B35=$H$11,Simulador!$L$31,+IF(B36>0,VLOOKUP(B36,Simulador!$A$32:$T$550,12,0),\" \")))","v":2232.86},{"$f":"IF($H$11=0,\" \",IF(B35=$H$11,Simulador!$M$31,+IF(B36>0,VLOOKUP(B36,Simulador!$A$32:$T$550,13,0),\" \")))","v":288.70999999999998},{"$f":"IF($H$11=0,\" \",IF(B35=$H$11,Simulador!$T$31,+IF(B36>0,VLOOKUP(B36,Simulador!$A$32:$T$550,20,0),\" \")))","v":79.989999999999995},{"$f":"IF($H$11=0,\" \",IF(B35=$H$11,Simulador!$V$31,+IF(B36>0,VLOOKUP(B36,Simulador!$A$32:$Z$550,22,0),\" \")))","v":3177.5850000000464}]
[null,20,{"$f":"IF($H$11=0,\" \",IF(B36=$H$11,\"TOTALES\",+IF(B37>0,VLOOKUP(B37,Simulador!$A$32:$T$550,3,0),\" \")))","v":"2024-09-30"},{"$f":"IF($H$11=0,\" \",IF(B36=$H$11,Simulador!$J$33,+IF(B37>0,VLOOKUP(B37,Simulador!$A$32:$T$550,11,0),\" \")))","v":607.00500000004661},{"$f":"IF($H$11=0,\" \",IF(B36=$H$11,Simulador!$L$31,+IF(B37>0,VLOOKUP(B37,Simulador!$A$32:$T$550,12,0),\" \")))","v":2202.9499999999998},{"$f":"IF($H$11=0,\" \",IF(B36=$H$11,Simulador!$M$31,+IF(B37>0,VLOOKUP(B37,Simulador!$A$32:$T$550,13,0),\" \")))","v":288.70999999999998},{"$f":"IF($H$11=0,\" \",IF(B36=$H$11,Simulador!$T$31,+IF(B37>0,VLOOKUP(B37,Simulador!$A$32:$T$550,20,0),\" \")))","v":78.92},{"$f":"IF($H$11=0,\" \",IF(B36=$H$11,Simulador!$V$31,+IF(B37>0,VLOOKUP(B37,Simulador!$A$32:$Z$550,22,0),\" \")))","v":3177.5850000000464}]
[null,21,{"$f":"IF($H$11=0,\" \",IF(B37=$H$11,\"TOTALES\",+IF(B38>0,VLOOKUP(B38,Simulador!$A$32:$T$550,3,0),\" \")))","v":"2024-10-30"},{"$f":"IF($H$11=0,\" \",IF(B37=$H$11,Simulador!$J$33,+IF(B38>0,VLOOKUP(B38,Simulador!$A$32:$T$550,11,0),\" \")))","v":713.93500000004656},{"$f":"IF($H$11=0,\" \",IF(B37=$H$11,Simulador!$L$31,+IF(B38>0,VLOOKUP(B38,Simulador!$A$32:$T$550,12,0),\" \")))","v":2099.66},{"$f":"IF($H$11=0,\" \",IF(B37=$H$11,Simulador!$M$31,+IF(B38>0,VLOOKUP(B38,Simulador!$A$32:$T$550,13,0),\" \")))","v":288.70999999999998},{"$f":"IF($H$11=0,\" \",IF(B37=$H$11,Simulador!$T$31,+IF(B38>0,VLOOKUP(B38,Simulador!$A$32:$T$550,20,0),\" \")))","v":75.28},{"$f":"IF($H$11=0,\" \",IF(B37=$H$11,Simulador!$V$31,+IF(B38>0,VLOOKUP(B38,Simulador!$A$32:$Z$550,22,0),\" \")))","v":3177.5850000000469}]
[null,22,{"$f":"IF($H$11=0,\" \",IF(B38=$H$11,\"TOTALES\",+IF(B39>0,VLOOKUP(B39,Simulador!$A$32:$T$550,3,0),\" \")))","v":"2024-11-30"},{"$f":"IF($H$11=0,\" \",IF(B38=$H$11,Simulador!$J$33,+IF(B39>0,VLOOKUP(B39,Simulador!$A$32:$T$550,11,0),\" \")))","v":678.03500000004647},{"$f":"IF($H$11=0,\" \",IF(B38=$H$11,Simulador!$L$31,+IF(B39>0,VLOOKUP(B39,Simulador!$A$32:$T$550,12,0),\" \")))","v":2134.37},{"$f":"IF($H$11=0,\" \",IF(B38=$H$11,Simulador!$M$31,+IF(B39>0,VLOOKUP(B39,Simulador!$A$32:$T$550,13,0),\" \")))","v":288.70999999999998},{"$f":"IF($H$11=0,\" \",IF(B38=$H$11,Simulador!$T$31,+IF(B39>0,VLOOKUP(B39,Simulador!$A$32:$T$550,20,0),\" \")))","v":76.47},{"$f":"IF($H$11=0,\" \",IF(B38=$H$11,Simulador!$V$31,+IF(B39>0,VLOOKUP(B39,Simulador!$A$32:$Z$550,22,0),\" \")))","v":3177.585000000046}]
[null,23,{"$f":"IF($H$11=0,\" \",IF(B39=$H$11,\"TOTALES\",+IF(B40>0,VLOOKUP(B40,Simulador!$A$32:$T$550,3,0),\" \")))","v":"2024-12-30"},{"$f":"IF($H$11=0,\" \",IF(B39=$H$11,Simulador!$J$33,+IF(B40>0,VLOOKUP(B40,Simulador!$A$32:$T$550,11,0),\" \")))","v":786.31500000004644},{"$f":"IF($H$11=0,\" \",IF(B39=$H$11,Simulador!$L$31,+IF(B40>0,VLOOKUP(B40,Simulador!$A$32:$T$550,12,0),\" \")))","v":2029.78},{"$f":"IF($H$11=0,\" \",IF(B39=$H$11,Simulador!$M$31,+IF(B40>0,VLOOKUP(B40,Simulador!$A$32:$T$550,13,0),\" \")))","v":288.70999999999998},{"$f":"IF($H$11=0,\" \",IF(B39=$H$11,Simulador!$T$31,+IF(B40>0,VLOOKUP(B40,Simulador!$A$32:$T$550,20,0),\" \")))","v":72.78},{"$f":"IF($H$11=0,\" \",IF(B39=$H$11,Simulador!$V$31,+IF(B40>0,VLOOKUP(B40,Simulador!$A$32:$Z$550,22,0),\" \")))","v":3177.5850000000464}]
[null,24,{"$f":"IF($H$11=0,\" \",IF(B40=$H$11,\"TOTALES\",+IF(B41>0,VLOOKUP(B41,Simulador!$A$32:$T$550,3,0),\" \")))","v":"2025-01-30"},{"$f":"IF($H$11=0,\" \",IF(B40=$H$11,Simulador!$J$33,+IF(B41>0,VLOOKUP(B41,Simulador!$A$32:$T$550,11,0),\" \")))","v":756.78500000004647},{"$f":"IF($H$11=0,\" \",IF(B40=$H$11,Simulador!$L$31,+IF(B41>0,VLOOKUP(B41,Simulador!$A$32:$T$550,12,0),\" \")))","v":2058.35},{"$f":"IF($H$11=0,\" \",IF(B40=$H$11,Simulador!$M$31,+IF(B41>0,VLOOKUP(B41,Simulador!$A$32:$T$550,13,0),\" \")))","v":288.70999999999998},{"$f":"IF($H$11=0,\" \",IF(B40=$H$11,Simulador!$T$31,+IF(B41>0,VLOOKUP(B41,Simulador!$A$32:$T$550,20,0),\" \")))","v":73.739999999999995},{"$f":"IF($H$11=0,\" \",IF(B40=$H$11,Simulador!$V$31,+IF(B41>0,VLOOKUP(B41,Simulador!$A$32:$Z$550,22,0),\" \")))","v":3177.5850000000464}]
[null,25,{"$f":"IF($H$11=0,\" \",IF(B41=$H$11,\"TOTALES\",+IF(B42>0,VLOOKUP(B42,Simulador!$A$32:$T$550,3,0),\" \")))","v":"2025-02-28"},{"$f":"IF($H$11=0,\" \",IF(B41=$H$11,Simulador!$J$33,+IF(B42>0,VLOOKUP(B42,Simulador!$A$32:$T$550,11,0),\" \")))","v":935.51500000004637},{"$f":"IF($H$11=0,\" \",IF(B41=$H$11,Simulador!$L$31,+IF(B42>0,VLOOKUP(B42,Simulador!$A$32:$T$550,12,0),\" \")))","v":1885.69},{"$f":"IF($H$11=0,\" \",IF(B41=$H$11,Simulador!$M$31,+IF(B42>0,VLOOKUP(B42,Simulador!$A$32:$T$550,13,0),\" \")))","v":288.70999999999998},{"$f":"IF($H$11=0,\" \",IF(B41=$H$11,Simulador!$T$31,+IF(B42>0,VLOOKUP(B42,Simulador!$A$32:$T$550,20,0),\" \")))","v":67.67},{"$f":"IF($H$11=0,\" \",IF(B41=$H$11,Simulador!$V$31,+IF(B42>0,VLOOKUP(B42,Simulador!$A$32:$Z$550,22,0),\" \")))","v":3177.5850000000464}]
[null,26,{"$f":"IF($H$11=0,\" \",IF(B42=$H$11,\"TOTALES\",+IF(B43>0,VLOOKUP(B43,Simulador!$A$32:$T$550,3,0),\" \")))","v":"2025-03-30"},{"$f":"IF($H$11=0,\" \",IF(B42=$H$11,Simulador!$J$33,+IF(B43>0,VLOOKUP(B43,Simulador!$A$32:$T$550,11,0),\" \")))","v":915.20500000004654},{"$f":"IF($H$11=0,\" \",IF(B42=$H$11,Simulador!$L$31,+IF(B43>0,VLOOKUP(B43,Simulador!$A$32:$T$550,12,0),\" \")))","v":1905.35},{"$f":"IF($H$11=0,\" \",IF(B42=$H$11,Simulador!$M$31,+IF(B43>0,VLOOKUP(B43,Simulador!$A$32:$T$550,13,0),\" \")))","v":288.70999999999998},{"$f":"IF($H$11=0,\" \",IF(B42=$H$11,Simulador!$T$31,+IF(B43>0,VLOOKUP(B43,Simulador!$A$32:$T$550,20,0),\" \")))","v":68.319999999999993},{"$f":"IF($H$11=0,\" \",IF(B42=$H$11,Simulador!$V$31,+IF(B43>0,VLOOKUP(B43,Simulador!$A$32:$Z$550,22,0),\" \")))","v":3177.5850000000469}]
[null,27,{"$f":"IF($H$11=0,\" \",IF(B43=$H$11,\"TOTALES\",+IF(B44>0,VLOOKUP(B44,Simulador!$A$32:$T$550,3,0),\" \")))","v":"2025-04-30"},{"$f":"IF($H$11=0,\" \",IF(B43=$H$11,Simulador!$J$33,+IF(B44>0,VLOOKUP(B44,Simulador!$A$32:$T$550,11,0),\" \")))","v":897.01500000004637},{"$f":"IF($H$11=0,\" \",IF(B43=$H$11,Simulador!$L$31,+IF(B44>0,VLOOKUP(B44,Simulador!$A$32:$T$550,12,0),\" \")))","v":1922.97},{"$f":"IF($H$11=0,\" \",IF(B43=$H$11,Simulador!$M$31,+IF(B44>0,VLOOKUP(B44,Simulador!$A$32:$T$550,13,0),\" \")))","v":288.70999999999998},{"$f":"IF($H$11=0,\" \",IF(B43=$H$11,Simulador!$T$31,+IF(B44>0,VLOOKUP(B44,Simulador!$A$32:$T$550,20,0),\" \")))","v":68.89},{"$f":"IF($H$11=0,\" \",IF(B43=$H$11,Simulador!$V$31,+IF(B44>0,VLOOKUP(B44,Simulador!$A$32:$Z$550,22,0),\" \")))","v":3177.585000000046}]
[null,28,{"$f":"IF($H$11=0,\" \",IF(B44=$H$11,\"TOTALES\",+IF(B45>0,VLOOKUP(B45,Simulador!$A$32:$T$550,3,0),\" \")))","v":"2025-05-30"},{"$f":"IF($H$11=0,\" \",IF(B44=$H$11,Simulador!$J$33,+IF(B45>0,VLOOKUP(B45,Simulador!$A$32:$T$550,11,0),\" \")))","v":1009.4350000000463},{"$f":"IF($H$11=0,\" \",IF(B44=$H$11,Simulador!$L$31,+IF(B45>0,VLOOKUP(B45,Simulador!$A$32:$T$550,12,0),\" \")))","v":1814.38},{"$f":"IF($H$11=0,\" \",IF(B44=$H$11,Simulador!$M$31,+IF(B45>0,VLOOKUP(B45,Simulador!$A$32:$T$550,13,0),\" \")))","v":288.70999999999998},{"$f":"IF($H$11=0,\" \",IF(B44=$H$11,Simulador!$T$31,+IF(B45>0,VLOOKUP(B45,Simulador!$A$32:$T$550,20,0),\" \")))","v":65.06},{"$f":"IF($H$11=0,\" \",IF(B44=$H$11,Simulador!$V$31,+IF(B45>0,VLOOKUP(B45,Simulador!$A$32:$Z$550,22,0),\" \")))","v":3177.5850000000464}]
[null,29,{"$f":"IF($H$11=0,\" \",IF(B45=$H$11,\"TOTALES\",+IF(B46>0,VLOOKUP(B46,Simulador!$A$32:$T$550,3,0),\" \")))","v":"2025-06-30"},{"$f":"IF($H$11=0,\" \",IF(B45=$H$11,Simulador!$J$33,+IF(B46>0,VLOOKUP(B46,Simulador!$A$32:$T$550,11,0),\" \")))","v":999.53500000004635},{"$f":"IF($H$11=0,\" \",IF(B45=$H$11,Simulador!$L$31,+IF(B46>0,VLOOKUP(B46,Simulador!$A$32:$T$550,12,0),\" \")))","v":1823.99},{"$f":"IF($H$11=0,\" \",IF(B45=$H$11,Simulador!$M$31,+IF(B46>0,VLOOKUP(B46,Simulador!$A$32:$T$550,13,0),\" \")))","v":288.70999999999998},{"$f":"IF($H$11=0,\" \",IF(B45=$H$11,Simulador!$T$31,+IF(B46>0,VLOOKUP(B46,Simulador!$A$32:$T$550,20,0),\" \")))","v":65.349999999999994},{"$f":"IF($H$11=0,\" \",IF(B45=$H$11,Simulador!$V$31,+IF(B46>0,VLOOKUP(B46,Simulador!$A$32:$Z$550,22,0),\" \")))","v":3177.585000000046}]
[null,30,{"$f":"IF($H$11=0,\" \",IF(B46=$H$11,\"TOTALES\",+IF(B47>0,VLOOKUP(B47,Simulador!$A$32:$T$550,3,0),\" \")))","v":"2025-07-30"},{"$f":"IF($H$11=0,\" \",IF(B46=$H$11,Simulador!$J$33,+IF(B47>0,VLOOKUP(B47,Simulador!$A$32:$T$550,11,0),\" \")))","v":1113.9150000000463},{"$f":"IF($H$11=0,\" \",IF(B46=$H$11,Simulador!$L$31,+IF(B47>0,VLOOKUP(B47,Simulador!$A$32:$T$550,12,0),\" \")))","v":1713.52},{"$f":"IF($H$11=0,\" \",IF(B46=$H$11,Simulador!$M$31,+IF(B47>0,VLOOKUP(B47,Simulador!$A$32:$T$550,13,0),\" \")))","v":288.70999999999998},{"$f":"IF($H$11=0,\" \",IF(B46=$H$11,Simulador!$T$31,+IF(B47>0,VLOOKUP(B47,Simulador!$A$32:$T$550,20,0),\" \")))","v":61.44},{"$f":"IF($H$11=0,\" \",IF(B46=$H$11,Simulador!$V$31,+IF(B47>0,VLOOKUP(B47,Simulador!$A$32:$Z$550,22,0),\" \")))","v":3177.5850000000464}]
[null,31,{"$f":"IF($H$11=0,\" \",IF(B47=$H$11,\"TOTALES\",+IF(B48>0,VLOOKUP(B48,Simulador!$A$32:$T$550,3,0),\" \")))","v":"2025-08-30"},{"$f":"IF($H$11=0,\" \",IF(B47=$H$11,Simulador!$J$33,+IF(B48>0,VLOOKUP(B48,Simulador!$A$32:$T$550,11,0),\" \")))","v":1113.1850000000463},{"$f":"IF($H$11=0,\" \",IF(B47=$H$11,Simulador!$L$31,+IF(B48>0,VLOOKUP(B48,Simulador!$A$32:$T$550,12,0),\" \")))","v":1714.27},{"$f":"IF($H$11=0,\" \",IF(B47=$H$11,Simulador!$M$31,+IF(B48>0,VLOOKUP(B48,Simulador!$A$32:$T$550,13,0),\" \")))","v":288.70999999999998},{"$f":"IF($H$11=0,\" \",IF(B47=$H$11,Simulador!$T$31,+IF(B48>0,VLOOKUP(B48,Simulador!$A$32:$T$550,20,0),\" \")))","v":61.42},{"$f":"IF($H$11=0,\" \",IF(B47=$H$11,Simulador!$V$31,+IF(B48>0,VLOOKUP(B48,Simulador!$A$32:$Z$550,22,0),\" \")))","v":3177.5850000000464}]
[null,32,{"$f":"IF($H$11=0,\" \",IF(B48=$H$11,\"TOTALES\",+IF(B49>0,VLOOKUP(B49,Simulador!$A$32:$T$550,3,0),\" \")))","v":"2025-09-30"},{"$f":"IF($H$11=0,\" \",IF(B48=$H$11,Simulador!$J$33,+IF(B49>0,VLOOKUP(B49,Simulador!$A$32:$T$550,11,0),\" \")))","v":1173.0650000000464},{"$f":"IF($H$11=0,\" \",IF(B48=$H$11,Simulador!$L$31,+IF(B49>0,VLOOKUP(B49,Simulador!$A$32:$T$550,12,0),\" \")))","v":1656.47},{"$f":"IF($H$11=0,\" \",IF(B48=$H$11,Simulador!$M$31,+IF(B49>0,VLOOKUP(B49,Simulador!$A$32:$T$550,13,0),\" \")))","v":288.70999999999998},{"$f":"IF($H$11=0,\" \",IF(B48=$H$11,Simulador!$T$31,+IF(B49>0,VLOOKUP(B49,Simulador!$A$32:$T$550,20,0),\" \")))","v":59.34},{"$f":"IF($H$11=0,\" \",IF(B48=$H$11,Simulador!$V$31,+IF(B49>0,VLOOKUP(B49,Simulador!$A$32:$Z$550,22,0),\" \")))","v":3177.5850000000464}]
[null,33,{"$f":"IF($H$11=0,\" \",IF(B49=$H$11,\"TOTALES\",+IF(B50>0,VLOOKUP(B50,Simulador!$A$32:$T$550,3,0),\" \")))","v":"2025-10-30"},{"$f":"IF($H$11=0,\" \",IF(B49=$H$11,Simulador!$J$33,+IF(B50>0,VLOOKUP(B50,Simulador!$A$32:$T$550,11,0),\" \")))","v":1290.7250000000465},{"$f":"IF($H$11=0,\" \",IF(B49=$H$11,Simulador!$L$31,+IF(B50>0,VLOOKUP(B50,Simulador!$A$32:$T$550,12,0),\" \")))","v":1542.83},{"$f":"IF($H$11=0,\" \",IF(B49=$H$11,Simulador!$M$31,+IF(B50>0,VLOOKUP(B50,Simulador!$A$32:$T$550,13,0),\" \")))","v":288.70999999999998},{"$f":"IF($H$11=0,\" \",IF(B49=$H$11,Simulador!$T$31,+IF(B50>0,VLOOKUP(B50,Simulador!$A$32:$T$550,20,0),\" \")))","v":55.32},{"$f":"IF($H$11=0,\" \",IF(B49=$H$11,Simulador!$V$31,+IF(B50>0,VLOOKUP(B50,Simulador!$A$32:$Z$550,22,0),\" \")))","v":3177.5850000000469}]
[null,34,{"$f":"IF($H$11=0,\" \",IF(B50=$H$11,\"TOTALES\",+IF(B51>0,VLOOKUP(B51,Simulador!$A$32:$T$550,3,0),\" \")))","v":"2025-11-30"},{"$f":"IF($H$11=0,\" \",IF(B50=$H$11,Simulador!$J$33,+IF(B51>0,VLOOKUP(B51,Simulador!$A$32:$T$550,11,0),\" \")))","v":1305.5550000000464},{"$f":"IF($H$11=0,\" \",IF(B50=$H$11,Simulador!$L$31,+IF(B51>0,VLOOKUP(B51,Simulador!$A$32:$T$550,12,0),\" \")))","v":1528.56},{"$f":"IF($H$11=0,\" \",IF(B50=$H$11,Simulador!$M$31,+IF(B51>0,VLOOKUP(B51,Simulador!$A$32:$T$550,13,0),\" \")))","v":288.70999999999998},{"$f":"IF($H$11=0,\" \",IF(B50=$H$11,Simulador!$T$31,+IF(B51>0,VLOOKUP(B51,Simulador!$A$32:$T$550,20,0),\" \")))","v":54.76},{"$f":"IF($H$11=0,\" \",IF(B50=$H$11,Simulador!$V$31,+IF(B51>0,VLOOKUP(B51,Simulador!$A$32:$Z$550,22,0),\" \")))","v":3177.5850000000464}]
[null,35,{"$f":"IF($H$11=0,\" \",IF(B51=$H$11,\"TOTALES\",+IF(B52>0,VLOOKUP(B52,Simulador!$A$32:$T$550,3,0),\" \")))","v":"2025-12-30"},{"$f":"IF($H$11=0,\" \",IF(B51=$H$11,Simulador!$J$33,+IF(B52>0,VLOOKUP(B52,Simulador!$A$32:$T$550,11,0),\" \")))","v":1425.7350000000463},{"$f":"IF($H$11=0,\" \",IF(B51=$H$11,Simulador!$L$31,+IF(B52>0,VLOOKUP(B52,Simulador!$A$32:$T$550,12,0),\" \")))","v":1412.49},{"$f":"IF($H$11=0,\" \",IF(B51=$H$11,Simulador!$M$31,+IF(B52>0,VLOOKUP(B52,Simulador!$A$32:$T$550,13,0),\" \")))","v":288.70999999999998},{"$f":"IF($H$11=0,\" \",IF(B51=$H$11,Simulador!$T$31,+IF(B52>0,VLOOKUP(B52,Simulador!$A$32:$T$550,20,0),\" \")))","v":50.65},{"$f":"IF($H$11=0,\" \",IF(B51=$H$11,Simulador!$V$31,+IF(B52>0,VLOOKUP(B52,Simulador!$A$32:$Z$550,22,0),\" \")))","v":3177.5850000000464}]
[null,36,{"$f":"IF($H$11=0,\" \",IF(B52=$H$11,\"TOTALES\",+IF(B53>0,VLOOKUP(B53,Simulador!$A$32:$T$550,3,0),\" \")))","v":"2026-01-30"},{"$f":"IF($H$11=0,\" \",IF(B52=$H$11,Simulador!$J$33,+IF(B53>0,VLOOKUP(B53,Simulador!$A$32:$T$550,11,0),\" \")))","v":1452.4350000000463},{"$f":"IF($H$11=0,\" \",IF(B52=$H$11,Simulador!$L$31,+IF(B53>0,VLOOKUP(B53,Simulador!$A$32:$T$550,12,0),\" \")))","v":1386.76},{"$f":"IF($H$11=0,\" \",IF(B52=$H$11,Simulador!$M$31,+IF(B53>0,VLOOKUP(B53,Simulador!$A$32:$T$550,13,0),\" \")))","v":288.70999999999998},{"$f":"IF($H$11=0,\" \",IF(B52=$H$11,Simulador!$T$31,+IF(B53>0,VLOOKUP(B53,Simulador!$A$32:$T$550,20,0),\" \")))","v":49.68},{"$f":"IF($H$11=0,\" \",IF(B52=$H$11,Simulador!$V$31,+IF(B53>0,VLOOKUP(B53,Simulador!$A$32:$Z$550,22,0),\" \")))","v":3177.585000000046}]
[null,37,{"$f":"IF($H$11=0,\" \",IF(B53=$H$11,\"TOTALES\",+IF(B54>0,VLOOKUP(B54,Simulador!$A$32:$T$550,3,0),\" \")))","v":"2026-02-28"},{"$f":"IF($H$11=0,\" \",IF(B53=$H$11,Simulador!$J$33,+IF(B54>0,VLOOKUP(B54,Simulador!$A$32:$T$550,11,0),\" \")))","v":1620.1950000000463},{"$f":"IF($H$11=0,\" \",IF(B53=$H$11,Simulador!$L$31,+IF(B54>0,VLOOKUP(B54,Simulador!$A$32:$T$550,12,0),\" \")))","v":1224.73},{"$f":"IF($H$11=0,\" \",IF(B53=$H$11,Simulador!$M$31,+IF(B54>0,VLOOKUP(B54,Simulador!$A$32:$T$550,13,0),\" \")))","v":288.70999999999998},{"$f":"IF($H$11=0,\" \",IF(B53=$H$11,Simulador!$T$31,+IF(B54>0,VLOOKUP(B54,Simulador!$A$32:$T$550,20,0),\" \")))","v":43.95},{"$f":"IF($H$11=0,\" \",IF(B53=$H$11,Simulador!$V$31,+IF(B54>0,VLOOKUP(B54,Simulador!$A$32:$Z$550,22,0),\" \")))","v":3177.5850000000464}]
[null,38,{"$f":"IF($H$11=0,\" \",IF(B54=$H$11,\"TOTALES\",+IF(B55>0,VLOOKUP(B55,Simulador!$A$32:$T$550,3,0),\" \")))","v":"2026-03-30"},{"$f":"IF($H$11=0,\" \",IF(B54=$H$11,Simulador!$J$33,+IF(B55>0,VLOOKUP(B55,Simulador!$A$32:$T$550,11,0),\" \")))","v":1659.6550000000464},{"$f":"IF($H$11=0,\" \",IF(B54=$H$11,Simulador!$L$31,+IF(B55>0,VLOOKUP(B55,Simulador!$A$32:$T$550,12,0),\" \")))","v":1186.67},{"$f":"IF($H$11=0,\" \",IF(B54=$H$11,Simulador!$M$31,+IF(B55>0,VLOOKUP(B55,Simulador!$A$32:$T$550,13,0),\" \")))","v":288.70999999999998},{"$f":"IF($H$11=0,\" \",IF(B54=$H$11,Simulador!$T$31,+IF(B55>0,VLOOKUP(B55,Simulador!$A$32:$T$550,20,0),\" \")))","v":42.55},{"$f":"IF($H$11=0,\" \",IF(B54=$H$11,Simulador!$V$31,+IF(B55>0,VLOOKUP(B55,Simulador!$A$32:$Z$550,22,0),\" \")))","v":3177.5850000000464}]
[null,39,{"$f":"IF($H$11=0,\" \",IF(B55=$H$11,\"TOTALES\",+IF(B56>0,VLOOKUP(B56,Simulador!$A$32:$T$550,3,0),\" \")))","v":"2026-04-30"},{"$f":"IF($H$11=0,\" \",IF(B55=$H$11,Simulador!$J$33,+IF(B56>0,VLOOKUP(B56,Simulador!$A$32:$T$550,11,0),\" \")))","v":1706.9250000000463},{"$f":"IF($H$11=0,\" \",IF(B55=$H$11,Simulador!$L$31,+IF(B56>0,VLOOKUP(B56,Simulador!$A$32:$T$550,12,0),\" \")))","v":1141.07},{"$f":"IF($H$11=0,\" \",IF(B55=$H$11,Simulador!$M$31,+IF(B56>0,VLOOKUP(B56,Simulador!$A$32:$T$550,13,0),\" \")))","v":288.70999999999998},{"$f":"IF($H$11=0,\" \",IF(B55=$H$11,Simulador!$T$31,+IF(B56>0,VLOOKUP(B56,Simulador!$A$32:$T$550,20,0),\" \")))","v":40.880000000000003},{"$f":"IF($H$11=0,\" \",IF(B55=$H$11,Simulador!$V$31,+IF(B56>0,VLOOKUP(B56,Simulador!$A$32:$Z$550,22,0),\" \")))","v":3177.5850000000464}]
[null,40,{"$f":"IF($H$11=0,\" \",IF(B56=$H$11,\"TOTALES\",+IF(B57>0,VLOOKUP(B57,Simulador!$A$32:$T$550,3,0),\" \")))","v":"2026-05-30"},{"$f":"IF($H$11=0,\" \",IF(B56=$H$11,Simulador!$J$33,+IF(B57>0,VLOOKUP(B57,Simulador!$A$32:$T$550,11,0),\" \")))","v":1834.7250000000465},{"$f":"IF($H$11=0,\" \",IF(B56=$H$11,Simulador!$L$31,+IF(B57>0,VLOOKUP(B57,Simulador!$A$32:$T$550,12,0),\" \")))","v":1017.66},{"$f":"IF($H$11=0,\" \",IF(B56=$H$11,Simulador!$M$31,+IF(B57>0,VLOOKUP(B57,Simulador!$A$32:$T$550,13,0),\" \")))","v":288.70999999999998},{"$f":"IF($H$11=0,\" \",IF(B56=$H$11,Simulador!$T$31,+IF(B57>0,VLOOKUP(B57,Simulador!$A$32:$T$550,20,0),\" \")))","v":36.49},{"$f":"IF($H$11=0,\" \",IF(B56=$H$11,Simulador!$V$31,+IF(B57>0,VLOOKUP(B57,Simulador!$A$32:$Z$550,22,0),\" \")))","v":3177.5850000000464}]
[null,41,{"$f":"IF($H$11=0,\" \",IF(B57=$H$11,\"TOTALES\",+IF(B58>0,VLOOKUP(B58,Simulador!$A$32:$T$550,3,0),\" \")))","v":"2026-06-30"},{"$f":"IF($H$11=0,\" \",IF(B57=$H$11,Simulador!$J$33,+IF(B58>0,VLOOKUP(B58,Simulador!$A$32:$T$550,11,0),\" \")))","v":1897.3950000000464},{"$f":"IF($H$11=0,\" \",IF(B57=$H$11,Simulador!$L$31,+IF(B58>0,VLOOKUP(B58,Simulador!$A$32:$T$550,12,0),\" \")))","v":957.19},{"$f":"IF($H$11=0,\" \",IF(B57=$H$11,Simulador!$M$31,+IF(B58>0,VLOOKUP(B58,Simulador!$A$32:$T$550,13,0),\" \")))","v":288.70999999999998},{"$f":"IF($H$11=0,\" \",IF(B57=$H$11,Simulador!$T$31,+IF(B58>0,VLOOKUP(B58,Simulador!$A$32:$T$550,20,0),\" \")))","v":34.29},{"$f":"IF($H$11=0,\" \",IF(B57=$H$11,Simulador!$V$31,+IF(B58>0,VLOOKUP(B58,Simulador!$A$32:$Z$550,22,0),\" \")))","v":3177.5850000000464}]
[null,42,{"$f":"IF($H$11=0,\" \",IF(B58=$H$11,\"TOTALES\",+IF(B59>0,VLOOKUP(B59,Simulador!$A$32:$T$550,3,0),\" \")))","v":"2026-07-30"},{"$f":"IF($H$11=0,\" \",IF(B58=$H$11,Simulador!$J$33,+IF(B59>0,VLOOKUP(B59,Simulador!$A$32:$T$550,11,0),\" \")))","v":2028.8050000000462},{"$f":"IF($H$11=0,\" \",IF(B58=$H$11,Simulador!$L$31,+IF(B59>0,VLOOKUP(B59,Simulador!$A$32:$T$550,12,0),\" \")))","v":830.3},{"$f":"IF($H$11=0,\" \",IF(B58=$H$11,Simulador!$M$31,+IF(B59>0,VLOOKUP(B59,Simulador!$A$32:$T$550,13,0),\" \")))","v":288.70999999999998},{"$f":"IF($H$11=0,\" \",IF(B58=$H$11,Simulador!$T$31,+IF(B59>0,VLOOKUP(B59,Simulador!$A$32:$T$550,20,0),\" \")))","v":29.77},{"$f":"IF($H$11=0,\" \",IF(B58=$H$11,Simulador!$V$31,+IF(B59>0,VLOOKUP(B59,Simulador!$A$32:$Z$550,22,0),\" \")))","v":3177.585000000046}]
[null,43,{"$f":"IF($H$11=0,\" \",IF(B59=$H$11,\"TOTALES\",+IF(B60>0,VLOOKUP(B60,Simulador!$A$32:$T$550,3,0),\" \")))","v":"2026-08-30"},{"$f":"IF($H$11=0,\" \",IF(B59=$H$11,Simulador!$J$33,+IF(B60>0,VLOOKUP(B60,Simulador!$A$32:$T$550,11,0),\" \")))","v":2108.5250000000465},{"$f":"IF($H$11=0,\" \",IF(B59=$H$11,Simulador!$L$31,+IF(B60>0,VLOOKUP(B60,Simulador!$A$32:$T$550,12,0),\" \")))","v":753.36},{"$f":"IF($H$11=0,\" \",IF(B59=$H$11,Simulador!$M$31,+IF(B60>0,VLOOKUP(B60,Simulador!$A$32:$T$550,13,0),\" \")))","v":288.70999999999998},{"$f":"IF($H$11=0,\" \",IF(B59=$H$11,Simulador!$T$31,+IF(B60>0,VLOOKUP(B60,Simulador!$A$32:$T$550,20,0),\" \")))","v":26.99},{"$f":"IF($H$11=0,\" \",IF(B59=$H$11,Simulador!$V$31,+IF(B60>0,VLOOKUP(B60,Simulador!$A$32:$Z$550,22,0),\" \")))","v":3177.5850000000464}]
[null,44,{"$f":"IF($H$11=0,\" \",IF(B60=$H$11,\"TOTALES\",+IF(B61>0,VLOOKUP(B61,Simulador!$A$32:$T$550,3,0),\" \")))","v":"2026-09-30"},{"$f":"IF($H$11=0,\" \",IF(B60=$H$11,Simulador!$J$33,+IF(B61>0,VLOOKUP(B61,Simulador!$A$32:$T$550,11,0),\" \")))","v":2221.9150000000463},{"$f":"IF($H$11=0,\" \",IF(B60=$H$11,Simulador!$L$31,+IF(B61>0,VLOOKUP(B61,Simulador!$A$32:$T$550,12,0),\" \")))","v":643.89},{"$f":"IF($H$11=0,\" \",IF(B60=$H$11,Simulador!$M$31,+IF(B61>0,VLOOKUP(B61,Simulador!$A$32:$T$550,13,0),\" \")))","v":288.70999999999998},{"$f":"IF($H$11=0,\" \",IF(B60=$H$11,Simulador!$T$31,+IF(B61>0,VLOOKUP(B61,Simulador!$A$32:$T$550,20,0),\" \")))","v":23.07},{"$f":"IF($H$11=0,\" \",IF(B60=$H$11,Simulador!$V$31,+IF(B61>0,VLOOKUP(B61,Simulador!$A$32:$Z$550,22,0),\" \")))","v":3177.5850000000464}]
[null,45,{"$f":"IF($H$11=0,\" \",IF(B61=$H$11,\"TOTALES\",+IF(B62>0,VLOOKUP(B62,Simulador!$A$32:$T$550,3,0),\" \")))","v":"2026-10-30"},{"$f":"IF($H$11=0,\" \",IF(B61=$H$11,Simulador!$J$33,+IF(B62>0,VLOOKUP(B62,Simulador!$A$32:$T$550,11,0),\" \")))","v":2359.4950000000463},{"$f":"IF($H$11=0,\" \",IF(B61=$H$11,Simulador!$L$31,+IF(B62>0,VLOOKUP(B62,Simulador!$A$32:$T$550,12,0),\" \")))","v":511.06},{"$f":"IF($H$11=0,\" \",IF(B61=$H$11,Simulador!$M$31,+IF(B62>0,VLOOKUP(B62,Simulador!$A$32:$T$550,13,0),\" \")))","v":288.70999999999998},{"$f":"IF($H$11=0,\" \",IF(B61=$H$11,Simulador!$T$31,+IF(B62>0,VLOOKUP(B62,Simulador!$A$32:$T$550,20,0),\" \")))","v":18.32},{"$f":"IF($H$11=0,\" \",IF(B61=$H$11,Simulador!$V$31,+IF(B62>0,VLOOKUP(B62,Simulador!$A$32:$Z$550,22,0),\" \")))","v":3177.5850000000464}]
[null,46,{"$f":"IF($H$11=0,\" \",IF(B62=$H$11,\"TOTALES\",+IF(B63>0,VLOOKUP(B63,Simulador!$A$32:$T$550,3,0),\" \")))","v":"2026-11-30"},{"$f":"IF($H$11=0,\" \",IF(B62=$H$11,Simulador!$J$33,+IF(B63>0,VLOOKUP(B63,Simulador!$A$32:$T$550,11,0),\" \")))","v":2468.2950000000465},{"$f":"IF($H$11=0,\" \",IF(B62=$H$11,Simulador!$L$31,+IF(B63>0,VLOOKUP(B63,Simulador!$A$32:$T$550,12,0),\" \")))","v":406.03},{"$f":"IF($H$11=0,\" \",IF(B62=$H$11,Simulador!$M$31,+IF(B63>0,VLOOKUP(B63,Simulador!$A$32:$T$550,13,0),\" \")))","v":288.70999999999998},{"$f":"IF($H$11=0,\" \",IF(B62=$H$11,Simulador!$T$31,+IF(B63>0,VLOOKUP(B63,Simulador!$A$32:$T$550,20,0),\" \")))","v":14.55},{"$f":"IF($H$11=0,\" \",IF(B62=$H$11,Simulador!$V$31,+IF(B63>0,VLOOKUP(B63,Simulador!$A$32:$Z$550,22,0),\" \")))","v":3177.5850000000464}]
[null,47,{"$f":"IF($H$11=0,\" \",IF(B63=$H$11,\"TOTALES\",+IF(B64>0,VLOOKUP(B64,Simulador!$A$32:$T$550,3,0),\" \")))","v":"2026-12-30"},{"$f":"IF($H$11=0,\" \",IF(B63=$H$11,Simulador!$J$33,+IF(B64>0,VLOOKUP(B64,Simulador!$A$32:$T$550,11,0),\" \")))","v":2610.5450000000465},{"$f":"IF($H$11=0,\" \",IF(B63=$H$11,Simulador!$L$31,+IF(B64>0,VLOOKUP(B64,Simulador!$A$32:$T$550,12,0),\" \")))","v":268.7},{"$f":"IF($H$11=0,\" \",IF(B63=$H$11,Simulador!$M$31,+IF(B64>0,VLOOKUP(B64,Simulador!$A$32:$T$550,13,0),\" \")))","v":288.70999999999998},{"$f":"IF($H$11=0,\" \",IF(B63=$H$11,Simulador!$T$31,+IF(B64>0,VLOOKUP(B64,Simulador!$A$32:$T$550,20,0),\" \")))","v":9.6300000000000008},{"$f":"IF($H$11=0,\" \",IF(B63=$H$11,Simulador!$V$31,+IF(B64>0,VLOOKUP(B64,Simulador!$A$32:$Z$550,22,0),\" \")))","v":3177.5850000000464}]
[null,48,{"$f":"IF($H$11=0,\" \",IF(B64=$H$11,\"TOTALES\",+IF(B65>0,VLOOKUP(B65,Simulador!$A$32:$T$550,3,0),\" \")))","v":"2027-01-30"},{"$f":"IF($H$11=0,\" \",IF(B64=$H$11,Simulador!$J$33,+IF(B65>0,VLOOKUP(B65,Simulador!$A$32:$T$550,11,0),\" \")))","v":2741.4250000000466},{"$f":"IF($H$11=0,\" \",IF(B64=$H$11,Simulador!$L$31,+IF(B65>0,VLOOKUP(B65,Simulador!$A$32:$T$550,12,0),\" \")))","v":142.35},{"$f":"IF($H$11=0,\" \",IF(B64=$H$11,Simulador!$M$31,+IF(B65>0,VLOOKUP(B65,Simulador!$A$32:$T$550,13,0),\" \")))","v":288.70999999999998},{"$f":"IF($H$11=0,\" \",IF(B64=$H$11,Simulador!$T$31,+IF(B65>0,VLOOKUP(B65,Simulador!$A$32:$T$550,20,0),\" \")))","v":5.0999999999999996},{"$f":"IF($H$11=0,\" \",IF(B64=$H$11,Simulador!$V$31,+IF(B65>0,VLOOKUP(B65,Simulador!$A$32:$Z$550,22,0),\" \")))","v":3177.5850000000464}]
[null,"",{"$f":"IF($H$11=0,\" \",IF(B65=$H$11,\"TOTALES\",+IF(B66>0,VLOOKUP(B66,Simulador!$A$32:$T$550,3,0),\" \")))","v":"TOTALES"},{"$f":"IF($H$11=0,\" \",IF(B65=$H$11,Simulador!$J$33,+IF(B66>0,VLOOKUP(B66,Simulador!$A$32:$T$550,11,0),\" \")))","v":50000},{"$f":"IF($H$11=0,\" \",IF(B65=$H$11,Simulador!$L$31,+IF(B66>0,VLOOKUP(B66,Simulador!$A$32:$T$550,12,0),\" \")))","v":85421.440000000002},{"$f":"IF($H$11=0,\" \",IF(B65=$H$11,Simulador!$M$31,+IF(B66>0,VLOOKUP(B66,Simulador!$A$32:$T$550,13,0),\" \")))","v":13858.079999999984},{"$f":"IF($H$11=0,\" \",IF(B65=$H$11,Simulador!$T$31,+IF(B66>0,VLOOKUP(B66,Simulador!$A$32:$T$550,20,0),\" \")))","v":3244.73},{"$f":"IF($H$11=0,\" \",IF(B65=$H$11,Simulador!$V$31,+IF(B66>0,VLOOKUP(B66,Simulador!$A$32:$Z$550,22,0),\" \")))","v":152524.08000000232}]
[null,"",{"$f":"IF($H$11=0,\" \",IF(B66=$H$11,\"TOTALES\",+IF(B67>0,VLOOKUP(B67,Simulador!$A$32:$T$550,3,0),\" \")))","v":""},{"$f":"IF($H$11=0,\" \",IF(B66=$H$11,Simulador!$J$33,+IF(B67>0,VLOOKUP(B67,Simulador!$A$32:$T$550,11,0),\" \")))","v":""},{"$f":"IF($H$11=0,\" \",IF(B66=$H$11,Simulador!$L$31,+IF(B67>0,VLOOKUP(B67,Simulador!$A$32:$T$550,12,0),\" \")))","v":""},{"$f":"IF($H$11=0,\" \",IF(B66=$H$11,Simulador!$M$31,+IF(B67>0,VLOOKUP(B67,Simulador!$A$32:$T$550,13,0),\" \")))","v":""},{"$f":"IF($H$11=0,\" \",IF(B66=$H$11,Simulador!$T$31,+IF(B67>0,VLOOKUP(B67,Simulador!$A$32:$T$550,20,0),\" \")))","v":""},{"$f":"IF($H$11=0,\" \",IF(B66=$H$11,#REF!,+IF(B67>0,VLOOKUP(B67,Simulador!$A$32:$Z$550,22,0),\" \")))","v":""}]
[null,"",{"$f":"IF($H$11=0,\" \",IF(B67=$H$11,\"TOTALES\",+IF(B68>0,VLOOKUP(B68,Simulador!$A$32:$T$550,3,0),\" \")))","v":""},{"$f":"IF($H$11=0,\" \",IF(B67=$H$11,Simulador!$J$33,+IF(B68>0,VLOOKUP(B68,Simulador!$A$32:$T$550,11,0),\" \")))","v":""},{"$f":"IF($H$11=0,\" \",IF(B67=$H$11,Simulador!$L$31,+IF(B68>0,VLOOKUP(B68,Simulador!$A$32:$T$550,12,0),\" \")))","v":""},{"$f":"IF($H$11=0,\" \",IF(B67=$H$11,Simulador!$M$31,+IF(B68>0,VLOOKUP(B68,Simulador!$A$32:$T$550,13,0),\" \")))","v":""},{"$f":"IF($H$11=0,\" \",IF(B67=$H$11,Simulador!$T$31,+IF(B68>0,VLOOKUP(B68,Simulador!$A$32:$T$550,20,0),\" \")))","v":""},{"$f":"IF($H$11=0,\" \",IF(B67=$H$11,#REF!,+IF(B68>0,VLOOKUP(B68,Simulador!$A$32:$Z$550,22,0),\" \")))","v":""}]

{"sheet":"Simulador","index":3,"n_rows":275,"n_cols":45,"rows_kept":275,"cut":false,"hidden":true,"merged":[[1,2,1,22],[28,17,28,18],[31,35,31,36]]}
[]
[null,null,"SIMULADOR DE CUOTAS - CRÉDITO PLD"]
[]
[]
[null,null,"Importe Solicitado",null,null,null,null,{"$f":"+Hoja1!C8","v":50000},null,null,null,"Fecha Desembolso",null,null,null,null,{"$f":"+Hoja1!C9","v":"2022-12-01"}]
[null,null,"Saldo de Capital",null,null,null,null,{"$f":"H5","v":50000},null,null,null,"Fecha Final de Gracia",null,null,null,null,{"$f":"+DATE(YEAR(Q5+H15),MONTH(Q5+H15),DAY(Q5+H15))","v":"2023-01-30"}]
[null,null,"Saldo de Interes",null,null,null,null,0,null,null,null,"Fecha de la 1° cuota",null,null,null,null,{"$f":"DATE(YEAR(EDATE(Q6,1)),MONTH(EDATE(Q6,1)),DAY(EDATE(Q6,1)))","v":"2023-02-28"}]
[null,null,"Tasa Anual (TEA)",null,null,null,null,{"$f":"+Hoja1!C11","v":80},null,null,null,"Fecha final de vencimiento",null,null,null,null,{"$f":"IF(OR($H$16>0,$H$17>0),VLOOKUP($H$14,$A$33:$C$272,3,0),DATE(YEAR(EDATE(Q6,H14)),MONTH(EDATE(Q6,H14)),DAY(EDATE(Q6,H14))))","v":"2027-01-30"}]
[null,null,"Tasa de Seguro de Desgravamen",null,null,null,null,{"$f":"+IF(Hoja1!C13=\"Endoso\",0,IF(Hoja1!C13=\"Seguro con retorno\",0.346%,0.18%))","v":1.8E-3},null,null,null,"Base",null,null,null,null,360]
[null,null,"Tasa Anual (TEA) - Ajustada",null,null,null,null,{"$f":"+H8","v":80},null,null,null,"Frecuencia pago en días",null,null,null,null,30]
[null,null,"Comision por Env. Inf",null,null,null,null,0,null,null,null,"Tasa Equivalente - Ajustada",null,null,null,null,{"$f":"ROUND((((H10/100+1)^(1/(Q9/Q10))-1)*Q9/Q10)*100,6)","v":60.242016},"tea conv. A tem luego nominal anual"]
[null,null,"Valor Asegurable",null,null,null,null,0,null,null,null,"Días entre cuotas",null,null,null,null,{"$f":"(Q8-Q6)/H14","v":30.4375},"dias promedio entre cuotas"]
[null,null,"Tasa de Seguro Todo Riesgo",null,null,null,null,0,{"$f":"+H13*12","v":0},{"$f":"+I13/365*30*H12","v":0},null,"Factor Aplicado - Ajustada",null,null,null,null,{"$f":"ROUND(($Q$11/100)/($Q$9/$Q$12),8)","v":5.093379E-2},"tem convertida de manera nominal a los dias entre cuotas"]
[null,null,"Plazo y  Nro. Cuotas",null,null,null,null,{"$f":"+Hoja1!C10","v":48},{"$f":"H14","v":48},null,null,"Factor Aplicado para la cuota - Ajustada",null,null,null,null,{"$f":"1/((1-((1+$Q$13)^(-1*$H$14)))/$Q$13)","v":5.6102276723558407E-2},"Factor de cuota (ok)"]
[null,null,"Días de Gracia",null,null,null,null,{"$f":"+Hoja1!C12","v":60},null,null,null,"Interes de Gracia  (Se considera la TEA Normal)",null,null,null,null,{"$f":"IF(H15>0,ROUND(H6*(((1+H8/100)^(ABS(H15)/Q9))-1),4),ROUND(H6*(((1+H8/100)^(ABS(H15)/Q9))-1),4) * -1)","v":5146.1785},"Ok"]
[null,null,"Mes de No Pago 1",null,null,null,null,0,null,null,null,"Saldo Interes +/- Interes Gracia",null,null,null,null,{"$f":"IF(H7 + Q15>0,H7+ Q15,0)","v":5146.1785}]
[null,null,"Mes de No Pago 2",null,null,null,null,0,null,null,null,"Seg Desg de Gracia",null,null,null,null,{"$f":"IF(H15>0,ROUNDDOWN(H5*H9/30*H15,2),ROUNDDOWN(H5*H9/30*H15,2)*0)","v":180}]
[null,null,"Mes Cuota Doble 1",null,null,null,null,{"$f":"+IF(Hoja1!C14=\"No\",0,IF(Hoja1!C14=\"Julio\",7,12))","v":0},null,null,null,"TCEA",null,null,null,null,{"$f":"+$AH$31","v":0.83404722007208409}]
[null,null,"Mes Cuota Doble 2",null,null,null," ",{"$f":"+IF(Hoja1!C15=\"No\",0,IF(Hoja1!C15=\"Julio\",7,12))","v":0}]
[]
[null,null,null,null,null,null,null,null,null,null,null,null,null,null,"Suavización",null,null,null,null,null,"Validador Cuota Doble"]
[null,null,null,null,null,null,null,null,null,null,null,null,null,null,"Ultimo saldo de Principal",null,{"$f":"VLOOKUP(I14,$F$32:$W$272,18,FALSE)","v":0.33},null,null,null,"Cuota Simple",null,{"$f":"+VLOOKUP(\"\",$D$33:$V$272,19,0)","v":3177.5850000000464}]
[null,null,null,null,null,"Valor de cuota por dias de gracia",null,null,null,{"$f":"+ROUND(IF(OR(H16+H17>0,H18+H19>0),Q16/VLOOKUP(H14,'Calculos PLD'!$A$3:$G$386,7,FALSE),Simulador!Q16*Simulador!$Q$14),2)","v":288.70999999999998},{"$f":"Q16/SUM(AN33:INDIRECT(CONCATENATE(\"AE\",32+I14-1)))","v":1.967818120138195E-3},null,null,null,"Numero de Dias",null,{"$f":"Q8-Q6","v":1461},null,null,null,"Cuota Doble",null,{"$f":"+IFERROR(VLOOKUP(\"D\",$D$33:$V$272,19,0),\" \")","v":" "}]
[null,null,null,null,null,"Valor de cuota por capital",null,null,null,{"$f":"ROUND(IF(OR(H16 + H17 > 0,H18 + H19>0), ROUNDUP(H6/VLOOKUP(H14,'Calculos PLD'!$A$3:$G$386,7,FALSE),2),H6*$Q$14),2)","v":2805.11},null,"sin desgravamen",null,null,"Valor de Cuota Nivelada",null,{"$f":"ROUND(+Q22/ROUND(1*(((1+H10/100)^(Q23/Q9))-1),4),2)","v":0.03},null,null,null,"Factor",null,{"$f":"+IFERROR(W23/W22,\" \")","v":" "}]
[null,null,null,null,null,"Valor de Seg Desg por dia de gracia",null,null,null,{"$f":"$Q$17/(($I$14+COUNTIF(D33:INDIRECT(CONCATENATE(\"C\",32+I14-1)),\"D\"))*(1/((1+0)^($Q$10/$Q$9))))","v":3.75}]
[null,null,null,null,null,"Seguro de Desgravamen (FPF)",null,null,null,{"$f":"$H$5*$H$9","v":90},null,null,null,null,"Factor Ajuste",null,{"$f":"Q24*Q14","v":1.6830683017067521E-3},null,"Se copia LO DEL COSTADO  a partir de la primera corrida",null,"Calce de Capital"]
[null,null,null,null,null,"Comision por Env.Inf",null,null,null,0,null,null,null,null,"Exceso de Int + Gracia",null,{"$f":"SUM(X33:X152)","v":0},{"$f":"ROUND(IF(OR(H16+ H17> 0,H18 + H19>0),ROUNDUP($Q$27/VLOOKUP(H14,'Calculos PLD'!$A$3:$G$386,7,FALSE),2),$Q$27*$Q$14),2)","v":0},0,null,"Suma Capital (K)",null,{"$f":"+SUM($K$33:$K$272)","v":49999.830000002228}]
[null,null,null,null,null,"Seguro Todo Riesgo",null,null,null,{"$f":"ROUND($H$12*$H$13,2)","v":0},null,null,null,null,"Factor Ajuste 2",null,{"$f":"+Q22/H14","v":6.875E-3},null,null,null,"Validador",null,{"$f":"+$H$5-W27","v":0.16999999777181074},null,null,null,"<- El valor tiene que ser cercano a cero."]
[null,null,null,null,null,"Cuota",null,null,null,{"$f":"J23+J24+J26+J27+ J28+J25","v":3187.57},null,null,null,null,"Digite Factor de Ajuste Anterior  mas El Actual",null,83.765000000046427,"Se actualiza en cada simulación (Validar que la celda W28 sea cero)",null,{"$f":"$W$272","v":""}]
[]
[null,null,null,null,null,null,null,null,null,null,null,{"$f":"+SUM(L33:L272)","v":85421.440000000002},13858.079999999984,99279.519999999975,149279.35000000222,0,3064.7300000000005,180,0,{"$f":"+SUM(T33:T272)","v":3244.73},0,{"$f":"+SUM(V33:V272)","v":152524.08000000232},null,null,null,null,null,null,null,null,null,null,"TIR",{"$f":"(1+XIRR(AH32:AH272,AG32:AG272))^(360/365)-1","v":0.83404722007208409},null,null,null,null,"Minicronograma de Gracia"]
[null,null,"Fecha Vcto.","Marca","Nro. Cuota (De acuerdo a Plazo)","Nro. Cuota","Periodo Base","Tasa","Nro. Dias","Principal*","Capital","Interes","Interes de Gracia","Interes Total","Valor Cuota (variable)","Comision por Env. Inf","Tasa de Seguro de Desgravamen*","Importe de Gracia Desgravamen","Importe Desgravamen por No Pago","Seg. Desgravamen Total","Seguro Todo Riesgo","Cuota","Saldo Principal","Exceso ","Nuevo Interes I","Nuevo Desgravamen  I (no se utiliza)","Nuevo Interes (SF2INT)\nreplica columna L","Nuevo Desgravamen (SF2GRV)\nreplica columna Q","Desgravamen Gracia\nreplica columna R","Desgravamen No Pago S","Total Cuota (SF2PAG)\nigual a columna V",null,{"$f":"+Q5","v":"2022-12-01"},{"$f":"-H5","v":-50000},null,"VALIDADORES",null,null,"Dias Transcurridos Acumulados","Factor Simple Actualizacion","Principal","Capital","Interes","Cuota Gracia","Saldo Deuda"]
[1,{"$f":"IF(A33=\"\",\"\",IF(A33<=$H$22,0,1))","v":1},{"$f":"IF(OR(MONTH(EDATE($Q$6,E33))=$H$16,MONTH(EDATE($Q$6,E33))=$H$17),IF(ABS($H$17-$H$16)=1,EDATE($Q$6,E33+2),EDATE($Q$6,E33+1)),EDATE($Q$6,E33))","v":"2023-02-28"},{"$f":"IF(B33=\"\",\"\",IF(OR(MONTH(C33)=$H$18,MONTH(C33)=$H$19),\"D\",\"\"))","v":""},{"$f":"IF(OR(MONTH(Q7)=H16, MONTH(Q7)=H17),IF(ABS(H17-H16)=1,3,2),1)","v":1},{"$f":"1","v":1},{"$f":"$Q$9","v":360},{"$f":"IF(B33=\"\",\"\",$H$10)","v":80},{"$f":"C33-Q6","v":29},{"$f":"H6","v":50000},{"$f":"IF(B33=\"\",\"\",IF((IF(ISERROR(MATCH(MONTH(C33),$H$18:$H$19,0))=FALSE,$J$24 + $Q$29,0) + $J$24+$Q$29+$S$27)-L33<0,0.01,IF(ISERROR(MATCH(MONTH(C33),$H$18:$H$19,0))=FALSE,$J$24 + $Q$29,0)+ ($J$24+$Q$29+$S$27)-L33)- R33 -S33-Q33)","v":194.45500000004631},{"$f":"IF(B33=\"\",\"\",IF($J$24+$Q$29<ROUND(ROUND(J33*(((1+(H33/100))^(I33/G33))-1),4),2),$J$24+$Q$29 +-0.01,IF(ROUND(ROUND(J33*(((1+(H33/100))^(I33/G33))-1),4),2)>$J$24,$J$24+ -0.01,ROUND(ROUND(J33*(((1+(H33/100))^(I33/G33))-1),4),2))))","v":2424.42},{"$f":"IF(B33=\"\",\"\",IF(ISERROR(MATCH(MONTH(C33),$H$18:$H$19,0))=FALSE,$J$23,0)  + $J$23)","v":288.70999999999998},{"$f":"IF(B33=\"\",\"\",L33+M33)","v":2713.13},{"$f":"IF(B33=\"\",\"\",K33+N33)","v":2907.5850000000464},{"$f":"IF(B33=\"\",\"\",$J$27)","v":0},{"$f":"IF(B33=\"\",\"\",ROUND($H$9*J33,2))","v":90},{"$f":"IF(B33=\"\",\"\",(E33-F33)*ROUNDDOWN($H$5*$H$9/30*30,2) + ROUNDDOWN($H$5*$H$9/30*H15,2))","v":180},{"$f":"IF(B33=\"\",\"\",IF(E33-0>1,ROUNDDOWN($J33*$H$9/30*(DATE(YEAR($C33),MONTH($C33)-1,DAY($C33))-C32),2),0))","v":0},{"$f":"IF(B33=\"\",\"\",Q33+R33+S33)","v":270},{"$f":"IF(B33=\"\",\"\",$J$28)","v":0},{"$f":"IF(B33=\"\",\"\",O33+P33+Q33+R33+S33+U33)","v":3177.5850000000464},{"$f":"IF(B33=\"\",\"\",(ROUND(J33-K33,2)))","v":49805.55},{"$f":"IF(B33=\"\",\"\",IF(ROUND(ROUND(J33*(((1+(H33/100))^(I33/G33))-1),4),2) - $J$24<0,0,ROUND(ROUND(J33*(((1+(H33/100))^(I33/G33))-1),4),2) - $J$24))","v":0},null,{"$f":"SUM(K33:M33)","v":2907.5850000000464},{"$f":"+L33","v":2424.42},{"$f":"+Q33","v":90},180,0,{"$f":"IFERROR(AA33+K33 + P33 + U33+AB33 + M33 + AC33 + AD33,\"\")","v":3177.5850000000464},{"$f":"IFERROR(IF(D33=\"D\",$J$24*2,$J$24)+Q33,0)","v":2895.11},{"$f":"+IF(C33=\"\",0,C33)","v":"2023-02-28"},{"$f":"+IF(AE33=\"\",0,AE33)","v":3177.5850000000464},null,{"$f":"+IFERROR(AE33-V33,0)","v":0},{"$f":"+IFERROR(AA33-L33,0)","v":0},null,{"$f":"I33","v":29},{"$f":"(1/((1+($J$8/100))^(AM33/$Q$9))*1) * IF(D33=\"D\",2,1)","v":1},{"$f":"Q16","v":5146.1785},{"$f":"AR33-AQ33","v":1.967818120138195E-3},{"$f":"(((1+($J$8/100))^((K33)/$Q$9))-1)*AO33","v":0},{"$f":"IF(D33=\"D\",$K$23,0)+ $K$23","v":1.967818120138195E-3},{"$f":"AO33-AP33","v":5146.1765321818802}]
[{"$f":"+IF(A33>=$H$14,\"\",A33+1)","v":2},{"$f":"IF(A34=\"\",\"\",IF(A34<=$H$22,0,1))","v":1},{"$f":"IF(B34=\"\",\"\",IF(OR(MONTH(EDATE($Q$6,E34))=$H$16,MONTH(EDATE($Q$6,E34))=$H$17),IF(ABS($H$17-$H$16)=1,EDATE($Q$6,E34+2),EDATE($Q$6,E34+1)),EDATE($Q$6,E34)))","v":"2023-03-30"},"",{"$f":"+IF(B34=\"\",\"\",IF(OR(MONTH(DATE(YEAR(C33)+0.0833333333333333,MONTH(C33)+1,DAY(C33)))=$H$16,MONTH(DATE(YEAR(C33)+0.5,MONTH(C33)+1,DAY(C33)))=$H$17),IF(ABS($H$17-$H$16)=1,E33+1,E33+2),E33+1))","v":2},{"$f":"+IF(B34=\"\",\"\",F33+1)","v":2},{"$f":"IF(B34=\"\",\"\",$Q$9)","v":360},{"$f":"IF(B34=\"\",\"\",$H$10)","v":80},{"$f":"IF(B34=\"\",\"\",C34-C33)","v":30},{"$f":"IF(B34=\"\",\"\",W33)","v":49805.55},298.90500000004624,2500.3200000000002,288.70999999999998,2789.03,3087.9350000000463,0,{"$f":"IF(B34=\"\",\"\",ROUND($H$9*J34/30*$I34,2)-S34)","v":89.65},null,{"$f":"IF(B34=\"\",\"\",IF(E34-E33>1,ROUNDDOWN($J34*$H$9/30*(DATE(YEAR($C34),MONTH($C34)-1,DAY($C34))-C33),2),0))","v":0},89.65,0,{"$f":"IF(B34=\"\",\"\",O34+P34+Q34+R34+S34+U34)","v":3177.5850000000464},49506.65,0,null,3087.9350000000463,{"$f":"+L34","v":2500.3200000000002},89.65,0,0,3177.5850000000464,{"$f":"IFERROR(IF(D34=\"D\",$J$24*2,$J$24)+Q34,0)","v":2894.76},"2023-03-30",3177.5850000000464,null,{"$f":"+IFERROR(AE34-V34,0)","v":0},{"$f":"+IFERROR(AA34-L34,0)","v":0},null,{"$f":"I34 + AM33","v":59},1,{"$f":"AS33","v":5146.1765321818802},{"$f":"AR34-AQ34","v":1.967818120138195E-3},0,1.967818120138195E-3,{"$f":"AO34-AP34","v":5146.1745643637605}]
[{"$f":"+IF(A34>=$H$14,\"\",A34+1)","v":3},1,"2023-04-30","",{"$f":"+IF(B35=\"\",\"\",IF(OR(MONTH(DATE(YEAR(C34)+0.0833333333333333,MONTH(C34)+1,DAY(C34)))=$H$16,MONTH(DATE(YEAR(C34)+0.5,MONTH(C34)+1,DAY(C34)))=$H$17),IF(ABS($H$17-$H$16)=1,E34+1,E34+2),E34+1))","v":3},{"$f":"+IF(B35=\"\",\"\",F34+1)","v":3},{"$f":"IF(B35=\"\",\"\",$Q$9)","v":360},80,{"$f":"IF(B35=\"\",\"\",C35-C34)","v":31},{"$f":"IF(B35=\"\",\"\",W34)","v":49506.65},226.5150000000462,2570.2800000000002,288.70999999999998,2858.9900000000002,3085.5050000000465,0,{"$f":"IF(B35=\"\",\"\",ROUND($H$9*J35/30*$I35,2)-S35)","v":92.08},null,0,92.08,0,3177.5850000000464,49280.14,0,null,3085.5050000000465,2570.2800000000002,92.08,0,0,3177.5850000000464,2897.19,"2023-04-30",3177.5850000000464,null,0,0,null,90,1,{"$f":"AS34","v":5146.1745643637605},1.967818120138195E-3,0,1.967818120138195E-3,5146.1725965456408]
[4,1,"2023-05-30","",4,4,360,80,30,49280.14,326.22500000004658,2473.9499999999998,288.70999999999998,2762.66,3088.8850000000466,0,88.7,null,0,88.7,0,3177.5850000000464,48953.91,0,null,3088.8850000000466,2473.9499999999998,88.7,0,0,3177.5850000000464,2893.81,"2023-05-30",3177.5850000000464,null,0,0,null,120,1,5146.1725965456408,1.967818120138195E-3,0,1.967818120138195E-3,5146.170628727521]
[5,1,"2023-06-30","",5,5,360,80,31,48953.91,256.24500000004645,2541.58,288.70999999999998,2830.29,3086.5350000000462,0,91.05,null,0,91.05,0,3177.5850000000464,48697.67,0,null,3086.5350000000462,2541.58,91.05,0,0,3177.5850000000464,2896.1600000000003,"2023-06-30",3177.5850000000464,null,0,0,null,151,1,5146.170628727521,1.967818120138195E-3,0,1.967818120138195E-3,5146.1686609094013]
[6,1,"2023-07-30","",6,6,360,80,30,48697.67,356.5150000000466,2444.6999999999998,288.70999999999998,2733.41,3089.9250000000466,0,87.66,null,0,87.66,0,3177.5850000000464,48341.16,0,null,3089.9250000000466,2444.6999999999998,87.66,0,0,3177.5850000000464,2892.77,"2023-07-30",3177.5850000000464,null,0,0,null,181,1,5146.1686609094013,1.967818120138195E-3,0,1.967818120138195E-3,5146.1666930912816]
[7,1,"2023-08-30","",7,7,360,80,31,48341.16,289.19500000004643,2509.77,288.70999999999998,2798.48,3087.6750000000466,0,89.91,null,0,89.91,0,3177.5850000000464,48051.97,0,null,3087.6750000000466,2509.77,89.91,0,0,3177.5850000000464,2895.02,"2023-08-30",3177.5850000000464,null,0,0,null,212,1,5146.1666930912816,1.967818120138195E-3,0,1.967818120138195E-3,5146.1647252731618]
[8,1,"2023-09-30","",8,8,360,80,31,48051.97,304.74500000004639,2494.75,288.70999999999998,2783.46,3088.2050000000463,0,89.38,null,0,89.38,0,3177.5850000000464,47747.23,0,null,3088.2050000000463,2494.75,89.38,0,0,3177.5850000000464,2894.4900000000002,"2023-09-30",3177.5850000000464,null,0,0,null,243,1,5146.1647252731618,1.967818120138195E-3,0,1.967818120138195E-3,5146.1627574550421]
[9,1,"2023-10-30","",9,9,360,80,30,47747.23,405.93500000004661,2396.9899999999998,288.70999999999998,2685.7,3091.6350000000466,0,85.95,null,0,85.95,0,3177.5850000000464,47341.3,0,null,3091.6350000000466,2396.9899999999998,85.95,0,0,3177.5850000000464,2891.06,"2023-10-30",3177.5850000000464,null,0,0,null,273,1,5146.1627574550421,1.967818120138195E-3,0,1.967818120138195E-3,5146.1607896369223]
[10,1,"2023-11-30","",10,10,360,80,31,47341.3,342.96500000004625,2457.86,288.70999999999998,2746.57,3089.5350000000462,0,88.05,null,0,88.05,0,3177.5850000000464,46998.34,0,null,3089.5350000000462,2457.86,88.05,0,0,3177.5850000000464,2893.1600000000003,"2023-11-30",3177.5850000000464,null,0,0,null,304,1,5146.1607896369223,1.967818120138195E-3,0,1.967818120138195E-3,5146.1588218188026]
[11,1,"2023-12-30","",11,11,360,80,30,46998.34,444.87500000004627,2359.4,288.70999999999998,2648.11,3092.9850000000465,0,84.6,null,0,84.6,0,3177.5850000000464,46553.47,0,null,3092.9850000000465,2359.4,84.6,0,0,3177.5850000000464,2889.71,"2023-12-30",3177.5850000000464,null,0,0,null,334,1,5146.1588218188026,1.967818120138195E-3,0,1.967818120138195E-3,5146.1568540006829]
[12,1,"2024-01-30","",12,12,360,80,31,46553.47,385.33500000004653,2416.9499999999998,288.70999999999998,2705.66,3090.9950000000463,0,86.59,null,0,86.59,0,3177.5850000000464,46168.14,0,null,3090.9950000000463,2416.9499999999998,86.59,0,0,3177.5850000000464,2891.7000000000003,"2024-01-30",3177.5850000000464,null,0,0,null,365,1,5146.1568540006829,1.967818120138195E-3,0,1.967818120138195E-3,5146.1548861825631]
[13,1,"2024-02-29","",13,13,360,80,30,46168.14,488.05500000004656,2317.7199999999998,288.70999999999998,2606.4299999999998,3094.4850000000465,0,83.1,null,0,83.1,0,3177.5850000000464,45680.09,0,null,3094.4850000000465,2317.7199999999998,83.1,0,0,3177.5850000000464,2888.21,{"$f":"+IF(C45=\"\",0,C45)","v":"2024-02-29"},{"$f":"+IF(AE45=\"\",0,AE45)","v":3177.5850000000464},null,0,0,null,395,1,5146.1548861825631,1.967818120138195E-3,0,1.967818120138195E-3,5146.1529183644434]
[14,1,"2024-03-30","",14,14,360,80,30,45680.09,513.43500000004656,2293.2199999999998,288.70999999999998,2581.9299999999998,3095.3650000000462,0,82.22,null,0,82.22,0,3177.585000000046,45166.65,0,null,3095.3650000000462,2293.2199999999998,82.22,0,0,3177.585000000046,2887.33,{"$f":"+IF(C46=\"\",0,C46)","v":"2024-03-30"},{"$f":"+IF(AE46=\"\",0,AE46)","v":3177.585000000046},null,0,0,null,425,1,5146.1529183644434,1.967818120138195E-3,0,1.967818120138195E-3,5146.1509505463237]
[15,1,"2024-04-30","",15,15,360,80,31,45166.65,459.91500000004658,2344.9499999999998,288.70999999999998,2633.66,3093.5750000000462,0,84.01,null,0,84.01,0,3177.5850000000464,44706.74,0,null,3093.5750000000462,2344.9499999999998,84.01,0,0,3177.5850000000464,2889.1200000000003,"2024-04-30",3177.5850000000464,null,0,0,null,456,1,5146.1509505463237,1.967818120138195E-3,0,1.967818120138195E-3,5146.1489827282039]
[16,1,"2024-05-30","",16,16,360,80,30,44706.74,564.05500000004645,2244.35,288.70999999999998,2533.06,3097.1150000000462,0,80.47,null,0,80.47,0,3177.585000000046,44142.69,0,null,3097.1150000000462,2244.35,80.47,0,0,3177.585000000046,2885.58,"2024-05-30",3177.585000000046,null,0,0,null,486,1,5146.1489827282039,1.967818120138195E-3,0,1.967818120138195E-3,5146.1470149100842]
[17,1,"2024-06-30","",17,17,360,80,31,44142.69,514.97500000004641,2291.79,288.70999999999998,2580.5,3095.4750000000463,0,82.11,null,0,82.11,0,3177.5850000000464,43627.72,0,null,3095.4750000000463,2291.79,82.11,0,0,3177.5850000000464,2887.2200000000003,"2024-06-30",3177.5850000000464,null,0,0,null,517,1,5146.1470149100842,1.967818120138195E-3,0,1.967818120138195E-3,5146.1450470919644]
[18,1,"2024-07-30","",18,18,360,80,30,43627.72,620.16500000004658,2190.1799999999998,288.70999999999998,2478.89,3099.0550000000467,0,78.53,null,0,78.53,0,3177.5850000000469,43007.56,0,null,3099.0550000000467,2190.1799999999998,78.53,0,0,3177.5850000000469,2883.6400000000003,"2024-07-30",3177.5850000000469,null,0,0,null,547,1,5146.1450470919644,1.967818120138195E-3,0,1.967818120138195E-3,5146.1430792738447]
[19,1,"2024-08-30","",19,19,360,80,31,43007.56,576.02500000004625,2232.86,288.70999999999998,2521.5700000000002,3097.5950000000466,0,79.989999999999995,null,0,79.989999999999995,0,3177.5850000000464,42431.54,0,null,3097.5950000000466,2232.86,79.989999999999995,0,0,3177.5850000000464,2885.1,"2024-08-30",3177.5850000000464,null,0,0,null,578,1,5146.1430792738447,1.967818120138195E-3,0,1.967818120138195E-3,5146.141111455725]
[20,1,"2024-09-30","",20,20,360,80,31,42431.54,607.00500000004661,2202.9499999999998,288.70999999999998,2491.66,3098.6650000000463,0,78.92,null,0,78.92,0,3177.5850000000464,41824.54,0,null,3098.6650000000463,2202.9499999999998,78.92,0,0,3177.5850000000464,2884.03,"2024-09-30",3177.5850000000464,null,0,0,null,609,1,5146.141111455725,1.967818120138195E-3,0,1.967818120138195E-3,5146.1391436376052]
[21,1,"2024-10-30","",21,21,360,80,30,41824.54,713.93500000004656,2099.66,288.70999999999998,2388.37,3102.3050000000467,0,75.28,null,0,75.28,0,3177.5850000000469,41110.61,0,null,3102.3050000000467,2099.66,75.28,0,0,3177.5850000000469,2880.3900000000003,"2024-10-30",3177.5850000000469,null,0,0,null,639,1,5146.1391436376052,1.967818120138195E-3,0,1.967818120138195E-3,5146.1371758194855]
[22,1,"2024-11-30","",22,22,360,80,31,41110.61,678.03500000004647,2134.37,288.70999999999998,2423.08,3101.1150000000462,0,76.47,null,0,76.47,0,3177.585000000046,40432.57,0,null,3101.1150000000462,2134.37,76.47,0,0,3177.585000000046,2881.58,"2024-11-30",3177.585000000046,null,0,0,null,670,1,5146.1371758194855,1.967818120138195E-3,0,1.967818120138195E-3,5146.1352080013658]
[23,1,"2024-12-30","",23,23,360,80,30,40432.57,786.31500000004644,2029.78,288.70999999999998,2318.4899999999998,3104.8050000000462,0,72.78,null,0,72.78,0,3177.5850000000464,39646.26,0,null,3104.8050000000467,2029.78,72.78,0,0,3177.5850000000469,2877.8900000000003,"2024-12-30",3177.5850000000469,null,4.5474735088646412E-13,0,null,700,1,5146.1352080013658,1.967818120138195E-3,0,1.967818120138195E-3,5146.133240183246]
[24,1,"2025-01-30","",24,24,360,80,31,39646.26,756.78500000004647,2058.35,288.70999999999998,2347.06,3103.8450000000466,0,73.739999999999995,null,0,73.739999999999995,0,3177.5850000000464,38889.480000000003,0,null,3103.8450000000466,2058.35,73.739999999999995,0,0,3177.5850000000464,2878.85,"2025-01-30",3177.5850000000464,null,0,0,null,731,1,5146.133240183246,1.967818120138195E-3,0,1.967818120138195E-3,5146.1312723651263]
[25,1,"2025-02-28","",25,25,360,80,29,38889.480000000003,935.51500000004637,1885.69,288.70999999999998,2174.4,3109.9150000000463,0,67.67,null,0,67.67,0,3177.5850000000464,37953.97,0,null,3109.9150000000463,1885.69,67.67,0,0,3177.5850000000464,2872.78,"2025-02-28",3177.5850000000464,null,0,0,null,760,1,5146.1312723651263,1.967818120138195E-3,0,1.967818120138195E-3,5146.1293045470065]
[26,1,"2025-03-30","",26,26,360,80,30,37953.97,915.20500000004654,1905.35,288.70999999999998,2194.06,3109.2650000000467,0,68.319999999999993,null,0,68.319999999999993,0,3177.5850000000469,37038.769999999997,0,null,3109.2650000000467,1905.35,68.319999999999993,0,0,3177.5850000000469,2873.4300000000003,"2025-03-30",3177.5850000000469,null,0,0,null,790,1,5146.1293045470065,1.967818120138195E-3,0,1.967818120138195E-3,5146.1273367288868]
[27,1,"2025-04-30","",27,27,360,80,31,37038.769999999997,897.01500000004637,1922.97,288.70999999999998,2211.6799999999998,3108.6950000000461,0,68.89,null,0,68.89,0,3177.585000000046,36141.760000000002,0,null,3108.6950000000465,1922.97,68.89,0,0,3177.5850000000464,2874,"2025-04-30",3177.5850000000464,null,4.5474735088646412E-13,0,null,821,1,5146.1273367288868,1.967818120138195E-3,0,1.967818120138195E-3,5146.1253689107671]
[28,1,"2025-05-30","",28,28,360,80,30,36141.760000000002,1009.4350000000463,1814.38,288.70999999999998,2103.09,3112.5250000000465,0,65.06,null,0,65.06,0,3177.5850000000464,35132.32,0,null,3112.5250000000465,1814.38,65.06,0,0,3177.5850000000464,2870.17,"2025-05-30",3177.5850000000464,null,0,0,null,851,1,5146.1253689107671,1.967818120138195E-3,0,1.967818120138195E-3,5146.1234010926473]
[29,1,"2025-06-30","",29,29,360,80,31,35132.32,999.53500000004635,1823.99,288.70999999999998,2112.6999999999998,3112.2350000000461,0,65.349999999999994,null,0,65.349999999999994,0,3177.585000000046,34132.79,0,null,3112.2350000000465,1823.99,65.349999999999994,0,0,3177.5850000000464,2870.46,"2025-06-30",3177.5850000000464,null,4.5474735088646412E-13,0,null,882,1,5146.1234010926473,1.967818120138195E-3,0,1.967818120138195E-3,5146.1214332745276]
[30,1,"2025-07-30","",30,30,360,80,30,34132.79,1113.9150000000463,1713.52,288.70999999999998,2002.23,3116.1450000000464,0,61.44,null,0,61.44,0,3177.5850000000464,33018.879999999997,0,null,3116.1450000000464,1713.52,61.44,0,0,3177.5850000000464,2866.55,"2025-07-30",3177.5850000000464,null,0,0,null,912,1,5146.1214332745276,1.967818120138195E-3,0,1.967818120138195E-3,5146.1194654564079]
[31,1,"2025-08-30","",31,31,360,80,31,33018.879999999997,1113.1850000000463,1714.27,288.70999999999998,2002.98,3116.1650000000463,0,61.42,null,0,61.42,0,3177.5850000000464,31905.7,0,null,3116.1650000000463,1714.27,61.42,0,0,3177.5850000000464,2866.53,"2025-08-30",3177.5850000000464,null,0,0,null,943,1,5146.1194654564079,1.967818120138195E-3,0,1.967818120138195E-3,5146.1174976382881]
[32,1,"2025-09-30","",32,32,360,80,31,31905.7,1173.0650000000464,1656.47,288.70999999999998,1945.18,3118.2450000000463,0,59.34,null,0,59.34,0,3177.5850000000464,30732.639999999999,0,null,3118.2450000000463,1656.47,59.34,0,0,3177.5850000000464,2864.4500000000003,"2025-09-30",3177.5850000000464,null,0,0,null,974,1,5146.1174976382881,1.967818120138195E-3,0,1.967818120138195E-3,5146.1155298201684]
[33,1,"2025-10-30","",33,33,360,80,30,30732.639999999999,1290.7250000000465,1542.83,288.70999999999998,1831.54,3122.2650000000467,0,55.32,null,0,55.32,0,3177.5850000000469,29441.919999999998,0,null,3122.2650000000467,1542.83,55.32,0,0,3177.5850000000469,2860.4300000000003,"2025-10-30",3177.5850000000469,null,0,0,null,1004,1,5146.1155298201684,1.967818120138195E-3,0,1.967818120138195E-3,5146.1135620020486]
[34,1,"2025-11-30","",34,34,360,80,31,29441.919999999998,1305.5550000000464,1528.56,288.70999999999998,1817.27,3122.8250000000462,0,54.76,null,0,54.76,0,3177.5850000000464,28136.37,0,null,3122.8250000000462,1528.56,54.76,0,0,3177.5850000000464,2859.8700000000003,"2025-11-30",3177.5850000000464,null,0,0,null,1035,1,5146.1135620020486,1.967818120138195E-3,0,1.967818120138195E-3,5146.1115941839289]
[35,1,"2025-12-30","",35,35,360,80,30,28136.37,1425.7350000000463,1412.49,288.70999999999998,1701.2,3126.9350000000463,0,50.65,null,0,50.65,0,3177.5850000000464,26710.639999999999,0,null,3126.9350000000463,1412.49,50.65,0,0,3177.5850000000464,2855.76,"2025-12-30",3177.5850000000464,null,0,0,null,1065,1,5146.1115941839289,1.967818120138195E-3,0,1.967818120138195E-3,5146.1096263658092]
[36,1,"2026-01-30","",36,36,360,80,31,26710.639999999999,1452.4350000000463,1386.76,288.70999999999998,1675.47,3127.9050000000461,0,49.68,null,0,49.68,0,3177.585000000046,25258.21,0,null,3127.9050000000461,1386.76,49.68,0,0,3177.585000000046,2854.79,"2026-01-30",3177.585000000046,null,0,0,null,1096,1,5146.1096263658092,1.967818120138195E-3,0,1.967818120138195E-3,5146.1076585476894]
[37,1,"2026-02-28","",37,37,360,80,29,25258.21,1620.1950000000463,1224.73,288.70999999999998,1513.44,3133.6350000000466,0,43.95,null,0,43.95,0,3177.5850000000464,23638.02,0,null,3133.6350000000466,1224.73,43.95,0,0,3177.5850000000464,2849.06,"2026-02-28",3177.5850000000464,null,0,0,null,1125,1,5146.1076585476894,1.967818120138195E-3,0,1.967818120138195E-3,5146.1056907295697]
[38,1,"2026-03-30","",38,38,360,80,30,23638.02,1659.6550000000464,1186.67,288.70999999999998,1475.38,3135.0350000000462,0,42.55,null,0,42.55,0,3177.5850000000464,21978.37,0,null,3135.0350000000462,1186.67,42.55,0,0,3177.5850000000464,2847.6600000000003,"2026-03-30",3177.5850000000464,null,0,0,null,1155,1,5146.1056907295697,1.967818120138195E-3,0,1.967818120138195E-3,5146.1037229114499]
[39,1,"2026-04-30","",39,39,360,80,31,21978.37,1706.9250000000463,1141.07,288.70999999999998,1429.78,3136.7050000000463,0,40.880000000000003,null,0,40.880000000000003,0,3177.5850000000464,20271.45,0,null,3136.7050000000463,1141.07,40.880000000000003,0,0,3177.5850000000464,2845.9900000000002,"2026-04-30",3177.5850000000464,null,0,0,null,1186,1,5146.1037229114499,1.967818120138195E-3,0,1.967818120138195E-3,5146.1017550933302]
[40,1,"2026-05-30","",40,40,360,80,30,20271.45,1834.7250000000465,1017.66,288.70999999999998,1306.3699999999999,3141.0950000000466,0,36.49,null,0,36.49,0,3177.5850000000464,18436.73,0,null,3141.0950000000466,1017.66,36.49,0,0,3177.5850000000464,2841.6,"2026-05-30",3177.5850000000464,null,0,0,null,1216,1,5146.1017550933302,1.967818120138195E-3,0,1.967818120138195E-3,5146.0997872752105]
[41,1,"2026-06-30","",41,41,360,80,31,18436.73,1897.3950000000464,957.19,288.70999999999998,1245.9000000000001,3143.2950000000465,0,34.29,null,0,34.29,0,3177.5850000000464,16539.34,0,null,3143.2950000000465,957.19,34.29,0,0,3177.5850000000464,2839.4,"2026-06-30",3177.5850000000464,null,0,0,null,1247,1,5146.0997872752105,1.967818120138195E-3,0,1.967818120138195E-3,5146.0978194570907]
[42,1,"2026-07-30","",42,42,360,80,30,16539.34,2028.8050000000462,830.3,288.70999999999998,1119.01,3147.815000000046,0,29.77,null,0,29.77,0,3177.585000000046,14510.54,0,null,3147.815000000046,830.3,29.77,0,0,3177.585000000046,2834.88,"2026-07-30",3177.585000000046,null,0,0,null,1277,1,5146.0978194570907,1.967818120138195E-3,0,1.967818120138195E-3,5146.095851638971]
[43,1,"2026-08-30","",43,43,360,80,31,14510.54,2108.5250000000465,753.36,288.70999999999998,1042.07,3150.5950000000466,0,26.99,null,0,26.99,0,3177.5850000000464,12402.02,0,null,3150.5950000000466,753.36,26.99,0,0,3177.5850000000464,2832.1,"2026-08-30",3177.5850000000464,null,0,0,null,1308,1,5146.095851638971,1.967818120138195E-3,0,1.967818120138195E-3,5146.0938838208513]
[44,1,"2026-09-30","",44,44,360,80,31,12402.02,2221.9150000000463,643.89,288.70999999999998,932.59999999999991,3154.5150000000463,0,23.07,null,0,23.07,0,3177.5850000000464,10180.11,0,null,3154.5150000000463,643.89,23.07,0,0,3177.5850000000464,2828.1800000000003,"2026-09-30",3177.5850000000464,null,0,0,null,1339,1,5146.0938838208513,1.967818120138195E-3,0,1.967818120138195E-3,5146.0919160027315]
[45,1,"2026-10-30","",45,45,360,80,30,10180.11,2359.4950000000463,511.06,288.70999999999998,799.77,3159.2650000000463,0,18.32,null,0,18.32,0,3177.5850000000464,7820.61,0,null,3159.2650000000463,511.06,18.32,0,0,3177.5850000000464,2823.4300000000003,"2026-10-30",3177.5850000000464,null,0,0,null,1369,1,5146.0919160027315,1.967818120138195E-3,0,1.967818120138195E-3,5146.0899481846118]
[46,1,"2026-11-30","",46,46,360,80,31,7820.61,2468.2950000000465,406.03,288.70999999999998,694.74,3163.0350000000462,0,14.55,null,0,14.55,0,3177.5850000000464,5352.31,0,null,3163.0350000000462,406.03,14.55,0,0,3177.5850000000464,2819.6600000000003,"2026-11-30",3177.5850000000464,null,0,0,null,1400,1,5146.0899481846118,1.967818120138195E-3,0,1.967818120138195E-3,5146.087980366492]
[47,1,"2026-12-30","",47,47,360,80,30,5352.31,2610.5450000000465,268.7,288.70999999999998,557.41,3167.9550000000463,0,9.6300000000000008,null,0,9.6300000000000008,0,3177.5850000000464,2741.76,0,null,3167.9550000000463,268.7,9.6300000000000008,0,0,3177.5850000000464,2814.7400000000002,"2026-12-30",3177.5850000000464,null,0,0,null,1430,1,5146.087980366492,1.967818120138195E-3,0,1.967818120138195E-3,5146.0860125483723]
[48,1,"2027-01-30","",48,48,360,80,31,2741.76,2741.4250000000466,142.35,288.70999999999998,431.05999999999995,3172.4850000000465,0,5.0999999999999996,null,0,5.0999999999999996,0,3177.5850000000464,0.33,0,null,3172.4850000000465,142.35,5.0999999999999996,0,0,3177.5850000000464,2810.21,"2027-01-30",3177.5850000000464,null,0,0,null,1461,1,5146.0860125483723,1.967818120138195E-3,0,1.967818120138195E-3,5146.0840447302526]
["","","","","","","","","","","","","","","","","",null,"","","","","","",null,0,"","",0,"","",0,"00:00:00",0,null,0,0,null,{"$error":"#VALUE!"},{"$error":"#VALUE!"},5146.0840447302526,{"$error":"#VALUE!"},{"$error":"#VALUE!"},1.967818120138195E-3,{"$error":"#VALUE!"}]
["","","","","","","","","","","","","","","","","",null,"","","","","","",null,0,"","",0,"","",0,"00:00:00",0,null,0,0,null,{"$error":"#VALUE!"},{"$error":"#VALUE!"},{"$error":"#VALUE!"},{"$error":"#VALUE!"},{"$error":"#VALUE!"},1.967818120138195E-3,{"$error":"#VALUE!"}]
["","","","","","","","","","","","","","","","","",null,"","","","","","",null,0,"","",0,"","",0,"00:00:00",0,null,0,0,null,{"$error":"#VALUE!"},{"$error":"#VALUE!"},{"$error":"#VALUE!"},{"$error":"#VALUE!"},{"$error":"#VALUE!"},1.967818120138195E-3,{"$error":"#VALUE!"}]
["","","","","","","","","","","","","","","","","",null,"","","","","","",null,0,"","",0,"","",0,"00:00:00",0,null,0,0,null,{"$error":"#VALUE!"},{"$error":"#VALUE!"},{"$error":"#VALUE!"},{"$error":"#VALUE!"},{"$error":"#VALUE!"},1.967818120138195E-3,{"$error":"#VALUE!"}]
["","","","","","","","","","","","","","","","","",null,"","","","","","",null,0,"","",0,"","",0,"00:00:00",0,null,0,0,null,{"$error":"#VALUE!"},{"$error":"#VALUE!"},{"$error":"#VALUE!"},{"$error":"#VALUE!"},{"$error":"#VALUE!"},1.967818120138195E-3,{"$error":"#VALUE!"}]
["","","","","","","","","","","","","","","","","",null,"","","","","","",null,0,"","",0,"","",0,"00:00:00",0,null,0,0,null,{"$error":"#VALUE!"},{"$error":"#VALUE!"},{"$error":"#VALUE!"},{"$error":"#VALUE!"},{"$error":"#VALUE!"},1.967818120138195E-3,{"$error":"#VALUE!"}]
["","","","","","","","","","","","","","","","","",null,"","","","","","",null,0,"","",0,"","",0,"00:00:00",0,null,0,0,null,{"$error":"#VALUE!"},{"$error":"#VALUE!"},{"$error":"#VALUE!"},{"$error":"#VALUE!"},{"$error":"#VALUE!"},1.967818120138195E-3,{"$error":"#VALUE!"}]
["","","","","","","","","","","","","","","","","",null,"","","","","","",null,0,"","",0,"","",0,"00:00:00",0,null,0,0,null,{"$error":"#VALUE!"},{"$error":"#VALUE!"},{"$error":"#VALUE!"},{"$error":"#VALUE!"},{"$error":"#VALUE!"},1.967818120138195E-3,{"$error":"#VALUE!"}]
["","","","","","","","","","","","","","","","","",null,"","","","","","",null,0,"","",0,"","",0,"00:00:00",0,null,0,0,null,{"$error":"#VALUE!"},{"$error":"#VALUE!"},{"$error":"#VALUE!"},{"$error":"#VALUE!"},{"$error":"#VALUE!"},1.967818120138195E-3,{"$error":"#VALUE!"}]
["","","","","","","","","","","","","","","","","",null,"","","","","","",null,0,"","",0,"","",0,"00:00:00",0,null,0,0,null,{"$error":"#VALUE!"},{"$error":"#VALUE!"},{"$error":"#VALUE!"},{"$error":"#VALUE!"},{"$error":"#VALUE!"},1.967818120138195E-3,{"$error":"#VALUE!"}]
["","","","","","","","","","","","","","","","","",null,"","","","","","",null,0,"","",0,"","",0,"00:00:00",0,null,0,0,null,{"$error":"#VALUE!"},{"$error":"#VALUE!"},{"$error":"#VALUE!"},{"$error":"#VALUE!"},{"$error":"#VALUE!"},1.967818120138195E-3,{"$error":"#VALUE!"}]
["","","","","","","","","","","","","","","","","",null,"","","","","","",null,0,"","",0,"","",0,"00:00:00",0,null,0,0,null,{"$error":"#VALUE!"},{"$error":"#VALUE!"},{"$error":"#VALUE!"},{"$error":"#VALUE!"},{"$error":"#VALUE!"},1.967818120138195E-3,{"$error":"#VALUE!"}]
["","","","","","","","","","","","","","","","","",null,"","","","","","",null,0,"","",0,"","",0,"00:00:00",0,null,0,0,null,{"$error":"#VALUE!"},{"$error":"#VALUE!"},{"$error":"#VALUE!"},{"$error":"#VALUE!"},{"$error":"#VALUE!"},1.967818120138195E-3,{"$error":"#VALUE!"}]
["","","","","","","","","","","","","","","","","",null,"","","","","","",null,0,"","",0,"","",0,"00:00:00",0,null,0,0,null,{"$error":"#VALUE!"},{"$error":"#VALUE!"},{"$error":"#VALUE!"},{"$error":"#VALUE!"},{"$error":"#VALUE!"},1.967818120138195E-3,{"$error":"#VALUE!"}]
["","","","","","","","","","","","","","","","","",null,"","","","","","",null,0,"","",0,"","",0,"00:00:00",0,null,0,0,null,{"$error":"#VALUE!"},{"$error":"#VALUE!"},{"$error":"#VALUE!"},{"$error":"#VALUE!"},{"$error":"#VALUE!"},1.967818120138195E-3,{"$error":"#VALUE!"}]
["","","","","","","","","","","","","","","","","",null,"","","","","","",null,0,"","",0,"","",0,"00:00:00",0,null,0,0,null,{"$error":"#VALUE!"},{"$error":"#VALUE!"},{"$error":"#VALUE!"},{"$error":"#VALUE!"},{"$error":"#VALUE!"},1.967818120138195E-3,{"$error":"#VALUE!"}]
["","","",{"$f":"IF(B97=\"\",\"\",IF(OR(MONTH(C97)=$H$18,MONTH(C97)=$H$19),\"D\",\"\"))","v":""},"","","","","","",{"$f":"IF(B97=\"\",\"\",IF((IF(ISERROR(MATCH(MONTH(C97),$H$18:$H$19,0))=FALSE,$J$24 + $Q$29,0) + $J$24+$Q$29+$S$27)-L97<0,0.01,IF(ISERROR(MATCH(MONTH(C97),$H$18:$H$19,0))=FALSE,$J$24 + $Q$29,0)+ ($J$24+$Q$29+$S$27)-L97)- R97 -S97-Q97)","v":""},{"$f":"IF(B97=\"\",\"\",IF($J$24+$Q$29<ROUND(ROUND(J97*(((1+(H97/100))^(I97/G97))-1),4),2),$J$24+$Q$29 +-0.01,IF(ROUND(ROUND(J97*(((1+(H97/100))^(I97/G97))-1),4),2)>$J$24,$J$24+ -0.01,ROUND(ROUND(J97*(((1+(H97/100))^(I97/G97))-1),4),2))))","v":""},{"$f":"IF(B97=\"\",\"\",IF(ISERROR(MATCH(MONTH(C97),$H$18:$H$19,0))=FALSE,$J$23,0)  + $J$23)","v":""},{"$f":"IF(B97=\"\",\"\",L97+M97)","v":""},{"$f":"IF(B97=\"\",\"\",K97+N97)","v":""},{"$f":"IF(B97=\"\",\"\",$J$27)","v":""},"",null,"",{"$f":"IF(B97=\"\",\"\",Q97+R97+S97)","v":""},{"$f":"IF(B97=\"\",\"\",$J$28)","v":""},"",{"$f":"IF(B97=\"\",\"\",(ROUND(J97-K97,2)))","v":""},{"$f":"IF(B97=\"\",\"\",IF(ROUND(ROUND(J97*(((1+(H97/100))^(I97/G97))-1),4),2) - $J$24<0,0,ROUND(ROUND(J97*(((1+(H97/100))^(I97/G97))-1),4),2) - $J$24))","v":""},null,{"$f":"SUM(K97:M97)","v":0},"",{"$f":"+Q97","v":""},0,"",{"$f":"IFERROR(AA97+K97 + P97 + U97+AB97 + M97 + AC97 + AD97,\"\")","v":""},0,"00:00:00",0,null,0,0,null,{"$error":"#VALUE!"},{"$f":"(1/((1+($J$8/100))^(AM97/$Q$9))*1) * IF(D97=\"D\",2,1)","v":{"$error":"#VALUE!"}},{"$error":"#VALUE!"},{"$error":"#VALUE!"},{"$f":"(((1+($J$8/100))^((K97)/$Q$9))-1)*AO97","v":{"$error":"#VALUE!"}},{"$f":"IF(D97=\"D\",$K$23,0)+ $K$23","v":1.967818120138195E-3},{"$error":"#VALUE!"}]
["",{"$f":"IF(A98=\"\",\"\",IF(A98<=$H$22,0,1))","v":""},{"$f":"IF(B98=\"\",\"\",IF(OR(MONTH(EDATE($Q$6,E98))=$H$16,MONTH(EDATE($Q$6,E98))=$H$17),IF(ABS($H$17-$H$16)=1,EDATE($Q$6,E98+2),EDATE($Q$6,E98+1)),EDATE($Q$6,E98)))","v":""},"","","","",{"$f":"IF(B98=\"\",\"\",$H$10)","v":""},"","","","","","","","","",null,{"$f":"IF(B98=\"\",\"\",IF(E98-E97>1,ROUNDDOWN($J98*$H$9/30*(DATE(YEAR($C98),MONTH($C98)-1,DAY($C98))-C97),2),0))","v":""},"","",{"$f":"IF(B98=\"\",\"\",O98+P98+Q98+R98+S98+U98)","v":""},"","",null,0,{"$f":"+L98","v":""},"",0,"","",{"$f":"IFERROR(IF(D98=\"D\",$J$24*2,$J$24)+Q98,0)","v":0},"00:00:00",0,null,{"$f":"+IFERROR(AE98-V98,0)","v":0},{"$f":"+IFERROR(AA98-L98,0)","v":0},null,{"$f":"I98 + AM97","v":{"$error":"#VALUE!"}},{"$error":"#VALUE!"},{"$error":"#VALUE!"},{"$f":"AR98-AQ98","v":{"$error":"#VALUE!"}},{"$error":"#VALUE!"},1.967818120138195E-3,{"$f":"AO98-AP98","v":{"$error":"#VALUE!"}}]
[{"$f":"+IF(A98>=$H$14,\"\",A98+1)","v":""},"","","",{"$f":"+IF(B99=\"\",\"\",IF(OR(MONTH(DATE(YEAR(C98)+0.0833333333333333,MONTH(C98)+1,DAY(C98)))=$H$16,MONTH(DATE(YEAR(C98)+0.5,MONTH(C98)+1,DAY(C98)))=$H$17),IF(ABS($H$17-$H$16)=1,E98+1,E98+2),E98+1))","v":""},{"$f":"+IF(B99=\"\",\"\",F98+1)","v":""},{"$f":"IF(B99=\"\",\"\",$Q$9)","v":""},"",{"$f":"IF(B99=\"\",\"\",C99-C98)","v":""},{"$f":"IF(B99=\"\",\"\",W98)","v":""},"","","","","","",{"$f":"IF(B99=\"\",\"\",ROUND($H$9*J99/30*$I99,2)-S99)","v":""},null,"","","","","","",null,0,"","",0,"","",0,"00:00:00",0,null,0,0,null,{"$error":"#VALUE!"},{"$error":"#VALUE!"},{"$f":"AS98","v":{"$error":"#VALUE!"}},{"$error":"#VALUE!"},{"$error":"#VALUE!"},1.967818120138195E-3,{"$error":"#VALUE!"}]
["","","","","","","","","","","","","","","","","",null,"","","","","","",null,0,"","",0,"","",0,"00:00:00",0,null,0,0,null,{"$error":"#VALUE!"},{"$error":"#VALUE!"},{"$error":"#VALUE!"},{"$error":"#VALUE!"},{"$error":"#VALUE!"},1.967818120138195E-3,{"$error":"#VALUE!"}]
["","","","","","","","","","","","","","","","","",null,"","","","","","",null,0,"","",0,"","",0,"00:00:00",0,null,0,0,null,{"$error":"#VALUE!"},{"$error":"#VALUE!"},{"$error":"#VALUE!"},{"$error":"#VALUE!"},{"$error":"#VALUE!"},1.967818120138195E-3,{"$error":"#VALUE!"}]
["","","","","","","","","","","","","","","","","",null,"","","","","","",null,0,"","",0,"","",0,"00:00:00",0,null,0,0,null,{"$error":"#VALUE!"},{"$error":"#VALUE!"},{"$error":"#VALUE!"},{"$error":"#VALUE!"},{"$error":"#VALUE!"},1.967818120138195E-3,{"$error":"#VALUE!"}]
["","","","","","","","","","","","","","","","","",null,"","","","","","",null,0,"","",0,"","",0,"00:00:00",0,null,0,0,null,{"$error":"#VALUE!"},{"$error":"#VALUE!"},{"$error":"#VALUE!"},{"$error":"#VALUE!"},{"$error":"#VALUE!"},1.967818120138195E-3,{"$error":"#VALUE!"}]
["","","","","","","","","","","","","","","","","",null,"","","","","","",null,0,"","",0,"","",0,"00:00:00",0,null,0,0,null,{"$error":"#VALUE!"},{"$error":"#VALUE!"},{"$error":"#VALUE!"},{"$error":"#VALUE!"},{"$error":"#VALUE!"},1.967818120138195E-3,{"$error":"#VALUE!"}]
["","","","","","","","","","","","","","","","","",null,"","","","","","",null,0,"","",0,"","",0,"00:00:00",0,null,0,0,null,{"$error":"#VALUE!"},{"$error":"#VALUE!"},{"$error":"#VALUE!"},{"$error":"#VALUE!"},{"$error":"#VALUE!"},1.967818120138195E-3,{"$error":"#VALUE!"}]
["","","","","","","","","","","","","","","","","",null,"","","","","","",null,0,"","",0,"","",0,"00:00:00",0,null,0,0,null,{"$error":"#VALUE!"},{"$error":"#VALUE!"},{"$error":"#VALUE!"},{"$error":"#VALUE!"},{"$error":"#VALUE!"},1.967818120138195E-3,{"$error":"#VALUE!"}]
["","","","","","","","","","","","","","","","","",null,"","","","","","",null,0,"","",0,"","",0,"00:00:00",0,null,0,0,null,{"$error":"#VALUE!"},{"$error":"#VALUE!"},{"$error":"#VALUE!"},{"$error":"#VALUE!"},{"$error":"#VALUE!"},1.967818120138195E-3,{"$error":"#VALUE!"}]
["","","","","","","","","","","","","","","","","",null,"","","","","","",null,0,"","",0,"","",0,"00:00:00",0,null,0,0,null,{"$error":"#VALUE!"},{"$error":"#VALUE!"},{"$error":"#VALUE!"},{"$error":"#VALUE!"},{"$error":"#VALUE!"},1.967818120138195E-3,{"$error":"#VALUE!"}]
["","","","","","","","","","","","","","","","","",null,"","","","","","",null,0,"","",0,"","",0,"00:00:00",0,null,0,0,null,{"$error":"#VALUE!"},{"$error":"#VALUE!"},{"$error":"#VALUE!"},{"$error":"#VALUE!"},{"$error":"#VALUE!"},1.967818120138195E-3,{"$error":"#VALUE!"}]
["","","","","","","","","","","","","","","","","",null,"","","","","","",null,0,"","",0,"","",0,{"$f":"+IF(C110=\"\",0,C110)","v":"00:00:00"},{"$f":"+IF(AE110=\"\",0,AE110)","v":0},null,0,0,null,{"$error":"#VALUE!"},{"$error":"#VALUE!"},{"$error":"#VALUE!"},{"$error":"#VALUE!"},{"$error":"#VALUE!"},1.967818120138195E-3,{"$error":"#VALUE!"}]
["","","","","","","","","","","","","","","","","",null,"","","","","","",null,0,"","",0,"","",0,"00:00:00",0,null,0,0,null,{"$error":"#VALUE!"},{"$error":"#VALUE!"},{"$error":"#VALUE!"},{"$error":"#VALUE!"},{"$error":"#VALUE!"},1.967818120138195E-3,{"$error":"#VALUE!"}]
["","","","","","","","","","","","","","","","","",null,"","","","","","",null,0,"","",0,"","",0,"00:00:00",0,null,0,0,null,{"$error":"#VALUE!"},{"$error":"#VALUE!"},{"$error":"#VALUE!"},{"$error":"#VALUE!"},{"$error":"#VALUE!"},1.967818120138195E-3,{"$error":"#VALUE!"}]
["","","","","","","","","","","","","","","","","",null,"","","","","","",null,0,"","",0,"","",0,"00:00:00",0,null,0,0,null,{"$error":"#VALUE!"},{"$error":"#VALUE!"},{"$error":"#VALUE!"},{"$error":"#VALUE!"},{"$error":"#VALUE!"},1.967818120138195E-3,{"$error":"#VALUE!"}]
["","","","","","","","","","","","","","","","","",null,"","","","","","",null,0,"","",0,"","",0,"00:00:00",0,null,0,0,null,{"$error":"#VALUE!"},{"$error":"#VALUE!"},{"$error":"#VALUE!"},{"$error":"#VALUE!"},{"$error":"#VALUE!"},1.967818120138195E-3,{"$error":"#VALUE!"}]
["","","","","","","","","","","","","","","","","",null,"","","","","","",null,0,"","",0,"","",0,"00:00:00",0,null,0,0,null,{"$error":"#VALUE!"},{"$error":"#VALUE!"},{"$error":"#VALUE!"},{"$error":"#VALUE!"},{"$error":"#VALUE!"},1.967818120138195E-3,{"$error":"#VALUE!"}]
["","","","","","","","","","","","","","","","","",null,"","","","","","",null,0,"","",0,"","",0,"00:00:00",0,null,0,0,null,{"$error":"#VALUE!"},{"$error":"#VALUE!"},{"$error":"#VALUE!"},{"$error":"#VALUE!"},{"$error":"#VALUE!"},1.967818120138195E-3,{"$error":"#VALUE!"}]
["","","","","","","","","","","","","","","","","",null,"","","","","","",null,0,"","",0,"","",0,"00:00:00",0,null,0,0,null,{"$error":"#VALUE!"},{"$error":"#VALUE!"},{"$error":"#VALUE!"},{"$error":"#VALUE!"},{"$error":"#VALUE!"},1.967818120138195E-3,{"$error":"#VALUE!"}]
["","","","","","","","","","","","","","","","","",null,"","","","","","",null,0,"","",0,"","",0,"00:00:00",0,null,0,0,null,{"$error":"#VALUE!"},{"$error":"#VALUE!"},{"$error":"#VALUE!"},{"$error":"#VALUE!"},{"$error":"#VALUE!"},1.967818120138195E-3,{"$error":"#VALUE!"}]
["","","","","","","","","","","","","","","","","",null,"","","","","","",null,0,"","",0,"","",0,"00:00:00",0,null,0,0,null,{"$error":"#VALUE!"},{"$error":"#VALUE!"},{"$error":"#VALUE!"},{"$error":"#VALUE!"},{"$error":"#VALUE!"},1.967818120138195E-3,{"$error":"#VALUE!"}]
["","","","","","","","","","","","","","","","","",null,"","","","","","",null,0,"","",0,"","",0,"00:00:00",0,null,0,0,null,{"$error":"#VALUE!"},{"$error":"#VALUE!"},{"$error":"#VALUE!"},{"$error":"#VALUE!"},{"$error":"#VALUE!"},1.967818120138195E-3,{"$error":"#VALUE!"}]
["","","","","","","","","","","","","","","","","",null,"","","","","","",null,0,"","",0,"","",0,"00:00:00",0,null,0,0,null,{"$error":"#VALUE!"},{"$error":"#VALUE!"},{"$error":"#VALUE!"},{"$error":"#VALUE!"},{"$error":"#VALUE!"},1.967818120138195E-3,{"$error":"#VALUE!"}]
["","","","","","","","","","","","","","","","","",null,"","","","","","",null,0,"","",0,"","",0,"00:00:00",0,null,0,0,null,{"$error":"#VALUE!"},{"$error":"#VALUE!"},{"$error":"#VALUE!"},{"$error":"#VALUE!"},{"$error":"#VALUE!"},1.967818120138195E-3,{"$error":"#VALUE!"}]
["","","","","","","","","","","","","","","","","",null,"","","","","","",null,0,"","",0,"","",0,"00:00:00",0,null,0,0,null,{"$error":"#VALUE!"},{"$error":"#VALUE!"},{"$error":"#VALUE!"},{"$error":"#VALUE!"},{"$error":"#VALUE!"},1.967818120138195E-3,{"$error":"#VALUE!"}]
["","","","","","","","","","","","","","","","","",null,"","","","","","",null,0,"","",0,"","",0,"00:00:00",0,null,0,0,null,{"$error":"#VALUE!"},{"$error":"#VALUE!"},{"$error":"#VALUE!"},{"$error":"#VALUE!"},{"$error":"#VALUE!"},1.967818120138195E-3,{"$error":"#VALUE!"}]
["","","","","","","","","","","","","","","","","",null,"","","","","","",null,0,"","",0,"","",0,"00:00:00",0,null,0,0,null,{"$error":"#VALUE!"},{"$error":"#VALUE!"},{"$error":"#VALUE!"},{"$error":"#VALUE!"},{"$error":"#VALUE!"},1.967818120138195E-3,{"$error":"#VALUE!"}]
["","","","","","","","","","","","","","","","","",null,"","","","","","",null,0,"","",0,"","",0,"00:00:00",0,null,0,0,null,{"$error":"#VALUE!"},{"$error":"#VALUE!"},{"$error":"#VALUE!"},{"$error":"#VALUE!"},{"$error":"#VALUE!"},1.967818120138195E-3,{"$error":"#VALUE!"}]
["","","","","","","","","","","","","","","","","",null,"","","","","","",null,0,"","",0,"","",0,"00:00:00",0,null,0,0,null,{"$error":"#VALUE!"},{"$error":"#VALUE!"},{"$error":"#VALUE!"},{"$error":"#VALUE!"},{"$error":"#VALUE!"},1.967818120138195E-3,{"$error":"#VALUE!"}]
["","","","","","","","","","","","","","","","","",null,"","","","","","",null,0,"","",0,"","",0,"00:00:00",0,null,0,0,null,{"$error":"#VALUE!"},{"$error":"#VALUE!"},{"$error":"#VALUE!"},{"$error":"#VALUE!"},{"$error":"#VALUE!"},1.967818120138195E-3,{"$error":"#VALUE!"}]
["","","","","","","","","","","","","","","","","",null,"","","","","","",null,0,"","",0,"","",0,"00:00:00",0,null,0,0,null,{"$error":"#VALUE!"},{"$error":"#VALUE!"},{"$error":"#VALUE!"},{"$error":"#VALUE!"},{"$error":"#VALUE!"},1.967818120138195E-3,{"$error":"#VALUE!"}]
["","","","","","","","","","","","","","","","","",null,"","","","","","",null,0,"","",0,"","",0,"00:00:00",0,null,0,0,null,{"$error":"#VALUE!"},{"$error":"#VALUE!"},{"$error":"#VALUE!"},{"$error":"#VALUE!"},{"$error":"#VALUE!"},1.967818120138195E-3,{"$error":"#VALUE!"}]
["","","","","","","","","","","","","","","","","",null,"","","","","","",null,0,"","",0,"","",0,"00:00:00",0,null,0,0,null,{"$error":"#VALUE!"},{"$error":"#VALUE!"},{"$error":"#VALUE!"},{"$error":"#VALUE!"},{"$error":"#VALUE!"},1.967818120138195E-3,{"$error":"#VALUE!"}]
["","","","","","","","","","","","","","","","","",null,"","","","","","",null,0,"","",0,"","",0,"00:00:00",0,null,0,0,null,{"$error":"#VALUE!"},{"$error":"#VALUE!"},{"$error":"#VALUE!"},{"$error":"#VALUE!"},{"$error":"#VALUE!"},1.967818120138195E-3,{"$error":"#VALUE!"}]
["","","","","","","","","","","","","","","","","",null,"","","","","","",null,0,"","",0,"","",0,"00:00:00",0,null,0,0,null,{"$error":"#VALUE!"},{"$error":"#VALUE!"},{"$error":"#VALUE!"},{"$error":"#VALUE!"},{"$error":"#VALUE!"},1.967818120138195E-3,{"$error":"#VALUE!"}]
["","","","","","","","","","","","","","","","","",null,"","","","","","",null,0,"","",0,"","",0,"00:00:00",0,null,0,0,null,{"$error":"#VALUE!"},{"$error":"#VALUE!"},{"$error":"#VALUE!"},{"$error":"#VALUE!"},{"$error":"#VALUE!"},1.967818120138195E-3,{"$error":"#VALUE!"}]
["","","","","","","","","","","","","","","","","",null,"","","","","","",null,0,"","",0,"","",0,"00:00:00",0,null,0,0,null,{"$error":"#VALUE!"},{"$error":"#VALUE!"},{"$error":"#VALUE!"},{"$error":"#VALUE!"},{"$error":"#VALUE!"},1.967818120138195E-3,{"$error":"#VALUE!"}]
["","","","","","","","","","","","","","","","","",null,"","","","","","",null,0,"","",0,"","",0,"00:00:00",0,null,0,0,null,{"$error":"#VALUE!"},{"$error":"#VALUE!"},{"$error":"#VALUE!"},{"$error":"#VALUE!"},{"$error":"#VALUE!"},1.967818120138195E-3,{"$error":"#VALUE!"}]
["","","","","","","","","","","","","","","","","",null,"","","","","","",null,0,"","",0,"","",0,"00:00:00",0,null,0,0,null,{"$error":"#VALUE!"},{"$error":"#VALUE!"},{"$error":"#VALUE!"},{"$error":"#VALUE!"},{"$error":"#VALUE!"},1.967818120138195E-3,{"$error":"#VALUE!"}]
["","","","","","","","","","","","","","","","","",null,"","","","","","",null,0,"","",0,"","",0,"00:00:00",0,null,0,0,null,{"$error":"#VALUE!"},{"$error":"#VALUE!"},{"$error":"#VALUE!"},{"$error":"#VALUE!"},{"$error":"#VALUE!"},1.967818120138195E-3,{"$error":"#VALUE!"}]
["","","","","","","","","","","","","","","","","",null,"","","","","","",null,0,"","",0,"","",0,"00:00:00",0,null,0,0,null,{"$error":"#VALUE!"},{"$error":"#VALUE!"},{"$error":"#VALUE!"},{"$error":"#VALUE!"},{"$error":"#VALUE!"},1.967818120138195E-3,{"$error":"#VALUE!"}]
["","","","","","","","","","","","","","","","","",null,"","","","","","",null,0,"","",0,"","",0,"00:00:00",0,null,0,0,null,{"$error":"#VALUE!"},{"$error":"#VALUE!"},{"$error":"#VALUE!"},{"$error":"#VALUE!"},{"$error":"#VALUE!"},1.967818120138195E-3,{"$error":"#VALUE!"}]
["","","","","","","","","","","","","","","","","",null,"","","","","","",null,0,"","",0,"","",0,"00:00:00",0,null,0,0,null,{"$error":"#VALUE!"},{"$error":"#VALUE!"},{"$error":"#VALUE!"},{"$error":"#VALUE!"},{"$error":"#VALUE!"},1.967818120138195E-3,{"$error":"#VALUE!"}]
["","","","","","","","","","","","","","","","","",null,"","","","","","",null,0,"","",0,"","",0,"00:00:00",0,null,0,0,null,{"$error":"#VALUE!"},{"$error":"#VALUE!"},{"$error":"#VALUE!"},{"$error":"#VALUE!"},{"$error":"#VALUE!"},1.967818120138195E-3,{"$error":"#VALUE!"}]
["","","","","","","","","","","","","","","","","",null,"","","","","","",null,0,"","",0,"","",0,"00:00:00",0,null,0,0,null,{"$error":"#VALUE!"},{"$error":"#VALUE!"},{"$error":"#VALUE!"},{"$error":"#VALUE!"},{"$error":"#VALUE!"},1.967818120138195E-3,{"$error":"#VALUE!"}]
["","","","","","","","","","","","","","","","","",null,"","","","","","",null,0,"","",0,"","",0,"00:00:00",0,null,0,0,null,{"$error":"#VALUE!"},{"$error":"#VALUE!"},{"$error":"#VALUE!"},{"$error":"#VALUE!"},{"$error":"#VALUE!"},1.967818120138195E-3,{"$error":"#VALUE!"}]
["","","","","","","","","","","","","","","","","",null,"","","","","","",null,0,"","",0,"","",0,"00:00:00",0,null,0,0,null,{"$error":"#VALUE!"},{"$error":"#VALUE!"},{"$error":"#VALUE!"},{"$error":"#VALUE!"},{"$error":"#VALUE!"},1.967818120138195E-3,{"$error":"#VALUE!"}]
["","","","","","","","","","","","","","","","","",null,"","","","","","",null,0,"","",0,"","",0,"00:00:00",0,null,0,0,null,{"$error":"#VALUE!"},{"$error":"#VALUE!"},{"$error":"#VALUE!"},{"$error":"#VALUE!"},{"$error":"#VALUE!"},1.967818120138195E-3,{"$error":"#VALUE!"}]
["","","","","","","","","","","","","","","","","",null,"","","","","","",null,0,"","",0,"","",0,"00:00:00",0,null,0,0,null,{"$error":"#VALUE!"},{"$error":"#VALUE!"},{"$error":"#VALUE!"},{"$error":"#VALUE!"},{"$error":"#VALUE!"},1.967818120138195E-3,{"$error":"#VALUE!"}]
["","","","","","","","","","","","","","","","","",null,"","","","","","",null,0,"","",0,"","",0,"00:00:00",0,null,0,0,null,{"$error":"#VALUE!"},{"$error":"#VALUE!"},{"$error":"#VALUE!"},{"$error":"#VALUE!"},{"$error":"#VALUE!"},1.967818120138195E-3,{"$error":"#VALUE!"}]
["","","","","","","","","","","","","","","","","",null,"","","","","","",null,0,"","",0,"","",0,"00:00:00",0,null,0,0,null,{"$error":"#VALUE!"},{"$error":"#VALUE!"},{"$error":"#VALUE!"},{"$error":"#VALUE!"},{"$error":"#VALUE!"},1.967818120138195E-3,{"$error":"#VALUE!"}]
["","","","","","","","","","","","","","","","","",null,"","","","","","",null,0,"","",0,"","",0,"00:00:00",0,null,0,0,null,{"$error":"#VALUE!"},{"$error":"#VALUE!"},{"$error":"#VALUE!"},{"$error":"#VALUE!"},{"$error":"#VALUE!"},1.967818120138195E-3,{"$error":"#VALUE!"}]
["","","","","","","","","","","","","","","","","",null,"","","","","","",null,0,"","",0,"","",0,"00:00:00",0,null,0,0,null,{"$error":"#VALUE!"},{"$error":"#VALUE!"},{"$error":"#VALUE!"},{"$error":"#VALUE!"},{"$error":"#VALUE!"},1.967818120138195E-3,{"$error":"#VALUE!"}]
["","","","","","","","","","","","","","","","","",null,"","","","","","",null,0,"","",0,"","",0,"00:00:00",0,null,0,0,null,{"$error":"#VALUE!"},{"$error":"#VALUE!"},{"$error":"#VALUE!"},{"$error":"#VALUE!"},{"$error":"#VALUE!"},1.967818120138195E-3,{"$error":"#VALUE!"}]
["","","","","","","","","","","","","","","","","",null,"","","","","","",null,0,"","",0,"","",0,"00:00:00",0,null,0,0,null,{"$error":"#VALUE!"},{"$error":"#VALUE!"},{"$error":"#VALUE!"},{"$error":"#VALUE!"},{"$error":"#VALUE!"},1.967818120138195E-3,{"$error":"#VALUE!"}]
["","","","","","","","","","","","","","","","","",null,"","","","","","",null,0,"","",0,"","",0,"00:00:00",0,null,0,0,null,{"$error":"#VALUE!"},{"$error":"#VALUE!"},{"$error":"#VALUE!"},{"$error":"#VALUE!"},{"$error":"#VALUE!"},1.967818120138195E-3,{"$error":"#VALUE!"}]
["","","","","","","","","","","","","","","","","",null,"","","","","","",null,0,"","",0,"","",0,"00:00:00",0,null,0,0,null,{"$error":"#VALUE!"},{"$error":"#VALUE!"},{"$error":"#VALUE!"},{"$error":"#VALUE!"},{"$error":"#VALUE!"},1.967818120138195E-3,{"$error":"#VALUE!"}]
["","","","","","","","","","","","","","","","","",null,"","","","","","",null,0,"","",0,"","",0,"00:00:00",0,null,0,0,null,{"$error":"#VALUE!"},{"$error":"#VALUE!"},{"$error":"#VALUE!"},{"$error":"#VALUE!"},{"$error":"#VALUE!"},1.967818120138195E-3,{"$error":"#VALUE!"}]
["","","","","","","","","","","","","","","","","",null,"","","","","","",null,0,"","",0,"","",0,"00:00:00",0,null,0,0,null,{"$error":"#VALUE!"},{"$error":"#VALUE!"},{"$error":"#VALUE!"},{"$error":"#VALUE!"},{"$error":"#VALUE!"},1.967818120138195E-3,{"$error":"#VALUE!"}]
["","","","","","","","","","","","","","","","","",null,"","","","","","",null,0,"","",0,"","",0,"00:00:00",0,null,0,0,null,{"$error":"#VALUE!"},{"$error":"#VALUE!"},{"$error":"#VALUE!"},{"$error":"#VALUE!"},{"$error":"#VALUE!"},1.967818120138195E-3,{"$error":"#VALUE!"}]
["","","","","","","","","","","","","","","","","",null,"","","","","","",null,0,"","",0,"","",0,"00:00:00",0,null,0,0,null,{"$error":"#VALUE!"},{"$error":"#VALUE!"},{"$error":"#VALUE!"},{"$error":"#VALUE!"},{"$error":"#VALUE!"},1.967818120138195E-3,{"$error":"#VALUE!"}]
["","","","","","","","","","","","","","","","","",null,"","","","","","",null,0,"","",0,"","",0,"00:00:00",0,null,0,0,null,{"$error":"#VALUE!"},{"$error":"#VALUE!"},{"$error":"#VALUE!"},{"$error":"#VALUE!"},{"$error":"#VALUE!"},1.967818120138195E-3,{"$error":"#VALUE!"}]
["","","",{"$f":"IF(B161=\"\",\"\",IF(OR(MONTH(C161)=$H$18,MONTH(C161)=$H$19),\"D\",\"\"))","v":""},"","","","","","",{"$f":"IF(B161=\"\",\"\",IF((IF(ISERROR(MATCH(MONTH(C161),$H$18:$H$19,0))=FALSE,$J$24 + $Q$29,0) + $J$24+$Q$29+$S$27)-L161<0,0.01,IF(ISERROR(MATCH(MONTH(C161),$H$18:$H$19,0))=FALSE,$J$24 + $Q$29,0)+ ($J$24+$Q$29+$S$27)-L161)- R161 -S161-Q161)","v":""},{"$f":"IF(B161=\"\",\"\",IF($J$24+$Q$29<ROUND(ROUND(J161*(((1+(H161/100))^(I161/G161))-1),4),2),$J$24+$Q$29 +-0.01,IF(ROUND(ROUND(J161*(((1+(H161/100))^(I161/G161))-1),4),2)>$J$24,$J$24+ -0.01,ROUND(ROUND(J161*(((1+(H161/100))^(I161/G161))-1),4),2))))","v":""},{"$f":"IF(B161=\"\",\"\",IF(ISERROR(MATCH(MONTH(C161),$H$18:$H$19,0))=FALSE,$J$23,0)  + $J$23)","v":""},{"$f":"IF(B161=\"\",\"\",L161+M161)","v":""},{"$f":"IF(B161=\"\",\"\",K161+N161)","v":""},{"$f":"IF(B161=\"\",\"\",$J$27)","v":""},"",null,"",{"$f":"IF(B161=\"\",\"\",Q161+R161+S161)","v":""},{"$f":"IF(B161=\"\",\"\",$J$28)","v":""},"",{"$f":"IF(B161=\"\",\"\",(ROUND(J161-K161,2)))","v":""},{"$f":"IF(B161=\"\",\"\",IF(ROUND(ROUND(J161*(((1+(H161/100))^(I161/G161))-1),4),2) - $J$24<0,0,ROUND(ROUND(J161*(((1+(H161/100))^(I161/G161))-1),4),2) - $J$24))","v":""},null,{"$f":"SUM(K161:M161)","v":0},"",{"$f":"+Q161","v":""},0,"",{"$f":"IFERROR(AA161+K161 + P161 + U161+AB161 + M161 + AC161 + AD161,\"\")","v":""},0,"00:00:00",0,null,0,0,null,{"$error":"#VALUE!"},{"$f":"(1/((1+($J$8/100))^(AM161/$Q$9))*1) * IF(D161=\"D\",2,1)","v":{"$error":"#VALUE!"}},{"$error":"#VALUE!"},{"$error":"#VALUE!"},{"$f":"(((1+($J$8/100))^((K161)/$Q$9))-1)*AO161","v":{"$error":"#VALUE!"}},{"$f":"IF(D161=\"D\",$K$23,0)+ $K$23","v":1.967818120138195E-3},{"$error":"#VALUE!"}]
["",{"$f":"IF(A162=\"\",\"\",IF(A162<=$H$22,0,1))","v":""},{"$f":"IF(B162=\"\",\"\",IF(OR(MONTH(EDATE($Q$6,E162))=$H$16,MONTH(EDATE($Q$6,E162))=$H$17),IF(ABS($H$17-$H$16)=1,EDATE($Q$6,E162+2),EDATE($Q$6,E162+1)),EDATE($Q$6,E162)))","v":""},"","","","",{"$f":"IF(B162=\"\",\"\",$H$10)","v":""},"","","","","","","","","",null,{"$f":"IF(B162=\"\",\"\",IF(E162-E161>1,ROUNDDOWN($J162*$H$9/30*(DATE(YEAR($C162),MONTH($C162)-1,DAY($C162))-C161),2),0))","v":""},"","",{"$f":"IF(B162=\"\",\"\",O162+P162+Q162+R162+S162+U162)","v":""},"","",null,0,{"$f":"+L162","v":""},"",0,"","",{"$f":"IFERROR(IF(D162=\"D\",$J$24*2,$J$24)+Q162,0)","v":0},"00:00:00",0,null,{"$f":"+IFERROR(AE162-V162,0)","v":0},{"$f":"+IFERROR(AA162-L162,0)","v":0},null,{"$f":"I162 + AM161","v":{"$error":"#VALUE!"}},{"$error":"#VALUE!"},{"$error":"#VALUE!"},{"$f":"AR162-AQ162","v":{"$error":"#VALUE!"}},{"$error":"#VALUE!"},1.967818120138195E-3,{"$f":"AO162-AP162","v":{"$error":"#VALUE!"}}]
[{"$f":"+IF(A162>=$H$14,\"\",A162+1)","v":""},"","","",{"$f":"+IF(B163=\"\",\"\",IF(OR(MONTH(DATE(YEAR(C162)+0.0833333333333333,MONTH(C162)+1,DAY(C162)))=$H$16,MONTH(DATE(YEAR(C162)+0.5,MONTH(C162)+1,DAY(C162)))=$H$17),IF(ABS($H$17-$H$16)=1,E162+1,E162+2),E162+1))","v":""},{"$f":"+IF(B163=\"\",\"\",F162+1)","v":""},{"$f":"IF(B163=\"\",\"\",$Q$9)","v":""},"",{"$f":"IF(B163=\"\",\"\",C163-C162)","v":""},{"$f":"IF(B163=\"\",\"\",W162)","v":""},"","","","","","",{"$f":"IF(B163=\"\",\"\",ROUND($H$9*J163/30*$I163,2)-S163)","v":""},null,"","","","","","",null,0,"","",0,"","",0,"00:00:00",0,null,0,0,null,{"$error":"#VALUE!"},{"$error":"#VALUE!"},{"$f":"AS162","v":{"$error":"#VALUE!"}},{"$error":"#VALUE!"},{"$error":"#VALUE!"},1.967818120138195E-3,{"$error":"#VALUE!"}]
["","","","","","","","","","","","","","","","","",null,"","","","","","",null,0,"","",0,"","",0,"00:00:00",0,null,0,0,null,{"$error":"#VALUE!"},{"$error":"#VALUE!"},{"$error":"#VALUE!"},{"$error":"#VALUE!"},{"$error":"#VALUE!"},1.967818120138195E-3,{"$error":"#VALUE!"}]
["","","","","","","","","","","","","","","","","",null,"","","","","","",null,0,"","",0,"","",0,"00:00:00",0,null,0,0,null,{"$error":"#VALUE!"},{"$error":"#VALUE!"},{"$error":"#VALUE!"},{"$error":"#VALUE!"},{"$error":"#VALUE!"},1.967818120138195E-3,{"$error":"#VALUE!"}]
["","","","","","","","","","","","","","","","","",null,"","","","","","",null,0,"","",0,"","",0,"00:00:00",0,null,0,0,null,{"$error":"#VALUE!"},{"$error":"#VALUE!"},{"$error":"#VALUE!"},{"$error":"#VALUE!"},{"$error":"#VALUE!"},1.967818120138195E-3,{"$error":"#VALUE!"}]
["","","","","","","","","","","","","","","","","",null,"","","","","","",null,0,"","",0,"","",0,"00:00:00",0,null,0,0,null,{"$error":"#VALUE!"},{"$error":"#VALUE!"},{"$error":"#VALUE!"},{"$error":"#VALUE!"},{"$error":"#VALUE!"},1.967818120138195E-3,{"$error":"#VALUE!"}]
["","","","","","","","","","","","","","","","","",null,"","","","","","",null,0,"","",0,"","",0,"00:00:00",0,null,0,0,null,{"$error":"#VALUE!"},{"$error":"#VALUE!"},{"$error":"#VALUE!"},{"$error":"#VALUE!"},{"$error":"#VALUE!"},1.967818120138195E-3,{"$error":"#VALUE!"}]
["","","","","","","","","","","","","","","","","",null,"","","","","","",null,0,"","",0,"","",0,"00:00:00",0,null,0,0,null,{"$error":"#VALUE!"},{"$error":"#VALUE!"},{"$error":"#VALUE!"},{"$error":"#VALUE!"},{"$error":"#VALUE!"},1.967818120138195E-3,{"$error":"#VALUE!"}]
["","","","","","","","","","","","","","","","","",null,"","","","","","",null,0,"","",0,"","",0,"00:00:00",0,null,0,0,null,{"$error":"#VALUE!"},{"$error":"#VALUE!"},{"$error":"#VALUE!"},{"$error":"#VALUE!"},{"$error":"#VALUE!"},1.967818120138195E-3,{"$error":"#VALUE!"}]
["","","","","","","","","","","","","","","","","",null,"","","","","","",null,0,"","",0,"","",0,"00:00:00",0,null,0,0,null,{"$error":"#VALUE!"},{"$error":"#VALUE!"},{"$error":"#VALUE!"},{"$error":"#VALUE!"},{"$error":"#VALUE!"},1.967818120138195E-3,{"$error":"#VALUE!"}]
["","","","","","","","","","","","","","","","","",null,"","","","","","",null,0,"","",0,"","",0,"00:00:00",0,null,0,0,null,{"$error":"#VALUE!"},{"$error":"#VALUE!"},{"$error":"#VALUE!"},{"$error":"#VALUE!"},{"$error":"#VALUE!"},1.967818120138195E-3,{"$error":"#VALUE!"}]
["","","","","","","","","","","","","","","","","",null,"","","","","","",null,0,"","",0,"","",0,"00:00:00",0,null,0,0,null,{"$error":"#VALUE!"},{"$error":"#VALUE!"},{"$error":"#VALUE!"},{"$error":"#VALUE!"},{"$error":"#VALUE!"},1.967818120138195E-3,{"$error":"#VALUE!"}]
["","","","","","","","","","","","","","","","","",null,"","","","","","",null,0,"","",0,"","",0,{"$f":"+IF(C174=\"\",0,C174)","v":"00:00:00"},{"$f":"+IF(AE174=\"\",0,AE174)","v":0},null,0,0,null,{"$error":"#VALUE!"},{"$error":"#VALUE!"},{"$error":"#VALUE!"},{"$error":"#VALUE!"},{"$error":"#VALUE!"},1.967818120138195E-3,{"$error":"#VALUE!"}]
["","","","","","","","","","","","","","","","","",null,"","","","","","",null,0,"","",0,"","",0,"00:00:00",0,null,0,0,null,{"$error":"#VALUE!"},{"$error":"#VALUE!"},{"$error":"#VALUE!"},{"$error":"#VALUE!"},{"$error":"#VALUE!"},1.967818120138195E-3,{"$error":"#VALUE!"}]
["","","","","","","","","","","","","","","","","",null,"","","","","","",null,0,"","",0,"","",0,"00:00:00",0,null,0,0,null,{"$error":"#VALUE!"},{"$error":"#VALUE!"},{"$error":"#VALUE!"},{"$error":"#VALUE!"},{"$error":"#VALUE!"},1.967818120138195E-3,{"$error":"#VALUE!"}]
["","","","","","","","","","","","","","","","","",null,"","","","","","",null,0,"","",0,"","",0,"00:00:00",0,null,0,0,null,{"$error":"#VALUE!"},{"$error":"#VALUE!"},{"$error":"#VALUE!"},{"$error":"#VALUE!"},{"$error":"#VALUE!"},1.967818120138195E-3,{"$error":"#VALUE!"}]
["","","","","","","","","","","","","","","","","",null,"","","","","","",null,0,"","",0,"","",0,"00:00:00",0,null,0,0,null,{"$error":"#VALUE!"},{"$error":"#VALUE!"},{"$error":"#VALUE!"},{"$error":"#VALUE!"},{"$error":"#VALUE!"},1.967818120138195E-3,{"$error":"#VALUE!"}]
["","","","","","","","","","","","","","","","","",null,"","","","","","",null,0,"","",0,"","",0,"00:00:00",0,null,0,0,null,{"$error":"#VALUE!"},{"$error":"#VALUE!"},{"$error":"#VALUE!"},{"$error":"#VALUE!"},{"$error":"#VALUE!"},1.967818120138195E-3,{"$error":"#VALUE!"}]
["","","","","","","","","","","","","","","","","",null,"","","","","","",null,0,"","",0,"","",0,"00:00:00",0,null,0,0,null,{"$error":"#VALUE!"},{"$error":"#VALUE!"},{"$error":"#VALUE!"},{"$error":"#VALUE!"},{"$error":"#VALUE!"},1.967818120138195E-3,{"$error":"#VALUE!"}]
["","","","","","","","","","","","","","","","","",null,"","","","","","",null,0,"","",0,"","",0,"00:00:00",0,null,0,0,null,{"$error":"#VALUE!"},{"$error":"#VALUE!"},{"$error":"#VALUE!"},{"$error":"#VALUE!"},{"$error":"#VALUE!"},1.967818120138195E-3,{"$error":"#VALUE!"}]
["","","","","","","","","","","","","","","","","",null,"","","","","","",null,0,"","",0,"","",0,"00:00:00",0,null,0,0,null,{"$error":"#VALUE!"},{"$error":"#VALUE!"},{"$error":"#VALUE!"},{"$error":"#VALUE!"},{"$error":"#VALUE!"},1.967818120138195E-3,{"$error":"#VALUE!"}]
["","","","","","","","","","","","","","","","","",null,"","","","","","",null,0,"","",0,"","",0,"00:00:00",0,null,0,0,null,{"$error":"#VALUE!"},{"$error":"#VALUE!"},{"$error":"#VALUE!"},{"$error":"#VALUE!"},{"$error":"#VALUE!"},1.967818120138195E-3,{"$error":"#VALUE!"}]
["","","","","","","","","","","","","","","","","",null,"","","","","","",null,0,"","",0,"","",0,"00:00:00",0,null,0,0,null,{"$error":"#VALUE!"},{"$error":"#VALUE!"},{"$error":"#VALUE!"},{"$error":"#VALUE!"},{"$error":"#VALUE!"},1.967818120138195E-3,{"$error":"#VALUE!"}]
["","","","","","","","","","","","","","","","","",null,"","","","","","",null,0,"","",0,"","",0,"00:00:00",0,null,0,0,null,{"$error":"#VALUE!"},{"$error":"#VALUE!"},{"$error":"#VALUE!"},{"$error":"#VALUE!"},{"$error":"#VALUE!"},1.967818120138195E-3,{"$error":"#VALUE!"}]
["","","","","","","","","","","","","","","","","",null,"","","","","","",null,0,"","",0,"","",0,"00:00:00",0,null,0,0,null,{"$error":"#VALUE!"},{"$error":"#VALUE!"},{"$error":"#VALUE!"},{"$error":"#VALUE!"},{"$error":"#VALUE!"},1.967818120138195E-3,{"$error":"#VALUE!"}]
["","","","","","","","","","","","","","","","","",null,"","","","","","",null,0,"","",0,"","",0,"00:00:00",0,null,0,0,null,{"$error":"#VALUE!"},{"$error":"#VALUE!"},{"$error":"#VALUE!"},{"$error":"#VALUE!"},{"$error":"#VALUE!"},1.967818120138195E-3,{"$error":"#VALUE!"}]
["","","","","","","","","","","","","","","","","",null,"","","","","","",null,0,"","",0,"","",0,"00:00:00",0,null,0,0,null,{"$error":"#VALUE!"},{"$error":"#VALUE!"},{"$error":"#VALUE!"},{"$error":"#VALUE!"},{"$error":"#VALUE!"},1.967818120138195E-3,{"$error":"#VALUE!"}]
["","","","","","","","","","","","","","","","","",null,"","","","","","",null,0,"","",0,"","",0,"00:00:00",0,null,0,0,null,{"$error":"#VALUE!"},{"$error":"#VALUE!"},{"$error":"#VALUE!"},{"$error":"#VALUE!"},{"$error":"#VALUE!"},1.967818120138195E-3,{"$error":"#VALUE!"}]
["","","","","","","","","","","","","","","","","",null,"","","","","","",null,0,"","",0,"","",0,"00:00:00",0,null,0,0,null,{"$error":"#VALUE!"},{"$error":"#VALUE!"},{"$error":"#VALUE!"},{"$error":"#VALUE!"},{"$error":"#VALUE!"},1.967818120138195E-3,{"$error":"#VALUE!"}]
["","","","","","","","","","","","","","","","","",null,"","","","","","",null,0,"","",0,"","",0,"00:00:00",0,null,0,0,null,{"$error":"#VALUE!"},{"$error":"#VALUE!"},{"$error":"#VALUE!"},{"$error":"#VALUE!"},{"$error":"#VALUE!"},1.967818120138195E-3,{"$error":"#VALUE!"}]
["","","","","","","","","","","","","","","","","",null,"","","","","","",null,0,"","",0,"","",0,"00:00:00",0,null,0,0,null,{"$error":"#VALUE!"},{"$error":"#VALUE!"},{"$error":"#VALUE!"},{"$error":"#VALUE!"},{"$error":"#VALUE!"},1.967818120138195E-3,{"$error":"#VALUE!"}]
["","","","","","","","","","","","","","","","","",null,"","","","","","",null,0,"","",0,"","",0,"00:00:00",0,null,0,0,null,{"$error":"#VALUE!"},{"$error":"#VALUE!"},{"$error":"#VALUE!"},{"$error":"#VALUE!"},{"$error":"#VALUE!"},1.967818120138195E-3,{"$error":"#VALUE!"}]
["","","","","","","","","","","","","","","","","",null,"","","","","","",null,0,"","",0,"","",0,"00:00:00",0,null,0,0,null,{"$error":"#VALUE!"},{"$error":"#VALUE!"},{"$error":"#VALUE!"},{"$error":"#VALUE!"},{"$error":"#VALUE!"},1.967818120138195E-3,{"$error":"#VALUE!"}]
["","","","","","","","","","","","","","","","","",null,"","","","","","",null,0,"","",0,"","",0,"00:00:00",0,null,0,0,null,{"$error":"#VALUE!"},{"$error":"#VALUE!"},{"$error":"#VALUE!"},{"$error":"#VALUE!"},{"$error":"#VALUE!"},1.967818120138195E-3,{"$error":"#VALUE!"}]
["","","","","","","","","","","","","","","","","",null,"","","","","","",null,0,"","",0,"","",0,"00:00:00",0,null,0,0,null,{"$error":"#VALUE!"},{"$error":"#VALUE!"},{"$error":"#VALUE!"},{"$error":"#VALUE!"},{"$error":"#VALUE!"},1.967818120138195E-3,{"$error":"#VALUE!"}]
["","","","","","","","","","","","","","","","","",null,"","","","","","",null,0,"","",0,"","",0,"00:00:00",0,null,0,0,null,{"$error":"#VALUE!"},{"$error":"#VALUE!"},{"$error":"#VALUE!"},{"$error":"#VALUE!"},{"$error":"#VALUE!"},1.967818120138195E-3,{"$error":"#VALUE!"}]
["","","","","","","","","","","","","","","","","",null,"","","","","","",null,0,"","",0,"","",0,"00:00:00",0,null,0,0,null,{"$error":"#VALUE!"},{"$error":"#VALUE!"},{"$error":"#VALUE!"},{"$error":"#VALUE!"},{"$error":"#VALUE!"},1.967818120138195E-3,{"$error":"#VALUE!"}]
["","","","","","","","","","","","","","","","","",null,"","","","","","",null,0,"","",0,"","",0,"00:00:00",0,null,0,0,null,{"$error":"#VALUE!"},{"$error":"#VALUE!"},{"$error":"#VALUE!"},{"$error":"#VALUE!"},{"$error":"#VALUE!"},1.967818120138195E-3,{"$error":"#VALUE!"}]
["","","","","","","","","","","","","","","","","",null,"","","","","","",null,0,"","",0,"","",0,"00:00:00",0,null,0,0,null,{"$error":"#VALUE!"},{"$error":"#VALUE!"},{"$error":"#VALUE!"},{"$error":"#VALUE!"},{"$error":"#VALUE!"},1.967818120138195E-3,{"$error":"#VALUE!"}]
["","","","","","","","","","","","","","","","","",null,"","","","","","",null,0,"","",0,"","",0,"00:00:00",0,null,0,0,null,{"$error":"#VALUE!"},{"$error":"#VALUE!"},{"$error":"#VALUE!"},{"$error":"#VALUE!"},{"$error":"#VALUE!"},1.967818120138195E-3,{"$error":"#VALUE!"}]
["","","","","","","","","","","","","","","","","",null,"","","","","","",null,0,"","",0,"","",0,"00:00:00",0,null,0,0,null,{"$error":"#VALUE!"},{"$error":"#VALUE!"},{"$error":"#VALUE!"},{"$error":"#VALUE!"},{"$error":"#VALUE!"},1.967818120138195E-3,{"$error":"#VALUE!"}]
["","","","","","","","","","","","","","","","","",null,"","","","","","",null,0,"","",0,"","",0,"00:00:00",0,null,0,0,null,{"$error":"#VALUE!"},{"$error":"#VALUE!"},{"$error":"#VALUE!"},{"$error":"#VALUE!"},{"$error":"#VALUE!"},1.967818120138195E-3,{"$error":"#VALUE!"}]
["","","","","","","","","","","","","","","","","",null,"","","","","","",null,0,"","",0,"","",0,"00:00:00",0,null,0,0,null,{"$error":"#VALUE!"},{"$error":"#VALUE!"},{"$error":"#VALUE!"},{"$error":"#VALUE!"},{"$error":"#VALUE!"},1.967818120138195E-3,{"$error":"#VALUE!"}]
["","","","","","","","","","","","","","","","","",null,"","","","","","",null,0,"","",0,"","",0,"00:00:00",0,null,0,0,null,{"$error":"#VALUE!"},{"$error":"#VALUE!"},{"$error":"#VALUE!"},{"$error":"#VALUE!"},{"$error":"#VALUE!"},1.967818120138195E-3,{"$error":"#VALUE!"}]
["","","","","","","","","","","","","","","","","",null,"","","","","","",null,0,"","",0,"","",0,"00:00:00",0,null,0,0,null,{"$error":"#VALUE!"},{"$error":"#VALUE!"},{"$error":"#VALUE!"},{"$error":"#VALUE!"},{"$error":"#VALUE!"},1.967818120138195E-3,{"$error":"#VALUE!"}]
["","","","","","","","","","","","","","","","","",null,"","","","","","",null,0,"","",0,"","",0,"00:00:00",0,null,0,0,null,{"$error":"#VALUE!"},{"$error":"#VALUE!"},{"$error":"#VALUE!"},{"$error":"#VALUE!"},{"$error":"#VALUE!"},1.967818120138195E-3,{"$error":"#VALUE!"}]
["","","","","","","","","","","","","","","","","",null,"","","","","","",null,0,"","",0,"","",0,"00:00:00",0,null,0,0,null,{"$error":"#VALUE!"},{"$error":"#VALUE!"},{"$error":"#VALUE!"},{"$error":"#VALUE!"},{"$error":"#VALUE!"},1.967818120138195E-3,{"$error":"#VALUE!"}]
["","","","","","","","","","","","","","","","","",null,"","","","","","",null,0,"","",0,"","",0,"00:00:00",0,null,0,0,null,{"$error":"#VALUE!"},{"$error":"#VALUE!"},{"$error":"#VALUE!"},{"$error":"#VALUE!"},{"$error":"#VALUE!"},1.967818120138195E-3,{"$error":"#VALUE!"}]
["","","","","","","","","","","","","","","","","",null,"","","","","","",null,0,"","",0,"","",0,"00:00:00",0,null,0,0,null,{"$error":"#VALUE!"},{"$error":"#VALUE!"},{"$error":"#VALUE!"},{"$error":"#VALUE!"},{"$error":"#VALUE!"},1.967818120138195E-3,{"$error":"#VALUE!"}]
["","","","","","","","","","","","","","","","","",null,"","","","","","",null,0,"","",0,"","",0,"00:00:00",0,null,0,0,null,{"$error":"#VALUE!"},{"$error":"#VALUE!"},{"$error":"#VALUE!"},{"$error":"#VALUE!"},{"$error":"#VALUE!"},1.967818120138195E-3,{"$error":"#VALUE!"}]
["","","","","","","","","","","","","","","","","",null,"","","","","","",null,0,"","",0,"","",0,"00:00:00",0,null,0,0,null,{"$error":"#VALUE!"},{"$error":"#VALUE!"},{"$error":"#VALUE!"},{"$error":"#VALUE!"},{"$error":"#VALUE!"},1.967818120138195E-3,{"$error":"#VALUE!"}]
["","","","","","","","","","","","","","","","","",null,"","","","","","",null,0,"","",0,"","",0,"00:00:00",0,null,0,0,null,{"$error":"#VALUE!"},{"$error":"#VALUE!"},{"$error":"#VALUE!"},{"$error":"#VALUE!"},{"$error":"#VALUE!"},1.967818120138195E-3,{"$error":"#VALUE!"}]
["","","","","","","","","","","","","","","","","",null,"","","","","","",null,0,"","",0,"","",0,"00:00:00",0,null,0,0,null,{"$error":"#VALUE!"},{"$error":"#VALUE!"},{"$error":"#VALUE!"},{"$error":"#VALUE!"},{"$error":"#VALUE!"},1.967818120138195E-3,{"$error":"#VALUE!"}]
["","","","","","","","","","","","","","","","","",null,"","","","","","",null,0,"","",0,"","",0,"00:00:00",0,null,0,0,null,{"$error":"#VALUE!"},{"$error":"#VALUE!"},{"$error":"#VALUE!"},{"$error":"#VALUE!"},{"$error":"#VALUE!"},1.967818120138195E-3,{"$error":"#VALUE!"}]
["","","","","","","","","","","","","","","","","",null,"","","","","","",null,0,"","",0,"","",0,"00:00:00",0,null,0,0,null,{"$error":"#VALUE!"},{"$error":"#VALUE!"},{"$error":"#VALUE!"},{"$error":"#VALUE!"},{"$error":"#VALUE!"},1.967818120138195E-3,{"$error":"#VALUE!"}]
["","","","","","","","","","","","","","","","","",null,"","","","","","",null,0,"","",0,"","",0,"00:00:00",0,null,0,0,null,{"$error":"#VALUE!"},{"$error":"#VALUE!"},{"$error":"#VALUE!"},{"$error":"#VALUE!"},{"$error":"#VALUE!"},1.967818120138195E-3,{"$error":"#VALUE!"}]
["","","","","","","","","","","","","","","","","",null,"","","","","","",null,0,"","",0,"","",0,"00:00:00",0,null,0,0,null,{"$error":"#VALUE!"},{"$error":"#VALUE!"},{"$error":"#VALUE!"},{"$error":"#VALUE!"},{"$error":"#VALUE!"},1.967818120138195E-3,{"$error":"#VALUE!"}]
["","","","","","","","","","","","","","","","","",null,"","","","","","",null,0,"","",0,"","",0,"00:00:00",0,null,0,0,null,{"$error":"#VALUE!"},{"$error":"#VALUE!"},{"$error":"#VALUE!"},{"$error":"#VALUE!"},{"$error":"#VALUE!"},1.967818120138195E-3,{"$error":"#VALUE!"}]
["","","","","","","","","","","","","","","","","",null,"","","","","","",null,0,"","",0,"","",0,"00:00:00",0,null,0,0,null,{"$error":"#VALUE!"},{"$error":"#VALUE!"},{"$error":"#VALUE!"},{"$error":"#VALUE!"},{"$error":"#VALUE!"},1.967818120138195E-3,{"$error":"#VALUE!"}]
["","","","","","","","","","","","","","","","","",null,"","","","","","",null,0,"","",0,"","",0,"00:00:00",0,null,0,0,null,{"$error":"#VALUE!"},{"$error":"#VALUE!"},{"$error":"#VALUE!"},{"$error":"#VALUE!"},{"$error":"#VALUE!"},1.967818120138195E-3,{"$error":"#VALUE!"}]
["","","","","","","","","","","","","","","","","",null,"","","","","","",null,0,"","",0,"","",0,"00:00:00",0,null,0,0,null,{"$error":"#VALUE!"},{"$error":"#VALUE!"},{"$error":"#VALUE!"},{"$error":"#VALUE!"},{"$error":"#VALUE!"},1.967818120138195E-3,{"$error":"#VALUE!"}]
["","","","","","","","","","","","","","","","","",null,"","","","","","",null,0,"","",0,"","",0,"00:00:00",0,null,0,0,null,{"$error":"#VALUE!"},{"$error":"#VALUE!"},{"$error":"#VALUE!"},{"$error":"#VALUE!"},{"$error":"#VALUE!"},1.967818120138195E-3,{"$error":"#VALUE!"}]
["","","","","","","","","","","","","","","","","",null,"","","","","","",null,0,"","",0,"","",0,"00:00:00",0,null,0,0,null,{"$error":"#VALUE!"},{"$error":"#VALUE!"},{"$error":"#VALUE!"},{"$error":"#VALUE!"},{"$error":"#VALUE!"},1.967818120138195E-3,{"$error":"#VALUE!"}]
["","","",{"$f":"IF(B225=\"\",\"\",IF(OR(MONTH(C225)=$H$18,MONTH(C225)=$H$19),\"D\",\"\"))","v":""},"","","","","","",{"$f":"IF(B225=\"\",\"\",IF((IF(ISERROR(MATCH(MONTH(C225),$H$18:$H$19,0))=FALSE,$J$24 + $Q$29,0) + $J$24+$Q$29+$S$27)-L225<0,0.01,IF(ISERROR(MATCH(MONTH(C225),$H$18:$H$19,0))=FALSE,$J$24 + $Q$29,0)+ ($J$24+$Q$29+$S$27)-L225)- R225 -S225-Q225)","v":""},{"$f":"IF(B225=\"\",\"\",IF($J$24+$Q$29<ROUND(ROUND(J225*(((1+(H225/100))^(I225/G225))-1),4),2),$J$24+$Q$29 +-0.01,IF(ROUND(ROUND(J225*(((1+(H225/100))^(I225/G225))-1),4),2)>$J$24,$J$24+ -0.01,ROUND(ROUND(J225*(((1+(H225/100))^(I225/G225))-1),4),2))))","v":""},{"$f":"IF(B225=\"\",\"\",IF(ISERROR(MATCH(MONTH(C225),$H$18:$H$19,0))=FALSE,$J$23,0)  + $J$23)","v":""},{"$f":"IF(B225=\"\",\"\",L225+M225)","v":""},{"$f":"IF(B225=\"\",\"\",K225+N225)","v":""},{"$f":"IF(B225=\"\",\"\",$J$27)","v":""},"",null,"",{"$f":"IF(B225=\"\",\"\",Q225+R225+S225)","v":""},{"$f":"IF(B225=\"\",\"\",$J$28)","v":""},"",{"$f":"IF(B225=\"\",\"\",(ROUND(J225-K225,2)))","v":""},{"$f":"IF(B225=\"\",\"\",IF(ROUND(ROUND(J225*(((1+(H225/100))^(I225/G225))-1),4),2) - $J$24<0,0,ROUND(ROUND(J225*(((1+(H225/100))^(I225/G225))-1),4),2) - $J$24))","v":""},null,{"$f":"SUM(K225:M225)","v":0},"",{"$f":"+Q225","v":""},0,"",{"$f":"IFERROR(AA225+K225 + P225 + U225+AB225 + M225 + AC225 + AD225,\"\")","v":""},0,"00:00:00",0,null,0,0,null,{"$error":"#VALUE!"},{"$f":"(1/((1+($J$8/100))^(AM225/$Q$9))*1) * IF(D225=\"D\",2,1)","v":{"$error":"#VALUE!"}},{"$error":"#VALUE!"},{"$error":"#VALUE!"},{"$f":"(((1+($J$8/100))^((K225)/$Q$9))-1)*AO225","v":{"$error":"#VALUE!"}},{"$f":"IF(D225=\"D\",$K$23,0)+ $K$23","v":1.967818120138195E-3},{"$error":"#VALUE!"}]
["",{"$f":"IF(A226=\"\",\"\",IF(A226<=$H$22,0,1))","v":""},{"$f":"IF(B226=\"\",\"\",IF(OR(MONTH(EDATE($Q$6,E226))=$H$16,MONTH(EDATE($Q$6,E226))=$H$17),IF(ABS($H$17-$H$16)=1,EDATE($Q$6,E226+2),EDATE($Q$6,E226+1)),EDATE($Q$6,E226)))","v":""},"","","","",{"$f":"IF(B226=\"\",\"\",$H$10)","v":""},"","","","","","","","","",null,{"$f":"IF(B226=\"\",\"\",IF(E226-E225>1,ROUNDDOWN($J226*$H$9/30*(DATE(YEAR($C226),MONTH($C226)-1,DAY($C226))-C225),2),0))","v":""},"","",{"$f":"IF(B226=\"\",\"\",O226+P226+Q226+R226+S226+U226)","v":""},"","",null,0,{"$f":"+L226","v":""},"",0,"","",{"$f":"IFERROR(IF(D226=\"D\",$J$24*2,$J$24)+Q226,0)","v":0},"00:00:00",0,null,{"$f":"+IFERROR(AE226-V226,0)","v":0},{"$f":"+IFERROR(AA226-L226,0)","v":0},null,{"$f":"I226 + AM225","v":{"$error":"#VALUE!"}},{"$error":"#VALUE!"},{"$error":"#VALUE!"},{"$f":"AR226-AQ226","v":{"$error":"#VALUE!"}},{"$error":"#VALUE!"},1.967818120138195E-3,{"$f":"AO226-AP226","v":{"$error":"#VALUE!"}}]
[{"$f":"+IF(A226>=$H$14,\"\",A226+1)","v":""},"","","",{"$f":"+IF(B227=\"\",\"\",IF(OR(MONTH(DATE(YEAR(C226)+0.0833333333333333,MONTH(C226)+1,DAY(C226)))=$H$16,MONTH(DATE(YEAR(C226)+0.5,MONTH(C226)+1,DAY(C226)))=$H$17),IF(ABS($H$17-$H$16)=1,E226+1,E226+2),E226+1))","v":""},{"$f":"+IF(B227=\"\",\"\",F226+1)","v":""},{"$f":"IF(B227=\"\",\"\",$Q$9)","v":""},"",{"$f":"IF(B227=\"\",\"\",C227-C226)","v":""},{"$f":"IF(B227=\"\",\"\",W226)","v":""},"","","","","","",{"$f":"IF(B227=\"\",\"\",ROUND($H$9*J227/30*$I227,2)-S227)","v":""},null,"","","","","","",null,0,"","",0,"","",0,"00:00:00",0,null,0,0,null,{"$error":"#VALUE!"},{"$error":"#VALUE!"},{"$f":"AS226","v":{"$error":"#VALUE!"}},{"$error":"#VALUE!"},{"$error":"#VALUE!"},1.967818120138195E-3,{"$error":"#VALUE!"}]
["","","","","","","","","","","","","","","","","",null,"","","","","","",null,0,"","",0,"","",0,"00:00:00",0,null,0,0,null,{"$error":"#VALUE!"},{"$error":"#VALUE!"},{"$error":"#VALUE!"},{"$error":"#VALUE!"},{"$error":"#VALUE!"},1.967818120138195E-3,{"$error":"#VALUE!"}]
["","","","","","","","","","","","","","","","","",null,"","","","","","",null,0,"","",0,"","",0,"00:00:00",0,null,0,0,null,{"$error":"#VALUE!"},{"$error":"#VALUE!"},{"$error":"#VALUE!"},{"$error":"#VALUE!"},{"$error":"#VALUE!"},1.967818120138195E-3,{"$error":"#VALUE!"}]
["","","","","","","","","","","","","","","","","",null,"","","","","","",null,0,"","",0,"","",0,"00:00:00",0,null,0,0,null,{"$error":"#VALUE!"},{"$error":"#VALUE!"},{"$error":"#VALUE!"},{"$error":"#VALUE!"},{"$error":"#VALUE!"},1.967818120138195E-3,{"$error":"#VALUE!"}]
["","","","","","","","","","","","","","","","","",null,"","","","","","",null,0,"","",0,"","",0,"00:00:00",0,null,0,0,null,{"$error":"#VALUE!"},{"$error":"#VALUE!"},{"$error":"#VALUE!"},{"$error":"#VALUE!"},{"$error":"#VALUE!"},1.967818120138195E-3,{"$error":"#VALUE!"}]
["","","","","","","","","","","","","","","","","",null,"","","","","","",null,0,"","",0,"","",0,"00:00:00",0,null,0,0,null,{"$error":"#VALUE!"},{"$error":"#VALUE!"},{"$error":"#VALUE!"},{"$error":"#VALUE!"},{"$error":"#VALUE!"},1.967818120138195E-3,{"$error":"#VALUE!"}]
["","","","","","","","","","","","","","","","","",null,"","","","","","",null,0,"","",0,"","",0,"00:00:00",0,null,0,0,null,{"$error":"#VALUE!"},{"$error":"#VALUE!"},{"$error":"#VALUE!"},{"$error":"#VALUE!"},{"$error":"#VALUE!"},1.967818120138195E-3,{"$error":"#VALUE!"}]
["","","","","","","","","","","","","","","","","",null,"","","","","","",null,0,"","",0,"","",0,"00:00:00",0,null,0,0,null,{"$error":"#VALUE!"},{"$error":"#VALUE!"},{"$error":"#VALUE!"},{"$error":"#VALUE!"},{"$error":"#VALUE!"},1.967818120138195E-3,{"$error":"#VALUE!"}]
["","","","","","","","","","","","","","","","","",null,"","","","","","",null,0,"","",0,"","",0,"00:00:00",0,null,0,0,null,{"$error":"#VALUE!"},{"$error":"#VALUE!"},{"$error":"#VALUE!"},{"$error":"#VALUE!"},{"$error":"#VALUE!"},1.967818120138195E-3,{"$error":"#VALUE!"}]
["","","","","","","","","","","","","","","","","",null,"","","","","","",null,0,"","",0,"","",0,"00:00:00",0,null,0,0,null,{"$error":"#VALUE!"},{"$error":"#VALUE!"},{"$error":"#VALUE!"},{"$error":"#VALUE!"},{"$error":"#VALUE!"},1.967818120138195E-3,{"$error":"#VALUE!"}]
["","","","","","","","","","","","","","","","","",null,"","","","","","",null,0,"","",0,"","",0,"00:00:00",0,null,0,0,null,{"$error":"#VALUE!"},{"$error":"#VALUE!"},{"$error":"#VALUE!"},{"$error":"#VALUE!"},{"$error":"#VALUE!"},1.967818120138195E-3,{"$error":"#VALUE!"}]
["","","","","","","","","","","","","","","","","",null,"","","","","","",null,0,"","",0,"","",0,{"$f":"+IF(C238=\"\",0,C238)","v":"00:00:00"},{"$f":"+IF(AE238=\"\",0,AE238)","v":0},null,0,0,null,{"$error":"#VALUE!"},{"$error":"#VALUE!"},{"$error":"#VALUE!"},{"$error":"#VALUE!"},{"$error":"#VALUE!"},1.967818120138195E-3,{"$error":"#VALUE!"}]
["","","","","","","","","","","","","","","","","",null,"","","","","","",null,0,"","",0,"","",0,"00:00:00",0,null,0,0,null,{"$error":"#VALUE!"},{"$error":"#VALUE!"},{"$error":"#VALUE!"},{"$error":"#VALUE!"},{"$error":"#VALUE!"},1.967818120138195E-3,{"$error":"#VALUE!"}]
["","","","","","","","","","","","","","","","","",null,"","","","","","",null,0,"","",0,"","",0,"00:00:00",0,null,0,0,null,{"$error":"#VALUE!"},{"$error":"#VALUE!"},{"$error":"#VALUE!"},{"$error":"#VALUE!"},{"$error":"#VALUE!"},1.967818120138195E-3,{"$error":"#VALUE!"}]
["","","","","","","","","","","","","","","","","",null,"","","","","","",null,0,"","",0,"","",0,"00:00:00",0,null,0,0,null,{"$error":"#VALUE!"},{"$error":"#VALUE!"},{"$error":"#VALUE!"},{"$error":"#VALUE!"},{"$error":"#VALUE!"},1.967818120138195E-3,{"$error":"#VALUE!"}]
["","","","","","","","","","","","","","","","","",null,"","","","","","",null,0,"","",0,"","",0,"00:00:00",0,null,0,0,null,{"$error":"#VALUE!"},{"$error":"#VALUE!"},{"$error":"#VALUE!"},{"$error":"#VALUE!"},{"$error":"#VALUE!"},1.967818120138195E-3,{"$error":"#VALUE!"}]
["","","","","","","","","","","","","","","","","",null,"","","","","","",null,0,"","",0,"","",0,"00:00:00",0,null,0,0,null,{"$error":"#VALUE!"},{"$error":"#VALUE!"},{"$error":"#VALUE!"},{"$error":"#VALUE!"},{"$error":"#VALUE!"},1.967818120138195E-3,{"$error":"#VALUE!"}]
["","","","","","","","","","","","","","","","","",null,"","","","","","",null,0,"","",0,"","",0,"00:00:00",0,null,0,0,null,{"$error":"#VALUE!"},{"$error":"#VALUE!"},{"$error":"#VALUE!"},{"$error":"#VALUE!"},{"$error":"#VALUE!"},1.967818120138195E-3,{"$error":"#VALUE!"}]
["","","","","","","","","","","","","","","","","",null,"","","","","","",null,0,"","",0,"","",0,"00:00:00",0,null,0,0,null,{"$error":"#VALUE!"},{"$error":"#VALUE!"},{"$error":"#VALUE!"},{"$error":"#VALUE!"},{"$error":"#VALUE!"},1.967818120138195E-3,{"$error":"#VALUE!"}]
["","","","","","","","","","","","","","","","","",null,"","","","","","",null,0,"","",0,"","",0,"00:00:00",0,null,0,0,null,{"$error":"#VALUE!"},{"$error":"#VALUE!"},{"$error":"#VALUE!"},{"$error":"#VALUE!"},{"$error":"#VALUE!"},1.967818120138195E-3,{"$error":"#VALUE!"}]
["","","","","","","","","","","","","","","","","",null,"","","","","","",null,0,"","",0,"","",0,"00:00:00",0,null,0,0,null,{"$error":"#VALUE!"},{"$error":"#VALUE!"},{"$error":"#VALUE!"},{"$error":"#VALUE!"},{"$error":"#VALUE!"},1.967818120138195E-3,{"$error":"#VALUE!"}]
["","","","","","","","","","","","","","","","","",null,"","","","","","",null,0,"","",0,"","",0,"00:00:00",0,null,0,0,null,{"$error":"#VALUE!"},{"$error":"#VALUE!"},{"$error":"#VALUE!"},{"$error":"#VALUE!"},{"$error":"#VALUE!"},1.967818120138195E-3,{"$error":"#VALUE!"}]
["","","","","","","","","","","","","","","","","",null,"","","","","","",null,0,"","",0,"","",0,"00:00:00",0,null,0,0,null,{"$error":"#VALUE!"},{"$error":"#VALUE!"},{"$error":"#VALUE!"},{"$error":"#VALUE!"},{"$error":"#VALUE!"},1.967818120138195E-3,{"$error":"#VALUE!"}]
["","","","","","","","","","","","","","","","","",null,"","","","","","",null,0,"","",0,"","",0,"00:00:00",0,null,0,0,null,{"$error":"#VALUE!"},{"$error":"#VALUE!"},{"$error":"#VALUE!"},{"$error":"#VALUE!"},{"$error":"#VALUE!"},1.967818120138195E-3,{"$error":"#VALUE!"}]
["","","","","","","","","","","","","","","","","",null,"","","","","","",null,0,"","",0,"","",0,"00:00:00",0,null,0,0,null,{"$error":"#VALUE!"},{"$error":"#VALUE!"},{"$error":"#VALUE!"},{"$error":"#VALUE!"},{"$error":"#VALUE!"},1.967818120138195E-3,{"$error":"#VALUE!"}]
["","","","","","","","","","","","","","","","","",null,"","","","","","",null,0,"","",0,"","",0,"00:00:00",0,null,0,0,null,{"$error":"#VALUE!"},{"$error":"#VALUE!"},{"$error":"#VALUE!"},{"$error":"#VALUE!"},{"$error":"#VALUE!"},1.967818120138195E-3,{"$error":"#VALUE!"}]
["","","","","","","","","","","","","","","","","",null,"","","","","","",null,0,"","",0,"","",0,"00:00:00",0,null,0,0,null,{"$error":"#VALUE!"},{"$error":"#VALUE!"},{"$error":"#VALUE!"},{"$error":"#VALUE!"},{"$error":"#VALUE!"},1.967818120138195E-3,{"$error":"#VALUE!"}]
["","","","","","","","","","","","","","","","","",null,"","","","","","",null,0,"","",0,"","",0,"00:00:00",0,null,0,0,null,{"$error":"#VALUE!"},{"$error":"#VALUE!"},{"$error":"#VALUE!"},{"$error":"#VALUE!"},{"$error":"#VALUE!"},1.967818120138195E-3,{"$error":"#VALUE!"}]
["","","","","","","","","","","","","","","","","",null,"","","","","","",null,0,"","",0,"","",0,"00:00:00",0,null,0,0,null,{"$error":"#VALUE!"},{"$error":"#VALUE!"},{"$error":"#VALUE!"},{"$error":"#VALUE!"},{"$error":"#VALUE!"},1.967818120138195E-3,{"$error":"#VALUE!"}]
["","","","","","","","","","","","","","","","","",null,"","","","","","",null,0,"","",0,"","",0,"00:00:00",0,null,0,0,null,{"$error":"#VALUE!"},{"$error":"#VALUE!"},{"$error":"#VALUE!"},{"$error":"#VALUE!"},{"$error":"#VALUE!"},1.967818120138195E-3,{"$error":"#VALUE!"}]
["","","","","","","","","","","","","","","","","",null,"","","","","","",null,0,"","",0,"","",0,"00:00:00",0,null,0,0,null,{"$error":"#VALUE!"},{"$error":"#VALUE!"},{"$error":"#VALUE!"},{"$error":"#VALUE!"},{"$error":"#VALUE!"},1.967818120138195E-3,{"$error":"#VALUE!"}]
["","","","","","","","","","","","","","","","","",null,"","","","","","",null,0,"","",0,"","",0,"00:00:00",0,null,0,0,null,{"$error":"#VALUE!"},{"$error":"#VALUE!"},{"$error":"#VALUE!"},{"$error":"#VALUE!"},{"$error":"#VALUE!"},1.967818120138195E-3,{"$error":"#VALUE!"}]
["","","","","","","","","","","","","","","","","",null,"","","","","","",null,0,"","",0,"","",0,"00:00:00",0,null,0,0,null,{"$error":"#VALUE!"},{"$error":"#VALUE!"},{"$error":"#VALUE!"},{"$error":"#VALUE!"},{"$error":"#VALUE!"},1.967818120138195E-3,{"$error":"#VALUE!"}]
["","","","","","","","","","","","","","","","","",null,"","","","","","",null,0,"","",0,"","",0,"00:00:00",0,null,0,0,null,{"$error":"#VALUE!"},{"$error":"#VALUE!"},{"$error":"#VALUE!"},{"$error":"#VALUE!"},{"$error":"#VALUE!"},1.967818120138195E-3,{"$error":"#VALUE!"}]
["","","","","","","","","","","","","","","","","",null,"","","","","","",null,0,"","",0,"","",0,"00:00:00",0,null,0,0,null,{"$error":"#VALUE!"},{"$error":"#VALUE!"},{"$error":"#VALUE!"},{"$error":"#VALUE!"},{"$error":"#VALUE!"},1.967818120138195E-3,{"$error":"#VALUE!"}]
["","","","","","","","","","","","","","","","","",null,"","","","","","",null,0,"","",0,"","",0,"00:00:00",0,null,0,0,null,{"$error":"#VALUE!"},{"$error":"#VALUE!"},{"$error":"#VALUE!"},{"$error":"#VALUE!"},{"$error":"#VALUE!"},1.967818120138195E-3,{"$error":"#VALUE!"}]
["","","","","","","","","","","","","","","","","",null,"","","","","","",null,0,"","",0,"","",0,"00:00:00",0,null,0,0,null,{"$error":"#VALUE!"},{"$error":"#VALUE!"},{"$error":"#VALUE!"},{"$error":"#VALUE!"},{"$error":"#VALUE!"},1.967818120138195E-3,{"$error":"#VALUE!"}]
["","","","","","","","","","","","","","","","","",null,"","","","","","",null,0,"","",0,"","",0,"00:00:00",0,null,0,0,null,{"$error":"#VALUE!"},{"$error":"#VALUE!"},{"$error":"#VALUE!"},{"$error":"#VALUE!"},{"$error":"#VALUE!"},1.967818120138195E-3,{"$error":"#VALUE!"}]
["","","","","","","","","","","","","","","","","",null,"","","","","","",null,0,"","",0,"","",0,"00:00:00",0,null,0,0,null,{"$error":"#VALUE!"},{"$error":"#VALUE!"},{"$error":"#VALUE!"},{"$error":"#VALUE!"},{"$error":"#VALUE!"},1.967818120138195E-3,{"$error":"#VALUE!"}]
["","","","","","","","","","","","","","","","","",null,"","","","","","",null,0,"","",0,"","",0,"00:00:00",0,null,0,0,null,{"$error":"#VALUE!"},{"$error":"#VALUE!"},{"$error":"#VALUE!"},{"$error":"#VALUE!"},{"$error":"#VALUE!"},1.967818120138195E-3,{"$error":"#VALUE!"}]
["","","","","","","","","","","","","","","","","",null,"","","","","","",null,0,"","",0,"","",0,"00:00:00",0,null,0,0,null,{"$error":"#VALUE!"},{"$error":"#VALUE!"},{"$error":"#VALUE!"},{"$error":"#VALUE!"},{"$error":"#VALUE!"},1.967818120138195E-3,{"$error":"#VALUE!"}]
["","","","","","","","","","","","","","","","","",null,"","","","","","",null,0,"","",0,"","",0,"00:00:00",0,null,0,0,null,{"$error":"#VALUE!"},{"$error":"#VALUE!"},{"$error":"#VALUE!"},{"$error":"#VALUE!"},{"$error":"#VALUE!"},1.967818120138195E-3,{"$error":"#VALUE!"}]
["","","","","","","","","","","","","","","","","",null,"","","","","","",null,0,"","",0,"","",0,"00:00:00",0,null,0,0,null,{"$error":"#VALUE!"},{"$error":"#VALUE!"},{"$error":"#VALUE!"},{"$error":"#VALUE!"},{"$error":"#VALUE!"},1.967818120138195E-3,{"$error":"#VALUE!"}]
["","","","","","","","","","","","","","","","","",null,"","","","","","",null,0,"","",0,"","",0,"00:00:00",0,null,0,0,null,{"$error":"#VALUE!"},{"$error":"#VALUE!"},{"$error":"#VALUE!"},{"$error":"#VALUE!"},{"$error":"#VALUE!"},1.967818120138195E-3,{"$error":"#VALUE!"}]
["","","","","","","","","","","","","","","","","",null,"","","","","","",null,0,"","",0,"","",0,"00:00:00",0,null,0,0,null,{"$error":"#VALUE!"},{"$error":"#VALUE!"},{"$error":"#VALUE!"},{"$error":"#VALUE!"},{"$error":"#VALUE!"},1.967818120138195E-3,{"$error":"#VALUE!"}]
["","","","","","","","","","","","","","","","","",null,"","","","","","",null,0,"","",0,"","",0,"00:00:00",0,null,0,0,null,{"$error":"#VALUE!"},{"$error":"#VALUE!"},{"$error":"#VALUE!"},{"$error":"#VALUE!"},{"$error":"#VALUE!"},1.967818120138195E-3,{"$error":"#VALUE!"}]
[]
[null,null,"Totales",null,null,null,null,null,null,null,{"$f":"+SUM(K33:K272)","v":49999.830000002228},{"$f":"+SUM(L33:L272)","v":85421.440000000002},{"$f":"+SUM(M33:M272)","v":13858.079999999984},{"$f":"+SUM(N33:N272)","v":99279.519999999975},149279.35000000222,0,3064.7300000000005,180,0,3244.73,0,152524.08000000232,null,{"$f":"+SUM(X33:X272)","v":0},0,149279.35000000222,85421.440000000002,3064.7300000000005,null,null,{"$f":"+SUM(AE33:AE272)","v":152524.08000000232},null,null,null,null,{"$f":"+AE274-V274","v":0},{"$f":"+AA274-L274","v":0}]
[null,null,"Validador"]

{"sheet":"Calculos PLD","index":4,"n_rows":386,"n_cols":7,"rows_kept":386,"cut":false,"hidden":true,"merged":[[0,0,0,6]]}
["Factores utilizados en Meses de No Pago para cálculo del valor cuota"]
[]
["N° de Cuota","Equivalente","Fecha","Mes","Marca Cuota No Pago","Factor (10)","Acumulado"]
[1,{"$f":"IF(E4<>\"C\",IF(ISERROR(1+B3)=TRUE,1,1+B3),IF(ISNUMBER(B3),B3,1))","v":1},{"$f":"Simulador!Q7","v":"2023-02-28"},{"$f":"MONTH(C4)","v":2},{"$f":"IF(ISERROR(MATCH(D4,Simulador!$H$16:$H$17,0))=FALSE,\"C\",IF(ISERROR(MATCH(D4,Simulador!$H$18:$H$19,0))=FALSE,\"D\",\"\"))","v":""},{"$f":"IF(E4=\"C\",0,IF(E4 =\"D\",ROUND(1/((1+Simulador!$Q$13)^A4),9) * 2,ROUND(1/((1+Simulador!$Q$13)^A4),9)))","v":0.95153473},{"$f":"ROUND(F4,9)","v":0.95153473}]
[{"$f":"A4+1","v":2},{"$f":"IF(E5<>\"C\",IF(ISERROR(1+B4)=TRUE,1,1+B4),IF(ISNUMBER(B4),B4,1))","v":2},{"$f":"DATE(YEAR(C4) + 1/12,MONTH(C4)+1,DAY(C4))","v":"2023-03-28"},3,{"$f":"IF(ISERROR(MATCH(D5,Simulador!$H$16:$H$17,0))=FALSE,\"C\",IF(ISERROR(MATCH(D5,Simulador!$H$18:$H$19,0))=FALSE,\"D\",\"\"))","v":""},{"$f":"IF(E5=\"C\",0,IF(E5 =\"D\",ROUND(1/((1+Simulador!$Q$13)^A5),9) * 2,ROUND(1/((1+Simulador!$Q$13)^A5),9)))","v":0.90541834200000004},{"$f":"G4+ROUND(F5,9)","v":1.856953072}]
[3,3,"2023-04-28",4,{"$f":"IF(ISERROR(MATCH(D6,Simulador!$H$16:$H$17,0))=FALSE,\"C\",IF(ISERROR(MATCH(D6,Simulador!$H$18:$H$19,0))=FALSE,\"D\",\"\"))","v":""},{"$f":"IF(E6=\"C\",0,IF(E6 =\"D\",ROUND(1/((1+Simulador!$Q$13)^A6),9) * 2,ROUND(1/((1+Simulador!$Q$13)^A6),9)))","v":0.86153699800000005},{"$f":"G5+ROUND(F6,9)","v":2.7184900700000001}]
[4,4,"2023-05-28",5,{"$f":"IF(ISERROR(MATCH(D7,Simulador!$H$16:$H$17,0))=FALSE,\"C\",IF(ISERROR(MATCH(D7,Simulador!$H$18:$H$19,0))=FALSE,\"D\",\"\"))","v":""},{"$f":"IF(E7=\"C\",0,IF(E7 =\"D\",ROUND(1/((1+Simulador!$Q$13)^A7),9) * 2,ROUND(1/((1+Simulador!$Q$13)^A7),9)))","v":0.81978237399999998},3.538272444]
[5,5,"2023-06-28",6,{"$f":"IF(ISERROR(MATCH(D8,Simulador!$H$16:$H$17,0))=FALSE,\"C\",IF(ISERROR(MATCH(D8,Simulador!$H$18:$H$19,0))=FALSE,\"D\",\"\"))","v":""},{"$f":"IF(E8=\"C\",0,IF(E8 =\"D\",ROUND(1/((1+Simulador!$Q$13)^A8),9) * 2,ROUND(1/((1+Simulador!$Q$13)^A8),9)))","v":0.78005139999999995},4.318323844]
[6,6,"2023-07-28",7,{"$f":"IF(ISERROR(MATCH(D9,Simulador!$H$16:$H$17,0))=FALSE,\"C\",IF(ISERROR(MATCH(D9,Simulador!$H$18:$H$19,0))=FALSE,\"D\",\"\"))","v":""},{"$f":"IF(E9=\"C\",0,IF(E9 =\"D\",ROUND(1/((1+Simulador!$Q$13)^A9),9) * 2,ROUND(1/((1+Simulador!$Q$13)^A9),9)))","v":0.74224599800000002},5.0605698419999996]
[7,7,"2023-08-28",8,{"$f":"IF(ISERROR(MATCH(D10,Simulador!$H$16:$H$17,0))=FALSE,\"C\",IF(ISERROR(MATCH(D10,Simulador!$H$18:$H$19,0))=FALSE,\"D\",\"\"))","v":""},{"$f":"IF(E10=\"C\",0,IF(E10 =\"D\",ROUND(1/((1+Simulador!$Q$13)^A10),9) * 2,ROUND(1/((1+Simulador!$Q$13)^A10),9)))","v":0.70627284599999995},5.7668426879999997]
[8,8,"2023-09-28",9,{"$f":"IF(ISERROR(MATCH(D11,Simulador!$H$16:$H$17,0))=FALSE,\"C\",IF(ISERROR(MATCH(D11,Simulador!$H$18:$H$19,0))=FALSE,\"D\",\"\"))","v":""},{"$f":"IF(E11=\"C\",0,IF(E11 =\"D\",ROUND(1/((1+Simulador!$Q$13)^A11),9) * 2,ROUND(1/((1+Simulador!$Q$13)^A11),9)))","v":0.67204314099999996},6.4388858289999993]
[9,9,"2023-10-28",10,{"$f":"IF(ISERROR(MATCH(D12,Simulador!$H$16:$H$17,0))=FALSE,\"C\",IF(ISERROR(MATCH(D12,Simulador!$H$18:$H$19,0))=FALSE,\"D\",\"\"))","v":""},{"$f":"IF(E12=\"C\",0,IF(E12 =\"D\",ROUND(1/((1+Simulador!$Q$13)^A12),9) * 2,ROUND(1/((1+Simulador!$Q$13)^A12),9)))","v":0.63947238900000003},7.0783582179999991]
[10,10,"2023-11-28",11,{"$f":"IF(ISERROR(MATCH(D13,Simulador!$H$16:$H$17,0))=FALSE,\"C\",IF(ISERROR(MATCH(D13,Simulador!$H$18:$H$19,0))=FALSE,\"D\",\"\"))","v":""},{"$f":"IF(E13=\"C\",0,IF(E13 =\"D\",ROUND(1/((1+Simulador!$Q$13)^A13),9) * 2,ROUND(1/((1+Simulador!$Q$13)^A13),9)))","v":0.60848018699999995},7.6868384049999987]
[11,11,"2023-12-28",12,{"$f":"IF(ISERROR(MATCH(D14,Simulador!$H$16:$H$17,0))=FALSE,\"C\",IF(ISERROR(MATCH(D14,Simulador!$H$18:$H$19,0))=FALSE,\"D\",\"\"))","v":""},{"$f":"IF(E14=\"C\",0,IF(E14 =\"D\",ROUND(1/((1+Simulador!$Q$13)^A14),9) * 2,ROUND(1/((1+Simulador!$Q$13)^A14),9)))","v":0.57899003000000004},8.2658284349999995]
[12,12,"2024-01-28",1,{"$f":"IF(ISERROR(MATCH(D15,Simulador!$H$16:$H$17,0))=FALSE,\"C\",IF(ISERROR(MATCH(D15,Simulador!$H$18:$H$19,0))=FALSE,\"D\",\"\"))","v":""},{"$f":"IF(E15=\"C\",0,IF(E15 =\"D\",ROUND(1/((1+Simulador!$Q$13)^A15),9) * 2,ROUND(1/((1+Simulador!$Q$13)^A15),9)))","v":0.55092912199999999},8.816757556999999]
[13,13,"2024-02-28",2,{"$f":"IF(ISERROR(MATCH(D16,Simulador!$H$16:$H$17,0))=FALSE,\"C\",IF(ISERROR(MATCH(D16,Simulador!$H$18:$H$19,0))=FALSE,\"D\",\"\"))","v":""},{"$f":"IF(E16=\"C\",0,IF(E16 =\"D\",ROUND(1/((1+Simulador!$Q$13)^A16),9) * 2,ROUND(1/((1+Simulador!$Q$13)^A16),9)))","v":0.52422819300000001},9.3409857499999998]
[14,14,"2024-03-28",3,{"$f":"IF(ISERROR(MATCH(D17,Simulador!$H$16:$H$17,0))=FALSE,\"C\",IF(ISERROR(MATCH(D17,Simulador!$H$18:$H$19,0))=FALSE,\"D\",\"\"))","v":""},{"$f":"IF(E17=\"C\",0,IF(E17 =\"D\",ROUND(1/((1+Simulador!$Q$13)^A17),9) * 2,ROUND(1/((1+Simulador!$Q$13)^A17),9)))","v":0.49882133200000001},9.8398070820000001]
[15,15,"2024-04-28",4,{"$f":"IF(ISERROR(MATCH(D18,Simulador!$H$16:$H$17,0))=FALSE,\"C\",IF(ISERROR(MATCH(D18,Simulador!$H$18:$H$19,0))=FALSE,\"D\",\"\"))","v":""},{"$f":"IF(E18=\"C\",0,IF(E18 =\"D\",ROUND(1/((1+Simulador!$Q$13)^A18),9) * 2,ROUND(1/((1+Simulador!$Q$13)^A18),9)))","v":0.474645822},10.314452903999999]
[16,16,"2024-05-28",5,{"$f":"IF(ISERROR(MATCH(D19,Simulador!$H$16:$H$17,0))=FALSE,\"C\",IF(ISERROR(MATCH(D19,Simulador!$H$18:$H$19,0))=FALSE,\"D\",\"\"))","v":""},{"$f":"IF(E19=\"C\",0,IF(E19 =\"D\",ROUND(1/((1+Simulador!$Q$13)^A19),9) * 2,ROUND(1/((1+Simulador!$Q$13)^A19),9)))","v":0.451641984},10.766094888]
[17,17,"2024-06-28",6,{"$f":"IF(ISERROR(MATCH(D20,Simulador!$H$16:$H$17,0))=FALSE,\"C\",IF(ISERROR(MATCH(D20,Simulador!$H$18:$H$19,0))=FALSE,\"D\",\"\"))","v":""},{"$f":"IF(E20=\"C\",0,IF(E20 =\"D\",ROUND(1/((1+Simulador!$Q$13)^A20),9) * 2,ROUND(1/((1+Simulador!$Q$13)^A20),9)))","v":0.42975303300000001},11.195847921]
[18,18,"2024-07-28",7,{"$f":"IF(ISERROR(MATCH(D21,Simulador!$H$16:$H$17,0))=FALSE,\"C\",IF(ISERROR(MATCH(D21,Simulador!$H$18:$H$19,0))=FALSE,\"D\",\"\"))","v":""},{"$f":"IF(E21=\"C\",0,IF(E21 =\"D\",ROUND(1/((1+Simulador!$Q$13)^A21),9) * 2,ROUND(1/((1+Simulador!$Q$13)^A21),9)))","v":0.40892493600000002},11.604772857]
[19,19,"2024-08-28",8,{"$f":"IF(ISERROR(MATCH(D22,Simulador!$H$16:$H$17,0))=FALSE,\"C\",IF(ISERROR(MATCH(D22,Simulador!$H$18:$H$19,0))=FALSE,\"D\",\"\"))","v":""},{"$f":"IF(E22=\"C\",0,IF(E22 =\"D\",ROUND(1/((1+Simulador!$Q$13)^A22),9) * 2,ROUND(1/((1+Simulador!$Q$13)^A22),9)))","v":0.389106279},11.993879136]
[20,20,"2024-09-28",9,{"$f":"IF(ISERROR(MATCH(D23,Simulador!$H$16:$H$17,0))=FALSE,\"C\",IF(ISERROR(MATCH(D23,Simulador!$H$18:$H$19,0))=FALSE,\"D\",\"\"))","v":""},{"$f":"IF(E23=\"C\",0,IF(E23 =\"D\",ROUND(1/((1+Simulador!$Q$13)^A23),9) * 2,ROUND(1/((1+Simulador!$Q$13)^A23),9)))","v":0.370248138},12.364127274000001]
[21,21,"2024-10-28",10,{"$f":"IF(ISERROR(MATCH(D24,Simulador!$H$16:$H$17,0))=FALSE,\"C\",IF(ISERROR(MATCH(D24,Simulador!$H$18:$H$19,0))=FALSE,\"D\",\"\"))","v":""},{"$f":"IF(E24=\"C\",0,IF(E24 =\"D\",ROUND(1/((1+Simulador!$Q$13)^A24),9) * 2,ROUND(1/((1+Simulador!$Q$13)^A24),9)))","v":0.35230396200000003},12.716431236000002]
[22,22,"2024-11-28",11,{"$f":"IF(ISERROR(MATCH(D25,Simulador!$H$16:$H$17,0))=FALSE,\"C\",IF(ISERROR(MATCH(D25,Simulador!$H$18:$H$19,0))=FALSE,\"D\",\"\"))","v":""},{"$f":"IF(E25=\"C\",0,IF(E25 =\"D\",ROUND(1/((1+Simulador!$Q$13)^A25),9) * 2,ROUND(1/((1+Simulador!$Q$13)^A25),9)))","v":0.33522945500000001},13.051660691000002]
[23,23,"2024-12-28",12,{"$f":"IF(ISERROR(MATCH(D26,Simulador!$H$16:$H$17,0))=FALSE,\"C\",IF(ISERROR(MATCH(D26,Simulador!$H$18:$H$19,0))=FALSE,\"D\",\"\"))","v":""},{"$f":"IF(E26=\"C\",0,IF(E26 =\"D\",ROUND(1/((1+Simulador!$Q$13)^A26),9) * 2,ROUND(1/((1+Simulador!$Q$13)^A26),9)))","v":0.31898246899999999},13.370643160000002]
[24,24,"2025-01-28",1,{"$f":"IF(ISERROR(MATCH(D27,Simulador!$H$16:$H$17,0))=FALSE,\"C\",IF(ISERROR(MATCH(D27,Simulador!$H$18:$H$19,0))=FALSE,\"D\",\"\"))","v":""},{"$f":"IF(E27=\"C\",0,IF(E27 =\"D\",ROUND(1/((1+Simulador!$Q$13)^A27),9) * 2,ROUND(1/((1+Simulador!$Q$13)^A27),9)))","v":0.30352289799999999},13.674166058000003]
[25,25,"2025-02-28",2,{"$f":"IF(ISERROR(MATCH(D28,Simulador!$H$16:$H$17,0))=FALSE,\"C\",IF(ISERROR(MATCH(D28,Simulador!$H$18:$H$19,0))=FALSE,\"D\",\"\"))","v":""},{"$f":"IF(E28=\"C\",0,IF(E28 =\"D\",ROUND(1/((1+Simulador!$Q$13)^A28),9) * 2,ROUND(1/((1+Simulador!$Q$13)^A28),9)))","v":0.28881257799999999},13.962978636000003]
[26,26,"2025-03-28",3,{"$f":"IF(ISERROR(MATCH(D29,Simulador!$H$16:$H$17,0))=FALSE,\"C\",IF(ISERROR(MATCH(D29,Simulador!$H$18:$H$19,0))=FALSE,\"D\",\"\"))","v":""},{"$f":"IF(E29=\"C\",0,IF(E29 =\"D\",ROUND(1/((1+Simulador!$Q$13)^A29),9) * 2,ROUND(1/((1+Simulador!$Q$13)^A29),9)))","v":0.27481519900000001},14.237793835000003]
[27,27,"2025-04-28",4,{"$f":"IF(ISERROR(MATCH(D30,Simulador!$H$16:$H$17,0))=FALSE,\"C\",IF(ISERROR(MATCH(D30,Simulador!$H$18:$H$19,0))=FALSE,\"D\",\"\"))","v":""},{"$f":"IF(E30=\"C\",0,IF(E30 =\"D\",ROUND(1/((1+Simulador!$Q$13)^A30),9) * 2,ROUND(1/((1+Simulador!$Q$13)^A30),9)))","v":0.26149620600000001},14.499290041000004]
[28,28,"2025-05-28",5,{"$f":"IF(ISERROR(MATCH(D31,Simulador!$H$16:$H$17,0))=FALSE,\"C\",IF(ISERROR(MATCH(D31,Simulador!$H$18:$H$19,0))=FALSE,\"D\",\"\"))","v":""},{"$f":"IF(E31=\"C\",0,IF(E31 =\"D\",ROUND(1/((1+Simulador!$Q$13)^A31),9) * 2,ROUND(1/((1+Simulador!$Q$13)^A31),9)))","v":0.248822722},14.748112763000004]
[29,29,"2025-06-28",6,{"$f":"IF(ISERROR(MATCH(D32,Simulador!$H$16:$H$17,0))=FALSE,\"C\",IF(ISERROR(MATCH(D32,Simulador!$H$18:$H$19,0))=FALSE,\"D\",\"\"))","v":""},{"$f":"IF(E32=\"C\",0,IF(E32 =\"D\",ROUND(1/((1+Simulador!$Q$13)^A32),9) * 2,ROUND(1/((1+Simulador!$Q$13)^A32),9)))","v":0.23676346100000001},14.984876224000004]
[30,30,"2025-07-28",7,{"$f":"IF(ISERROR(MATCH(D33,Simulador!$H$16:$H$17,0))=FALSE,\"C\",IF(ISERROR(MATCH(D33,Simulador!$H$18:$H$19,0))=FALSE,\"D\",\"\"))","v":""},{"$f":"IF(E33=\"C\",0,IF(E33 =\"D\",ROUND(1/((1+Simulador!$Q$13)^A33),9) * 2,ROUND(1/((1+Simulador!$Q$13)^A33),9)))","v":0.225288656},15.210164880000004]
[31,31,"2025-08-28",8,{"$f":"IF(ISERROR(MATCH(D34,Simulador!$H$16:$H$17,0))=FALSE,\"C\",IF(ISERROR(MATCH(D34,Simulador!$H$18:$H$19,0))=FALSE,\"D\",\"\"))","v":""},{"$f":"IF(E34=\"C\",0,IF(E34 =\"D\",ROUND(1/((1+Simulador!$Q$13)^A34),9) * 2,ROUND(1/((1+Simulador!$Q$13)^A34),9)))","v":0.21436998099999999},15.424534861000005]
[32,32,"2025-09-28",9,{"$f":"IF(ISERROR(MATCH(D35,Simulador!$H$16:$H$17,0))=FALSE,\"C\",IF(ISERROR(MATCH(D35,Simulador!$H$18:$H$19,0))=FALSE,\"D\",\"\"))","v":""},{"$f":"IF(E35=\"C\",0,IF(E35 =\"D\",ROUND(1/((1+Simulador!$Q$13)^A35),9) * 2,ROUND(1/((1+Simulador!$Q$13)^A35),9)))","v":0.20398048199999999},15.628515343000005]
[33,33,"2025-10-28",10,{"$f":"IF(ISERROR(MATCH(D36,Simulador!$H$16:$H$17,0))=FALSE,\"C\",IF(ISERROR(MATCH(D36,Simulador!$H$18:$H$19,0))=FALSE,\"D\",\"\"))","v":""},{"$f":"IF(E36=\"C\",0,IF(E36 =\"D\",ROUND(1/((1+Simulador!$Q$13)^A36),9) * 2,ROUND(1/((1+Simulador!$Q$13)^A36),9)))","v":0.194094512},15.822609855000005]
[34,34,"2025-11-28",11,{"$f":"IF(ISERROR(MATCH(D37,Simulador!$H$16:$H$17,0))=FALSE,\"C\",IF(ISERROR(MATCH(D37,Simulador!$H$18:$H$19,0))=FALSE,\"D\",\"\"))","v":""},{"$f":"IF(E37=\"C\",0,IF(E37 =\"D\",ROUND(1/((1+Simulador!$Q$13)^A37),9) * 2,ROUND(1/((1+Simulador!$Q$13)^A37),9)))","v":0.184687669},16.007297524000005]
[35,35,"2025-12-28",12,{"$f":"IF(ISERROR(MATCH(D38,Simulador!$H$16:$H$17,0))=FALSE,\"C\",IF(ISERROR(MATCH(D38,Simulador!$H$18:$H$19,0))=FALSE,\"D\",\"\"))","v":""},{"$f":"IF(E38=\"C\",0,IF(E38 =\"D\",ROUND(1/((1+Simulador!$Q$13)^A38),9) * 2,ROUND(1/((1+Simulador!$Q$13)^A38),9)))","v":0.17573673200000001},16.183034256000006]
[36,36,"2026-01-28",1,{"$f":"IF(ISERROR(MATCH(D39,Simulador!$H$16:$H$17,0))=FALSE,\"C\",IF(ISERROR(MATCH(D39,Simulador!$H$18:$H$19,0))=FALSE,\"D\",\"\"))","v":""},{"$f":"IF(E39=\"C\",0,IF(E39 =\"D\",ROUND(1/((1+Simulador!$Q$13)^A39),9) * 2,ROUND(1/((1+Simulador!$Q$13)^A39),9)))","v":0.16721960299999999},16.350253859000006]
[37,37,"2026-02-28",2,{"$f":"IF(ISERROR(MATCH(D40,Simulador!$H$16:$H$17,0))=FALSE,\"C\",IF(ISERROR(MATCH(D40,Simulador!$H$18:$H$19,0))=FALSE,\"D\",\"\"))","v":""},{"$f":"IF(E40=\"C\",0,IF(E40 =\"D\",ROUND(1/((1+Simulador!$Q$13)^A40),9) * 2,ROUND(1/((1+Simulador!$Q$13)^A40),9)))","v":0.15911526000000001},16.509369119000006]
[38,38,"2026-03-28",3,{"$f":"IF(ISERROR(MATCH(D41,Simulador!$H$16:$H$17,0))=FALSE,\"C\",IF(ISERROR(MATCH(D41,Simulador!$H$18:$H$19,0))=FALSE,\"D\",\"\"))","v":""},{"$f":"IF(E41=\"C\",0,IF(E41 =\"D\",ROUND(1/((1+Simulador!$Q$13)^A41),9) * 2,ROUND(1/((1+Simulador!$Q$13)^A41),9)))","v":0.151403696},16.660772815000005]
[39,39,"2026-04-28",4,{"$f":"IF(ISERROR(MATCH(D42,Simulador!$H$16:$H$17,0))=FALSE,\"C\",IF(ISERROR(MATCH(D42,Simulador!$H$18:$H$19,0))=FALSE,\"D\",\"\"))","v":""},{"$f":"IF(E42=\"C\",0,IF(E42 =\"D\",ROUND(1/((1+Simulador!$Q$13)^A42),9) * 2,ROUND(1/((1+Simulador!$Q$13)^A42),9)))","v":0.14406587500000001},16.804838690000004]
[40,40,"2026-05-28",5,{"$f":"IF(ISERROR(MATCH(D43,Simulador!$H$16:$H$17,0))=FALSE,\"C\",IF(ISERROR(MATCH(D43,Simulador!$H$18:$H$19,0))=FALSE,\"D\",\"\"))","v":""},{"$f":"IF(E43=\"C\",0,IF(E43 =\"D\",ROUND(1/((1+Simulador!$Q$13)^A43),9) * 2,ROUND(1/((1+Simulador!$Q$13)^A43),9)))","v":0.13708368400000001},16.941922374000004]
[41,41,"2026-06-28",6,{"$f":"IF(ISERROR(MATCH(D44,Simulador!$H$16:$H$17,0))=FALSE,\"C\",IF(ISERROR(MATCH(D44,Simulador!$H$18:$H$19,0))=FALSE,\"D\",\"\"))","v":""},{"$f":"IF(E44=\"C\",0,IF(E44 =\"D\",ROUND(1/((1+Simulador!$Q$13)^A44),9) * 2,ROUND(1/((1+Simulador!$Q$13)^A44),9)))","v":0.130439886},17.072362260000006]
[42,42,"2026-07-28",7,{"$f":"IF(ISERROR(MATCH(D45,Simulador!$H$16:$H$17,0))=FALSE,\"C\",IF(ISERROR(MATCH(D45,Simulador!$H$18:$H$19,0))=FALSE,\"D\",\"\"))","v":""},{"$f":"IF(E45=\"C\",0,IF(E45 =\"D\",ROUND(1/((1+Simulador!$Q$13)^A45),9) * 2,ROUND(1/((1+Simulador!$Q$13)^A45),9)))","v":0.124118082},17.196480342000005]
[43,43,"2026-08-28",8,{"$f":"IF(ISERROR(MATCH(D46,Simulador!$H$16:$H$17,0))=FALSE,\"C\",IF(ISERROR(MATCH(D46,Simulador!$H$18:$H$19,0))=FALSE,\"D\",\"\"))","v":""},{"$f":"IF(E46=\"C\",0,IF(E46 =\"D\",ROUND(1/((1+Simulador!$Q$13)^A46),9) * 2,ROUND(1/((1+Simulador!$Q$13)^A46),9)))","v":0.118102665},17.314583007000003]
[44,44,"2026-09-28",9,{"$f":"IF(ISERROR(MATCH(D47,Simulador!$H$16:$H$17,0))=FALSE,\"C\",IF(ISERROR(MATCH(D47,Simulador!$H$18:$H$19,0))=FALSE,\"D\",\"\"))","v":""},{"$f":"IF(E47=\"C\",0,IF(E47 =\"D\",ROUND(1/((1+Simulador!$Q$13)^A47),9) * 2,ROUND(1/((1+Simulador!$Q$13)^A47),9)))","v":0.11237878799999999},17.426961795000004]
[45,45,"2026-10-28",10,{"$f":"IF(ISERROR(MATCH(D48,Simulador!$H$16:$H$17,0))=FALSE,\"C\",IF(ISERROR(MATCH(D48,Simulador!$H$18:$H$19,0))=FALSE,\"D\",\"\"))","v":""},{"$f":"IF(E48=\"C\",0,IF(E48 =\"D\",ROUND(1/((1+Simulador!$Q$13)^A48),9) * 2,ROUND(1/((1+Simulador!$Q$13)^A48),9)))","v":0.106932319},17.533894114000002]
[46,46,"2026-11-28",11,{"$f":"IF(ISERROR(MATCH(D49,Simulador!$H$16:$H$17,0))=FALSE,\"C\",IF(ISERROR(MATCH(D49,Simulador!$H$18:$H$19,0))=FALSE,\"D\",\"\"))","v":""},{"$f":"IF(E49=\"C\",0,IF(E49 =\"D\",ROUND(1/((1+Simulador!$Q$13)^A49),9) * 2,ROUND(1/((1+Simulador!$Q$13)^A49),9)))","v":0.10174981600000001},17.635643930000004]
[47,47,"2026-12-28",12,{"$f":"IF(ISERROR(MATCH(D50,Simulador!$H$16:$H$17,0))=FALSE,\"C\",IF(ISERROR(MATCH(D50,Simulador!$H$18:$H$19,0))=FALSE,\"D\",\"\"))","v":""},{"$f":"IF(E50=\"C\",0,IF(E50 =\"D\",ROUND(1/((1+Simulador!$Q$13)^A50),9) * 2,ROUND(1/((1+Simulador!$Q$13)^A50),9)))","v":9.6818482999999997E-2},17.732462413000004]
[48,48,"2027-01-28",1,{"$f":"IF(ISERROR(MATCH(D51,Simulador!$H$16:$H$17,0))=FALSE,\"C\",IF(ISERROR(MATCH(D51,Simulador!$H$18:$H$19,0))=FALSE,\"D\",\"\"))","v":""},{"$f":"IF(E51=\"C\",0,IF(E51 =\"D\",ROUND(1/((1+Simulador!$Q$13)^A51),9) * 2,ROUND(1/((1+Simulador!$Q$13)^A51),9)))","v":9.2126149000000004E-2},17.824588562000002]
[49,49,"2027-02-28",2,{"$f":"IF(ISERROR(MATCH(D52,Simulador!$H$16:$H$17,0))=FALSE,\"C\",IF(ISERROR(MATCH(D52,Simulador!$H$18:$H$19,0))=FALSE,\"D\",\"\"))","v":""},{"$f":"IF(E52=\"C\",0,IF(E52 =\"D\",ROUND(1/((1+Simulador!$Q$13)^A52),9) * 2,ROUND(1/((1+Simulador!$Q$13)^A52),9)))","v":8.7661231000000006E-2},17.912249793000001]
[50,50,"2027-03-28",3,{"$f":"IF(ISERROR(MATCH(D53,Simulador!$H$16:$H$17,0))=FALSE,\"C\",IF(ISERROR(MATCH(D53,Simulador!$H$18:$H$19,0))=FALSE,\"D\",\"\"))","v":""},{"$f":"IF(E53=\"C\",0,IF(E53 =\"D\",ROUND(1/((1+Simulador!$Q$13)^A53),9) * 2,ROUND(1/((1+Simulador!$Q$13)^A53),9)))","v":8.3412705000000004E-2},17.995662498000002]
[51,51,"2027-04-28",4,{"$f":"IF(ISERROR(MATCH(D54,Simulador!$H$16:$H$17,0))=FALSE,\"C\",IF(ISERROR(MATCH(D54,Simulador!$H$18:$H$19,0))=FALSE,\"D\",\"\"))","v":""},{"$f":"IF(E54=\"C\",0,IF(E54 =\"D\",ROUND(1/((1+Simulador!$Q$13)^A54),9) * 2,ROUND(1/((1+Simulador!$Q$13)^A54),9)))","v":7.9370086000000006E-2},18.075032584000002]
[52,52,"2027-05-28",5,{"$f":"IF(ISERROR(MATCH(D55,Simulador!$H$16:$H$17,0))=FALSE,\"C\",IF(ISERROR(MATCH(D55,Simulador!$H$18:$H$19,0))=FALSE,\"D\",\"\"))","v":""},{"$f":"IF(E55=\"C\",0,IF(E55 =\"D\",ROUND(1/((1+Simulador!$Q$13)^A55),9) * 2,ROUND(1/((1+Simulador!$Q$13)^A55),9)))","v":7.5523392999999994E-2},18.150555977000003]
[53,53,"2027-06-28",6,{"$f":"IF(ISERROR(MATCH(D56,Simulador!$H$16:$H$17,0))=FALSE,\"C\",IF(ISERROR(MATCH(D56,Simulador!$H$18:$H$19,0))=FALSE,\"D\",\"\"))","v":""},{"$f":"IF(E56=\"C\",0,IF(E56 =\"D\",ROUND(1/((1+Simulador!$Q$13)^A56),9) * 2,ROUND(1/((1+Simulador!$Q$13)^A56),9)))","v":7.1863131999999996E-2},18.222419109000004]
[54,54,"2027-07-28",7,{"$f":"IF(ISERROR(MATCH(D57,Simulador!$H$16:$H$17,0))=FALSE,\"C\",IF(ISERROR(MATCH(D57,Simulador!$H$18:$H$19,0))=FALSE,\"D\",\"\"))","v":""},{"$f":"IF(E57=\"C\",0,IF(E57 =\"D\",ROUND(1/((1+Simulador!$Q$13)^A57),9) * 2,ROUND(1/((1+Simulador!$Q$13)^A57),9)))","v":6.8380265999999995E-2},18.290799375000002]
[55,55,"2027-08-28",8,{"$f":"IF(ISERROR(MATCH(D58,Simulador!$H$16:$H$17,0))=FALSE,\"C\",IF(ISERROR(MATCH(D58,Simulador!$H$18:$H$19,0))=FALSE,\"D\",\"\"))","v":""},{"$f":"IF(E58=\"C\",0,IF(E58 =\"D\",ROUND(1/((1+Simulador!$Q$13)^A58),9) * 2,ROUND(1/((1+Simulador!$Q$13)^A58),9)))","v":6.5066198000000006E-2},18.355865573000003]
[56,56,"2027-09-28",9,{"$f":"IF(ISERROR(MATCH(D59,Simulador!$H$16:$H$17,0))=FALSE,\"C\",IF(ISERROR(MATCH(D59,Simulador!$H$18:$H$19,0))=FALSE,\"D\",\"\"))","v":""},{"$f":"IF(E59=\"C\",0,IF(E59 =\"D\",ROUND(1/((1+Simulador!$Q$13)^A59),9) * 2,ROUND(1/((1+Simulador!$Q$13)^A59),9)))","v":6.1912746999999997E-2},18.417778320000004]
[57,57,"2027-10-28",10,{"$f":"IF(ISERROR(MATCH(D60,Simulador!$H$16:$H$17,0))=FALSE,\"C\",IF(ISERROR(MATCH(D60,Simulador!$H$18:$H$19,0))=FALSE,\"D\",\"\"))","v":""},{"$f":"IF(E60=\"C\",0,IF(E60 =\"D\",ROUND(1/((1+Simulador!$Q$13)^A60),9) * 2,ROUND(1/((1+Simulador!$Q$13)^A60),9)))","v":5.8912129000000001E-2},18.476690449000003]
[58,58,"2027-11-28",11,{"$f":"IF(ISERROR(MATCH(D61,Simulador!$H$16:$H$17,0))=FALSE,\"C\",IF(ISERROR(MATCH(D61,Simulador!$H$18:$H$19,0))=FALSE,\"D\",\"\"))","v":""},{"$f":"IF(E61=\"C\",0,IF(E61 =\"D\",ROUND(1/((1+Simulador!$Q$13)^A61),9) * 2,ROUND(1/((1+Simulador!$Q$13)^A61),9)))","v":5.6056937000000001E-2},18.532747386000004]
[59,59,"2027-12-28",12,{"$f":"IF(ISERROR(MATCH(D62,Simulador!$H$16:$H$17,0))=FALSE,\"C\",IF(ISERROR(MATCH(D62,Simulador!$H$18:$H$19,0))=FALSE,\"D\",\"\"))","v":""},{"$f":"IF(E62=\"C\",0,IF(E62 =\"D\",ROUND(1/((1+Simulador!$Q$13)^A62),9) * 2,ROUND(1/((1+Simulador!$Q$13)^A62),9)))","v":5.3340121999999997E-2},18.586087508000006]
[60,60,"2028-01-28",1,{"$f":"IF(ISERROR(MATCH(D63,Simulador!$H$16:$H$17,0))=FALSE,\"C\",IF(ISERROR(MATCH(D63,Simulador!$H$18:$H$19,0))=FALSE,\"D\",\"\"))","v":""},{"$f":"IF(E63=\"C\",0,IF(E63 =\"D\",ROUND(1/((1+Simulador!$Q$13)^A63),9) * 2,ROUND(1/((1+Simulador!$Q$13)^A63),9)))","v":5.0754978999999999E-2},18.636842487000006]
[61,61,"2028-02-28",2,{"$f":"IF(ISERROR(MATCH(D64,Simulador!$H$16:$H$17,0))=FALSE,\"C\",IF(ISERROR(MATCH(D64,Simulador!$H$18:$H$19,0))=FALSE,\"D\",\"\"))","v":""},{"$f":"IF(E64=\"C\",0,IF(E64 =\"D\",ROUND(1/((1+Simulador!$Q$13)^A64),9) * 2,ROUND(1/((1+Simulador!$Q$13)^A64),9)))","v":4.8295125000000001E-2},18.685137612000005]
[62,62,"2028-03-28",3,{"$f":"IF(ISERROR(MATCH(D65,Simulador!$H$16:$H$17,0))=FALSE,\"C\",IF(ISERROR(MATCH(D65,Simulador!$H$18:$H$19,0))=FALSE,\"D\",\"\"))","v":""},{"$f":"IF(E65=\"C\",0,IF(E65 =\"D\",ROUND(1/((1+Simulador!$Q$13)^A65),9) * 2,ROUND(1/((1+Simulador!$Q$13)^A65),9)))","v":4.5954489000000001E-2},18.731092101000005]
[63,63,"2028-04-28",4,{"$f":"IF(ISERROR(MATCH(D66,Simulador!$H$16:$H$17,0))=FALSE,\"C\",IF(ISERROR(MATCH(D66,Simulador!$H$18:$H$19,0))=FALSE,\"D\",\"\"))","v":""},{"$f":"IF(E66=\"C\",0,IF(E66 =\"D\",ROUND(1/((1+Simulador!$Q$13)^A66),9) * 2,ROUND(1/((1+Simulador!$Q$13)^A66),9)))","v":4.3727292000000001E-2},18.774819393000005]
[64,64,"2028-05-28",5,{"$f":"IF(ISERROR(MATCH(D67,Simulador!$H$16:$H$17,0))=FALSE,\"C\",IF(ISERROR(MATCH(D67,Simulador!$H$18:$H$19,0))=FALSE,\"D\",\"\"))","v":""},{"$f":"IF(E67=\"C\",0,IF(E67 =\"D\",ROUND(1/((1+Simulador!$Q$13)^A67),9) * 2,ROUND(1/((1+Simulador!$Q$13)^A67),9)))","v":4.1608037E-2},18.816427430000005]
[65,65,"2028-06-28",{"$f":"MONTH(C68)","v":6},{"$f":"IF(ISERROR(MATCH(D68,Simulador!$H$16:$H$17,0))=FALSE,\"C\",IF(ISERROR(MATCH(D68,Simulador!$H$18:$H$19,0))=FALSE,\"D\",\"\"))","v":""},{"$f":"IF(E68=\"C\",0,IF(E68 =\"D\",ROUND(1/((1+Simulador!$Q$13)^A68),9) * 2,ROUND(1/((1+Simulador!$Q$13)^A68),9)))","v":3.9591491999999999E-2},18.856018922000004]
[{"$f":"A68+1","v":66},{"$f":"IF(E69<>\"C\",IF(ISERROR(1+B68)=TRUE,1,1+B68),IF(ISNUMBER(B68),B68,1))","v":66},{"$f":"DATE(YEAR(C68) + 1/12,MONTH(C68)+1,DAY(C68))","v":"2028-07-28"},7,{"$f":"IF(ISERROR(MATCH(D69,Simulador!$H$16:$H$17,0))=FALSE,\"C\",IF(ISERROR(MATCH(D69,Simulador!$H$18:$H$19,0))=FALSE,\"D\",\"\"))","v":""},{"$f":"IF(E69=\"C\",0,IF(E69 =\"D\",ROUND(1/((1+Simulador!$Q$13)^A69),9) * 2,ROUND(1/((1+Simulador!$Q$13)^A69),9)))","v":3.767268E-2},18.893691602000004]
[67,67,"2028-08-28",8,{"$f":"IF(ISERROR(MATCH(D70,Simulador!$H$16:$H$17,0))=FALSE,\"C\",IF(ISERROR(MATCH(D70,Simulador!$H$18:$H$19,0))=FALSE,\"D\",\"\"))","v":""},{"$f":"IF(E70=\"C\",0,IF(E70 =\"D\",ROUND(1/((1+Simulador!$Q$13)^A70),9) * 2,ROUND(1/((1+Simulador!$Q$13)^A70),9)))","v":3.5846863E-2},{"$f":"G69+ROUND(F70,9)","v":18.929538465000004}]
[68,68,"2028-09-28",9,{"$f":"IF(ISERROR(MATCH(D71,Simulador!$H$16:$H$17,0))=FALSE,\"C\",IF(ISERROR(MATCH(D71,Simulador!$H$18:$H$19,0))=FALSE,\"D\",\"\"))","v":""},{"$f":"IF(E71=\"C\",0,IF(E71 =\"D\",ROUND(1/((1+Simulador!$Q$13)^A71),9) * 2,ROUND(1/((1+Simulador!$Q$13)^A71),9)))","v":3.4109535000000003E-2},18.963648000000003]
[69,69,"2028-10-28",10,{"$f":"IF(ISERROR(MATCH(D72,Simulador!$H$16:$H$17,0))=FALSE,\"C\",IF(ISERROR(MATCH(D72,Simulador!$H$18:$H$19,0))=FALSE,\"D\",\"\"))","v":""},{"$f":"IF(E72=\"C\",0,IF(E72 =\"D\",ROUND(1/((1+Simulador!$Q$13)^A72),9) * 2,ROUND(1/((1+Simulador!$Q$13)^A72),9)))","v":3.2456407E-2},18.996104407000004]
[70,70,"2028-11-28",11,{"$f":"IF(ISERROR(MATCH(D73,Simulador!$H$16:$H$17,0))=FALSE,\"C\",IF(ISERROR(MATCH(D73,Simulador!$H$18:$H$19,0))=FALSE,\"D\",\"\"))","v":""},{"$f":"IF(E73=\"C\",0,IF(E73 =\"D\",ROUND(1/((1+Simulador!$Q$13)^A73),9) * 2,ROUND(1/((1+Simulador!$Q$13)^A73),9)))","v":3.0883398999999999E-2},19.026987806000005]
[71,71,"2028-12-28",12,{"$f":"IF(ISERROR(MATCH(D74,Simulador!$H$16:$H$17,0))=FALSE,\"C\",IF(ISERROR(MATCH(D74,Simulador!$H$18:$H$19,0))=FALSE,\"D\",\"\"))","v":""},{"$f":"IF(E74=\"C\",0,IF(E74 =\"D\",ROUND(1/((1+Simulador!$Q$13)^A74),9) * 2,ROUND(1/((1+Simulador!$Q$13)^A74),9)))","v":2.9386626999999998E-2},19.056374433000006]
[72,72,"2029-01-28",1,{"$f":"IF(ISERROR(MATCH(D75,Simulador!$H$16:$H$17,0))=FALSE,\"C\",IF(ISERROR(MATCH(D75,Simulador!$H$18:$H$19,0))=FALSE,\"D\",\"\"))","v":""},{"$f":"IF(E75=\"C\",0,IF(E75 =\"D\",ROUND(1/((1+Simulador!$Q$13)^A75),9) * 2,ROUND(1/((1+Simulador!$Q$13)^A75),9)))","v":2.7962396E-2},19.084336829000005]
[73,73,"2029-02-28",2,{"$f":"IF(ISERROR(MATCH(D76,Simulador!$H$16:$H$17,0))=FALSE,\"C\",IF(ISERROR(MATCH(D76,Simulador!$H$18:$H$19,0))=FALSE,\"D\",\"\"))","v":""},{"$f":"IF(E76=\"C\",0,IF(E76 =\"D\",ROUND(1/((1+Simulador!$Q$13)^A76),9) * 2,ROUND(1/((1+Simulador!$Q$13)^A76),9)))","v":2.6607190999999999E-2},19.110944020000005]
[74,74,"2029-03-28",3,{"$f":"IF(ISERROR(MATCH(D77,Simulador!$H$16:$H$17,0))=FALSE,\"C\",IF(ISERROR(MATCH(D77,Simulador!$H$18:$H$19,0))=FALSE,\"D\",\"\"))","v":""},{"$f":"IF(E77=\"C\",0,IF(E77 =\"D\",ROUND(1/((1+Simulador!$Q$13)^A77),9) * 2,ROUND(1/((1+Simulador!$Q$13)^A77),9)))","v":2.5317665999999999E-2},19.136261686000005]
[75,75,"2029-04-28",4,{"$f":"IF(ISERROR(MATCH(D78,Simulador!$H$16:$H$17,0))=FALSE,\"C\",IF(ISERROR(MATCH(D78,Simulador!$H$18:$H$19,0))=FALSE,\"D\",\"\"))","v":""},{"$f":"IF(E78=\"C\",0,IF(E78 =\"D\",ROUND(1/((1+Simulador!$Q$13)^A78),9) * 2,ROUND(1/((1+Simulador!$Q$13)^A78),9)))","v":2.4090639E-2},19.160352325000005]
[76,76,"2029-05-28",5,{"$f":"IF(ISERROR(MATCH(D79,Simulador!$H$16:$H$17,0))=FALSE,\"C\",IF(ISERROR(MATCH(D79,Simulador!$H$18:$H$19,0))=FALSE,\"D\",\"\"))","v":""},{"$f":"IF(E79=\"C\",0,IF(E79 =\"D\",ROUND(1/((1+Simulador!$Q$13)^A79),9) * 2,ROUND(1/((1+Simulador!$Q$13)^A79),9)))","v":2.2923078999999999E-2},19.183275404000007]
[77,77,"2029-06-28",6,{"$f":"IF(ISERROR(MATCH(D80,Simulador!$H$16:$H$17,0))=FALSE,\"C\",IF(ISERROR(MATCH(D80,Simulador!$H$18:$H$19,0))=FALSE,\"D\",\"\"))","v":""},{"$f":"IF(E80=\"C\",0,IF(E80 =\"D\",ROUND(1/((1+Simulador!$Q$13)^A80),9) * 2,ROUND(1/((1+Simulador!$Q$13)^A80),9)))","v":2.1812106000000001E-2},19.205087510000006]
[78,78,"2029-07-28",7,{"$f":"IF(ISERROR(MATCH(D81,Simulador!$H$16:$H$17,0))=FALSE,\"C\",IF(ISERROR(MATCH(D81,Simulador!$H$18:$H$19,0))=FALSE,\"D\",\"\"))","v":""},{"$f":"IF(E81=\"C\",0,IF(E81 =\"D\",ROUND(1/((1+Simulador!$Q$13)^A81),9) * 2,ROUND(1/((1+Simulador!$Q$13)^A81),9)))","v":2.0754976000000001E-2},19.225842486000005]
[79,79,"2029-08-28",8,{"$f":"IF(ISERROR(MATCH(D82,Simulador!$H$16:$H$17,0))=FALSE,\"C\",IF(ISERROR(MATCH(D82,Simulador!$H$18:$H$19,0))=FALSE,\"D\",\"\"))","v":""},{"$f":"IF(E82=\"C\",0,IF(E82 =\"D\",ROUND(1/((1+Simulador!$Q$13)^A82),9) * 2,ROUND(1/((1+Simulador!$Q$13)^A82),9)))","v":1.9749081000000002E-2},19.245591567000005]
[80,80,"2029-09-28",9,{"$f":"IF(ISERROR(MATCH(D83,Simulador!$H$16:$H$17,0))=FALSE,\"C\",IF(ISERROR(MATCH(D83,Simulador!$H$18:$H$19,0))=FALSE,\"D\",\"\"))","v":""},{"$f":"IF(E83=\"C\",0,IF(E83 =\"D\",ROUND(1/((1+Simulador!$Q$13)^A83),9) * 2,ROUND(1/((1+Simulador!$Q$13)^A83),9)))","v":1.8791935999999999E-2},19.264383503000005]
[81,81,"2029-10-28",10,{"$f":"IF(ISERROR(MATCH(D84,Simulador!$H$16:$H$17,0))=FALSE,\"C\",IF(ISERROR(MATCH(D84,Simulador!$H$18:$H$19,0))=FALSE,\"D\",\"\"))","v":""},{"$f":"IF(E84=\"C\",0,IF(E84 =\"D\",ROUND(1/((1+Simulador!$Q$13)^A84),9) * 2,ROUND(1/((1+Simulador!$Q$13)^A84),9)))","v":1.788118E-2},19.282264683000005]
[82,82,"2029-11-28",11,{"$f":"IF(ISERROR(MATCH(D85,Simulador!$H$16:$H$17,0))=FALSE,\"C\",IF(ISERROR(MATCH(D85,Simulador!$H$18:$H$19,0))=FALSE,\"D\",\"\"))","v":""},{"$f":"IF(E85=\"C\",0,IF(E85 =\"D\",ROUND(1/((1+Simulador!$Q$13)^A85),9) * 2,ROUND(1/((1+Simulador!$Q$13)^A85),9)))","v":1.7014563999999999E-2},19.299279247000005]
[83,83,"2029-12-28",12,{"$f":"IF(ISERROR(MATCH(D86,Simulador!$H$16:$H$17,0))=FALSE,\"C\",IF(ISERROR(MATCH(D86,Simulador!$H$18:$H$19,0))=FALSE,\"D\",\"\"))","v":""},{"$f":"IF(E86=\"C\",0,IF(E86 =\"D\",ROUND(1/((1+Simulador!$Q$13)^A86),9) * 2,ROUND(1/((1+Simulador!$Q$13)^A86),9)))","v":1.6189947999999999E-2},19.315469195000006]
[84,84,"2030-01-28",1,{"$f":"IF(ISERROR(MATCH(D87,Simulador!$H$16:$H$17,0))=FALSE,\"C\",IF(ISERROR(MATCH(D87,Simulador!$H$18:$H$19,0))=FALSE,\"D\",\"\"))","v":""},{"$f":"IF(E87=\"C\",0,IF(E87 =\"D\",ROUND(1/((1+Simulador!$Q$13)^A87),9) * 2,ROUND(1/((1+Simulador!$Q$13)^A87),9)))","v":1.5405298E-2},19.330874493000007]
[85,85,"2030-02-28",2,{"$f":"IF(ISERROR(MATCH(D88,Simulador!$H$16:$H$17,0))=FALSE,\"C\",IF(ISERROR(MATCH(D88,Simulador!$H$18:$H$19,0))=FALSE,\"D\",\"\"))","v":""},{"$f":"IF(E88=\"C\",0,IF(E88 =\"D\",ROUND(1/((1+Simulador!$Q$13)^A88),9) * 2,ROUND(1/((1+Simulador!$Q$13)^A88),9)))","v":1.4658676000000001E-2},19.345533169000007]
[86,86,"2030-03-28",3,{"$f":"IF(ISERROR(MATCH(D89,Simulador!$H$16:$H$17,0))=FALSE,\"C\",IF(ISERROR(MATCH(D89,Simulador!$H$18:$H$19,0))=FALSE,\"D\",\"\"))","v":""},{"$f":"IF(E89=\"C\",0,IF(E89 =\"D\",ROUND(1/((1+Simulador!$Q$13)^A89),9) * 2,ROUND(1/((1+Simulador!$Q$13)^A89),9)))","v":1.3948240000000001E-2},19.359481409000008]
[87,87,"2030-04-28",4,{"$f":"IF(ISERROR(MATCH(D90,Simulador!$H$16:$H$17,0))=FALSE,\"C\",IF(ISERROR(MATCH(D90,Simulador!$H$18:$H$19,0))=FALSE,\"D\",\"\"))","v":""},{"$f":"IF(E90=\"C\",0,IF(E90 =\"D\",ROUND(1/((1+Simulador!$Q$13)^A90),9) * 2,ROUND(1/((1+Simulador!$Q$13)^A90),9)))","v":1.3272234000000001E-2},19.372753643000006]
[88,88,"2030-05-28",5,{"$f":"IF(ISERROR(MATCH(D91,Simulador!$H$16:$H$17,0))=FALSE,\"C\",IF(ISERROR(MATCH(D91,Simulador!$H$18:$H$19,0))=FALSE,\"D\",\"\"))","v":""},{"$f":"IF(E91=\"C\",0,IF(E91 =\"D\",ROUND(1/((1+Simulador!$Q$13)^A91),9) * 2,ROUND(1/((1+Simulador!$Q$13)^A91),9)))","v":1.2628992E-2},19.385382635000006]
[89,89,"2030-06-28",6,{"$f":"IF(ISERROR(MATCH(D92,Simulador!$H$16:$H$17,0))=FALSE,\"C\",IF(ISERROR(MATCH(D92,Simulador!$H$18:$H$19,0))=FALSE,\"D\",\"\"))","v":""},{"$f":"IF(E92=\"C\",0,IF(E92 =\"D\",ROUND(1/((1+Simulador!$Q$13)^A92),9) * 2,ROUND(1/((1+Simulador!$Q$13)^A92),9)))","v":1.2016924E-2},19.397399559000007]
[90,90,"2030-07-28",7,{"$f":"IF(ISERROR(MATCH(D93,Simulador!$H$16:$H$17,0))=FALSE,\"C\",IF(ISERROR(MATCH(D93,Simulador!$H$18:$H$19,0))=FALSE,\"D\",\"\"))","v":""},{"$f":"IF(E93=\"C\",0,IF(E93 =\"D\",ROUND(1/((1+Simulador!$Q$13)^A93),9) * 2,ROUND(1/((1+Simulador!$Q$13)^A93),9)))","v":1.1434521E-2},19.408834080000009]
[91,91,"2030-08-28",8,{"$f":"IF(ISERROR(MATCH(D94,Simulador!$H$16:$H$17,0))=FALSE,\"C\",IF(ISERROR(MATCH(D94,Simulador!$H$18:$H$19,0))=FALSE,\"D\",\"\"))","v":""},{"$f":"IF(E94=\"C\",0,IF(E94 =\"D\",ROUND(1/((1+Simulador!$Q$13)^A94),9) * 2,ROUND(1/((1+Simulador!$Q$13)^A94),9)))","v":1.0880344E-2},19.419714424000009]
[92,92,"2030-09-28",9,{"$f":"IF(ISERROR(MATCH(D95,Simulador!$H$16:$H$17,0))=FALSE,\"C\",IF(ISERROR(MATCH(D95,Simulador!$H$18:$H$19,0))=FALSE,\"D\",\"\"))","v":""},{"$f":"IF(E95=\"C\",0,IF(E95 =\"D\",ROUND(1/((1+Simulador!$Q$13)^A95),9) * 2,ROUND(1/((1+Simulador!$Q$13)^A95),9)))","v":1.0353025E-2},19.43006744900001]
[93,93,"2030-10-28",10,{"$f":"IF(ISERROR(MATCH(D96,Simulador!$H$16:$H$17,0))=FALSE,\"C\",IF(ISERROR(MATCH(D96,Simulador!$H$18:$H$19,0))=FALSE,\"D\",\"\"))","v":""},{"$f":"IF(E96=\"C\",0,IF(E96 =\"D\",ROUND(1/((1+Simulador!$Q$13)^A96),9) * 2,ROUND(1/((1+Simulador!$Q$13)^A96),9)))","v":9.8512630000000007E-3},19.439918712000011]
[94,94,"2030-11-28",11,{"$f":"IF(ISERROR(MATCH(D97,Simulador!$H$16:$H$17,0))=FALSE,\"C\",IF(ISERROR(MATCH(D97,Simulador!$H$18:$H$19,0))=FALSE,\"D\",\"\"))","v":""},{"$f":"IF(E97=\"C\",0,IF(E97 =\"D\",ROUND(1/((1+Simulador!$Q$13)^A97),9) * 2,ROUND(1/((1+Simulador!$Q$13)^A97),9)))","v":9.3738190000000002E-3},19.449292531000012]
[95,95,"2030-12-28",12,{"$f":"IF(ISERROR(MATCH(D98,Simulador!$H$16:$H$17,0))=FALSE,\"C\",IF(ISERROR(MATCH(D98,Simulador!$H$18:$H$19,0))=FALSE,\"D\",\"\"))","v":""},{"$f":"IF(E98=\"C\",0,IF(E98 =\"D\",ROUND(1/((1+Simulador!$Q$13)^A98),9) * 2,ROUND(1/((1+Simulador!$Q$13)^A98),9)))","v":8.9195139999999999E-3},19.45821204500001]
[96,96,"2031-01-28",1,{"$f":"IF(ISERROR(MATCH(D99,Simulador!$H$16:$H$17,0))=FALSE,\"C\",IF(ISERROR(MATCH(D99,Simulador!$H$18:$H$19,0))=FALSE,\"D\",\"\"))","v":""},{"$f":"IF(E99=\"C\",0,IF(E99 =\"D\",ROUND(1/((1+Simulador!$Q$13)^A99),9) * 2,ROUND(1/((1+Simulador!$Q$13)^A99),9)))","v":8.487227E-3},19.46669927200001]
[97,97,"2031-02-28",2,{"$f":"IF(ISERROR(MATCH(D100,Simulador!$H$16:$H$17,0))=FALSE,\"C\",IF(ISERROR(MATCH(D100,Simulador!$H$18:$H$19,0))=FALSE,\"D\",\"\"))","v":""},{"$f":"IF(E100=\"C\",0,IF(E100 =\"D\",ROUND(1/((1+Simulador!$Q$13)^A100),9) * 2,ROUND(1/((1+Simulador!$Q$13)^A100),9)))","v":8.0758919999999994E-3},19.474775164000011]
[98,98,"2031-03-28",3,{"$f":"IF(ISERROR(MATCH(D101,Simulador!$H$16:$H$17,0))=FALSE,\"C\",IF(ISERROR(MATCH(D101,Simulador!$H$18:$H$19,0))=FALSE,\"D\",\"\"))","v":""},{"$f":"IF(E101=\"C\",0,IF(E101 =\"D\",ROUND(1/((1+Simulador!$Q$13)^A101),9) * 2,ROUND(1/((1+Simulador!$Q$13)^A101),9)))","v":7.6844909999999999E-3},19.48245965500001]
[99,99,"2031-04-28",4,{"$f":"IF(ISERROR(MATCH(D102,Simulador!$H$16:$H$17,0))=FALSE,\"C\",IF(ISERROR(MATCH(D102,Simulador!$H$18:$H$19,0))=FALSE,\"D\",\"\"))","v":""},{"$f":"IF(E102=\"C\",0,IF(E102 =\"D\",ROUND(1/((1+Simulador!$Q$13)^A102),9) * 2,ROUND(1/((1+Simulador!$Q$13)^A102),9)))","v":7.3120599999999996E-3},19.48977171500001]
[100,100,"2031-05-28",5,{"$f":"IF(ISERROR(MATCH(D103,Simulador!$H$16:$H$17,0))=FALSE,\"C\",IF(ISERROR(MATCH(D103,Simulador!$H$18:$H$19,0))=FALSE,\"D\",\"\"))","v":""},{"$f":"IF(E103=\"C\",0,IF(E103 =\"D\",ROUND(1/((1+Simulador!$Q$13)^A103),9) * 2,ROUND(1/((1+Simulador!$Q$13)^A103),9)))","v":6.9576789999999996E-3},19.49672939400001]
[101,101,"2031-06-28",6,{"$f":"IF(ISERROR(MATCH(D104,Simulador!$H$16:$H$17,0))=FALSE,\"C\",IF(ISERROR(MATCH(D104,Simulador!$H$18:$H$19,0))=FALSE,\"D\",\"\"))","v":""},{"$f":"IF(E104=\"C\",0,IF(E104 =\"D\",ROUND(1/((1+Simulador!$Q$13)^A104),9) * 2,ROUND(1/((1+Simulador!$Q$13)^A104),9)))","v":6.6204740000000003E-3},19.503349868000011]
[102,102,"2031-07-28",7,{"$f":"IF(ISERROR(MATCH(D105,Simulador!$H$16:$H$17,0))=FALSE,\"C\",IF(ISERROR(MATCH(D105,Simulador!$H$18:$H$19,0))=FALSE,\"D\",\"\"))","v":""},{"$f":"IF(E105=\"C\",0,IF(E105 =\"D\",ROUND(1/((1+Simulador!$Q$13)^A105),9) * 2,ROUND(1/((1+Simulador!$Q$13)^A105),9)))","v":6.2996110000000001E-3},19.509649479000011]
[103,103,"2031-08-28",8,{"$f":"IF(ISERROR(MATCH(D106,Simulador!$H$16:$H$17,0))=FALSE,\"C\",IF(ISERROR(MATCH(D106,Simulador!$H$18:$H$19,0))=FALSE,\"D\",\"\"))","v":""},{"$f":"IF(E106=\"C\",0,IF(E106 =\"D\",ROUND(1/((1+Simulador!$Q$13)^A106),9) * 2,ROUND(1/((1+Simulador!$Q$13)^A106),9)))","v":5.9942980000000003E-3},19.515643777000012]
[104,104,"2031-09-28",9,{"$f":"IF(ISERROR(MATCH(D107,Simulador!$H$16:$H$17,0))=FALSE,\"C\",IF(ISERROR(MATCH(D107,Simulador!$H$18:$H$19,0))=FALSE,\"D\",\"\"))","v":""},{"$f":"IF(E107=\"C\",0,IF(E107 =\"D\",ROUND(1/((1+Simulador!$Q$13)^A107),9) * 2,ROUND(1/((1+Simulador!$Q$13)^A107),9)))","v":5.7037829999999996E-3},19.521347560000013]
[105,105,"2031-10-28",10,{"$f":"IF(ISERROR(MATCH(D108,Simulador!$H$16:$H$17,0))=FALSE,\"C\",IF(ISERROR(MATCH(D108,Simulador!$H$18:$H$19,0))=FALSE,\"D\",\"\"))","v":""},{"$f":"IF(E108=\"C\",0,IF(E108 =\"D\",ROUND(1/((1+Simulador!$Q$13)^A108),9) * 2,ROUND(1/((1+Simulador!$Q$13)^A108),9)))","v":5.4273480000000002E-3},19.526774908000014]
[106,106,"2031-11-28",11,{"$f":"IF(ISERROR(MATCH(D109,Simulador!$H$16:$H$17,0))=FALSE,\"C\",IF(ISERROR(MATCH(D109,Simulador!$H$18:$H$19,0))=FALSE,\"D\",\"\"))","v":""},{"$f":"IF(E109=\"C\",0,IF(E109 =\"D\",ROUND(1/((1+Simulador!$Q$13)^A109),9) * 2,ROUND(1/((1+Simulador!$Q$13)^A109),9)))","v":5.1643100000000001E-3},19.531939218000016]
[107,107,"2031-12-28",12,{"$f":"IF(ISERROR(MATCH(D110,Simulador!$H$16:$H$17,0))=FALSE,\"C\",IF(ISERROR(MATCH(D110,Simulador!$H$18:$H$19,0))=FALSE,\"D\",\"\"))","v":""},{"$f":"IF(E110=\"C\",0,IF(E110 =\"D\",ROUND(1/((1+Simulador!$Q$13)^A110),9) * 2,ROUND(1/((1+Simulador!$Q$13)^A110),9)))","v":4.9140199999999998E-3},19.536853238000017]
[108,108,"2032-01-28",1,{"$f":"IF(ISERROR(MATCH(D111,Simulador!$H$16:$H$17,0))=FALSE,\"C\",IF(ISERROR(MATCH(D111,Simulador!$H$18:$H$19,0))=FALSE,\"D\",\"\"))","v":""},{"$f":"IF(E111=\"C\",0,IF(E111 =\"D\",ROUND(1/((1+Simulador!$Q$13)^A111),9) * 2,ROUND(1/((1+Simulador!$Q$13)^A111),9)))","v":4.6758609999999999E-3},19.541529099000016]
[109,109,"2032-02-28",2,{"$f":"IF(ISERROR(MATCH(D112,Simulador!$H$16:$H$17,0))=FALSE,\"C\",IF(ISERROR(MATCH(D112,Simulador!$H$18:$H$19,0))=FALSE,\"D\",\"\"))","v":""},{"$f":"IF(E112=\"C\",0,IF(E112 =\"D\",ROUND(1/((1+Simulador!$Q$13)^A112),9) * 2,ROUND(1/((1+Simulador!$Q$13)^A112),9)))","v":4.4492439999999998E-3},19.545978343000016]
[110,110,"2032-03-28",3,{"$f":"IF(ISERROR(MATCH(D113,Simulador!$H$16:$H$17,0))=FALSE,\"C\",IF(ISERROR(MATCH(D113,Simulador!$H$18:$H$19,0))=FALSE,\"D\",\"\"))","v":""},{"$f":"IF(E113=\"C\",0,IF(E113 =\"D\",ROUND(1/((1+Simulador!$Q$13)^A113),9) * 2,ROUND(1/((1+Simulador!$Q$13)^A113),9)))","v":4.2336099999999996E-3},19.550211953000016]
[111,111,"2032-04-28",4,{"$f":"IF(ISERROR(MATCH(D114,Simulador!$H$16:$H$17,0))=FALSE,\"C\",IF(ISERROR(MATCH(D114,Simulador!$H$18:$H$19,0))=FALSE,\"D\",\"\"))","v":""},{"$f":"IF(E114=\"C\",0,IF(E114 =\"D\",ROUND(1/((1+Simulador!$Q$13)^A114),9) * 2,ROUND(1/((1+Simulador!$Q$13)^A114),9)))","v":4.0284270000000002E-3},19.554240380000017]
[112,112,"2032-05-28",5,{"$f":"IF(ISERROR(MATCH(D115,Simulador!$H$16:$H$17,0))=FALSE,\"C\",IF(ISERROR(MATCH(D115,Simulador!$H$18:$H$19,0))=FALSE,\"D\",\"\"))","v":""},{"$f":"IF(E115=\"C\",0,IF(E115 =\"D\",ROUND(1/((1+Simulador!$Q$13)^A115),9) * 2,ROUND(1/((1+Simulador!$Q$13)^A115),9)))","v":3.833188E-3},19.558073568000019]
[113,113,"2032-06-28",6,{"$f":"IF(ISERROR(MATCH(D116,Simulador!$H$16:$H$17,0))=FALSE,\"C\",IF(ISERROR(MATCH(D116,Simulador!$H$18:$H$19,0))=FALSE,\"D\",\"\"))","v":""},{"$f":"IF(E116=\"C\",0,IF(E116 =\"D\",ROUND(1/((1+Simulador!$Q$13)^A116),9) * 2,ROUND(1/((1+Simulador!$Q$13)^A116),9)))","v":3.647412E-3},19.561720980000018]
[114,114,"2032-07-28",7,{"$f":"IF(ISERROR(MATCH(D117,Simulador!$H$16:$H$17,0))=FALSE,\"C\",IF(ISERROR(MATCH(D117,Simulador!$H$18:$H$19,0))=FALSE,\"D\",\"\"))","v":""},{"$f":"IF(E117=\"C\",0,IF(E117 =\"D\",ROUND(1/((1+Simulador!$Q$13)^A117),9) * 2,ROUND(1/((1+Simulador!$Q$13)^A117),9)))","v":3.4706390000000002E-3},19.565191619000018]
[115,115,"2032-08-28",8,{"$f":"IF(ISERROR(MATCH(D118,Simulador!$H$16:$H$17,0))=FALSE,\"C\",IF(ISERROR(MATCH(D118,Simulador!$H$18:$H$19,0))=FALSE,\"D\",\"\"))","v":""},{"$f":"IF(E118=\"C\",0,IF(E118 =\"D\",ROUND(1/((1+Simulador!$Q$13)^A118),9) * 2,ROUND(1/((1+Simulador!$Q$13)^A118),9)))","v":3.302433E-3},19.56849405200002]
[116,116,"2032-09-28",9,{"$f":"IF(ISERROR(MATCH(D119,Simulador!$H$16:$H$17,0))=FALSE,\"C\",IF(ISERROR(MATCH(D119,Simulador!$H$18:$H$19,0))=FALSE,\"D\",\"\"))","v":""},{"$f":"IF(E119=\"C\",0,IF(E119 =\"D\",ROUND(1/((1+Simulador!$Q$13)^A119),9) * 2,ROUND(1/((1+Simulador!$Q$13)^A119),9)))","v":3.1423800000000002E-3},19.57163643200002]
[117,117,"2032-10-28",10,{"$f":"IF(ISERROR(MATCH(D120,Simulador!$H$16:$H$17,0))=FALSE,\"C\",IF(ISERROR(MATCH(D120,Simulador!$H$18:$H$19,0))=FALSE,\"D\",\"\"))","v":""},{"$f":"IF(E120=\"C\",0,IF(E120 =\"D\",ROUND(1/((1+Simulador!$Q$13)^A120),9) * 2,ROUND(1/((1+Simulador!$Q$13)^A120),9)))","v":2.9900840000000001E-3},19.57462651600002]
[118,118,"2032-11-28",11,{"$f":"IF(ISERROR(MATCH(D121,Simulador!$H$16:$H$17,0))=FALSE,\"C\",IF(ISERROR(MATCH(D121,Simulador!$H$18:$H$19,0))=FALSE,\"D\",\"\"))","v":""},{"$f":"IF(E121=\"C\",0,IF(E121 =\"D\",ROUND(1/((1+Simulador!$Q$13)^A121),9) * 2,ROUND(1/((1+Simulador!$Q$13)^A121),9)))","v":2.8451689999999998E-3},19.57747168500002]
[119,119,"2032-12-28",12,{"$f":"IF(ISERROR(MATCH(D122,Simulador!$H$16:$H$17,0))=FALSE,\"C\",IF(ISERROR(MATCH(D122,Simulador!$H$18:$H$19,0))=FALSE,\"D\",\"\"))","v":""},{"$f":"IF(E122=\"C\",0,IF(E122 =\"D\",ROUND(1/((1+Simulador!$Q$13)^A122),9) * 2,ROUND(1/((1+Simulador!$Q$13)^A122),9)))","v":2.7072770000000001E-3},19.580178962000019]
[120,120,"2033-01-28",1,{"$f":"IF(ISERROR(MATCH(D123,Simulador!$H$16:$H$17,0))=FALSE,\"C\",IF(ISERROR(MATCH(D123,Simulador!$H$18:$H$19,0))=FALSE,\"D\",\"\"))","v":""},{"$f":"IF(E123=\"C\",0,IF(E123 =\"D\",ROUND(1/((1+Simulador!$Q$13)^A123),9) * 2,ROUND(1/((1+Simulador!$Q$13)^A123),9)))","v":2.5760679999999999E-3},19.582755030000019]
[121,121,"2033-02-28",2,{"$f":"IF(ISERROR(MATCH(D124,Simulador!$H$16:$H$17,0))=FALSE,\"C\",IF(ISERROR(MATCH(D124,Simulador!$H$18:$H$19,0))=FALSE,\"D\",\"\"))","v":""},{"$f":"IF(E124=\"C\",0,IF(E124 =\"D\",ROUND(1/((1+Simulador!$Q$13)^A124),9) * 2,ROUND(1/((1+Simulador!$Q$13)^A124),9)))","v":2.4512179999999998E-3},19.58520624800002]
[122,122,"2033-03-28",3,{"$f":"IF(ISERROR(MATCH(D125,Simulador!$H$16:$H$17,0))=FALSE,\"C\",IF(ISERROR(MATCH(D125,Simulador!$H$18:$H$19,0))=FALSE,\"D\",\"\"))","v":""},{"$f":"IF(E125=\"C\",0,IF(E125 =\"D\",ROUND(1/((1+Simulador!$Q$13)^A125),9) * 2,ROUND(1/((1+Simulador!$Q$13)^A125),9)))","v":2.3324190000000001E-3},19.587538667000018]
[123,123,"2033-04-28",4,{"$f":"IF(ISERROR(MATCH(D126,Simulador!$H$16:$H$17,0))=FALSE,\"C\",IF(ISERROR(MATCH(D126,Simulador!$H$18:$H$19,0))=FALSE,\"D\",\"\"))","v":""},{"$f":"IF(E126=\"C\",0,IF(E126 =\"D\",ROUND(1/((1+Simulador!$Q$13)^A126),9) * 2,ROUND(1/((1+Simulador!$Q$13)^A126),9)))","v":2.2193780000000001E-3},19.589758045000018]
[124,124,"2033-05-28",5,{"$f":"IF(ISERROR(MATCH(D127,Simulador!$H$16:$H$17,0))=FALSE,\"C\",IF(ISERROR(MATCH(D127,Simulador!$H$18:$H$19,0))=FALSE,\"D\",\"\"))","v":""},{"$f":"IF(E127=\"C\",0,IF(E127 =\"D\",ROUND(1/((1+Simulador!$Q$13)^A127),9) * 2,ROUND(1/((1+Simulador!$Q$13)^A127),9)))","v":2.111815E-3},19.591869860000017]
[125,125,"2033-06-28",6,{"$f":"IF(ISERROR(MATCH(D128,Simulador!$H$16:$H$17,0))=FALSE,\"C\",IF(ISERROR(MATCH(D128,Simulador!$H$18:$H$19,0))=FALSE,\"D\",\"\"))","v":""},{"$f":"IF(E128=\"C\",0,IF(E128 =\"D\",ROUND(1/((1+Simulador!$Q$13)^A128),9) * 2,ROUND(1/((1+Simulador!$Q$13)^A128),9)))","v":2.0094650000000002E-3},19.593879325000017]
[126,126,"2033-07-28",7,{"$f":"IF(ISERROR(MATCH(D129,Simulador!$H$16:$H$17,0))=FALSE,\"C\",IF(ISERROR(MATCH(D129,Simulador!$H$18:$H$19,0))=FALSE,\"D\",\"\"))","v":""},{"$f":"IF(E129=\"C\",0,IF(E129 =\"D\",ROUND(1/((1+Simulador!$Q$13)^A129),9) * 2,ROUND(1/((1+Simulador!$Q$13)^A129),9)))","v":1.912076E-3},19.595791401000017]
[127,127,"2033-08-28",8,{"$f":"IF(ISERROR(MATCH(D130,Simulador!$H$16:$H$17,0))=FALSE,\"C\",IF(ISERROR(MATCH(D130,Simulador!$H$18:$H$19,0))=FALSE,\"D\",\"\"))","v":""},{"$f":"IF(E130=\"C\",0,IF(E130 =\"D\",ROUND(1/((1+Simulador!$Q$13)^A130),9) * 2,ROUND(1/((1+Simulador!$Q$13)^A130),9)))","v":1.8194070000000001E-3},19.597610808000017]
[128,128,"2033-09-28",9,{"$f":"IF(ISERROR(MATCH(D131,Simulador!$H$16:$H$17,0))=FALSE,\"C\",IF(ISERROR(MATCH(D131,Simulador!$H$18:$H$19,0))=FALSE,\"D\",\"\"))","v":""},{"$f":"IF(E131=\"C\",0,IF(E131 =\"D\",ROUND(1/((1+Simulador!$Q$13)^A131),9) * 2,ROUND(1/((1+Simulador!$Q$13)^A131),9)))","v":1.7312289999999999E-3},19.599342037000017]
[129,129,"2033-10-28",{"$f":"MONTH(C132)","v":10},{"$f":"IF(ISERROR(MATCH(D132,Simulador!$H$16:$H$17,0))=FALSE,\"C\",IF(ISERROR(MATCH(D132,Simulador!$H$18:$H$19,0))=FALSE,\"D\",\"\"))","v":""},{"$f":"IF(E132=\"C\",0,IF(E132 =\"D\",ROUND(1/((1+Simulador!$Q$13)^A132),9) * 2,ROUND(1/((1+Simulador!$Q$13)^A132),9)))","v":1.6473239999999999E-3},19.600989361000018]
[{"$f":"A132+1","v":130},{"$f":"IF(E133<>\"C\",IF(ISERROR(1+B132)=TRUE,1,1+B132),IF(ISNUMBER(B132),B132,1))","v":130},{"$f":"DATE(YEAR(C132) + 1/12,MONTH(C132)+1,DAY(C132))","v":"2033-11-28"},11,{"$f":"IF(ISERROR(MATCH(D133,Simulador!$H$16:$H$17,0))=FALSE,\"C\",IF(ISERROR(MATCH(D133,Simulador!$H$18:$H$19,0))=FALSE,\"D\",\"\"))","v":""},{"$f":"IF(E133=\"C\",0,IF(E133 =\"D\",ROUND(1/((1+Simulador!$Q$13)^A133),9) * 2,ROUND(1/((1+Simulador!$Q$13)^A133),9)))","v":1.5674860000000001E-3},19.602556847000017]
[131,131,"2033-12-28",12,{"$f":"IF(ISERROR(MATCH(D134,Simulador!$H$16:$H$17,0))=FALSE,\"C\",IF(ISERROR(MATCH(D134,Simulador!$H$18:$H$19,0))=FALSE,\"D\",\"\"))","v":""},{"$f":"IF(E134=\"C\",0,IF(E134 =\"D\",ROUND(1/((1+Simulador!$Q$13)^A134),9) * 2,ROUND(1/((1+Simulador!$Q$13)^A134),9)))","v":1.4915180000000001E-3},{"$f":"G133+ROUND(F134,9)","v":19.604048365000018}]
[132,132,"2034-01-28",1,{"$f":"IF(ISERROR(MATCH(D135,Simulador!$H$16:$H$17,0))=FALSE,\"C\",IF(ISERROR(MATCH(D135,Simulador!$H$18:$H$19,0))=FALSE,\"D\",\"\"))","v":""},{"$f":"IF(E135=\"C\",0,IF(E135 =\"D\",ROUND(1/((1+Simulador!$Q$13)^A135),9) * 2,ROUND(1/((1+Simulador!$Q$13)^A135),9)))","v":1.419231E-3},19.605467596000018]
[133,133,"2034-02-28",2,{"$f":"IF(ISERROR(MATCH(D136,Simulador!$H$16:$H$17,0))=FALSE,\"C\",IF(ISERROR(MATCH(D136,Simulador!$H$18:$H$19,0))=FALSE,\"D\",\"\"))","v":""},{"$f":"IF(E136=\"C\",0,IF(E136 =\"D\",ROUND(1/((1+Simulador!$Q$13)^A136),9) * 2,ROUND(1/((1+Simulador!$Q$13)^A136),9)))","v":1.3504470000000001E-3},19.606818043000018]
[134,134,"2034-03-28",3,{"$f":"IF(ISERROR(MATCH(D137,Simulador!$H$16:$H$17,0))=FALSE,\"C\",IF(ISERROR(MATCH(D137,Simulador!$H$18:$H$19,0))=FALSE,\"D\",\"\"))","v":""},{"$f":"IF(E137=\"C\",0,IF(E137 =\"D\",ROUND(1/((1+Simulador!$Q$13)^A137),9) * 2,ROUND(1/((1+Simulador!$Q$13)^A137),9)))","v":1.2849980000000001E-3},19.608103041000017]
[135,135,"2034-04-28",4,{"$f":"IF(ISERROR(MATCH(D138,Simulador!$H$16:$H$17,0))=FALSE,\"C\",IF(ISERROR(MATCH(D138,Simulador!$H$18:$H$19,0))=FALSE,\"D\",\"\"))","v":""},{"$f":"IF(E138=\"C\",0,IF(E138 =\"D\",ROUND(1/((1+Simulador!$Q$13)^A138),9) * 2,ROUND(1/((1+Simulador!$Q$13)^A138),9)))","v":1.2227200000000001E-3},19.609325761000019]
[136,136,"2034-05-28",5,{"$f":"IF(ISERROR(MATCH(D139,Simulador!$H$16:$H$17,0))=FALSE,\"C\",IF(ISERROR(MATCH(D139,Simulador!$H$18:$H$19,0))=FALSE,\"D\",\"\"))","v":""},{"$f":"IF(E139=\"C\",0,IF(E139 =\"D\",ROUND(1/((1+Simulador!$Q$13)^A139),9) * 2,ROUND(1/((1+Simulador!$Q$13)^A139),9)))","v":1.1634600000000001E-3},19.610489221000019]
[137,137,"2034-06-28",6,{"$f":"IF(ISERROR(MATCH(D140,Simulador!$H$16:$H$17,0))=FALSE,\"C\",IF(ISERROR(MATCH(D140,Simulador!$H$18:$H$19,0))=FALSE,\"D\",\"\"))","v":""},{"$f":"IF(E140=\"C\",0,IF(E140 =\"D\",ROUND(1/((1+Simulador!$Q$13)^A140),9) * 2,ROUND(1/((1+Simulador!$Q$13)^A140),9)))","v":1.1070730000000001E-3},19.611596294000019]
[138,138,"2034-07-28",7,{"$f":"IF(ISERROR(MATCH(D141,Simulador!$H$16:$H$17,0))=FALSE,\"C\",IF(ISERROR(MATCH(D141,Simulador!$H$18:$H$19,0))=FALSE,\"D\",\"\"))","v":""},{"$f":"IF(E141=\"C\",0,IF(E141 =\"D\",ROUND(1/((1+Simulador!$Q$13)^A141),9) * 2,ROUND(1/((1+Simulador!$Q$13)^A141),9)))","v":1.053418E-3},19.612649712000021]
[139,139,"2034-08-28",8,{"$f":"IF(ISERROR(MATCH(D142,Simulador!$H$16:$H$17,0))=FALSE,\"C\",IF(ISERROR(MATCH(D142,Simulador!$H$18:$H$19,0))=FALSE,\"D\",\"\"))","v":""},{"$f":"IF(E142=\"C\",0,IF(E142 =\"D\",ROUND(1/((1+Simulador!$Q$13)^A142),9) * 2,ROUND(1/((1+Simulador!$Q$13)^A142),9)))","v":1.0023639999999999E-3},19.613652076000022]
[140,140,"2034-09-28",9,{"$f":"IF(ISERROR(MATCH(D143,Simulador!$H$16:$H$17,0))=FALSE,\"C\",IF(ISERROR(MATCH(D143,Simulador!$H$18:$H$19,0))=FALSE,\"D\",\"\"))","v":""},{"$f":"IF(E143=\"C\",0,IF(E143 =\"D\",ROUND(1/((1+Simulador!$Q$13)^A143),9) * 2,ROUND(1/((1+Simulador!$Q$13)^A143),9)))","v":9.5378399999999995E-4},19.614605860000022]
[141,141,"2034-10-28",10,{"$f":"IF(ISERROR(MATCH(D144,Simulador!$H$16:$H$17,0))=FALSE,\"C\",IF(ISERROR(MATCH(D144,Simulador!$H$18:$H$19,0))=FALSE,\"D\",\"\"))","v":""},{"$f":"IF(E144=\"C\",0,IF(E144 =\"D\",ROUND(1/((1+Simulador!$Q$13)^A144),9) * 2,ROUND(1/((1+Simulador!$Q$13)^A144),9)))","v":9.0755899999999995E-4},19.615513419000024]
[142,142,"2034-11-28",11,{"$f":"IF(ISERROR(MATCH(D145,Simulador!$H$16:$H$17,0))=FALSE,\"C\",IF(ISERROR(MATCH(D145,Simulador!$H$18:$H$19,0))=FALSE,\"D\",\"\"))","v":""},{"$f":"IF(E145=\"C\",0,IF(E145 =\"D\",ROUND(1/((1+Simulador!$Q$13)^A145),9) * 2,ROUND(1/((1+Simulador!$Q$13)^A145),9)))","v":8.6357399999999998E-4},19.616376993000024]
[143,143,"2034-12-28",12,{"$f":"IF(ISERROR(MATCH(D146,Simulador!$H$16:$H$17,0))=FALSE,\"C\",IF(ISERROR(MATCH(D146,Simulador!$H$18:$H$19,0))=FALSE,\"D\",\"\"))","v":""},{"$f":"IF(E146=\"C\",0,IF(E146 =\"D\",ROUND(1/((1+Simulador!$Q$13)^A146),9) * 2,ROUND(1/((1+Simulador!$Q$13)^A146),9)))","v":8.2171999999999996E-4},19.617198713000025]
[144,144,"2035-01-28",1,{"$f":"IF(ISERROR(MATCH(D147,Simulador!$H$16:$H$17,0))=FALSE,\"C\",IF(ISERROR(MATCH(D147,Simulador!$H$18:$H$19,0))=FALSE,\"D\",\"\"))","v":""},{"$f":"IF(E147=\"C\",0,IF(E147 =\"D\",ROUND(1/((1+Simulador!$Q$13)^A147),9) * 2,ROUND(1/((1+Simulador!$Q$13)^A147),9)))","v":7.8189600000000002E-4},19.617980609000025]
[145,145,"2035-02-28",2,{"$f":"IF(ISERROR(MATCH(D148,Simulador!$H$16:$H$17,0))=FALSE,\"C\",IF(ISERROR(MATCH(D148,Simulador!$H$18:$H$19,0))=FALSE,\"D\",\"\"))","v":""},{"$f":"IF(E148=\"C\",0,IF(E148 =\"D\",ROUND(1/((1+Simulador!$Q$13)^A148),9) * 2,ROUND(1/((1+Simulador!$Q$13)^A148),9)))","v":7.4400099999999999E-4},19.618724610000026]
[146,146,"2035-03-28",3,{"$f":"IF(ISERROR(MATCH(D149,Simulador!$H$16:$H$17,0))=FALSE,\"C\",IF(ISERROR(MATCH(D149,Simulador!$H$18:$H$19,0))=FALSE,\"D\",\"\"))","v":""},{"$f":"IF(E149=\"C\",0,IF(E149 =\"D\",ROUND(1/((1+Simulador!$Q$13)^A149),9) * 2,ROUND(1/((1+Simulador!$Q$13)^A149),9)))","v":7.0794300000000005E-4},19.619432553000024]
[147,147,"2035-04-28",4,{"$f":"IF(ISERROR(MATCH(D150,Simulador!$H$16:$H$17,0))=FALSE,\"C\",IF(ISERROR(MATCH(D150,Simulador!$H$18:$H$19,0))=FALSE,\"D\",\"\"))","v":""},{"$f":"IF(E150=\"C\",0,IF(E150 =\"D\",ROUND(1/((1+Simulador!$Q$13)^A150),9) * 2,ROUND(1/((1+Simulador!$Q$13)^A150),9)))","v":6.7363199999999996E-4},19.620106185000026]
[148,148,"2035-05-28",5,{"$f":"IF(ISERROR(MATCH(D151,Simulador!$H$16:$H$17,0))=FALSE,\"C\",IF(ISERROR(MATCH(D151,Simulador!$H$18:$H$19,0))=FALSE,\"D\",\"\"))","v":""},{"$f":"IF(E151=\"C\",0,IF(E151 =\"D\",ROUND(1/((1+Simulador!$Q$13)^A151),9) * 2,ROUND(1/((1+Simulador!$Q$13)^A151),9)))","v":6.4098400000000004E-4},19.620747169000026]
[149,149,"2035-06-28",6,{"$f":"IF(ISERROR(MATCH(D152,Simulador!$H$16:$H$17,0))=FALSE,\"C\",IF(ISERROR(MATCH(D152,Simulador!$H$18:$H$19,0))=FALSE,\"D\",\"\"))","v":""},{"$f":"IF(E152=\"C\",0,IF(E152 =\"D\",ROUND(1/((1+Simulador!$Q$13)^A152),9) * 2,ROUND(1/((1+Simulador!$Q$13)^A152),9)))","v":6.09919E-4},19.621357088000025]
[150,150,"2035-07-28",7,{"$f":"IF(ISERROR(MATCH(D153,Simulador!$H$16:$H$17,0))=FALSE,\"C\",IF(ISERROR(MATCH(D153,Simulador!$H$18:$H$19,0))=FALSE,\"D\",\"\"))","v":""},{"$f":"IF(E153=\"C\",0,IF(E153 =\"D\",ROUND(1/((1+Simulador!$Q$13)^A153),9) * 2,ROUND(1/((1+Simulador!$Q$13)^A153),9)))","v":5.8035900000000002E-4},19.621937447000025]
[151,151,"2035-08-28",8,{"$f":"IF(ISERROR(MATCH(D154,Simulador!$H$16:$H$17,0))=FALSE,\"C\",IF(ISERROR(MATCH(D154,Simulador!$H$18:$H$19,0))=FALSE,\"D\",\"\"))","v":""},{"$f":"IF(E154=\"C\",0,IF(E154 =\"D\",ROUND(1/((1+Simulador!$Q$13)^A154),9) * 2,ROUND(1/((1+Simulador!$Q$13)^A154),9)))","v":5.5223200000000005E-4},19.622489679000026]
[152,152,"2035-09-28",9,{"$f":"IF(ISERROR(MATCH(D155,Simulador!$H$16:$H$17,0))=FALSE,\"C\",IF(ISERROR(MATCH(D155,Simulador!$H$18:$H$19,0))=FALSE,\"D\",\"\"))","v":""},{"$f":"IF(E155=\"C\",0,IF(E155 =\"D\",ROUND(1/((1+Simulador!$Q$13)^A155),9) * 2,ROUND(1/((1+Simulador!$Q$13)^A155),9)))","v":5.2546799999999996E-4},19.623015147000025]
[153,153,"2035-10-28",10,{"$f":"IF(ISERROR(MATCH(D156,Simulador!$H$16:$H$17,0))=FALSE,\"C\",IF(ISERROR(MATCH(D156,Simulador!$H$18:$H$19,0))=FALSE,\"D\",\"\"))","v":""},{"$f":"IF(E156=\"C\",0,IF(E156 =\"D\",ROUND(1/((1+Simulador!$Q$13)^A156),9) * 2,ROUND(1/((1+Simulador!$Q$13)^A156),9)))","v":5.0000100000000003E-4},19.623515148000024]
[154,154,"2035-11-28",11,{"$f":"IF(ISERROR(MATCH(D157,Simulador!$H$16:$H$17,0))=FALSE,\"C\",IF(ISERROR(MATCH(D157,Simulador!$H$18:$H$19,0))=FALSE,\"D\",\"\"))","v":""},{"$f":"IF(E157=\"C\",0,IF(E157 =\"D\",ROUND(1/((1+Simulador!$Q$13)^A157),9) * 2,ROUND(1/((1+Simulador!$Q$13)^A157),9)))","v":4.75768E-4},19.623990916000025]
[155,155,"2035-12-28",12,{"$f":"IF(ISERROR(MATCH(D158,Simulador!$H$16:$H$17,0))=FALSE,\"C\",IF(ISERROR(MATCH(D158,Simulador!$H$18:$H$19,0))=FALSE,\"D\",\"\"))","v":""},{"$f":"IF(E158=\"C\",0,IF(E158 =\"D\",ROUND(1/((1+Simulador!$Q$13)^A158),9) * 2,ROUND(1/((1+Simulador!$Q$13)^A158),9)))","v":4.5270999999999999E-4},19.624443626000026]
[156,156,"2036-01-28",1,{"$f":"IF(ISERROR(MATCH(D159,Simulador!$H$16:$H$17,0))=FALSE,\"C\",IF(ISERROR(MATCH(D159,Simulador!$H$18:$H$19,0))=FALSE,\"D\",\"\"))","v":""},{"$f":"IF(E159=\"C\",0,IF(E159 =\"D\",ROUND(1/((1+Simulador!$Q$13)^A159),9) * 2,ROUND(1/((1+Simulador!$Q$13)^A159),9)))","v":4.3076900000000001E-4},19.624874395000028]
[157,157,"2036-02-28",2,{"$f":"IF(ISERROR(MATCH(D160,Simulador!$H$16:$H$17,0))=FALSE,\"C\",IF(ISERROR(MATCH(D160,Simulador!$H$18:$H$19,0))=FALSE,\"D\",\"\"))","v":""},{"$f":"IF(E160=\"C\",0,IF(E160 =\"D\",ROUND(1/((1+Simulador!$Q$13)^A160),9) * 2,ROUND(1/((1+Simulador!$Q$13)^A160),9)))","v":4.0989200000000003E-4},19.625284287000028]
[158,158,"2036-03-28",3,{"$f":"IF(ISERROR(MATCH(D161,Simulador!$H$16:$H$17,0))=FALSE,\"C\",IF(ISERROR(MATCH(D161,Simulador!$H$18:$H$19,0))=FALSE,\"D\",\"\"))","v":""},{"$f":"IF(E161=\"C\",0,IF(E161 =\"D\",ROUND(1/((1+Simulador!$Q$13)^A161),9) * 2,ROUND(1/((1+Simulador!$Q$13)^A161),9)))","v":3.9002600000000002E-4},19.62567431300003]
[159,159,"2036-04-28",4,{"$f":"IF(ISERROR(MATCH(D162,Simulador!$H$16:$H$17,0))=FALSE,\"C\",IF(ISERROR(MATCH(D162,Simulador!$H$18:$H$19,0))=FALSE,\"D\",\"\"))","v":""},{"$f":"IF(E162=\"C\",0,IF(E162 =\"D\",ROUND(1/((1+Simulador!$Q$13)^A162),9) * 2,ROUND(1/((1+Simulador!$Q$13)^A162),9)))","v":3.71123E-4},19.62604543600003]
[160,160,"2036-05-28",5,{"$f":"IF(ISERROR(MATCH(D163,Simulador!$H$16:$H$17,0))=FALSE,\"C\",IF(ISERROR(MATCH(D163,Simulador!$H$18:$H$19,0))=FALSE,\"D\",\"\"))","v":""},{"$f":"IF(E163=\"C\",0,IF(E163 =\"D\",ROUND(1/((1+Simulador!$Q$13)^A163),9) * 2,ROUND(1/((1+Simulador!$Q$13)^A163),9)))","v":3.53137E-4},19.626398573000031]
[161,161,"2036-06-28",6,{"$f":"IF(ISERROR(MATCH(D164,Simulador!$H$16:$H$17,0))=FALSE,\"C\",IF(ISERROR(MATCH(D164,Simulador!$H$18:$H$19,0))=FALSE,\"D\",\"\"))","v":""},{"$f":"IF(E164=\"C\",0,IF(E164 =\"D\",ROUND(1/((1+Simulador!$Q$13)^A164),9) * 2,ROUND(1/((1+Simulador!$Q$13)^A164),9)))","v":3.36022E-4},19.62673459500003]
[162,162,"2036-07-28",7,{"$f":"IF(ISERROR(MATCH(D165,Simulador!$H$16:$H$17,0))=FALSE,\"C\",IF(ISERROR(MATCH(D165,Simulador!$H$18:$H$19,0))=FALSE,\"D\",\"\"))","v":""},{"$f":"IF(E165=\"C\",0,IF(E165 =\"D\",ROUND(1/((1+Simulador!$Q$13)^A165),9) * 2,ROUND(1/((1+Simulador!$Q$13)^A165),9)))","v":3.1973700000000001E-4},19.627054332000032]
[163,163,"2036-08-28",8,{"$f":"IF(ISERROR(MATCH(D166,Simulador!$H$16:$H$17,0))=FALSE,\"C\",IF(ISERROR(MATCH(D166,Simulador!$H$18:$H$19,0))=FALSE,\"D\",\"\"))","v":""},{"$f":"IF(E166=\"C\",0,IF(E166 =\"D\",ROUND(1/((1+Simulador!$Q$13)^A166),9) * 2,ROUND(1/((1+Simulador!$Q$13)^A166),9)))","v":3.0424E-4},19.627358572000031]
[164,164,"2036-09-28",9,{"$f":"IF(ISERROR(MATCH(D167,Simulador!$H$16:$H$17,0))=FALSE,\"C\",IF(ISERROR(MATCH(D167,Simulador!$H$18:$H$19,0))=FALSE,\"D\",\"\"))","v":""},{"$f":"IF(E167=\"C\",0,IF(E167 =\"D\",ROUND(1/((1+Simulador!$Q$13)^A167),9) * 2,ROUND(1/((1+Simulador!$Q$13)^A167),9)))","v":2.8949500000000002E-4},19.627648067000031]
[165,165,"2036-10-28",10,{"$f":"IF(ISERROR(MATCH(D168,Simulador!$H$16:$H$17,0))=FALSE,\"C\",IF(ISERROR(MATCH(D168,Simulador!$H$18:$H$19,0))=FALSE,\"D\",\"\"))","v":""},{"$f":"IF(E168=\"C\",0,IF(E168 =\"D\",ROUND(1/((1+Simulador!$Q$13)^A168),9) * 2,ROUND(1/((1+Simulador!$Q$13)^A168),9)))","v":2.7546500000000002E-4},19.627923532000032]
[166,166,"2036-11-28",11,{"$f":"IF(ISERROR(MATCH(D169,Simulador!$H$16:$H$17,0))=FALSE,\"C\",IF(ISERROR(MATCH(D169,Simulador!$H$18:$H$19,0))=FALSE,\"D\",\"\"))","v":""},{"$f":"IF(E169=\"C\",0,IF(E169 =\"D\",ROUND(1/((1+Simulador!$Q$13)^A169),9) * 2,ROUND(1/((1+Simulador!$Q$13)^A169),9)))","v":2.6211399999999998E-4},19.628185646000034]
[167,167,"2036-12-28",12,{"$f":"IF(ISERROR(MATCH(D170,Simulador!$H$16:$H$17,0))=FALSE,\"C\",IF(ISERROR(MATCH(D170,Simulador!$H$18:$H$19,0))=FALSE,\"D\",\"\"))","v":""},{"$f":"IF(E170=\"C\",0,IF(E170 =\"D\",ROUND(1/((1+Simulador!$Q$13)^A170),9) * 2,ROUND(1/((1+Simulador!$Q$13)^A170),9)))","v":2.49411E-4},19.628435057000033]
[168,168,"2037-01-28",1,{"$f":"IF(ISERROR(MATCH(D171,Simulador!$H$16:$H$17,0))=FALSE,\"C\",IF(ISERROR(MATCH(D171,Simulador!$H$18:$H$19,0))=FALSE,\"D\",\"\"))","v":""},{"$f":"IF(E171=\"C\",0,IF(E171 =\"D\",ROUND(1/((1+Simulador!$Q$13)^A171),9) * 2,ROUND(1/((1+Simulador!$Q$13)^A171),9)))","v":2.37323E-4},19.628672380000033]
[169,169,"2037-02-28",2,{"$f":"IF(ISERROR(MATCH(D172,Simulador!$H$16:$H$17,0))=FALSE,\"C\",IF(ISERROR(MATCH(D172,Simulador!$H$18:$H$19,0))=FALSE,\"D\",\"\"))","v":""},{"$f":"IF(E172=\"C\",0,IF(E172 =\"D\",ROUND(1/((1+Simulador!$Q$13)^A172),9) * 2,ROUND(1/((1+Simulador!$Q$13)^A172),9)))","v":2.2582099999999999E-4},19.628898201000034]
[170,170,"2037-03-28",3,{"$f":"IF(ISERROR(MATCH(D173,Simulador!$H$16:$H$17,0))=FALSE,\"C\",IF(ISERROR(MATCH(D173,Simulador!$H$18:$H$19,0))=FALSE,\"D\",\"\"))","v":""},{"$f":"IF(E173=\"C\",0,IF(E173 =\"D\",ROUND(1/((1+Simulador!$Q$13)^A173),9) * 2,ROUND(1/((1+Simulador!$Q$13)^A173),9)))","v":2.1487700000000001E-4},19.629113078000035]
[171,171,"2037-04-28",4,{"$f":"IF(ISERROR(MATCH(D174,Simulador!$H$16:$H$17,0))=FALSE,\"C\",IF(ISERROR(MATCH(D174,Simulador!$H$18:$H$19,0))=FALSE,\"D\",\"\"))","v":""},{"$f":"IF(E174=\"C\",0,IF(E174 =\"D\",ROUND(1/((1+Simulador!$Q$13)^A174),9) * 2,ROUND(1/((1+Simulador!$Q$13)^A174),9)))","v":2.04463E-4},19.629317541000034]
[172,172,"2037-05-28",5,{"$f":"IF(ISERROR(MATCH(D175,Simulador!$H$16:$H$17,0))=FALSE,\"C\",IF(ISERROR(MATCH(D175,Simulador!$H$18:$H$19,0))=FALSE,\"D\",\"\"))","v":""},{"$f":"IF(E175=\"C\",0,IF(E175 =\"D\",ROUND(1/((1+Simulador!$Q$13)^A175),9) * 2,ROUND(1/((1+Simulador!$Q$13)^A175),9)))","v":1.9455300000000001E-4},19.629512094000034]
[173,173,"2037-06-28",6,{"$f":"IF(ISERROR(MATCH(D176,Simulador!$H$16:$H$17,0))=FALSE,\"C\",IF(ISERROR(MATCH(D176,Simulador!$H$18:$H$19,0))=FALSE,\"D\",\"\"))","v":""},{"$f":"IF(E176=\"C\",0,IF(E176 =\"D\",ROUND(1/((1+Simulador!$Q$13)^A176),9) * 2,ROUND(1/((1+Simulador!$Q$13)^A176),9)))","v":1.85124E-4},19.629697218000036]
[174,174,"2037-07-28",7,{"$f":"IF(ISERROR(MATCH(D177,Simulador!$H$16:$H$17,0))=FALSE,\"C\",IF(ISERROR(MATCH(D177,Simulador!$H$18:$H$19,0))=FALSE,\"D\",\"\"))","v":""},{"$f":"IF(E177=\"C\",0,IF(E177 =\"D\",ROUND(1/((1+Simulador!$Q$13)^A177),9) * 2,ROUND(1/((1+Simulador!$Q$13)^A177),9)))","v":1.76152E-4},19.629873370000038]
[175,175,"2037-08-28",8,{"$f":"IF(ISERROR(MATCH(D178,Simulador!$H$16:$H$17,0))=FALSE,\"C\",IF(ISERROR(MATCH(D178,Simulador!$H$18:$H$19,0))=FALSE,\"D\",\"\"))","v":""},{"$f":"IF(E178=\"C\",0,IF(E178 =\"D\",ROUND(1/((1+Simulador!$Q$13)^A178),9) * 2,ROUND(1/((1+Simulador!$Q$13)^A178),9)))","v":1.67615E-4},19.630040985000036]
[176,176,"2037-09-28",9,{"$f":"IF(ISERROR(MATCH(D179,Simulador!$H$16:$H$17,0))=FALSE,\"C\",IF(ISERROR(MATCH(D179,Simulador!$H$18:$H$19,0))=FALSE,\"D\",\"\"))","v":""},{"$f":"IF(E179=\"C\",0,IF(E179 =\"D\",ROUND(1/((1+Simulador!$Q$13)^A179),9) * 2,ROUND(1/((1+Simulador!$Q$13)^A179),9)))","v":1.5949099999999999E-4},19.630200476000038]
[177,177,"2037-10-28",10,{"$f":"IF(ISERROR(MATCH(D180,Simulador!$H$16:$H$17,0))=FALSE,\"C\",IF(ISERROR(MATCH(D180,Simulador!$H$18:$H$19,0))=FALSE,\"D\",\"\"))","v":""},{"$f":"IF(E180=\"C\",0,IF(E180 =\"D\",ROUND(1/((1+Simulador!$Q$13)^A180),9) * 2,ROUND(1/((1+Simulador!$Q$13)^A180),9)))","v":1.51762E-4},19.630352238000039]
[178,178,"2037-11-28",11,{"$f":"IF(ISERROR(MATCH(D181,Simulador!$H$16:$H$17,0))=FALSE,\"C\",IF(ISERROR(MATCH(D181,Simulador!$H$18:$H$19,0))=FALSE,\"D\",\"\"))","v":""},{"$f":"IF(E181=\"C\",0,IF(E181 =\"D\",ROUND(1/((1+Simulador!$Q$13)^A181),9) * 2,ROUND(1/((1+Simulador!$Q$13)^A181),9)))","v":1.44406E-4},19.63049664400004]
[179,179,"2037-12-28",12,{"$f":"IF(ISERROR(MATCH(D182,Simulador!$H$16:$H$17,0))=FALSE,\"C\",IF(ISERROR(MATCH(D182,Simulador!$H$18:$H$19,0))=FALSE,\"D\",\"\"))","v":""},{"$f":"IF(E182=\"C\",0,IF(E182 =\"D\",ROUND(1/((1+Simulador!$Q$13)^A182),9) * 2,ROUND(1/((1+Simulador!$Q$13)^A182),9)))","v":1.37408E-4},19.63063405200004]
[180,180,"2038-01-28",1,{"$f":"IF(ISERROR(MATCH(D183,Simulador!$H$16:$H$17,0))=FALSE,\"C\",IF(ISERROR(MATCH(D183,Simulador!$H$18:$H$19,0))=FALSE,\"D\",\"\"))","v":""},{"$f":"IF(E183=\"C\",0,IF(E183 =\"D\",ROUND(1/((1+Simulador!$Q$13)^A183),9) * 2,ROUND(1/((1+Simulador!$Q$13)^A183),9)))","v":1.30748E-4},19.630764800000041]
[181,181,"2038-02-28",2,{"$f":"IF(ISERROR(MATCH(D184,Simulador!$H$16:$H$17,0))=FALSE,\"C\",IF(ISERROR(MATCH(D184,Simulador!$H$18:$H$19,0))=FALSE,\"D\",\"\"))","v":""},{"$f":"IF(E184=\"C\",0,IF(E184 =\"D\",ROUND(1/((1+Simulador!$Q$13)^A184),9) * 2,ROUND(1/((1+Simulador!$Q$13)^A184),9)))","v":1.2441199999999999E-4},19.630889212000042]
[182,182,"2038-03-28",3,{"$f":"IF(ISERROR(MATCH(D185,Simulador!$H$16:$H$17,0))=FALSE,\"C\",IF(ISERROR(MATCH(D185,Simulador!$H$18:$H$19,0))=FALSE,\"D\",\"\"))","v":""},{"$f":"IF(E185=\"C\",0,IF(E185 =\"D\",ROUND(1/((1+Simulador!$Q$13)^A185),9) * 2,ROUND(1/((1+Simulador!$Q$13)^A185),9)))","v":1.1838200000000001E-4},19.631007594000042]
[183,183,"2038-04-28",4,{"$f":"IF(ISERROR(MATCH(D186,Simulador!$H$16:$H$17,0))=FALSE,\"C\",IF(ISERROR(MATCH(D186,Simulador!$H$18:$H$19,0))=FALSE,\"D\",\"\"))","v":""},{"$f":"IF(E186=\"C\",0,IF(E186 =\"D\",ROUND(1/((1+Simulador!$Q$13)^A186),9) * 2,ROUND(1/((1+Simulador!$Q$13)^A186),9)))","v":1.12644E-4},19.631120238000044]
[184,184,"2038-05-28",5,{"$f":"IF(ISERROR(MATCH(D187,Simulador!$H$16:$H$17,0))=FALSE,\"C\",IF(ISERROR(MATCH(D187,Simulador!$H$18:$H$19,0))=FALSE,\"D\",\"\"))","v":""},{"$f":"IF(E187=\"C\",0,IF(E187 =\"D\",ROUND(1/((1+Simulador!$Q$13)^A187),9) * 2,ROUND(1/((1+Simulador!$Q$13)^A187),9)))","v":1.07185E-4},19.631227423000045]
[185,185,"2038-06-28",6,{"$f":"IF(ISERROR(MATCH(D188,Simulador!$H$16:$H$17,0))=FALSE,\"C\",IF(ISERROR(MATCH(D188,Simulador!$H$18:$H$19,0))=FALSE,\"D\",\"\"))","v":""},{"$f":"IF(E188=\"C\",0,IF(E188 =\"D\",ROUND(1/((1+Simulador!$Q$13)^A188),9) * 2,ROUND(1/((1+Simulador!$Q$13)^A188),9)))","v":1.0199E-4},19.631329413000046]
[186,186,"2038-07-28",7,{"$f":"IF(ISERROR(MATCH(D189,Simulador!$H$16:$H$17,0))=FALSE,\"C\",IF(ISERROR(MATCH(D189,Simulador!$H$18:$H$19,0))=FALSE,\"D\",\"\"))","v":""},{"$f":"IF(E189=\"C\",0,IF(E189 =\"D\",ROUND(1/((1+Simulador!$Q$13)^A189),9) * 2,ROUND(1/((1+Simulador!$Q$13)^A189),9)))","v":9.7046999999999994E-5},19.631426460000046]
[187,187,"2038-08-28",8,{"$f":"IF(ISERROR(MATCH(D190,Simulador!$H$16:$H$17,0))=FALSE,\"C\",IF(ISERROR(MATCH(D190,Simulador!$H$18:$H$19,0))=FALSE,\"D\",\"\"))","v":""},{"$f":"IF(E190=\"C\",0,IF(E190 =\"D\",ROUND(1/((1+Simulador!$Q$13)^A190),9) * 2,ROUND(1/((1+Simulador!$Q$13)^A190),9)))","v":9.2343999999999995E-5},19.631518804000045]
[188,188,"2038-09-28",9,{"$f":"IF(ISERROR(MATCH(D191,Simulador!$H$16:$H$17,0))=FALSE,\"C\",IF(ISERROR(MATCH(D191,Simulador!$H$18:$H$19,0))=FALSE,\"D\",\"\"))","v":""},{"$f":"IF(E191=\"C\",0,IF(E191 =\"D\",ROUND(1/((1+Simulador!$Q$13)^A191),9) * 2,ROUND(1/((1+Simulador!$Q$13)^A191),9)))","v":8.7868000000000006E-5},19.631606672000046]
[189,189,"2038-10-28",10,{"$f":"IF(ISERROR(MATCH(D192,Simulador!$H$16:$H$17,0))=FALSE,\"C\",IF(ISERROR(MATCH(D192,Simulador!$H$18:$H$19,0))=FALSE,\"D\",\"\"))","v":""},{"$f":"IF(E192=\"C\",0,IF(E192 =\"D\",ROUND(1/((1+Simulador!$Q$13)^A192),9) * 2,ROUND(1/((1+Simulador!$Q$13)^A192),9)))","v":8.3609999999999994E-5},19.631690282000047]
[190,190,"2038-11-28",11,{"$f":"IF(ISERROR(MATCH(D193,Simulador!$H$16:$H$17,0))=FALSE,\"C\",IF(ISERROR(MATCH(D193,Simulador!$H$18:$H$19,0))=FALSE,\"D\",\"\"))","v":""},{"$f":"IF(E193=\"C\",0,IF(E193 =\"D\",ROUND(1/((1+Simulador!$Q$13)^A193),9) * 2,ROUND(1/((1+Simulador!$Q$13)^A193),9)))","v":7.9558E-5},19.631769840000047]
[191,191,"2038-12-28",12,{"$f":"IF(ISERROR(MATCH(D194,Simulador!$H$16:$H$17,0))=FALSE,\"C\",IF(ISERROR(MATCH(D194,Simulador!$H$18:$H$19,0))=FALSE,\"D\",\"\"))","v":""},{"$f":"IF(E194=\"C\",0,IF(E194 =\"D\",ROUND(1/((1+Simulador!$Q$13)^A194),9) * 2,ROUND(1/((1+Simulador!$Q$13)^A194),9)))","v":7.5702000000000001E-5},19.631845542000047]
[192,192,"2039-01-28",1,{"$f":"IF(ISERROR(MATCH(D195,Simulador!$H$16:$H$17,0))=FALSE,\"C\",IF(ISERROR(MATCH(D195,Simulador!$H$18:$H$19,0))=FALSE,\"D\",\"\"))","v":""},{"$f":"IF(E195=\"C\",0,IF(E195 =\"D\",ROUND(1/((1+Simulador!$Q$13)^A195),9) * 2,ROUND(1/((1+Simulador!$Q$13)^A195),9)))","v":7.2033000000000006E-5},19.631917575000045]
[193,193,"2039-02-28",{"$f":"MONTH(C196)","v":2},{"$f":"IF(ISERROR(MATCH(D196,Simulador!$H$16:$H$17,0))=FALSE,\"C\",IF(ISERROR(MATCH(D196,Simulador!$H$18:$H$19,0))=FALSE,\"D\",\"\"))","v":""},{"$f":"IF(E196=\"C\",0,IF(E196 =\"D\",ROUND(1/((1+Simulador!$Q$13)^A196),9) * 2,ROUND(1/((1+Simulador!$Q$13)^A196),9)))","v":6.8541999999999995E-5},19.631986117000046]
[{"$f":"A196+1","v":194},{"$f":"IF(E197<>\"C\",IF(ISERROR(1+B196)=TRUE,1,1+B196),IF(ISNUMBER(B196),B196,1))","v":194},{"$f":"DATE(YEAR(C196) + 1/12,MONTH(C196)+1,DAY(C196))","v":"2039-03-28"},3,{"$f":"IF(ISERROR(MATCH(D197,Simulador!$H$16:$H$17,0))=FALSE,\"C\",IF(ISERROR(MATCH(D197,Simulador!$H$18:$H$19,0))=FALSE,\"D\",\"\"))","v":""},{"$f":"IF(E197=\"C\",0,IF(E197 =\"D\",ROUND(1/((1+Simulador!$Q$13)^A197),9) * 2,ROUND(1/((1+Simulador!$Q$13)^A197),9)))","v":6.5220000000000002E-5},19.632051337000046]
[195,195,"2039-04-28",4,{"$f":"IF(ISERROR(MATCH(D198,Simulador!$H$16:$H$17,0))=FALSE,\"C\",IF(ISERROR(MATCH(D198,Simulador!$H$18:$H$19,0))=FALSE,\"D\",\"\"))","v":""},{"$f":"IF(E198=\"C\",0,IF(E198 =\"D\",ROUND(1/((1+Simulador!$Q$13)^A198),9) * 2,ROUND(1/((1+Simulador!$Q$13)^A198),9)))","v":6.2058999999999997E-5},{"$f":"G197+ROUND(F198,9)","v":19.632113396000047}]
[196,196,"2039-05-28",5,{"$f":"IF(ISERROR(MATCH(D199,Simulador!$H$16:$H$17,0))=FALSE,\"C\",IF(ISERROR(MATCH(D199,Simulador!$H$18:$H$19,0))=FALSE,\"D\",\"\"))","v":""},{"$f":"IF(E199=\"C\",0,IF(E199 =\"D\",ROUND(1/((1+Simulador!$Q$13)^A199),9) * 2,ROUND(1/((1+Simulador!$Q$13)^A199),9)))","v":5.9051000000000001E-5},19.632172447000048]
[197,197,"2039-06-28",6,{"$f":"IF(ISERROR(MATCH(D200,Simulador!$H$16:$H$17,0))=FALSE,\"C\",IF(ISERROR(MATCH(D200,Simulador!$H$18:$H$19,0))=FALSE,\"D\",\"\"))","v":""},{"$f":"IF(E200=\"C\",0,IF(E200 =\"D\",ROUND(1/((1+Simulador!$Q$13)^A200),9) * 2,ROUND(1/((1+Simulador!$Q$13)^A200),9)))","v":5.6189E-5},19.632228636000047]
[198,198,"2039-07-28",7,{"$f":"IF(ISERROR(MATCH(D201,Simulador!$H$16:$H$17,0))=FALSE,\"C\",IF(ISERROR(MATCH(D201,Simulador!$H$18:$H$19,0))=FALSE,\"D\",\"\"))","v":""},{"$f":"IF(E201=\"C\",0,IF(E201 =\"D\",ROUND(1/((1+Simulador!$Q$13)^A201),9) * 2,ROUND(1/((1+Simulador!$Q$13)^A201),9)))","v":5.3465999999999999E-5},19.632282102000048]
[199,199,"2039-08-28",8,{"$f":"IF(ISERROR(MATCH(D202,Simulador!$H$16:$H$17,0))=FALSE,\"C\",IF(ISERROR(MATCH(D202,Simulador!$H$18:$H$19,0))=FALSE,\"D\",\"\"))","v":""},{"$f":"IF(E202=\"C\",0,IF(E202 =\"D\",ROUND(1/((1+Simulador!$Q$13)^A202),9) * 2,ROUND(1/((1+Simulador!$Q$13)^A202),9)))","v":5.0875000000000003E-5},19.632332977000047]
[200,200,"2039-09-28",9,{"$f":"IF(ISERROR(MATCH(D203,Simulador!$H$16:$H$17,0))=FALSE,\"C\",IF(ISERROR(MATCH(D203,Simulador!$H$18:$H$19,0))=FALSE,\"D\",\"\"))","v":""},{"$f":"IF(E203=\"C\",0,IF(E203 =\"D\",ROUND(1/((1+Simulador!$Q$13)^A203),9) * 2,ROUND(1/((1+Simulador!$Q$13)^A203),9)))","v":4.8408999999999997E-5},19.632381386000048]
[201,201,"2039-10-28",10,{"$f":"IF(ISERROR(MATCH(D204,Simulador!$H$16:$H$17,0))=FALSE,\"C\",IF(ISERROR(MATCH(D204,Simulador!$H$18:$H$19,0))=FALSE,\"D\",\"\"))","v":""},{"$f":"IF(E204=\"C\",0,IF(E204 =\"D\",ROUND(1/((1+Simulador!$Q$13)^A204),9) * 2,ROUND(1/((1+Simulador!$Q$13)^A204),9)))","v":4.6063000000000003E-5},19.632427449000048]
[202,202,"2039-11-28",11,{"$f":"IF(ISERROR(MATCH(D205,Simulador!$H$16:$H$17,0))=FALSE,\"C\",IF(ISERROR(MATCH(D205,Simulador!$H$18:$H$19,0))=FALSE,\"D\",\"\"))","v":""},{"$f":"IF(E205=\"C\",0,IF(E205 =\"D\",ROUND(1/((1+Simulador!$Q$13)^A205),9) * 2,ROUND(1/((1+Simulador!$Q$13)^A205),9)))","v":4.3831000000000001E-5},19.632471280000047]
[203,203,"2039-12-28",12,{"$f":"IF(ISERROR(MATCH(D206,Simulador!$H$16:$H$17,0))=FALSE,\"C\",IF(ISERROR(MATCH(D206,Simulador!$H$18:$H$19,0))=FALSE,\"D\",\"\"))","v":""},{"$f":"IF(E206=\"C\",0,IF(E206 =\"D\",ROUND(1/((1+Simulador!$Q$13)^A206),9) * 2,ROUND(1/((1+Simulador!$Q$13)^A206),9)))","v":4.1705999999999997E-5},19.632512986000048]
[204,204,"2040-01-28",1,{"$f":"IF(ISERROR(MATCH(D207,Simulador!$H$16:$H$17,0))=FALSE,\"C\",IF(ISERROR(MATCH(D207,Simulador!$H$18:$H$19,0))=FALSE,\"D\",\"\"))","v":""},{"$f":"IF(E207=\"C\",0,IF(E207 =\"D\",ROUND(1/((1+Simulador!$Q$13)^A207),9) * 2,ROUND(1/((1+Simulador!$Q$13)^A207),9)))","v":3.9684999999999997E-5},19.632552671000049]
[205,205,"2040-02-28",2,{"$f":"IF(ISERROR(MATCH(D208,Simulador!$H$16:$H$17,0))=FALSE,\"C\",IF(ISERROR(MATCH(D208,Simulador!$H$18:$H$19,0))=FALSE,\"D\",\"\"))","v":""},{"$f":"IF(E208=\"C\",0,IF(E208 =\"D\",ROUND(1/((1+Simulador!$Q$13)^A208),9) * 2,ROUND(1/((1+Simulador!$Q$13)^A208),9)))","v":3.7762000000000002E-5},19.63259043300005]
[206,206,"2040-03-28",3,{"$f":"IF(ISERROR(MATCH(D209,Simulador!$H$16:$H$17,0))=FALSE,\"C\",IF(ISERROR(MATCH(D209,Simulador!$H$18:$H$19,0))=FALSE,\"D\",\"\"))","v":""},{"$f":"IF(E209=\"C\",0,IF(E209 =\"D\",ROUND(1/((1+Simulador!$Q$13)^A209),9) * 2,ROUND(1/((1+Simulador!$Q$13)^A209),9)))","v":3.5932000000000001E-5},19.63262636500005]
[207,207,"2040-04-28",4,{"$f":"IF(ISERROR(MATCH(D210,Simulador!$H$16:$H$17,0))=FALSE,\"C\",IF(ISERROR(MATCH(D210,Simulador!$H$18:$H$19,0))=FALSE,\"D\",\"\"))","v":""},{"$f":"IF(E210=\"C\",0,IF(E210 =\"D\",ROUND(1/((1+Simulador!$Q$13)^A210),9) * 2,ROUND(1/((1+Simulador!$Q$13)^A210),9)))","v":3.4190000000000003E-5},19.632660555000051]
[208,208,"2040-05-28",5,{"$f":"IF(ISERROR(MATCH(D211,Simulador!$H$16:$H$17,0))=FALSE,\"C\",IF(ISERROR(MATCH(D211,Simulador!$H$18:$H$19,0))=FALSE,\"D\",\"\"))","v":""},{"$f":"IF(E211=\"C\",0,IF(E211 =\"D\",ROUND(1/((1+Simulador!$Q$13)^A211),9) * 2,ROUND(1/((1+Simulador!$Q$13)^A211),9)))","v":3.2533000000000002E-5},19.63269308800005]
[209,209,"2040-06-28",6,{"$f":"IF(ISERROR(MATCH(D212,Simulador!$H$16:$H$17,0))=FALSE,\"C\",IF(ISERROR(MATCH(D212,Simulador!$H$18:$H$19,0))=FALSE,\"D\",\"\"))","v":""},{"$f":"IF(E212=\"C\",0,IF(E212 =\"D\",ROUND(1/((1+Simulador!$Q$13)^A212),9) * 2,ROUND(1/((1+Simulador!$Q$13)^A212),9)))","v":3.0956E-5},19.632724044000049]
[210,210,"2040-07-28",7,{"$f":"IF(ISERROR(MATCH(D213,Simulador!$H$16:$H$17,0))=FALSE,\"C\",IF(ISERROR(MATCH(D213,Simulador!$H$18:$H$19,0))=FALSE,\"D\",\"\"))","v":""},{"$f":"IF(E213=\"C\",0,IF(E213 =\"D\",ROUND(1/((1+Simulador!$Q$13)^A213),9) * 2,ROUND(1/((1+Simulador!$Q$13)^A213),9)))","v":2.9456000000000001E-5},19.632753500000049]
[211,211,"2040-08-28",8,{"$f":"IF(ISERROR(MATCH(D214,Simulador!$H$16:$H$17,0))=FALSE,\"C\",IF(ISERROR(MATCH(D214,Simulador!$H$18:$H$19,0))=FALSE,\"D\",\"\"))","v":""},{"$f":"IF(E214=\"C\",0,IF(E214 =\"D\",ROUND(1/((1+Simulador!$Q$13)^A214),9) * 2,ROUND(1/((1+Simulador!$Q$13)^A214),9)))","v":2.8028999999999999E-5},19.632781529000049]
[212,212,"2040-09-28",9,{"$f":"IF(ISERROR(MATCH(D215,Simulador!$H$16:$H$17,0))=FALSE,\"C\",IF(ISERROR(MATCH(D215,Simulador!$H$18:$H$19,0))=FALSE,\"D\",\"\"))","v":""},{"$f":"IF(E215=\"C\",0,IF(E215 =\"D\",ROUND(1/((1+Simulador!$Q$13)^A215),9) * 2,ROUND(1/((1+Simulador!$Q$13)^A215),9)))","v":2.667E-5},19.632808199000049]
[213,213,"2040-10-28",10,{"$f":"IF(ISERROR(MATCH(D216,Simulador!$H$16:$H$17,0))=FALSE,\"C\",IF(ISERROR(MATCH(D216,Simulador!$H$18:$H$19,0))=FALSE,\"D\",\"\"))","v":""},{"$f":"IF(E216=\"C\",0,IF(E216 =\"D\",ROUND(1/((1+Simulador!$Q$13)^A216),9) * 2,ROUND(1/((1+Simulador!$Q$13)^A216),9)))","v":2.5378E-5},19.632833577000049]
[214,214,"2040-11-28",11,{"$f":"IF(ISERROR(MATCH(D217,Simulador!$H$16:$H$17,0))=FALSE,\"C\",IF(ISERROR(MATCH(D217,Simulador!$H$18:$H$19,0))=FALSE,\"D\",\"\"))","v":""},{"$f":"IF(E217=\"C\",0,IF(E217 =\"D\",ROUND(1/((1+Simulador!$Q$13)^A217),9) * 2,ROUND(1/((1+Simulador!$Q$13)^A217),9)))","v":2.4148E-5},19.632857725000051]
[215,215,"2040-12-28",12,{"$f":"IF(ISERROR(MATCH(D218,Simulador!$H$16:$H$17,0))=FALSE,\"C\",IF(ISERROR(MATCH(D218,Simulador!$H$18:$H$19,0))=FALSE,\"D\",\"\"))","v":""},{"$f":"IF(E218=\"C\",0,IF(E218 =\"D\",ROUND(1/((1+Simulador!$Q$13)^A218),9) * 2,ROUND(1/((1+Simulador!$Q$13)^A218),9)))","v":2.2977E-5},19.632880702000051]
[216,216,"2041-01-28",1,{"$f":"IF(ISERROR(MATCH(D219,Simulador!$H$16:$H$17,0))=FALSE,\"C\",IF(ISERROR(MATCH(D219,Simulador!$H$18:$H$19,0))=FALSE,\"D\",\"\"))","v":""},{"$f":"IF(E219=\"C\",0,IF(E219 =\"D\",ROUND(1/((1+Simulador!$Q$13)^A219),9) * 2,ROUND(1/((1+Simulador!$Q$13)^A219),9)))","v":2.1863999999999999E-5},19.632902566000052]
[217,217,"2041-02-28",2,{"$f":"IF(ISERROR(MATCH(D220,Simulador!$H$16:$H$17,0))=FALSE,\"C\",IF(ISERROR(MATCH(D220,Simulador!$H$18:$H$19,0))=FALSE,\"D\",\"\"))","v":""},{"$f":"IF(E220=\"C\",0,IF(E220 =\"D\",ROUND(1/((1+Simulador!$Q$13)^A220),9) * 2,ROUND(1/((1+Simulador!$Q$13)^A220),9)))","v":2.0803999999999999E-5},19.63292337000005]
[218,218,"2041-03-28",3,{"$f":"IF(ISERROR(MATCH(D221,Simulador!$H$16:$H$17,0))=FALSE,\"C\",IF(ISERROR(MATCH(D221,Simulador!$H$18:$H$19,0))=FALSE,\"D\",\"\"))","v":""},{"$f":"IF(E221=\"C\",0,IF(E221 =\"D\",ROUND(1/((1+Simulador!$Q$13)^A221),9) * 2,ROUND(1/((1+Simulador!$Q$13)^A221),9)))","v":1.9796000000000002E-5},19.63294316600005]
[219,219,"2041-04-28",4,{"$f":"IF(ISERROR(MATCH(D222,Simulador!$H$16:$H$17,0))=FALSE,\"C\",IF(ISERROR(MATCH(D222,Simulador!$H$18:$H$19,0))=FALSE,\"D\",\"\"))","v":""},{"$f":"IF(E222=\"C\",0,IF(E222 =\"D\",ROUND(1/((1+Simulador!$Q$13)^A222),9) * 2,ROUND(1/((1+Simulador!$Q$13)^A222),9)))","v":1.8836000000000001E-5},19.632962002000049]
[220,220,"2041-05-28",5,{"$f":"IF(ISERROR(MATCH(D223,Simulador!$H$16:$H$17,0))=FALSE,\"C\",IF(ISERROR(MATCH(D223,Simulador!$H$18:$H$19,0))=FALSE,\"D\",\"\"))","v":""},{"$f":"IF(E223=\"C\",0,IF(E223 =\"D\",ROUND(1/((1+Simulador!$Q$13)^A223),9) * 2,ROUND(1/((1+Simulador!$Q$13)^A223),9)))","v":1.7923000000000001E-5},19.632979925000051]
[221,221,"2041-06-28",6,{"$f":"IF(ISERROR(MATCH(D224,Simulador!$H$16:$H$17,0))=FALSE,\"C\",IF(ISERROR(MATCH(D224,Simulador!$H$18:$H$19,0))=FALSE,\"D\",\"\"))","v":""},{"$f":"IF(E224=\"C\",0,IF(E224 =\"D\",ROUND(1/((1+Simulador!$Q$13)^A224),9) * 2,ROUND(1/((1+Simulador!$Q$13)^A224),9)))","v":1.7054999999999998E-5},19.632996980000051]
[222,222,"2041-07-28",7,{"$f":"IF(ISERROR(MATCH(D225,Simulador!$H$16:$H$17,0))=FALSE,\"C\",IF(ISERROR(MATCH(D225,Simulador!$H$18:$H$19,0))=FALSE,\"D\",\"\"))","v":""},{"$f":"IF(E225=\"C\",0,IF(E225 =\"D\",ROUND(1/((1+Simulador!$Q$13)^A225),9) * 2,ROUND(1/((1+Simulador!$Q$13)^A225),9)))","v":1.6228000000000001E-5},19.633013208000051]
[223,223,"2041-08-28",8,{"$f":"IF(ISERROR(MATCH(D226,Simulador!$H$16:$H$17,0))=FALSE,\"C\",IF(ISERROR(MATCH(D226,Simulador!$H$18:$H$19,0))=FALSE,\"D\",\"\"))","v":""},{"$f":"IF(E226=\"C\",0,IF(E226 =\"D\",ROUND(1/((1+Simulador!$Q$13)^A226),9) * 2,ROUND(1/((1+Simulador!$Q$13)^A226),9)))","v":1.5441999999999999E-5},19.63302865000005]
[224,224,"2041-09-28",9,{"$f":"IF(ISERROR(MATCH(D227,Simulador!$H$16:$H$17,0))=FALSE,\"C\",IF(ISERROR(MATCH(D227,Simulador!$H$18:$H$19,0))=FALSE,\"D\",\"\"))","v":""},{"$f":"IF(E227=\"C\",0,IF(E227 =\"D\",ROUND(1/((1+Simulador!$Q$13)^A227),9) * 2,ROUND(1/((1+Simulador!$Q$13)^A227),9)))","v":1.4693E-5},19.63304334300005]
[225,225,"2041-10-28",10,{"$f":"IF(ISERROR(MATCH(D228,Simulador!$H$16:$H$17,0))=FALSE,\"C\",IF(ISERROR(MATCH(D228,Simulador!$H$18:$H$19,0))=FALSE,\"D\",\"\"))","v":""},{"$f":"IF(E228=\"C\",0,IF(E228 =\"D\",ROUND(1/((1+Simulador!$Q$13)^A228),9) * 2,ROUND(1/((1+Simulador!$Q$13)^A228),9)))","v":1.3981E-5},19.633057324000049]
[226,226,"2041-11-28",11,{"$f":"IF(ISERROR(MATCH(D229,Simulador!$H$16:$H$17,0))=FALSE,\"C\",IF(ISERROR(MATCH(D229,Simulador!$H$18:$H$19,0))=FALSE,\"D\",\"\"))","v":""},{"$f":"IF(E229=\"C\",0,IF(E229 =\"D\",ROUND(1/((1+Simulador!$Q$13)^A229),9) * 2,ROUND(1/((1+Simulador!$Q$13)^A229),9)))","v":1.3304E-5},19.633070628000048]
[227,227,"2041-12-28",12,{"$f":"IF(ISERROR(MATCH(D230,Simulador!$H$16:$H$17,0))=FALSE,\"C\",IF(ISERROR(MATCH(D230,Simulador!$H$18:$H$19,0))=FALSE,\"D\",\"\"))","v":""},{"$f":"IF(E230=\"C\",0,IF(E230 =\"D\",ROUND(1/((1+Simulador!$Q$13)^A230),9) * 2,ROUND(1/((1+Simulador!$Q$13)^A230),9)))","v":1.2659E-5},19.633083287000048]
[228,228,"2042-01-28",1,{"$f":"IF(ISERROR(MATCH(D231,Simulador!$H$16:$H$17,0))=FALSE,\"C\",IF(ISERROR(MATCH(D231,Simulador!$H$18:$H$19,0))=FALSE,\"D\",\"\"))","v":""},{"$f":"IF(E231=\"C\",0,IF(E231 =\"D\",ROUND(1/((1+Simulador!$Q$13)^A231),9) * 2,ROUND(1/((1+Simulador!$Q$13)^A231),9)))","v":1.2045000000000001E-5},19.633095332000046]
[229,229,"2042-02-28",2,{"$f":"IF(ISERROR(MATCH(D232,Simulador!$H$16:$H$17,0))=FALSE,\"C\",IF(ISERROR(MATCH(D232,Simulador!$H$18:$H$19,0))=FALSE,\"D\",\"\"))","v":""},{"$f":"IF(E232=\"C\",0,IF(E232 =\"D\",ROUND(1/((1+Simulador!$Q$13)^A232),9) * 2,ROUND(1/((1+Simulador!$Q$13)^A232),9)))","v":1.1462E-5},19.633106794000046]
[230,230,"2042-03-28",3,{"$f":"IF(ISERROR(MATCH(D233,Simulador!$H$16:$H$17,0))=FALSE,\"C\",IF(ISERROR(MATCH(D233,Simulador!$H$18:$H$19,0))=FALSE,\"D\",\"\"))","v":""},{"$f":"IF(E233=\"C\",0,IF(E233 =\"D\",ROUND(1/((1+Simulador!$Q$13)^A233),9) * 2,ROUND(1/((1+Simulador!$Q$13)^A233),9)))","v":1.0906E-5},19.633117700000046]
[231,231,"2042-04-28",4,{"$f":"IF(ISERROR(MATCH(D234,Simulador!$H$16:$H$17,0))=FALSE,\"C\",IF(ISERROR(MATCH(D234,Simulador!$H$18:$H$19,0))=FALSE,\"D\",\"\"))","v":""},{"$f":"IF(E234=\"C\",0,IF(E234 =\"D\",ROUND(1/((1+Simulador!$Q$13)^A234),9) * 2,ROUND(1/((1+Simulador!$Q$13)^A234),9)))","v":1.0378E-5},19.633128078000045]
[232,232,"2042-05-28",5,{"$f":"IF(ISERROR(MATCH(D235,Simulador!$H$16:$H$17,0))=FALSE,\"C\",IF(ISERROR(MATCH(D235,Simulador!$H$18:$H$19,0))=FALSE,\"D\",\"\"))","v":""},{"$f":"IF(E235=\"C\",0,IF(E235 =\"D\",ROUND(1/((1+Simulador!$Q$13)^A235),9) * 2,ROUND(1/((1+Simulador!$Q$13)^A235),9)))","v":9.8749999999999995E-6},19.633137953000045]
[233,233,"2042-06-28",6,{"$f":"IF(ISERROR(MATCH(D236,Simulador!$H$16:$H$17,0))=FALSE,\"C\",IF(ISERROR(MATCH(D236,Simulador!$H$18:$H$19,0))=FALSE,\"D\",\"\"))","v":""},{"$f":"IF(E236=\"C\",0,IF(E236 =\"D\",ROUND(1/((1+Simulador!$Q$13)^A236),9) * 2,ROUND(1/((1+Simulador!$Q$13)^A236),9)))","v":9.3959999999999995E-6},19.633147349000044]
[234,234,"2042-07-28",7,{"$f":"IF(ISERROR(MATCH(D237,Simulador!$H$16:$H$17,0))=FALSE,\"C\",IF(ISERROR(MATCH(D237,Simulador!$H$18:$H$19,0))=FALSE,\"D\",\"\"))","v":""},{"$f":"IF(E237=\"C\",0,IF(E237 =\"D\",ROUND(1/((1+Simulador!$Q$13)^A237),9) * 2,ROUND(1/((1+Simulador!$Q$13)^A237),9)))","v":8.9409999999999996E-6},19.633156290000045]
[235,235,"2042-08-28",8,{"$f":"IF(ISERROR(MATCH(D238,Simulador!$H$16:$H$17,0))=FALSE,\"C\",IF(ISERROR(MATCH(D238,Simulador!$H$18:$H$19,0))=FALSE,\"D\",\"\"))","v":""},{"$f":"IF(E238=\"C\",0,IF(E238 =\"D\",ROUND(1/((1+Simulador!$Q$13)^A238),9) * 2,ROUND(1/((1+Simulador!$Q$13)^A238),9)))","v":8.507E-6},19.633164797000045]
[236,236,"2042-09-28",9,{"$f":"IF(ISERROR(MATCH(D239,Simulador!$H$16:$H$17,0))=FALSE,\"C\",IF(ISERROR(MATCH(D239,Simulador!$H$18:$H$19,0))=FALSE,\"D\",\"\"))","v":""},{"$f":"IF(E239=\"C\",0,IF(E239 =\"D\",ROUND(1/((1+Simulador!$Q$13)^A239),9) * 2,ROUND(1/((1+Simulador!$Q$13)^A239),9)))","v":8.0949999999999996E-6},19.633172892000044]
[237,237,"2042-10-28",10,{"$f":"IF(ISERROR(MATCH(D240,Simulador!$H$16:$H$17,0))=FALSE,\"C\",IF(ISERROR(MATCH(D240,Simulador!$H$18:$H$19,0))=FALSE,\"D\",\"\"))","v":""},{"$f":"IF(E240=\"C\",0,IF(E240 =\"D\",ROUND(1/((1+Simulador!$Q$13)^A240),9) * 2,ROUND(1/((1+Simulador!$Q$13)^A240),9)))","v":7.7030000000000006E-6},19.633180595000045]
[238,238,"2042-11-28",11,{"$f":"IF(ISERROR(MATCH(D241,Simulador!$H$16:$H$17,0))=FALSE,\"C\",IF(ISERROR(MATCH(D241,Simulador!$H$18:$H$19,0))=FALSE,\"D\",\"\"))","v":""},{"$f":"IF(E241=\"C\",0,IF(E241 =\"D\",ROUND(1/((1+Simulador!$Q$13)^A241),9) * 2,ROUND(1/((1+Simulador!$Q$13)^A241),9)))","v":7.3289999999999996E-6},19.633187924000044]
[239,239,"2042-12-28",12,{"$f":"IF(ISERROR(MATCH(D242,Simulador!$H$16:$H$17,0))=FALSE,\"C\",IF(ISERROR(MATCH(D242,Simulador!$H$18:$H$19,0))=FALSE,\"D\",\"\"))","v":""},{"$f":"IF(E242=\"C\",0,IF(E242 =\"D\",ROUND(1/((1+Simulador!$Q$13)^A242),9) * 2,ROUND(1/((1+Simulador!$Q$13)^A242),9)))","v":6.9739999999999996E-6},19.633194898000045]
[240,240,"2043-01-28",1,{"$f":"IF(ISERROR(MATCH(D243,Simulador!$H$16:$H$17,0))=FALSE,\"C\",IF(ISERROR(MATCH(D243,Simulador!$H$18:$H$19,0))=FALSE,\"D\",\"\"))","v":""},{"$f":"IF(E243=\"C\",0,IF(E243 =\"D\",ROUND(1/((1+Simulador!$Q$13)^A243),9) * 2,ROUND(1/((1+Simulador!$Q$13)^A243),9)))","v":6.6359999999999997E-6},19.633201534000044]
[241,241,"2043-02-28",2,{"$f":"IF(ISERROR(MATCH(D244,Simulador!$H$16:$H$17,0))=FALSE,\"C\",IF(ISERROR(MATCH(D244,Simulador!$H$18:$H$19,0))=FALSE,\"D\",\"\"))","v":""},{"$f":"IF(E244=\"C\",0,IF(E244 =\"D\",ROUND(1/((1+Simulador!$Q$13)^A244),9) * 2,ROUND(1/((1+Simulador!$Q$13)^A244),9)))","v":6.3149999999999997E-6},19.633207849000044]
[242,242,"2043-03-28",3,{"$f":"IF(ISERROR(MATCH(D245,Simulador!$H$16:$H$17,0))=FALSE,\"C\",IF(ISERROR(MATCH(D245,Simulador!$H$18:$H$19,0))=FALSE,\"D\",\"\"))","v":""},{"$f":"IF(E245=\"C\",0,IF(E245 =\"D\",ROUND(1/((1+Simulador!$Q$13)^A245),9) * 2,ROUND(1/((1+Simulador!$Q$13)^A245),9)))","v":6.0079999999999999E-6},19.633213857000044]
[243,243,"2043-04-28",4,{"$f":"IF(ISERROR(MATCH(D246,Simulador!$H$16:$H$17,0))=FALSE,\"C\",IF(ISERROR(MATCH(D246,Simulador!$H$18:$H$19,0))=FALSE,\"D\",\"\"))","v":""},{"$f":"IF(E246=\"C\",0,IF(E246 =\"D\",ROUND(1/((1+Simulador!$Q$13)^A246),9) * 2,ROUND(1/((1+Simulador!$Q$13)^A246),9)))","v":5.7169999999999996E-6},19.633219574000044]
[244,244,"2043-05-28",5,{"$f":"IF(ISERROR(MATCH(D247,Simulador!$H$16:$H$17,0))=FALSE,\"C\",IF(ISERROR(MATCH(D247,Simulador!$H$18:$H$19,0))=FALSE,\"D\",\"\"))","v":""},{"$f":"IF(E247=\"C\",0,IF(E247 =\"D\",ROUND(1/((1+Simulador!$Q$13)^A247),9) * 2,ROUND(1/((1+Simulador!$Q$13)^A247),9)))","v":5.4399999999999996E-6},19.633225014000043]
[245,245,"2043-06-28",6,{"$f":"IF(ISERROR(MATCH(D248,Simulador!$H$16:$H$17,0))=FALSE,\"C\",IF(ISERROR(MATCH(D248,Simulador!$H$18:$H$19,0))=FALSE,\"D\",\"\"))","v":""},{"$f":"IF(E248=\"C\",0,IF(E248 =\"D\",ROUND(1/((1+Simulador!$Q$13)^A248),9) * 2,ROUND(1/((1+Simulador!$Q$13)^A248),9)))","v":5.1769999999999997E-6},19.633230191000042]
[246,246,"2043-07-28",7,{"$f":"IF(ISERROR(MATCH(D249,Simulador!$H$16:$H$17,0))=FALSE,\"C\",IF(ISERROR(MATCH(D249,Simulador!$H$18:$H$19,0))=FALSE,\"D\",\"\"))","v":""},{"$f":"IF(E249=\"C\",0,IF(E249 =\"D\",ROUND(1/((1+Simulador!$Q$13)^A249),9) * 2,ROUND(1/((1+Simulador!$Q$13)^A249),9)))","v":4.9259999999999999E-6},19.633235117000041]
[247,247,"2043-08-28",8,{"$f":"IF(ISERROR(MATCH(D250,Simulador!$H$16:$H$17,0))=FALSE,\"C\",IF(ISERROR(MATCH(D250,Simulador!$H$18:$H$19,0))=FALSE,\"D\",\"\"))","v":""},{"$f":"IF(E250=\"C\",0,IF(E250 =\"D\",ROUND(1/((1+Simulador!$Q$13)^A250),9) * 2,ROUND(1/((1+Simulador!$Q$13)^A250),9)))","v":4.6870000000000002E-6},19.633239804000041]
[248,248,"2043-09-28",9,{"$f":"IF(ISERROR(MATCH(D251,Simulador!$H$16:$H$17,0))=FALSE,\"C\",IF(ISERROR(MATCH(D251,Simulador!$H$18:$H$19,0))=FALSE,\"D\",\"\"))","v":""},{"$f":"IF(E251=\"C\",0,IF(E251 =\"D\",ROUND(1/((1+Simulador!$Q$13)^A251),9) * 2,ROUND(1/((1+Simulador!$Q$13)^A251),9)))","v":4.4599999999999996E-6},19.633244264000041]
[249,249,"2043-10-28",10,{"$f":"IF(ISERROR(MATCH(D252,Simulador!$H$16:$H$17,0))=FALSE,\"C\",IF(ISERROR(MATCH(D252,Simulador!$H$18:$H$19,0))=FALSE,\"D\",\"\"))","v":""},{"$f":"IF(E252=\"C\",0,IF(E252 =\"D\",ROUND(1/((1+Simulador!$Q$13)^A252),9) * 2,ROUND(1/((1+Simulador!$Q$13)^A252),9)))","v":4.2440000000000004E-6},19.63324850800004]
[250,250,"2043-11-28",11,{"$f":"IF(ISERROR(MATCH(D253,Simulador!$H$16:$H$17,0))=FALSE,\"C\",IF(ISERROR(MATCH(D253,Simulador!$H$18:$H$19,0))=FALSE,\"D\",\"\"))","v":""},{"$f":"IF(E253=\"C\",0,IF(E253 =\"D\",ROUND(1/((1+Simulador!$Q$13)^A253),9) * 2,ROUND(1/((1+Simulador!$Q$13)^A253),9)))","v":4.0380000000000001E-6},19.63325254600004]
[251,251,"2043-12-28",12,{"$f":"IF(ISERROR(MATCH(D254,Simulador!$H$16:$H$17,0))=FALSE,\"C\",IF(ISERROR(MATCH(D254,Simulador!$H$18:$H$19,0))=FALSE,\"D\",\"\"))","v":""},{"$f":"IF(E254=\"C\",0,IF(E254 =\"D\",ROUND(1/((1+Simulador!$Q$13)^A254),9) * 2,ROUND(1/((1+Simulador!$Q$13)^A254),9)))","v":3.8419999999999998E-6},19.633256388000042]
[252,252,"2044-01-28",1,{"$f":"IF(ISERROR(MATCH(D255,Simulador!$H$16:$H$17,0))=FALSE,\"C\",IF(ISERROR(MATCH(D255,Simulador!$H$18:$H$19,0))=FALSE,\"D\",\"\"))","v":""},{"$f":"IF(E255=\"C\",0,IF(E255 =\"D\",ROUND(1/((1+Simulador!$Q$13)^A255),9) * 2,ROUND(1/((1+Simulador!$Q$13)^A255),9)))","v":3.6559999999999998E-6},19.633260044000043]
[253,253,"2044-02-28",2,{"$f":"IF(ISERROR(MATCH(D256,Simulador!$H$16:$H$17,0))=FALSE,\"C\",IF(ISERROR(MATCH(D256,Simulador!$H$18:$H$19,0))=FALSE,\"D\",\"\"))","v":""},{"$f":"IF(E256=\"C\",0,IF(E256 =\"D\",ROUND(1/((1+Simulador!$Q$13)^A256),9) * 2,ROUND(1/((1+Simulador!$Q$13)^A256),9)))","v":3.4790000000000001E-6},19.633263523000043]
[254,254,"2044-03-28",3,{"$f":"IF(ISERROR(MATCH(D257,Simulador!$H$16:$H$17,0))=FALSE,\"C\",IF(ISERROR(MATCH(D257,Simulador!$H$18:$H$19,0))=FALSE,\"D\",\"\"))","v":""},{"$f":"IF(E257=\"C\",0,IF(E257 =\"D\",ROUND(1/((1+Simulador!$Q$13)^A257),9) * 2,ROUND(1/((1+Simulador!$Q$13)^A257),9)))","v":3.3100000000000001E-6},19.633266833000043]
[255,255,"2044-04-28",4,{"$f":"IF(ISERROR(MATCH(D258,Simulador!$H$16:$H$17,0))=FALSE,\"C\",IF(ISERROR(MATCH(D258,Simulador!$H$18:$H$19,0))=FALSE,\"D\",\"\"))","v":""},{"$f":"IF(E258=\"C\",0,IF(E258 =\"D\",ROUND(1/((1+Simulador!$Q$13)^A258),9) * 2,ROUND(1/((1+Simulador!$Q$13)^A258),9)))","v":3.1499999999999999E-6},19.633269983000044]
[256,256,"2044-05-28",5,{"$f":"IF(ISERROR(MATCH(D259,Simulador!$H$16:$H$17,0))=FALSE,\"C\",IF(ISERROR(MATCH(D259,Simulador!$H$18:$H$19,0))=FALSE,\"D\",\"\"))","v":""},{"$f":"IF(E259=\"C\",0,IF(E259 =\"D\",ROUND(1/((1+Simulador!$Q$13)^A259),9) * 2,ROUND(1/((1+Simulador!$Q$13)^A259),9)))","v":2.9969999999999999E-6},19.633272980000044]
[257,257,"2044-06-28",{"$f":"MONTH(C260)","v":6},{"$f":"IF(ISERROR(MATCH(D260,Simulador!$H$16:$H$17,0))=FALSE,\"C\",IF(ISERROR(MATCH(D260,Simulador!$H$18:$H$19,0))=FALSE,\"D\",\"\"))","v":""},{"$f":"IF(E260=\"C\",0,IF(E260 =\"D\",ROUND(1/((1+Simulador!$Q$13)^A260),9) * 2,ROUND(1/((1+Simulador!$Q$13)^A260),9)))","v":2.852E-6},19.633275832000045]
[{"$f":"A260+1","v":258},{"$f":"IF(E261<>\"C\",IF(ISERROR(1+B260)=TRUE,1,1+B260),IF(ISNUMBER(B260),B260,1))","v":258},{"$f":"DATE(YEAR(C260) + 1/12,MONTH(C260)+1,DAY(C260))","v":"2044-07-28"},7,{"$f":"IF(ISERROR(MATCH(D261,Simulador!$H$16:$H$17,0))=FALSE,\"C\",IF(ISERROR(MATCH(D261,Simulador!$H$18:$H$19,0))=FALSE,\"D\",\"\"))","v":""},{"$f":"IF(E261=\"C\",0,IF(E261 =\"D\",ROUND(1/((1+Simulador!$Q$13)^A261),9) * 2,ROUND(1/((1+Simulador!$Q$13)^A261),9)))","v":2.7140000000000002E-6},19.633278546000046]
[259,259,"2044-08-28",8,{"$f":"IF(ISERROR(MATCH(D262,Simulador!$H$16:$H$17,0))=FALSE,\"C\",IF(ISERROR(MATCH(D262,Simulador!$H$18:$H$19,0))=FALSE,\"D\",\"\"))","v":""},{"$f":"IF(E262=\"C\",0,IF(E262 =\"D\",ROUND(1/((1+Simulador!$Q$13)^A262),9) * 2,ROUND(1/((1+Simulador!$Q$13)^A262),9)))","v":2.582E-6},{"$f":"G261+ROUND(F262,9)","v":19.633281128000046}]
[260,260,"2044-09-28",9,{"$f":"IF(ISERROR(MATCH(D263,Simulador!$H$16:$H$17,0))=FALSE,\"C\",IF(ISERROR(MATCH(D263,Simulador!$H$18:$H$19,0))=FALSE,\"D\",\"\"))","v":""},{"$f":"IF(E263=\"C\",0,IF(E263 =\"D\",ROUND(1/((1+Simulador!$Q$13)^A263),9) * 2,ROUND(1/((1+Simulador!$Q$13)^A263),9)))","v":2.4569999999999999E-6},19.633283585000047]
[261,261,"2044-10-28",10,{"$f":"IF(ISERROR(MATCH(D264,Simulador!$H$16:$H$17,0))=FALSE,\"C\",IF(ISERROR(MATCH(D264,Simulador!$H$18:$H$19,0))=FALSE,\"D\",\"\"))","v":""},{"$f":"IF(E264=\"C\",0,IF(E264 =\"D\",ROUND(1/((1+Simulador!$Q$13)^A264),9) * 2,ROUND(1/((1+Simulador!$Q$13)^A264),9)))","v":2.3379999999999999E-6},19.633285923000049]
[262,262,"2044-11-28",11,{"$f":"IF(ISERROR(MATCH(D265,Simulador!$H$16:$H$17,0))=FALSE,\"C\",IF(ISERROR(MATCH(D265,Simulador!$H$18:$H$19,0))=FALSE,\"D\",\"\"))","v":""},{"$f":"IF(E265=\"C\",0,IF(E265 =\"D\",ROUND(1/((1+Simulador!$Q$13)^A265),9) * 2,ROUND(1/((1+Simulador!$Q$13)^A265),9)))","v":2.2249999999999999E-6},19.633288148000048]
[263,263,"2044-12-28",12,{"$f":"IF(ISERROR(MATCH(D266,Simulador!$H$16:$H$17,0))=FALSE,\"C\",IF(ISERROR(MATCH(D266,Simulador!$H$18:$H$19,0))=FALSE,\"D\",\"\"))","v":""},{"$f":"IF(E266=\"C\",0,IF(E266 =\"D\",ROUND(1/((1+Simulador!$Q$13)^A266),9) * 2,ROUND(1/((1+Simulador!$Q$13)^A266),9)))","v":2.1169999999999998E-6},19.633290265000049]
[264,264,"2045-01-28",1,{"$f":"IF(ISERROR(MATCH(D267,Simulador!$H$16:$H$17,0))=FALSE,\"C\",IF(ISERROR(MATCH(D267,Simulador!$H$18:$H$19,0))=FALSE,\"D\",\"\"))","v":""},{"$f":"IF(E267=\"C\",0,IF(E267 =\"D\",ROUND(1/((1+Simulador!$Q$13)^A267),9) * 2,ROUND(1/((1+Simulador!$Q$13)^A267),9)))","v":2.0140000000000001E-6},19.633292279000049]
[265,265,"2045-02-28",2,{"$f":"IF(ISERROR(MATCH(D268,Simulador!$H$16:$H$17,0))=FALSE,\"C\",IF(ISERROR(MATCH(D268,Simulador!$H$18:$H$19,0))=FALSE,\"D\",\"\"))","v":""},{"$f":"IF(E268=\"C\",0,IF(E268 =\"D\",ROUND(1/((1+Simulador!$Q$13)^A268),9) * 2,ROUND(1/((1+Simulador!$Q$13)^A268),9)))","v":1.917E-6},19.633294196000048]
[266,266,"2045-03-28",3,{"$f":"IF(ISERROR(MATCH(D269,Simulador!$H$16:$H$17,0))=FALSE,\"C\",IF(ISERROR(MATCH(D269,Simulador!$H$18:$H$19,0))=FALSE,\"D\",\"\"))","v":""},{"$f":"IF(E269=\"C\",0,IF(E269 =\"D\",ROUND(1/((1+Simulador!$Q$13)^A269),9) * 2,ROUND(1/((1+Simulador!$Q$13)^A269),9)))","v":1.824E-6},19.633296020000049]
[267,267,"2045-04-28",4,{"$f":"IF(ISERROR(MATCH(D270,Simulador!$H$16:$H$17,0))=FALSE,\"C\",IF(ISERROR(MATCH(D270,Simulador!$H$18:$H$19,0))=FALSE,\"D\",\"\"))","v":""},{"$f":"IF(E270=\"C\",0,IF(E270 =\"D\",ROUND(1/((1+Simulador!$Q$13)^A270),9) * 2,ROUND(1/((1+Simulador!$Q$13)^A270),9)))","v":1.7349999999999999E-6},19.633297755000051]
[268,268,"2045-05-28",5,{"$f":"IF(ISERROR(MATCH(D271,Simulador!$H$16:$H$17,0))=FALSE,\"C\",IF(ISERROR(MATCH(D271,Simulador!$H$18:$H$19,0))=FALSE,\"D\",\"\"))","v":""},{"$f":"IF(E271=\"C\",0,IF(E271 =\"D\",ROUND(1/((1+Simulador!$Q$13)^A271),9) * 2,ROUND(1/((1+Simulador!$Q$13)^A271),9)))","v":1.6509999999999999E-6},19.633299406000052]
[269,269,"2045-06-28",6,{"$f":"IF(ISERROR(MATCH(D272,Simulador!$H$16:$H$17,0))=FALSE,\"C\",IF(ISERROR(MATCH(D272,Simulador!$H$18:$H$19,0))=FALSE,\"D\",\"\"))","v":""},{"$f":"IF(E272=\"C\",0,IF(E272 =\"D\",ROUND(1/((1+Simulador!$Q$13)^A272),9) * 2,ROUND(1/((1+Simulador!$Q$13)^A272),9)))","v":1.5710000000000001E-6},19.633300977000051]
[270,270,"2045-07-28",7,{"$f":"IF(ISERROR(MATCH(D273,Simulador!$H$16:$H$17,0))=FALSE,\"C\",IF(ISERROR(MATCH(D273,Simulador!$H$18:$H$19,0))=FALSE,\"D\",\"\"))","v":""},{"$f":"IF(E273=\"C\",0,IF(E273 =\"D\",ROUND(1/((1+Simulador!$Q$13)^A273),9) * 2,ROUND(1/((1+Simulador!$Q$13)^A273),9)))","v":1.4950000000000001E-6},19.63330247200005]
[271,271,"2045-08-28",8,{"$f":"IF(ISERROR(MATCH(D274,Simulador!$H$16:$H$17,0))=FALSE,\"C\",IF(ISERROR(MATCH(D274,Simulador!$H$18:$H$19,0))=FALSE,\"D\",\"\"))","v":""},{"$f":"IF(E274=\"C\",0,IF(E274 =\"D\",ROUND(1/((1+Simulador!$Q$13)^A274),9) * 2,ROUND(1/((1+Simulador!$Q$13)^A274),9)))","v":1.423E-6},19.633303895000051]
[272,272,"2045-09-28",9,{"$f":"IF(ISERROR(MATCH(D275,Simulador!$H$16:$H$17,0))=FALSE,\"C\",IF(ISERROR(MATCH(D275,Simulador!$H$18:$H$19,0))=FALSE,\"D\",\"\"))","v":""},{"$f":"IF(E275=\"C\",0,IF(E275 =\"D\",ROUND(1/((1+Simulador!$Q$13)^A275),9) * 2,ROUND(1/((1+Simulador!$Q$13)^A275),9)))","v":1.3540000000000001E-6},19.633305249000049]
[273,273,"2045-10-28",10,{"$f":"IF(ISERROR(MATCH(D276,Simulador!$H$16:$H$17,0))=FALSE,\"C\",IF(ISERROR(MATCH(D276,Simulador!$H$18:$H$19,0))=FALSE,\"D\",\"\"))","v":""},{"$f":"IF(E276=\"C\",0,IF(E276 =\"D\",ROUND(1/((1+Simulador!$Q$13)^A276),9) * 2,ROUND(1/((1+Simulador!$Q$13)^A276),9)))","v":1.288E-6},19.633306537000049]
[274,274,"2045-11-28",11,{"$f":"IF(ISERROR(MATCH(D277,Simulador!$H$16:$H$17,0))=FALSE,\"C\",IF(ISERROR(MATCH(D277,Simulador!$H$18:$H$19,0))=FALSE,\"D\",\"\"))","v":""},{"$f":"IF(E277=\"C\",0,IF(E277 =\"D\",ROUND(1/((1+Simulador!$Q$13)^A277),9) * 2,ROUND(1/((1+Simulador!$Q$13)^A277),9)))","v":1.226E-6},19.633307763000047]
[275,275,"2045-12-28",12,{"$f":"IF(ISERROR(MATCH(D278,Simulador!$H$16:$H$17,0))=FALSE,\"C\",IF(ISERROR(MATCH(D278,Simulador!$H$18:$H$19,0))=FALSE,\"D\",\"\"))","v":""},{"$f":"IF(E278=\"C\",0,IF(E278 =\"D\",ROUND(1/((1+Simulador!$Q$13)^A278),9) * 2,ROUND(1/((1+Simulador!$Q$13)^A278),9)))","v":1.1659999999999999E-6},19.633308929000048]
[276,276,"2046-01-28",1,{"$f":"IF(ISERROR(MATCH(D279,Simulador!$H$16:$H$17,0))=FALSE,\"C\",IF(ISERROR(MATCH(D279,Simulador!$H$18:$H$19,0))=FALSE,\"D\",\"\"))","v":""},{"$f":"IF(E279=\"C\",0,IF(E279 =\"D\",ROUND(1/((1+Simulador!$Q$13)^A279),9) * 2,ROUND(1/((1+Simulador!$Q$13)^A279),9)))","v":1.11E-6},19.633310039000047]
[277,277,"2046-02-28",2,{"$f":"IF(ISERROR(MATCH(D280,Simulador!$H$16:$H$17,0))=FALSE,\"C\",IF(ISERROR(MATCH(D280,Simulador!$H$18:$H$19,0))=FALSE,\"D\",\"\"))","v":""},{"$f":"IF(E280=\"C\",0,IF(E280 =\"D\",ROUND(1/((1+Simulador!$Q$13)^A280),9) * 2,ROUND(1/((1+Simulador!$Q$13)^A280),9)))","v":1.0559999999999999E-6},19.633311095000046]
[278,278,"2046-03-28",3,{"$f":"IF(ISERROR(MATCH(D281,Simulador!$H$16:$H$17,0))=FALSE,\"C\",IF(ISERROR(MATCH(D281,Simulador!$H$18:$H$19,0))=FALSE,\"D\",\"\"))","v":""},{"$f":"IF(E281=\"C\",0,IF(E281 =\"D\",ROUND(1/((1+Simulador!$Q$13)^A281),9) * 2,ROUND(1/((1+Simulador!$Q$13)^A281),9)))","v":1.0049999999999999E-6},19.633312100000047]
[279,279,"2046-04-28",4,{"$f":"IF(ISERROR(MATCH(D282,Simulador!$H$16:$H$17,0))=FALSE,\"C\",IF(ISERROR(MATCH(D282,Simulador!$H$18:$H$19,0))=FALSE,\"D\",\"\"))","v":""},{"$f":"IF(E282=\"C\",0,IF(E282 =\"D\",ROUND(1/((1+Simulador!$Q$13)^A282),9) * 2,ROUND(1/((1+Simulador!$Q$13)^A282),9)))","v":9.5600000000000004E-7},19.633313056000048]
[280,280,"2046-05-28",5,{"$f":"IF(ISERROR(MATCH(D283,Simulador!$H$16:$H$17,0))=FALSE,\"C\",IF(ISERROR(MATCH(D283,Simulador!$H$18:$H$19,0))=FALSE,\"D\",\"\"))","v":""},{"$f":"IF(E283=\"C\",0,IF(E283 =\"D\",ROUND(1/((1+Simulador!$Q$13)^A283),9) * 2,ROUND(1/((1+Simulador!$Q$13)^A283),9)))","v":9.0999999999999997E-7},19.633313966000049]
[281,281,"2046-06-28",6,{"$f":"IF(ISERROR(MATCH(D284,Simulador!$H$16:$H$17,0))=FALSE,\"C\",IF(ISERROR(MATCH(D284,Simulador!$H$18:$H$19,0))=FALSE,\"D\",\"\"))","v":""},{"$f":"IF(E284=\"C\",0,IF(E284 =\"D\",ROUND(1/((1+Simulador!$Q$13)^A284),9) * 2,ROUND(1/((1+Simulador!$Q$13)^A284),9)))","v":8.6600000000000005E-7},19.63331483200005]
[282,282,"2046-07-28",7,{"$f":"IF(ISERROR(MATCH(D285,Simulador!$H$16:$H$17,0))=FALSE,\"C\",IF(ISERROR(MATCH(D285,Simulador!$H$18:$H$19,0))=FALSE,\"D\",\"\"))","v":""},{"$f":"IF(E285=\"C\",0,IF(E285 =\"D\",ROUND(1/((1+Simulador!$Q$13)^A285),9) * 2,ROUND(1/((1+Simulador!$Q$13)^A285),9)))","v":8.2399999999999997E-7},19.63331565600005]
[283,283,"2046-08-28",8,{"$f":"IF(ISERROR(MATCH(D286,Simulador!$H$16:$H$17,0))=FALSE,\"C\",IF(ISERROR(MATCH(D286,Simulador!$H$18:$H$19,0))=FALSE,\"D\",\"\"))","v":""},{"$f":"IF(E286=\"C\",0,IF(E286 =\"D\",ROUND(1/((1+Simulador!$Q$13)^A286),9) * 2,ROUND(1/((1+Simulador!$Q$13)^A286),9)))","v":7.8400000000000003E-7},19.633316440000051]
[284,284,"2046-09-28",9,{"$f":"IF(ISERROR(MATCH(D287,Simulador!$H$16:$H$17,0))=FALSE,\"C\",IF(ISERROR(MATCH(D287,Simulador!$H$18:$H$19,0))=FALSE,\"D\",\"\"))","v":""},{"$f":"IF(E287=\"C\",0,IF(E287 =\"D\",ROUND(1/((1+Simulador!$Q$13)^A287),9) * 2,ROUND(1/((1+Simulador!$Q$13)^A287),9)))","v":7.4600000000000004E-7},19.633317186000053]
[285,285,"2046-10-28",10,{"$f":"IF(ISERROR(MATCH(D288,Simulador!$H$16:$H$17,0))=FALSE,\"C\",IF(ISERROR(MATCH(D288,Simulador!$H$18:$H$19,0))=FALSE,\"D\",\"\"))","v":""},{"$f":"IF(E288=\"C\",0,IF(E288 =\"D\",ROUND(1/((1+Simulador!$Q$13)^A288),9) * 2,ROUND(1/((1+Simulador!$Q$13)^A288),9)))","v":7.0999999999999998E-7},19.633317896000051]
[286,286,"2046-11-28",11,{"$f":"IF(ISERROR(MATCH(D289,Simulador!$H$16:$H$17,0))=FALSE,\"C\",IF(ISERROR(MATCH(D289,Simulador!$H$18:$H$19,0))=FALSE,\"D\",\"\"))","v":""},{"$f":"IF(E289=\"C\",0,IF(E289 =\"D\",ROUND(1/((1+Simulador!$Q$13)^A289),9) * 2,ROUND(1/((1+Simulador!$Q$13)^A289),9)))","v":6.75E-7},19.63331857100005]
[287,287,"2046-12-28",12,{"$f":"IF(ISERROR(MATCH(D290,Simulador!$H$16:$H$17,0))=FALSE,\"C\",IF(ISERROR(MATCH(D290,Simulador!$H$18:$H$19,0))=FALSE,\"D\",\"\"))","v":""},{"$f":"IF(E290=\"C\",0,IF(E290 =\"D\",ROUND(1/((1+Simulador!$Q$13)^A290),9) * 2,ROUND(1/((1+Simulador!$Q$13)^A290),9)))","v":6.4199999999999995E-7},19.63331921300005]
[288,288,"2047-01-28",1,{"$f":"IF(ISERROR(MATCH(D291,Simulador!$H$16:$H$17,0))=FALSE,\"C\",IF(ISERROR(MATCH(D291,Simulador!$H$18:$H$19,0))=FALSE,\"D\",\"\"))","v":""},{"$f":"IF(E291=\"C\",0,IF(E291 =\"D\",ROUND(1/((1+Simulador!$Q$13)^A291),9) * 2,ROUND(1/((1+Simulador!$Q$13)^A291),9)))","v":6.1099999999999995E-7},19.633319824000051]
[289,289,"2047-02-28",2,{"$f":"IF(ISERROR(MATCH(D292,Simulador!$H$16:$H$17,0))=FALSE,\"C\",IF(ISERROR(MATCH(D292,Simulador!$H$18:$H$19,0))=FALSE,\"D\",\"\"))","v":""},{"$f":"IF(E292=\"C\",0,IF(E292 =\"D\",ROUND(1/((1+Simulador!$Q$13)^A292),9) * 2,ROUND(1/((1+Simulador!$Q$13)^A292),9)))","v":5.82E-7},19.633320406000049]
[290,290,"2047-03-28",3,{"$f":"IF(ISERROR(MATCH(D293,Simulador!$H$16:$H$17,0))=FALSE,\"C\",IF(ISERROR(MATCH(D293,Simulador!$H$18:$H$19,0))=FALSE,\"D\",\"\"))","v":""},{"$f":"IF(E293=\"C\",0,IF(E293 =\"D\",ROUND(1/((1+Simulador!$Q$13)^A293),9) * 2,ROUND(1/((1+Simulador!$Q$13)^A293),9)))","v":5.5400000000000001E-7},19.633320960000049]
[291,291,"2047-04-28",4,{"$f":"IF(ISERROR(MATCH(D294,Simulador!$H$16:$H$17,0))=FALSE,\"C\",IF(ISERROR(MATCH(D294,Simulador!$H$18:$H$19,0))=FALSE,\"D\",\"\"))","v":""},{"$f":"IF(E294=\"C\",0,IF(E294 =\"D\",ROUND(1/((1+Simulador!$Q$13)^A294),9) * 2,ROUND(1/((1+Simulador!$Q$13)^A294),9)))","v":5.2699999999999999E-7},19.63332148700005]
[292,292,"2047-05-28",5,{"$f":"IF(ISERROR(MATCH(D295,Simulador!$H$16:$H$17,0))=FALSE,\"C\",IF(ISERROR(MATCH(D295,Simulador!$H$18:$H$19,0))=FALSE,\"D\",\"\"))","v":""},{"$f":"IF(E295=\"C\",0,IF(E295 =\"D\",ROUND(1/((1+Simulador!$Q$13)^A295),9) * 2,ROUND(1/((1+Simulador!$Q$13)^A295),9)))","v":5.0100000000000005E-7},19.633321988000048]
[293,293,"2047-06-28",6,{"$f":"IF(ISERROR(MATCH(D296,Simulador!$H$16:$H$17,0))=FALSE,\"C\",IF(ISERROR(MATCH(D296,Simulador!$H$18:$H$19,0))=FALSE,\"D\",\"\"))","v":""},{"$f":"IF(E296=\"C\",0,IF(E296 =\"D\",ROUND(1/((1+Simulador!$Q$13)^A296),9) * 2,ROUND(1/((1+Simulador!$Q$13)^A296),9)))","v":4.7700000000000005E-7},19.633322465000049]
[294,294,"2047-07-28",7,{"$f":"IF(ISERROR(MATCH(D297,Simulador!$H$16:$H$17,0))=FALSE,\"C\",IF(ISERROR(MATCH(D297,Simulador!$H$18:$H$19,0))=FALSE,\"D\",\"\"))","v":""},{"$f":"IF(E297=\"C\",0,IF(E297 =\"D\",ROUND(1/((1+Simulador!$Q$13)^A297),9) * 2,ROUND(1/((1+Simulador!$Q$13)^A297),9)))","v":4.5400000000000002E-7},19.633322919000047]
[295,295,"2047-08-28",8,{"$f":"IF(ISERROR(MATCH(D298,Simulador!$H$16:$H$17,0))=FALSE,\"C\",IF(ISERROR(MATCH(D298,Simulador!$H$18:$H$19,0))=FALSE,\"D\",\"\"))","v":""},{"$f":"IF(E298=\"C\",0,IF(E298 =\"D\",ROUND(1/((1+Simulador!$Q$13)^A298),9) * 2,ROUND(1/((1+Simulador!$Q$13)^A298),9)))","v":4.32E-7},19.633323351000048]
[296,296,"2047-09-28",9,{"$f":"IF(ISERROR(MATCH(D299,Simulador!$H$16:$H$17,0))=FALSE,\"C\",IF(ISERROR(MATCH(D299,Simulador!$H$18:$H$19,0))=FALSE,\"D\",\"\"))","v":""},{"$f":"IF(E299=\"C\",0,IF(E299 =\"D\",ROUND(1/((1+Simulador!$Q$13)^A299),9) * 2,ROUND(1/((1+Simulador!$Q$13)^A299),9)))","v":4.1100000000000001E-7},19.633323762000046]
[297,297,"2047-10-28",10,{"$f":"IF(ISERROR(MATCH(D300,Simulador!$H$16:$H$17,0))=FALSE,\"C\",IF(ISERROR(MATCH(D300,Simulador!$H$18:$H$19,0))=FALSE,\"D\",\"\"))","v":""},{"$f":"IF(E300=\"C\",0,IF(E300 =\"D\",ROUND(1/((1+Simulador!$Q$13)^A300),9) * 2,ROUND(1/((1+Simulador!$Q$13)^A300),9)))","v":3.9099999999999999E-7},19.633324153000046]
[298,298,"2047-11-28",11,{"$f":"IF(ISERROR(MATCH(D301,Simulador!$H$16:$H$17,0))=FALSE,\"C\",IF(ISERROR(MATCH(D301,Simulador!$H$18:$H$19,0))=FALSE,\"D\",\"\"))","v":""},{"$f":"IF(E301=\"C\",0,IF(E301 =\"D\",ROUND(1/((1+Simulador!$Q$13)^A301),9) * 2,ROUND(1/((1+Simulador!$Q$13)^A301),9)))","v":3.72E-7},19.633324525000045]
[299,299,"2047-12-28",12,{"$f":"IF(ISERROR(MATCH(D302,Simulador!$H$16:$H$17,0))=FALSE,\"C\",IF(ISERROR(MATCH(D302,Simulador!$H$18:$H$19,0))=FALSE,\"D\",\"\"))","v":""},{"$f":"IF(E302=\"C\",0,IF(E302 =\"D\",ROUND(1/((1+Simulador!$Q$13)^A302),9) * 2,ROUND(1/((1+Simulador!$Q$13)^A302),9)))","v":3.5400000000000002E-7},19.633324879000046]
[300,300,"2048-01-28",1,{"$f":"IF(ISERROR(MATCH(D303,Simulador!$H$16:$H$17,0))=FALSE,\"C\",IF(ISERROR(MATCH(D303,Simulador!$H$18:$H$19,0))=FALSE,\"D\",\"\"))","v":""},{"$f":"IF(E303=\"C\",0,IF(E303 =\"D\",ROUND(1/((1+Simulador!$Q$13)^A303),9) * 2,ROUND(1/((1+Simulador!$Q$13)^A303),9)))","v":3.3700000000000001E-7},19.633325216000046]
[301,301,"2048-02-28",2,{"$f":"IF(ISERROR(MATCH(D304,Simulador!$H$16:$H$17,0))=FALSE,\"C\",IF(ISERROR(MATCH(D304,Simulador!$H$18:$H$19,0))=FALSE,\"D\",\"\"))","v":""},{"$f":"IF(E304=\"C\",0,IF(E304 =\"D\",ROUND(1/((1+Simulador!$Q$13)^A304),9) * 2,ROUND(1/((1+Simulador!$Q$13)^A304),9)))","v":3.2000000000000001E-7},19.633325536000047]
[302,302,"2048-03-28",3,{"$f":"IF(ISERROR(MATCH(D305,Simulador!$H$16:$H$17,0))=FALSE,\"C\",IF(ISERROR(MATCH(D305,Simulador!$H$18:$H$19,0))=FALSE,\"D\",\"\"))","v":""},{"$f":"IF(E305=\"C\",0,IF(E305 =\"D\",ROUND(1/((1+Simulador!$Q$13)^A305),9) * 2,ROUND(1/((1+Simulador!$Q$13)^A305),9)))","v":3.0499999999999999E-7},19.633325841000048]
[303,303,"2048-04-28",4,{"$f":"IF(ISERROR(MATCH(D306,Simulador!$H$16:$H$17,0))=FALSE,\"C\",IF(ISERROR(MATCH(D306,Simulador!$H$18:$H$19,0))=FALSE,\"D\",\"\"))","v":""},{"$f":"IF(E306=\"C\",0,IF(E306 =\"D\",ROUND(1/((1+Simulador!$Q$13)^A306),9) * 2,ROUND(1/((1+Simulador!$Q$13)^A306),9)))","v":2.8999999999999998E-7},19.633326131000047]
[304,304,"2048-05-28",5,{"$f":"IF(ISERROR(MATCH(D307,Simulador!$H$16:$H$17,0))=FALSE,\"C\",IF(ISERROR(MATCH(D307,Simulador!$H$18:$H$19,0))=FALSE,\"D\",\"\"))","v":""},{"$f":"IF(E307=\"C\",0,IF(E307 =\"D\",ROUND(1/((1+Simulador!$Q$13)^A307),9) * 2,ROUND(1/((1+Simulador!$Q$13)^A307),9)))","v":2.7599999999999998E-7},19.633326407000048]
[305,305,"2048-06-28",6,{"$f":"IF(ISERROR(MATCH(D308,Simulador!$H$16:$H$17,0))=FALSE,\"C\",IF(ISERROR(MATCH(D308,Simulador!$H$18:$H$19,0))=FALSE,\"D\",\"\"))","v":""},{"$f":"IF(E308=\"C\",0,IF(E308 =\"D\",ROUND(1/((1+Simulador!$Q$13)^A308),9) * 2,ROUND(1/((1+Simulador!$Q$13)^A308),9)))","v":2.6300000000000001E-7},19.633326670000049]
[306,306,"2048-07-28",7,{"$f":"IF(ISERROR(MATCH(D309,Simulador!$H$16:$H$17,0))=FALSE,\"C\",IF(ISERROR(MATCH(D309,Simulador!$H$18:$H$19,0))=FALSE,\"D\",\"\"))","v":""},{"$f":"IF(E309=\"C\",0,IF(E309 =\"D\",ROUND(1/((1+Simulador!$Q$13)^A309),9) * 2,ROUND(1/((1+Simulador!$Q$13)^A309),9)))","v":2.4999999999999999E-7},19.633326920000048]
[307,307,"2048-08-28",8,{"$f":"IF(ISERROR(MATCH(D310,Simulador!$H$16:$H$17,0))=FALSE,\"C\",IF(ISERROR(MATCH(D310,Simulador!$H$18:$H$19,0))=FALSE,\"D\",\"\"))","v":""},{"$f":"IF(E310=\"C\",0,IF(E310 =\"D\",ROUND(1/((1+Simulador!$Q$13)^A310),9) * 2,ROUND(1/((1+Simulador!$Q$13)^A310),9)))","v":2.3799999999999999E-7},19.633327158000046]
[308,308,"2048-09-28",9,{"$f":"IF(ISERROR(MATCH(D311,Simulador!$H$16:$H$17,0))=FALSE,\"C\",IF(ISERROR(MATCH(D311,Simulador!$H$18:$H$19,0))=FALSE,\"D\",\"\"))","v":""},{"$f":"IF(E311=\"C\",0,IF(E311 =\"D\",ROUND(1/((1+Simulador!$Q$13)^A311),9) * 2,ROUND(1/((1+Simulador!$Q$13)^A311),9)))","v":2.2600000000000001E-7},19.633327384000047]
[309,309,"2048-10-28",10,{"$f":"IF(ISERROR(MATCH(D312,Simulador!$H$16:$H$17,0))=FALSE,\"C\",IF(ISERROR(MATCH(D312,Simulador!$H$18:$H$19,0))=FALSE,\"D\",\"\"))","v":""},{"$f":"IF(E312=\"C\",0,IF(E312 =\"D\",ROUND(1/((1+Simulador!$Q$13)^A312),9) * 2,ROUND(1/((1+Simulador!$Q$13)^A312),9)))","v":2.1500000000000001E-7},19.633327599000047]
[310,310,"2048-11-28",11,{"$f":"IF(ISERROR(MATCH(D313,Simulador!$H$16:$H$17,0))=FALSE,\"C\",IF(ISERROR(MATCH(D313,Simulador!$H$18:$H$19,0))=FALSE,\"D\",\"\"))","v":""},{"$f":"IF(E313=\"C\",0,IF(E313 =\"D\",ROUND(1/((1+Simulador!$Q$13)^A313),9) * 2,ROUND(1/((1+Simulador!$Q$13)^A313),9)))","v":2.05E-7},19.633327804000047]
[311,311,"2048-12-28",12,{"$f":"IF(ISERROR(MATCH(D314,Simulador!$H$16:$H$17,0))=FALSE,\"C\",IF(ISERROR(MATCH(D314,Simulador!$H$18:$H$19,0))=FALSE,\"D\",\"\"))","v":""},{"$f":"IF(E314=\"C\",0,IF(E314 =\"D\",ROUND(1/((1+Simulador!$Q$13)^A314),9) * 2,ROUND(1/((1+Simulador!$Q$13)^A314),9)))","v":1.9500000000000001E-7},19.633327999000045]
[312,312,"2049-01-28",1,{"$f":"IF(ISERROR(MATCH(D315,Simulador!$H$16:$H$17,0))=FALSE,\"C\",IF(ISERROR(MATCH(D315,Simulador!$H$18:$H$19,0))=FALSE,\"D\",\"\"))","v":""},{"$f":"IF(E315=\"C\",0,IF(E315 =\"D\",ROUND(1/((1+Simulador!$Q$13)^A315),9) * 2,ROUND(1/((1+Simulador!$Q$13)^A315),9)))","v":1.86E-7},19.633328185000046]
[313,313,"2049-02-28",2,{"$f":"IF(ISERROR(MATCH(D316,Simulador!$H$16:$H$17,0))=FALSE,\"C\",IF(ISERROR(MATCH(D316,Simulador!$H$18:$H$19,0))=FALSE,\"D\",\"\"))","v":""},{"$f":"IF(E316=\"C\",0,IF(E316 =\"D\",ROUND(1/((1+Simulador!$Q$13)^A316),9) * 2,ROUND(1/((1+Simulador!$Q$13)^A316),9)))","v":1.7700000000000001E-7},19.633328362000046]
[314,314,"2049-03-28",3,{"$f":"IF(ISERROR(MATCH(D317,Simulador!$H$16:$H$17,0))=FALSE,\"C\",IF(ISERROR(MATCH(D317,Simulador!$H$18:$H$19,0))=FALSE,\"D\",\"\"))","v":""},{"$f":"IF(E317=\"C\",0,IF(E317 =\"D\",ROUND(1/((1+Simulador!$Q$13)^A317),9) * 2,ROUND(1/((1+Simulador!$Q$13)^A317),9)))","v":1.68E-7},19.633328530000046]
[315,315,"2049-04-28",4,{"$f":"IF(ISERROR(MATCH(D318,Simulador!$H$16:$H$17,0))=FALSE,\"C\",IF(ISERROR(MATCH(D318,Simulador!$H$18:$H$19,0))=FALSE,\"D\",\"\"))","v":""},{"$f":"IF(E318=\"C\",0,IF(E318 =\"D\",ROUND(1/((1+Simulador!$Q$13)^A318),9) * 2,ROUND(1/((1+Simulador!$Q$13)^A318),9)))","v":1.6E-7},19.633328690000045]
[316,316,"2049-05-28",5,{"$f":"IF(ISERROR(MATCH(D319,Simulador!$H$16:$H$17,0))=FALSE,\"C\",IF(ISERROR(MATCH(D319,Simulador!$H$18:$H$19,0))=FALSE,\"D\",\"\"))","v":""},{"$f":"IF(E319=\"C\",0,IF(E319 =\"D\",ROUND(1/((1+Simulador!$Q$13)^A319),9) * 2,ROUND(1/((1+Simulador!$Q$13)^A319),9)))","v":1.5200000000000001E-7},19.633328842000044]
[317,317,"2049-06-28",6,{"$f":"IF(ISERROR(MATCH(D320,Simulador!$H$16:$H$17,0))=FALSE,\"C\",IF(ISERROR(MATCH(D320,Simulador!$H$18:$H$19,0))=FALSE,\"D\",\"\"))","v":""},{"$f":"IF(E320=\"C\",0,IF(E320 =\"D\",ROUND(1/((1+Simulador!$Q$13)^A320),9) * 2,ROUND(1/((1+Simulador!$Q$13)^A320),9)))","v":1.4499999999999999E-7},19.633328987000045]
[318,318,"2049-07-28",7,{"$f":"IF(ISERROR(MATCH(D321,Simulador!$H$16:$H$17,0))=FALSE,\"C\",IF(ISERROR(MATCH(D321,Simulador!$H$18:$H$19,0))=FALSE,\"D\",\"\"))","v":""},{"$f":"IF(E321=\"C\",0,IF(E321 =\"D\",ROUND(1/((1+Simulador!$Q$13)^A321),9) * 2,ROUND(1/((1+Simulador!$Q$13)^A321),9)))","v":1.3799999999999999E-7},19.633329125000046]
[319,319,"2049-08-28",8,{"$f":"IF(ISERROR(MATCH(D322,Simulador!$H$16:$H$17,0))=FALSE,\"C\",IF(ISERROR(MATCH(D322,Simulador!$H$18:$H$19,0))=FALSE,\"D\",\"\"))","v":""},{"$f":"IF(E322=\"C\",0,IF(E322 =\"D\",ROUND(1/((1+Simulador!$Q$13)^A322),9) * 2,ROUND(1/((1+Simulador!$Q$13)^A322),9)))","v":1.31E-7},19.633329256000046]
[320,320,"2049-09-28",9,{"$f":"IF(ISERROR(MATCH(D323,Simulador!$H$16:$H$17,0))=FALSE,\"C\",IF(ISERROR(MATCH(D323,Simulador!$H$18:$H$19,0))=FALSE,\"D\",\"\"))","v":""},{"$f":"IF(E323=\"C\",0,IF(E323 =\"D\",ROUND(1/((1+Simulador!$Q$13)^A323),9) * 2,ROUND(1/((1+Simulador!$Q$13)^A323),9)))","v":1.2499999999999999E-7},19.633329381000046]
[321,321,"2049-10-28",{"$f":"MONTH(C324)","v":10},{"$f":"IF(ISERROR(MATCH(D324,Simulador!$H$16:$H$17,0))=FALSE,\"C\",IF(ISERROR(MATCH(D324,Simulador!$H$18:$H$19,0))=FALSE,\"D\",\"\"))","v":""},{"$f":"IF(E324=\"C\",0,IF(E324 =\"D\",ROUND(1/((1+Simulador!$Q$13)^A324),9) * 2,ROUND(1/((1+Simulador!$Q$13)^A324),9)))","v":1.1899999999999999E-7},19.633329500000045]
[{"$f":"A324+1","v":322},{"$f":"IF(E325<>\"C\",IF(ISERROR(1+B324)=TRUE,1,1+B324),IF(ISNUMBER(B324),B324,1))","v":322},{"$f":"DATE(YEAR(C324) + 1/12,MONTH(C324)+1,DAY(C324))","v":"2049-11-28"},11,{"$f":"IF(ISERROR(MATCH(D325,Simulador!$H$16:$H$17,0))=FALSE,\"C\",IF(ISERROR(MATCH(D325,Simulador!$H$18:$H$19,0))=FALSE,\"D\",\"\"))","v":""},{"$f":"IF(E325=\"C\",0,IF(E325 =\"D\",ROUND(1/((1+Simulador!$Q$13)^A325),9) * 2,ROUND(1/((1+Simulador!$Q$13)^A325),9)))","v":1.1300000000000001E-7},19.633329613000043]
[323,323,"2049-12-28",12,{"$f":"IF(ISERROR(MATCH(D326,Simulador!$H$16:$H$17,0))=FALSE,\"C\",IF(ISERROR(MATCH(D326,Simulador!$H$18:$H$19,0))=FALSE,\"D\",\"\"))","v":""},{"$f":"IF(E326=\"C\",0,IF(E326 =\"D\",ROUND(1/((1+Simulador!$Q$13)^A326),9) * 2,ROUND(1/((1+Simulador!$Q$13)^A326),9)))","v":1.0700000000000001E-7},{"$f":"G325+ROUND(F326,9)","v":19.633329720000045}]
[324,324,"2050-01-28",1,{"$f":"IF(ISERROR(MATCH(D327,Simulador!$H$16:$H$17,0))=FALSE,\"C\",IF(ISERROR(MATCH(D327,Simulador!$H$18:$H$19,0))=FALSE,\"D\",\"\"))","v":""},{"$f":"IF(E327=\"C\",0,IF(E327 =\"D\",ROUND(1/((1+Simulador!$Q$13)^A327),9) * 2,ROUND(1/((1+Simulador!$Q$13)^A327),9)))","v":1.02E-7},19.633329822000047]
[325,325,"2050-02-28",2,{"$f":"IF(ISERROR(MATCH(D328,Simulador!$H$16:$H$17,0))=FALSE,\"C\",IF(ISERROR(MATCH(D328,Simulador!$H$18:$H$19,0))=FALSE,\"D\",\"\"))","v":""},{"$f":"IF(E328=\"C\",0,IF(E328 =\"D\",ROUND(1/((1+Simulador!$Q$13)^A328),9) * 2,ROUND(1/((1+Simulador!$Q$13)^A328),9)))","v":9.6999999999999995E-8},19.633329919000047]
[326,326,"2050-03-28",3,{"$f":"IF(ISERROR(MATCH(D329,Simulador!$H$16:$H$17,0))=FALSE,\"C\",IF(ISERROR(MATCH(D329,Simulador!$H$18:$H$19,0))=FALSE,\"D\",\"\"))","v":""},{"$f":"IF(E329=\"C\",0,IF(E329 =\"D\",ROUND(1/((1+Simulador!$Q$13)^A329),9) * 2,ROUND(1/((1+Simulador!$Q$13)^A329),9)))","v":9.2999999999999999E-8},19.633330012000048]
[327,327,"2050-04-28",4,{"$f":"IF(ISERROR(MATCH(D330,Simulador!$H$16:$H$17,0))=FALSE,\"C\",IF(ISERROR(MATCH(D330,Simulador!$H$18:$H$19,0))=FALSE,\"D\",\"\"))","v":""},{"$f":"IF(E330=\"C\",0,IF(E330 =\"D\",ROUND(1/((1+Simulador!$Q$13)^A330),9) * 2,ROUND(1/((1+Simulador!$Q$13)^A330),9)))","v":8.7999999999999994E-8},19.633330100000048]
[328,328,"2050-05-28",5,{"$f":"IF(ISERROR(MATCH(D331,Simulador!$H$16:$H$17,0))=FALSE,\"C\",IF(ISERROR(MATCH(D331,Simulador!$H$18:$H$19,0))=FALSE,\"D\",\"\"))","v":""},{"$f":"IF(E331=\"C\",0,IF(E331 =\"D\",ROUND(1/((1+Simulador!$Q$13)^A331),9) * 2,ROUND(1/((1+Simulador!$Q$13)^A331),9)))","v":8.3999999999999998E-8},19.633330184000048]
[329,329,"2050-06-28",6,{"$f":"IF(ISERROR(MATCH(D332,Simulador!$H$16:$H$17,0))=FALSE,\"C\",IF(ISERROR(MATCH(D332,Simulador!$H$18:$H$19,0))=FALSE,\"D\",\"\"))","v":""},{"$f":"IF(E332=\"C\",0,IF(E332 =\"D\",ROUND(1/((1+Simulador!$Q$13)^A332),9) * 2,ROUND(1/((1+Simulador!$Q$13)^A332),9)))","v":8.0000000000000002E-8},19.633330264000048]
[330,330,"2050-07-28",7,{"$f":"IF(ISERROR(MATCH(D333,Simulador!$H$16:$H$17,0))=FALSE,\"C\",IF(ISERROR(MATCH(D333,Simulador!$H$18:$H$19,0))=FALSE,\"D\",\"\"))","v":""},{"$f":"IF(E333=\"C\",0,IF(E333 =\"D\",ROUND(1/((1+Simulador!$Q$13)^A333),9) * 2,ROUND(1/((1+Simulador!$Q$13)^A333),9)))","v":7.6000000000000006E-8},19.633330340000047]
[331,331,"2050-08-28",8,{"$f":"IF(ISERROR(MATCH(D334,Simulador!$H$16:$H$17,0))=FALSE,\"C\",IF(ISERROR(MATCH(D334,Simulador!$H$18:$H$19,0))=FALSE,\"D\",\"\"))","v":""},{"$f":"IF(E334=\"C\",0,IF(E334 =\"D\",ROUND(1/((1+Simulador!$Q$13)^A334),9) * 2,ROUND(1/((1+Simulador!$Q$13)^A334),9)))","v":7.1999999999999996E-8},19.633330412000046]
[332,332,"2050-09-28",9,{"$f":"IF(ISERROR(MATCH(D335,Simulador!$H$16:$H$17,0))=FALSE,\"C\",IF(ISERROR(MATCH(D335,Simulador!$H$18:$H$19,0))=FALSE,\"D\",\"\"))","v":""},{"$f":"IF(E335=\"C\",0,IF(E335 =\"D\",ROUND(1/((1+Simulador!$Q$13)^A335),9) * 2,ROUND(1/((1+Simulador!$Q$13)^A335),9)))","v":6.8999999999999996E-8},19.633330481000044]
[333,333,"2050-10-28",10,{"$f":"IF(ISERROR(MATCH(D336,Simulador!$H$16:$H$17,0))=FALSE,\"C\",IF(ISERROR(MATCH(D336,Simulador!$H$18:$H$19,0))=FALSE,\"D\",\"\"))","v":""},{"$f":"IF(E336=\"C\",0,IF(E336 =\"D\",ROUND(1/((1+Simulador!$Q$13)^A336),9) * 2,ROUND(1/((1+Simulador!$Q$13)^A336),9)))","v":6.5E-8},19.633330546000042]
[334,334,"2050-11-28",11,{"$f":"IF(ISERROR(MATCH(D337,Simulador!$H$16:$H$17,0))=FALSE,\"C\",IF(ISERROR(MATCH(D337,Simulador!$H$18:$H$19,0))=FALSE,\"D\",\"\"))","v":""},{"$f":"IF(E337=\"C\",0,IF(E337 =\"D\",ROUND(1/((1+Simulador!$Q$13)^A337),9) * 2,ROUND(1/((1+Simulador!$Q$13)^A337),9)))","v":6.1999999999999999E-8},19.633330608000044]
[335,335,"2050-12-28",12,{"$f":"IF(ISERROR(MATCH(D338,Simulador!$H$16:$H$17,0))=FALSE,\"C\",IF(ISERROR(MATCH(D338,Simulador!$H$18:$H$19,0))=FALSE,\"D\",\"\"))","v":""},{"$f":"IF(E338=\"C\",0,IF(E338 =\"D\",ROUND(1/((1+Simulador!$Q$13)^A338),9) * 2,ROUND(1/((1+Simulador!$Q$13)^A338),9)))","v":5.8999999999999999E-8},19.633330667000045]
[336,336,"2051-01-28",1,{"$f":"IF(ISERROR(MATCH(D339,Simulador!$H$16:$H$17,0))=FALSE,\"C\",IF(ISERROR(MATCH(D339,Simulador!$H$18:$H$19,0))=FALSE,\"D\",\"\"))","v":""},{"$f":"IF(E339=\"C\",0,IF(E339 =\"D\",ROUND(1/((1+Simulador!$Q$13)^A339),9) * 2,ROUND(1/((1+Simulador!$Q$13)^A339),9)))","v":5.5999999999999999E-8},19.633330723000046]
[337,337,"2051-02-28",2,{"$f":"IF(ISERROR(MATCH(D340,Simulador!$H$16:$H$17,0))=FALSE,\"C\",IF(ISERROR(MATCH(D340,Simulador!$H$18:$H$19,0))=FALSE,\"D\",\"\"))","v":""},{"$f":"IF(E340=\"C\",0,IF(E340 =\"D\",ROUND(1/((1+Simulador!$Q$13)^A340),9) * 2,ROUND(1/((1+Simulador!$Q$13)^A340),9)))","v":5.4E-8},19.633330777000047]
[338,338,"2051-03-28",3,{"$f":"IF(ISERROR(MATCH(D341,Simulador!$H$16:$H$17,0))=FALSE,\"C\",IF(ISERROR(MATCH(D341,Simulador!$H$18:$H$19,0))=FALSE,\"D\",\"\"))","v":""},{"$f":"IF(E341=\"C\",0,IF(E341 =\"D\",ROUND(1/((1+Simulador!$Q$13)^A341),9) * 2,ROUND(1/((1+Simulador!$Q$13)^A341),9)))","v":5.1E-8},19.633330828000048]
[339,339,"2051-04-28",4,{"$f":"IF(ISERROR(MATCH(D342,Simulador!$H$16:$H$17,0))=FALSE,\"C\",IF(ISERROR(MATCH(D342,Simulador!$H$18:$H$19,0))=FALSE,\"D\",\"\"))","v":""},{"$f":"IF(E342=\"C\",0,IF(E342 =\"D\",ROUND(1/((1+Simulador!$Q$13)^A342),9) * 2,ROUND(1/((1+Simulador!$Q$13)^A342),9)))","v":4.9000000000000002E-8},19.633330877000049]
[340,340,"2051-05-28",5,{"$f":"IF(ISERROR(MATCH(D343,Simulador!$H$16:$H$17,0))=FALSE,\"C\",IF(ISERROR(MATCH(D343,Simulador!$H$18:$H$19,0))=FALSE,\"D\",\"\"))","v":""},{"$f":"IF(E343=\"C\",0,IF(E343 =\"D\",ROUND(1/((1+Simulador!$Q$13)^A343),9) * 2,ROUND(1/((1+Simulador!$Q$13)^A343),9)))","v":4.6000000000000002E-8},19.633330923000049]
[341,341,"2051-06-28",6,{"$f":"IF(ISERROR(MATCH(D344,Simulador!$H$16:$H$17,0))=FALSE,\"C\",IF(ISERROR(MATCH(D344,Simulador!$H$18:$H$19,0))=FALSE,\"D\",\"\"))","v":""},{"$f":"IF(E344=\"C\",0,IF(E344 =\"D\",ROUND(1/((1+Simulador!$Q$13)^A344),9) * 2,ROUND(1/((1+Simulador!$Q$13)^A344),9)))","v":4.3999999999999997E-8},19.633330967000049]
[342,342,"2051-07-28",7,{"$f":"IF(ISERROR(MATCH(D345,Simulador!$H$16:$H$17,0))=FALSE,\"C\",IF(ISERROR(MATCH(D345,Simulador!$H$18:$H$19,0))=FALSE,\"D\",\"\"))","v":""},{"$f":"IF(E345=\"C\",0,IF(E345 =\"D\",ROUND(1/((1+Simulador!$Q$13)^A345),9) * 2,ROUND(1/((1+Simulador!$Q$13)^A345),9)))","v":4.1999999999999999E-8},19.633331009000049]
[343,343,"2051-08-28",8,{"$f":"IF(ISERROR(MATCH(D346,Simulador!$H$16:$H$17,0))=FALSE,\"C\",IF(ISERROR(MATCH(D346,Simulador!$H$18:$H$19,0))=FALSE,\"D\",\"\"))","v":""},{"$f":"IF(E346=\"C\",0,IF(E346 =\"D\",ROUND(1/((1+Simulador!$Q$13)^A346),9) * 2,ROUND(1/((1+Simulador!$Q$13)^A346),9)))","v":4.0000000000000001E-8},19.633331049000049]
[344,344,"2051-09-28",9,{"$f":"IF(ISERROR(MATCH(D347,Simulador!$H$16:$H$17,0))=FALSE,\"C\",IF(ISERROR(MATCH(D347,Simulador!$H$18:$H$19,0))=FALSE,\"D\",\"\"))","v":""},{"$f":"IF(E347=\"C\",0,IF(E347 =\"D\",ROUND(1/((1+Simulador!$Q$13)^A347),9) * 2,ROUND(1/((1+Simulador!$Q$13)^A347),9)))","v":3.8000000000000003E-8},19.633331087000048]
[345,345,"2051-10-28",10,{"$f":"IF(ISERROR(MATCH(D348,Simulador!$H$16:$H$17,0))=FALSE,\"C\",IF(ISERROR(MATCH(D348,Simulador!$H$18:$H$19,0))=FALSE,\"D\",\"\"))","v":""},{"$f":"IF(E348=\"C\",0,IF(E348 =\"D\",ROUND(1/((1+Simulador!$Q$13)^A348),9) * 2,ROUND(1/((1+Simulador!$Q$13)^A348),9)))","v":3.5999999999999998E-8},19.633331123000048]
[346,346,"2051-11-28",11,{"$f":"IF(ISERROR(MATCH(D349,Simulador!$H$16:$H$17,0))=FALSE,\"C\",IF(ISERROR(MATCH(D349,Simulador!$H$18:$H$19,0))=FALSE,\"D\",\"\"))","v":""},{"$f":"IF(E349=\"C\",0,IF(E349 =\"D\",ROUND(1/((1+Simulador!$Q$13)^A349),9) * 2,ROUND(1/((1+Simulador!$Q$13)^A349),9)))","v":3.4E-8},19.633331157000047]
[347,347,"2051-12-28",12,{"$f":"IF(ISERROR(MATCH(D350,Simulador!$H$16:$H$17,0))=FALSE,\"C\",IF(ISERROR(MATCH(D350,Simulador!$H$18:$H$19,0))=FALSE,\"D\",\"\"))","v":""},{"$f":"IF(E350=\"C\",0,IF(E350 =\"D\",ROUND(1/((1+Simulador!$Q$13)^A350),9) * 2,ROUND(1/((1+Simulador!$Q$13)^A350),9)))","v":3.2999999999999998E-8},19.633331190000046]
[348,348,"2052-01-28",1,{"$f":"IF(ISERROR(MATCH(D351,Simulador!$H$16:$H$17,0))=FALSE,\"C\",IF(ISERROR(MATCH(D351,Simulador!$H$18:$H$19,0))=FALSE,\"D\",\"\"))","v":""},{"$f":"IF(E351=\"C\",0,IF(E351 =\"D\",ROUND(1/((1+Simulador!$Q$13)^A351),9) * 2,ROUND(1/((1+Simulador!$Q$13)^A351),9)))","v":3.1E-8},19.633331221000045]
[349,349,"2052-02-28",2,{"$f":"IF(ISERROR(MATCH(D352,Simulador!$H$16:$H$17,0))=FALSE,\"C\",IF(ISERROR(MATCH(D352,Simulador!$H$18:$H$19,0))=FALSE,\"D\",\"\"))","v":""},{"$f":"IF(E352=\"C\",0,IF(E352 =\"D\",ROUND(1/((1+Simulador!$Q$13)^A352),9) * 2,ROUND(1/((1+Simulador!$Q$13)^A352),9)))","v":2.9999999999999997E-8},19.633331251000044]
[350,350,"2052-03-28",3,{"$f":"IF(ISERROR(MATCH(D353,Simulador!$H$16:$H$17,0))=FALSE,\"C\",IF(ISERROR(MATCH(D353,Simulador!$H$18:$H$19,0))=FALSE,\"D\",\"\"))","v":""},{"$f":"IF(E353=\"C\",0,IF(E353 =\"D\",ROUND(1/((1+Simulador!$Q$13)^A353),9) * 2,ROUND(1/((1+Simulador!$Q$13)^A353),9)))","v":2.7999999999999999E-8},19.633331279000043]
[351,351,"2052-04-28",4,{"$f":"IF(ISERROR(MATCH(D354,Simulador!$H$16:$H$17,0))=FALSE,\"C\",IF(ISERROR(MATCH(D354,Simulador!$H$18:$H$19,0))=FALSE,\"D\",\"\"))","v":""},{"$f":"IF(E354=\"C\",0,IF(E354 =\"D\",ROUND(1/((1+Simulador!$Q$13)^A354),9) * 2,ROUND(1/((1+Simulador!$Q$13)^A354),9)))","v":2.7E-8},19.633331306000041]
[352,352,"2052-05-28",5,{"$f":"IF(ISERROR(MATCH(D355,Simulador!$H$16:$H$17,0))=FALSE,\"C\",IF(ISERROR(MATCH(D355,Simulador!$H$18:$H$19,0))=FALSE,\"D\",\"\"))","v":""},{"$f":"IF(E355=\"C\",0,IF(E355 =\"D\",ROUND(1/((1+Simulador!$Q$13)^A355),9) * 2,ROUND(1/((1+Simulador!$Q$13)^A355),9)))","v":2.4999999999999999E-8},19.63333133100004]
[353,353,"2052-06-28",6,{"$f":"IF(ISERROR(MATCH(D356,Simulador!$H$16:$H$17,0))=FALSE,\"C\",IF(ISERROR(MATCH(D356,Simulador!$H$18:$H$19,0))=FALSE,\"D\",\"\"))","v":""},{"$f":"IF(E356=\"C\",0,IF(E356 =\"D\",ROUND(1/((1+Simulador!$Q$13)^A356),9) * 2,ROUND(1/((1+Simulador!$Q$13)^A356),9)))","v":2.4E-8},19.633331355000038]
[354,354,"2052-07-28",7,{"$f":"IF(ISERROR(MATCH(D357,Simulador!$H$16:$H$17,0))=FALSE,\"C\",IF(ISERROR(MATCH(D357,Simulador!$H$18:$H$19,0))=FALSE,\"D\",\"\"))","v":""},{"$f":"IF(E357=\"C\",0,IF(E357 =\"D\",ROUND(1/((1+Simulador!$Q$13)^A357),9) * 2,ROUND(1/((1+Simulador!$Q$13)^A357),9)))","v":2.3000000000000001E-8},19.633331378000037]
[355,355,"2052-08-28",8,{"$f":"IF(ISERROR(MATCH(D358,Simulador!$H$16:$H$17,0))=FALSE,\"C\",IF(ISERROR(MATCH(D358,Simulador!$H$18:$H$19,0))=FALSE,\"D\",\"\"))","v":""},{"$f":"IF(E358=\"C\",0,IF(E358 =\"D\",ROUND(1/((1+Simulador!$Q$13)^A358),9) * 2,ROUND(1/((1+Simulador!$Q$13)^A358),9)))","v":2.1999999999999998E-8},19.633331400000035]
[356,356,"2052-09-28",9,{"$f":"IF(ISERROR(MATCH(D359,Simulador!$H$16:$H$17,0))=FALSE,\"C\",IF(ISERROR(MATCH(D359,Simulador!$H$18:$H$19,0))=FALSE,\"D\",\"\"))","v":""},{"$f":"IF(E359=\"C\",0,IF(E359 =\"D\",ROUND(1/((1+Simulador!$Q$13)^A359),9) * 2,ROUND(1/((1+Simulador!$Q$13)^A359),9)))","v":2.0999999999999999E-8},19.633331421000037]
[357,357,"2052-10-28",10,{"$f":"IF(ISERROR(MATCH(D360,Simulador!$H$16:$H$17,0))=FALSE,\"C\",IF(ISERROR(MATCH(D360,Simulador!$H$18:$H$19,0))=FALSE,\"D\",\"\"))","v":""},{"$f":"IF(E360=\"C\",0,IF(E360 =\"D\",ROUND(1/((1+Simulador!$Q$13)^A360),9) * 2,ROUND(1/((1+Simulador!$Q$13)^A360),9)))","v":2E-8},19.633331441000038]
[358,358,"2052-11-28",11,{"$f":"IF(ISERROR(MATCH(D361,Simulador!$H$16:$H$17,0))=FALSE,\"C\",IF(ISERROR(MATCH(D361,Simulador!$H$18:$H$19,0))=FALSE,\"D\",\"\"))","v":""},{"$f":"IF(E361=\"C\",0,IF(E361 =\"D\",ROUND(1/((1+Simulador!$Q$13)^A361),9) * 2,ROUND(1/((1+Simulador!$Q$13)^A361),9)))","v":1.9000000000000001E-8},19.63333146000004]
[359,359,"2052-12-28",12,{"$f":"IF(ISERROR(MATCH(D362,Simulador!$H$16:$H$17,0))=FALSE,\"C\",IF(ISERROR(MATCH(D362,Simulador!$H$18:$H$19,0))=FALSE,\"D\",\"\"))","v":""},{"$f":"IF(E362=\"C\",0,IF(E362 =\"D\",ROUND(1/((1+Simulador!$Q$13)^A362),9) * 2,ROUND(1/((1+Simulador!$Q$13)^A362),9)))","v":1.7999999999999999E-8},19.633331478000041]
[360,360,"2053-01-28",1,{"$f":"IF(ISERROR(MATCH(D363,Simulador!$H$16:$H$17,0))=FALSE,\"C\",IF(ISERROR(MATCH(D363,Simulador!$H$18:$H$19,0))=FALSE,\"D\",\"\"))","v":""},{"$f":"IF(E363=\"C\",0,IF(E363 =\"D\",ROUND(1/((1+Simulador!$Q$13)^A363),9) * 2,ROUND(1/((1+Simulador!$Q$13)^A363),9)))","v":1.7E-8},19.633331495000043]
[361,361,"2053-02-28",2,{"$f":"IF(ISERROR(MATCH(D364,Simulador!$H$16:$H$17,0))=FALSE,\"C\",IF(ISERROR(MATCH(D364,Simulador!$H$18:$H$19,0))=FALSE,\"D\",\"\"))","v":""},{"$f":"IF(E364=\"C\",0,IF(E364 =\"D\",ROUND(1/((1+Simulador!$Q$13)^A364),9) * 2,ROUND(1/((1+Simulador!$Q$13)^A364),9)))","v":1.6000000000000001E-8},19.633331511000044]
[362,362,"2053-03-28",3,{"$f":"IF(ISERROR(MATCH(D365,Simulador!$H$16:$H$17,0))=FALSE,\"C\",IF(ISERROR(MATCH(D365,Simulador!$H$18:$H$19,0))=FALSE,\"D\",\"\"))","v":""},{"$f":"IF(E365=\"C\",0,IF(E365 =\"D\",ROUND(1/((1+Simulador!$Q$13)^A365),9) * 2,ROUND(1/((1+Simulador!$Q$13)^A365),9)))","v":1.4999999999999999E-8},19.633331526000045]
[363,363,"2053-04-28",4,{"$f":"IF(ISERROR(MATCH(D366,Simulador!$H$16:$H$17,0))=FALSE,\"C\",IF(ISERROR(MATCH(D366,Simulador!$H$18:$H$19,0))=FALSE,\"D\",\"\"))","v":""},{"$f":"IF(E366=\"C\",0,IF(E366 =\"D\",ROUND(1/((1+Simulador!$Q$13)^A366),9) * 2,ROUND(1/((1+Simulador!$Q$13)^A366),9)))","v":1.4999999999999999E-8},19.633331541000047]
[364,364,"2053-05-28",5,{"$f":"IF(ISERROR(MATCH(D367,Simulador!$H$16:$H$17,0))=FALSE,\"C\",IF(ISERROR(MATCH(D367,Simulador!$H$18:$H$19,0))=FALSE,\"D\",\"\"))","v":""},{"$f":"IF(E367=\"C\",0,IF(E367 =\"D\",ROUND(1/((1+Simulador!$Q$13)^A367),9) * 2,ROUND(1/((1+Simulador!$Q$13)^A367),9)))","v":1.4E-8},19.633331555000048]
[365,365,"2053-06-28",6,{"$f":"IF(ISERROR(MATCH(D368,Simulador!$H$16:$H$17,0))=FALSE,\"C\",IF(ISERROR(MATCH(D368,Simulador!$H$18:$H$19,0))=FALSE,\"D\",\"\"))","v":""},{"$f":"IF(E368=\"C\",0,IF(E368 =\"D\",ROUND(1/((1+Simulador!$Q$13)^A368),9) * 2,ROUND(1/((1+Simulador!$Q$13)^A368),9)))","v":1.3000000000000001E-8},19.633331568000049]
[366,366,"2053-07-28",7,{"$f":"IF(ISERROR(MATCH(D369,Simulador!$H$16:$H$17,0))=FALSE,\"C\",IF(ISERROR(MATCH(D369,Simulador!$H$18:$H$19,0))=FALSE,\"D\",\"\"))","v":""},{"$f":"IF(E369=\"C\",0,IF(E369 =\"D\",ROUND(1/((1+Simulador!$Q$13)^A369),9) * 2,ROUND(1/((1+Simulador!$Q$13)^A369),9)))","v":1.3000000000000001E-8},19.63333158100005]
[367,367,"2053-08-28",8,{"$f":"IF(ISERROR(MATCH(D370,Simulador!$H$16:$H$17,0))=FALSE,\"C\",IF(ISERROR(MATCH(D370,Simulador!$H$18:$H$19,0))=FALSE,\"D\",\"\"))","v":""},{"$f":"IF(E370=\"C\",0,IF(E370 =\"D\",ROUND(1/((1+Simulador!$Q$13)^A370),9) * 2,ROUND(1/((1+Simulador!$Q$13)^A370),9)))","v":1.2E-8},19.633331593000051]
[368,368,"2053-09-28",9,{"$f":"IF(ISERROR(MATCH(D371,Simulador!$H$16:$H$17,0))=FALSE,\"C\",IF(ISERROR(MATCH(D371,Simulador!$H$18:$H$19,0))=FALSE,\"D\",\"\"))","v":""},{"$f":"IF(E371=\"C\",0,IF(E371 =\"D\",ROUND(1/((1+Simulador!$Q$13)^A371),9) * 2,ROUND(1/((1+Simulador!$Q$13)^A371),9)))","v":1.0999999999999999E-8},19.633331604000052]
[369,369,"2053-10-28",10,{"$f":"IF(ISERROR(MATCH(D372,Simulador!$H$16:$H$17,0))=FALSE,\"C\",IF(ISERROR(MATCH(D372,Simulador!$H$18:$H$19,0))=FALSE,\"D\",\"\"))","v":""},{"$f":"IF(E372=\"C\",0,IF(E372 =\"D\",ROUND(1/((1+Simulador!$Q$13)^A372),9) * 2,ROUND(1/((1+Simulador!$Q$13)^A372),9)))","v":1.0999999999999999E-8},19.633331615000053]
[370,370,"2053-11-28",11,{"$f":"IF(ISERROR(MATCH(D373,Simulador!$H$16:$H$17,0))=FALSE,\"C\",IF(ISERROR(MATCH(D373,Simulador!$H$18:$H$19,0))=FALSE,\"D\",\"\"))","v":""},{"$f":"IF(E373=\"C\",0,IF(E373 =\"D\",ROUND(1/((1+Simulador!$Q$13)^A373),9) * 2,ROUND(1/((1+Simulador!$Q$13)^A373),9)))","v":1E-8},19.633331625000054]
[371,371,"2053-12-28",12,{"$f":"IF(ISERROR(MATCH(D374,Simulador!$H$16:$H$17,0))=FALSE,\"C\",IF(ISERROR(MATCH(D374,Simulador!$H$18:$H$19,0))=FALSE,\"D\",\"\"))","v":""},{"$f":"IF(E374=\"C\",0,IF(E374 =\"D\",ROUND(1/((1+Simulador!$Q$13)^A374),9) * 2,ROUND(1/((1+Simulador!$Q$13)^A374),9)))","v":1E-8},19.633331635000054]
[372,372,"2054-01-28",1,{"$f":"IF(ISERROR(MATCH(D375,Simulador!$H$16:$H$17,0))=FALSE,\"C\",IF(ISERROR(MATCH(D375,Simulador!$H$18:$H$19,0))=FALSE,\"D\",\"\"))","v":""},{"$f":"IF(E375=\"C\",0,IF(E375 =\"D\",ROUND(1/((1+Simulador!$Q$13)^A375),9) * 2,ROUND(1/((1+Simulador!$Q$13)^A375),9)))","v":8.9999999999999995E-9},19.633331644000055]
[373,373,"2054-02-28",2,{"$f":"IF(ISERROR(MATCH(D376,Simulador!$H$16:$H$17,0))=FALSE,\"C\",IF(ISERROR(MATCH(D376,Simulador!$H$18:$H$19,0))=FALSE,\"D\",\"\"))","v":""},{"$f":"IF(E376=\"C\",0,IF(E376 =\"D\",ROUND(1/((1+Simulador!$Q$13)^A376),9) * 2,ROUND(1/((1+Simulador!$Q$13)^A376),9)))","v":8.9999999999999995E-9},19.633331653000056]
[374,374,"2054-03-28",3,{"$f":"IF(ISERROR(MATCH(D377,Simulador!$H$16:$H$17,0))=FALSE,\"C\",IF(ISERROR(MATCH(D377,Simulador!$H$18:$H$19,0))=FALSE,\"D\",\"\"))","v":""},{"$f":"IF(E377=\"C\",0,IF(E377 =\"D\",ROUND(1/((1+Simulador!$Q$13)^A377),9) * 2,ROUND(1/((1+Simulador!$Q$13)^A377),9)))","v":8.9999999999999995E-9},19.633331662000057]
[375,375,"2054-04-28",4,{"$f":"IF(ISERROR(MATCH(D378,Simulador!$H$16:$H$17,0))=FALSE,\"C\",IF(ISERROR(MATCH(D378,Simulador!$H$18:$H$19,0))=FALSE,\"D\",\"\"))","v":""},{"$f":"IF(E378=\"C\",0,IF(E378 =\"D\",ROUND(1/((1+Simulador!$Q$13)^A378),9) * 2,ROUND(1/((1+Simulador!$Q$13)^A378),9)))","v":8.0000000000000005E-9},19.633331670000057]
[376,376,"2054-05-28",5,{"$f":"IF(ISERROR(MATCH(D379,Simulador!$H$16:$H$17,0))=FALSE,\"C\",IF(ISERROR(MATCH(D379,Simulador!$H$18:$H$19,0))=FALSE,\"D\",\"\"))","v":""},{"$f":"IF(E379=\"C\",0,IF(E379 =\"D\",ROUND(1/((1+Simulador!$Q$13)^A379),9) * 2,ROUND(1/((1+Simulador!$Q$13)^A379),9)))","v":8.0000000000000005E-9},19.633331678000058]
[377,377,"2054-06-28",6,{"$f":"IF(ISERROR(MATCH(D380,Simulador!$H$16:$H$17,0))=FALSE,\"C\",IF(ISERROR(MATCH(D380,Simulador!$H$18:$H$19,0))=FALSE,\"D\",\"\"))","v":""},{"$f":"IF(E380=\"C\",0,IF(E380 =\"D\",ROUND(1/((1+Simulador!$Q$13)^A380),9) * 2,ROUND(1/((1+Simulador!$Q$13)^A380),9)))","v":6.9999999999999998E-9},19.633331685000059]
[378,378,"2054-07-28",7,{"$f":"IF(ISERROR(MATCH(D381,Simulador!$H$16:$H$17,0))=FALSE,\"C\",IF(ISERROR(MATCH(D381,Simulador!$H$18:$H$19,0))=FALSE,\"D\",\"\"))","v":""},{"$f":"IF(E381=\"C\",0,IF(E381 =\"D\",ROUND(1/((1+Simulador!$Q$13)^A381),9) * 2,ROUND(1/((1+Simulador!$Q$13)^A381),9)))","v":6.9999999999999998E-9},19.633331692000059]
[379,379,"2054-08-28",8,{"$f":"IF(ISERROR(MATCH(D382,Simulador!$H$16:$H$17,0))=FALSE,\"C\",IF(ISERROR(MATCH(D382,Simulador!$H$18:$H$19,0))=FALSE,\"D\",\"\"))","v":""},{"$f":"IF(E382=\"C\",0,IF(E382 =\"D\",ROUND(1/((1+Simulador!$Q$13)^A382),9) * 2,ROUND(1/((1+Simulador!$Q$13)^A382),9)))","v":6.9999999999999998E-9},19.63333169900006]
[380,380,"2054-09-28",9,{"$f":"IF(ISERROR(MATCH(D383,Simulador!$H$16:$H$17,0))=FALSE,\"C\",IF(ISERROR(MATCH(D383,Simulador!$H$18:$H$19,0))=FALSE,\"D\",\"\"))","v":""},{"$f":"IF(E383=\"C\",0,IF(E383 =\"D\",ROUND(1/((1+Simulador!$Q$13)^A383),9) * 2,ROUND(1/((1+Simulador!$Q$13)^A383),9)))","v":6E-9},19.63333170500006]
[381,381,"2054-10-28",10,{"$f":"IF(ISERROR(MATCH(D384,Simulador!$H$16:$H$17,0))=FALSE,\"C\",IF(ISERROR(MATCH(D384,Simulador!$H$18:$H$19,0))=FALSE,\"D\",\"\"))","v":""},{"$f":"IF(E384=\"C\",0,IF(E384 =\"D\",ROUND(1/((1+Simulador!$Q$13)^A384),9) * 2,ROUND(1/((1+Simulador!$Q$13)^A384),9)))","v":6E-9},19.633331711000061]
[382,382,"2054-11-28",11,{"$f":"IF(ISERROR(MATCH(D385,Simulador!$H$16:$H$17,0))=FALSE,\"C\",IF(ISERROR(MATCH(D385,Simulador!$H$18:$H$19,0))=FALSE,\"D\",\"\"))","v":""},{"$f":"IF(E385=\"C\",0,IF(E385 =\"D\",ROUND(1/((1+Simulador!$Q$13)^A385),9) * 2,ROUND(1/((1+Simulador!$Q$13)^A385),9)))","v":6E-9},19.633331717000061]
[383,383,"2054-12-28",12,{"$f":"IF(ISERROR(MATCH(D386,Simulador!$H$16:$H$17,0))=FALSE,\"C\",IF(ISERROR(MATCH(D386,Simulador!$H$18:$H$19,0))=FALSE,\"D\",\"\"))","v":""},{"$f":"IF(E386=\"C\",0,IF(E386 =\"D\",ROUND(1/((1+Simulador!$Q$13)^A386),9) * 2,ROUND(1/((1+Simulador!$Q$13)^A386),9)))","v":5.0000000000000001E-9},19.633331722000062]