{"text_format":"1","workbook":"xlsx","n_sheets":4,"sheets":["Simulador","Calculos","Hoja1","Hoja1 (2)"],"not_rendered":{"charts":0,"images":2,"macros":1,"external_links":0,"defined_names":0,"comments":1,"pivot_tables":0},"unopened":[],"bounds":{"document_bytes":16777216,"sheet_cells":100000,"rows_first":2000,"rows_last":500,"rows_between":2000,"halvings":0,"cell_chars":16384,"cell_head_chars":4096},"cells_cut":0,"cells_raw":0,"read":"whole","date_system":"1900"}

{"sheet":"Simulador","index":0,"n_rows":1000,"n_cols":26,"rows_kept":1000,"cut":false,"hidden":true,"merged":[[1,2,1,21]]}
[]
[null,null,"SIMULADOR DE CUOTAS - CRÉDITO PLD"]
[]
[]
[null,null,"Importe Solicitado",null,null,null,null,{"$f":"+Hoja1!C8","v":4000},null,null,null,null,null,"Fecha Desembolso",null,null,null,null,{"$f":"+Hoja1!C9","v":"2021-11-25"}]
[null,null,"Saldo de Capital",null,null,null,null,{"$f":"H5","v":4000},null,null,null,null,null,"Fecha Final de Gracia",null,null,null,null,{"$f":"DATE(YEAR(S5+H14),MONTH(S5 + H14),DAY(S5 +H14))","v":"2022-02-23"}]
[null,null,"Saldo de Interes",null,null,null,null,0,null,null,null,null,null,"Fecha de la 1° cuota",null,null,null,null,{"$f":"DATE(YEAR(EDATE(S6,1)),MONTH(EDATE(S6,1)),DAY(EDATE(S6,1)))","v":"2022-03-23"}]
[null,null,"Tasa Anual (TEA)",null,null,null,null,{"$f":"+Hoja1!C11","v":50},null,null,null,null,null,"Fecha final de vencimiento",null,null,null,null,{"$f":"DATE(YEAR(EDATE(S6,H13)),MONTH(EDATE(S6,H13)),DAY(EDATE(S6,H13)))","v":"2026-02-23"}]
[null,null,"Tasa de Seguro de Desgravámen",null,null,null,null,{"$f":"+'Hoja1 (2)'!H13","v":1.8E-3},null,null,null,null,null,"Base",null,null,null,null,360]
[null,null,"Gastos Administrativos",null,null,null,null,0,null,null,null,null,null,"Frecuencia pago en días",null,null,null,null,30]
[null,null,"Comision Envio Informacion",null,null,null,null,0,null,null,null,null,null,"Tasa Equivalente",null,null,null,null,{"$f":"ROUND((((H8/100+1)^(1/(S9/S10))-1)*S9/S10)*100,6)","v":41.2393},"tea conv. A tem luego nominal anual"]
[null,null,null,null,null,null,null,null,null,null,null,null,null,"Días entre cuotas",null,null,null,null,{"$f":"(S8-S6)/H13","v":30.4375},"dias promedio entre cuotas"]
[null,null,"Plazo y  Nro. Cuotas",null,null,null,null,{"$f":"+Hoja1!C10","v":48},{"$f":"IF(H16+ H17>0,VLOOKUP(H13,#REF!,2,FALSE),H13)","v":48},null,null,null,null,"Factor Aplicado",null,null,null,null,{"$f":"($S$11/100)/($S$9/$S$12)","v":3.4867255381944448E-2},"tem convertida de manera nominal a los dias entre cuotas"]
[null,null,"Días de Gracia",null,null,null,null,{"$f":"+Hoja1!C12","v":90},null,null,null,null,null,"Factor Aplicado para la cuota",null,null,null,null,{"$f":"1/((1-((1+$S$13)^(-1*$H$13)))/$S$13)","v":4.3205533783797725E-2},"Factor de cuota (ok)"]
[null,null,"(+/- 30 días antes de la fecha 1° cuota)",null,null,null,null,null,null,null,null,null,null,"Interes de Gracia ",null,null,null,null,{"$f":"IF(H14>0,ROUND(H6*(((1+H8/100)^(ABS(H14)/S9))-1),4),ROUND(H6*(((1+H8/100)^(ABS(H14)/S9))-1),4) * -1)","v":426.72770000000003},"Ok"]
[null,null,"Mes de No Pago 1",null,null,null,null,0,null,null,null,null,null,"Saldo Interes +/- Interes Gracia",null,null,null,null,{"$f":"IF(H7 + S15>0,H7+ S15,0)","v":426.72770000000003}]
[null,null,"Mes de No Pago 2",null,null,null,null,0]
[null,null,"Mes Cuota Doble 1",null,null,null,null,{"$f":"+IF(Hoja1!C14=\"No\",0,IF(Hoja1!C14=\"Julio\",7,12))","v":0}]
[null,null,"Mes Cuota Doble 2",null,null,null," ",{"$f":"+IF(Hoja1!C15=\"No\",0,IF(Hoja1!C15=\"Julio\",7,12))","v":0}]
[]
[]
[null,null,null,null,null,null,null,null,null,null,null,null,null,null,"Suavización",null,"Ultimo saldo de Principal",null,{"$f":"VLOOKUP(I13,$F$31:$U$43,14,FALSE)","v":{"$error":"#N/A"}}]
[null,null,null,null,null,null,"Valor de cuota por dias de gracia",null,null,null,null,{"$f":"ROUND(IF(OR(H16+ H17> 0,H18 + H19>0),S16/VLOOKUP(H13,Calculos!$A$3:$G$389,7,FALSE),S16*$S$14),2)","v":18.440000000000001},null,null,null,null,"Numero de Dias",null,{"$f":"S8-S6","v":1461}]
[null,null,null,null,null,null,"Valor de cuota por capital",null,null,null,null,{"$f":"ROUND(IF(OR($H$16 + $H$17 > 0,$H$18 + $H$19>0), ROUNDDOWN($H$6/VLOOKUP($H$13,Calculos!$A$3:$G$389,7,FALSE),2),$H$6*$S$14),2)","v":172.82},null,null,1670.38,null,"Valor de Cuota Nivelada",null,{"$f":"ROUND(+S22/ROUND(1*(((1+H8/100)^(S23/S9))-1),4),2)","v":{"$error":"#N/A"}}]
[null,null,null,null,null,null,"Seguro de Desgravamen (FPF)",null,null,null,null,{"$f":"$H$5*$H$9","v":7.2},null,null,null,null,"Factor Ajuste",null,{"$f":"S24*S14","v":{"$error":"#N/A"}},null,"Se copia el valor de la celda P26 solo en  la primera corrida, siempre que sea mayor a cero"]
[null,null,null,null,null,null,"Portes",null,null,null,null,{"$f":"$H$11","v":0},null,null,null,null,"Exceso de Int + Gracia",null,{"$f":"SUM(V32:V43)","v":0},{"$f":"ROUND(IF(H16+ H17> 0,ROUNDUP($S$26/VLOOKUP(H13,#REF!,7,FALSE),2),$S$26*$S$14),2)","v":0},0]
[]
[null,null,null,null,null,null,"Cuota",null,null,null,null,{"$f":"L23+L24+L25+L26","v":198.45999999999998},null,null,null,null,"Digite Factor de Ajuste Anterior mas El Actual"]
[]
[null,null,null,null,null,null,null,null,null,null,null,{"$f":"SUM(L32:L982)","v":124889.41999999997},3999.9999999999991,4349.9100000000008,885.12000000000114,5235.0299999999988,9235.0300000000079,0,367.19999999999965,9602.2299999999959,null,null,null,{"$f":"SUM(X32:X982)","v":4000.6437141264105}]
[{"$f":"\"$J$\"&MATCH(1,B:B,0)","v":"$J$32"},null,"Fecha Vcto.","Marca","Nro. Cuota (De acuerdo a Plazo)","Nro. Cuota","Periodo Base","Tasa","Nro. Dias","Factor","Factor acumulado","Principal","Capital","Interes","Interes de Gracia","Interes Total","Valor Cuota","Comision Envio Informacion","Seguro Desgravamen","Cuota","Saldo Principal","Exceso ","TEM","VNP",null,"Imp.Seguro Desgravamen periodo de gracia"]
[1,{"$f":"IF(A32=\"\",\"\",IF(A32<=$H$22,0,1))","v":1},{"$f":"IF(OR(MONTH(EDATE($S$6,F32))=$H$16,MONTH(EDATE($S$6,F32))=$H$17),IF(ABS($H$17-$H$16)=1,EDATE($S$6,F32+2),EDATE($S$6,F32+1)),EDATE($S$6,F32))","v":"2022-03-23"},{"$f":"IF(B32=\"\",\"\",IF(OR(MONTH(C32)=$H$18,MONTH(C32)=$H$19),\"D\",\"\"))","v":""},{"$f":"IF(OR(MONTH(S7)=H16, MONTH(S7)=H17),IF(ABS(H17-H16)=1,3,2),1)","v":1},{"$f":"1","v":1},{"$f":"$S$9","v":360},{"$f":"$H$8","v":50},{"$f":"C32-S6","v":28},{"$f":"+(I32+$H$14)/30","v":3.9333333333333331},{"$f":"+SUM($J$32:J32)","v":3.9333333333333331},{"$f":"H6","v":4000},{"$f":"IF((IF(ISERROR(MATCH(MONTH(C32),$H$18:$H$19,0))=FALSE,$L$24 + $S$28,0) + $L$24+$S$28 - IF(AND(D32=\"D\",AE32= 0),$V$26 * 2,$V$26))-N32 <=0,0.01,IF(ISERROR(MATCH(MONTH(C32),$H$18:$H$19,0))=FALSE,$L$24 + $S$28,0)+ ($L$24+$S$28 -  IF(AND(D32=\"D\",W32= 0),$V$26 * 2,$V$26))-N32)-Z32","v":23.069999999999986},{"$f":"IF($L$24+$S$28 + $U$26<ROUND(ROUND(L32*(((1+(H32/100))^(I32/G32))-1),4),2),$L$24+$S$28 + $U$26-0.01,IF(ROUND(ROUND(L32*(((1+(H32/100))^(I32/G32))-1),4),2)+ $U$26>$L$24,$L$24+ $U$26+-0.01,ROUND(ROUND(L32*(((1+(H32/100))^(I32/G32))-1),4),2)+$U$26))","v":128.15},{"$f":"IF(ISERROR(MATCH(MONTH(C32),$H$18:$H$19,0))=FALSE,$L$23,0)  +$L$23","v":18.440000000000001},{"$f":"N32+O32","v":146.59},{"$f":"M32+N32 + O32+AA32+IF(A32=$H$13,U32,0)","v":169.66},{"$f":"$L$26","v":0},{"$f":"$L$25+Z32","v":28.8},{"$f":"Q32+R32+S32","v":198.46},{"$f":"ROUND(L32-M32,2)","v":3976.93},{"$f":"IF(ROUND(ROUND(L32*(((1+(H32/100))^(I32/G32))-1),4),2) - $L$24<0,0,ROUND(ROUND(L32*(((1+(H32/100))^(I32/G32))-1),4),2) - $L$24)","v":0},{"$f":"(1+H32/100)^(1/12)-1","v":3.436608313191658E-2},{"$f":"+Q32/((1+W32)^K32)","v":148.54589716045263},null,{"$f":"ROUND($H$9*$H$5/30*$H$14,2)","v":21.6}]
[{"$f":"IF(A32>=$H$13,\"\",A32+1)","v":2},{"$f":"IF(A33=\"\",\"\",IF(A33<=$H$22,0,1))","v":1},{"$f":"IF(B33=\"\",\"\",IF(OR(MONTH(EDATE($S$6,F33))=$H$16,MONTH(EDATE($S$6,F33))=$H$17),IF(ABS($H$17-$H$16)=1,EDATE($S$6,F33+2),EDATE($S$6,F33+1)),EDATE($S$6,F33)))","v":"2022-04-23"},{"$f":"IF(B33=\"\",\"\",IF(OR(MONTH(C33)=$H$18,MONTH(C33)=$H$19),\"D\",\"\"))","v":""},{"$f":"IF(B33=\"\",\"\",IF(OR(MONTH(DATE(YEAR(C32) + 1/12,MONTH(C32)+1,DAY(C32)))=$H$16,MONTH(DATE(YEAR(C32) + 1/12,MONTH(C32)+1,DAY(C32)))=$H$17),IF(ABS($H$17-$H$16)=1,E32+1,E32 + 2),E32 + 1))","v":2},{"$f":"IF(B33=\"\",\"\",F32+1)","v":2},{"$f":"IF(B33=\"\",\"\",$S$9)","v":360},{"$f":"IF(B33=\"\",\"\",$H$8)","v":50},{"$f":"IF(B33=\"\",\"\",C33-C32)","v":31},{"$f":"IF(B33=\"\",\"\",(I33)/30)","v":1.0333333333333334},{"$f":"IF(B33=\"\",\"\",SUM($J$32:J33))","v":4.9666666666666668},{"$f":"IF(B33=\"\",\"\",U32)","v":3976.93},{"$f":"IF(A33=$H$13,U32,IF(B33=\"\",\"\",IF((IF(ISERROR(MATCH(MONTH(C33),$H$18:$H$19,0))=FALSE,$L$24+$S$28,0)+$L$24+$S$28-IF(AND(D33=\"D\",W33=0),$V$26*2,$V$26))-N33<=0,0.01,IF(ISERROR(MATCH(MONTH(C33),$H$18:$H$19,0))=FALSE,$L$24+$S$28,0)+($L$24+$S$28-IF(AND(D33=\"D\",W33=0),$V$26*2,$V$26))-N33)-Z33))","v":31.509999999999991},{"$f":"IF(B33=\"\",\"\",IF($L$24+$S$28 + $U$26<ROUND(ROUND(L33*(((1+(H33/100))^(I33/G33))-1),4),2),$L$24+$S$28 + $U$26-0.01,IF(ROUND(ROUND(L33*(((1+(H33/100))^(I33/G33))-1),4),2)+ $U$26>$L$24,$L$24+ $U$26+-0.01,ROUND(ROUND(L33*(((1+(H33/100))^(I33/G33))-1),4),2)+$U$26)))","v":141.31},{"$f":"IF(B33=\"\",\"\",IF(ISERROR(MATCH(MONTH(C33),$H$18:$H$19,0))=FALSE,$L$23,0)  +$L$23)","v":18.440000000000001},{"$f":"IF(B33=\"\",\"\",N33+O33)","v":159.75},{"$f":"IF(B33=\"\",\"\",M33+N33 + O33+AA33+IF(A33=$H$13,U33,0))","v":191.26},{"$f":"IF(B33=\"\",\"\",$L$26)","v":0},{"$f":"IF(B33=\"\",\"\",$L$25+Z33)","v":7.2},{"$f":"IF(B33=\"\",\"\",Q33+R33+S33)","v":198.45999999999998},{"$f":"IF(B33=\"\",\"\",ROUND(L33-M33,2))","v":3945.42},{"$f":"IF(B33=\"\",\"\",IF(ROUND(ROUND(L33*(((1+(H33/100))^(I33/G33))-1),4),2) - $L$24<0,0,ROUND(ROUND(L33*(((1+(H33/100))^(I33/G33))-1),4),2) - $L$24))","v":0},{"$f":"IF(B33=\"\",\"\",(1+H33/100)^(1/12)-1)","v":3.436608313191658E-2},{"$f":"IF(B33=\"\",\"\",Q33/((1+W33)^K33))","v":161.71188365003482}]
[{"$f":"IF(A33>=$H$13,\"\",A33+1)","v":3},1,"2022-05-23",{"$f":"IF(B34=\"\",\"\",IF(OR(MONTH(C34)=$H$18,MONTH(C34)=$H$19),\"D\",\"\"))","v":""},3,3,360,50,30,1,{"$f":"IF(B34=\"\",\"\",SUM($J$32:J34))","v":5.9666666666666668},3945.42,37.22999999999999,135.59,18.440000000000001,154.03,191.26,0,7.2,198.45999999999998,3908.19,0,3.436608313191658E-2,156.33912044021565]
[4,1,"2022-06-23","",4,4,360,50,31,1.0333333333333334,{"$f":"IF(B35=\"\",\"\",SUM($J$32:J35))","v":7},3908.19,33.95999999999998,138.86000000000001,18.440000000000001,157.30000000000001,191.26,0,7.2,198.45999999999998,3874.23,0,3.436608313191658E-2,150.97472608092153]
[5,1,"2022-07-23","",5,5,360,50,30,1,{"$f":"IF(B36=\"\",\"\",SUM($J$32:J36))","v":8},3874.23,39.680000000000007,133.13999999999999,18.440000000000001,151.57999999999998,191.26,0,7.2,198.45999999999998,3834.55,0,3.436608313191658E-2,145.95869735383343]
[6,1,"2022-08-23","",6,6,360,50,31,1.0333333333333334,{"$f":"IF(B37=\"\",\"\",SUM($J$32:J37))","v":9.0333333333333332},3834.55,36.569999999999993,136.25,18.440000000000001,154.69,191.26,0,7.2,198.45999999999998,3797.98,0,3.436608313191658E-2,140.95048181206687]
[7,1,"2022-09-23","",7,7,360,50,31,1.0333333333333334,{"$f":"IF(B38=\"\",\"\",SUM($J$32:J38))","v":10.066666666666666},3797.98,37.870000000000005,134.94999999999999,18.440000000000001,153.38999999999999,191.26,0,7.2,198.45999999999998,3760.11,0,3.436608313191658E-2,136.11411093161553]
[8,1,"2022-10-23","",8,8,360,50,30,1,{"$f":"IF(B39=\"\",\"\",SUM($J$32:J39))","v":11.066666666666666},3760.11,43.599999999999994,129.22,18.440000000000001,147.66,191.26,0,7.2,198.45999999999998,3716.51,0,3.436608313191658E-2,131.59181565532481]
[9,1,"2022-11-23","",9,9,360,50,31,1.0333333333333334,{"$f":"IF(B40=\"\",\"\",SUM($J$32:J40))","v":12.1},3716.51,40.769999999999982,132.05000000000001,18.440000000000001,150.49,191.26,0,7.2,198.45999999999998,3675.74,0,3.436608313191658E-2,127.07656450357848]
[10,1,"2022-12-23","",10,10,360,50,30,1,{"$f":"IF(B41=\"\",\"\",SUM($J$32:J41))","v":13.1},3675.74,46.5,126.32,18.440000000000001,144.76,191.26,0,7.2,198.45999999999998,3629.24,0,3.436608313191658E-2,122.85453532931815]
[11,1,"2023-01-23","",11,11,360,50,31,1.0333333333333334,{"$f":"IF(B42=\"\",\"\",SUM($J$32:J42))","v":14.133333333333333},3629.24,43.870000000000005,128.94999999999999,18.440000000000001,147.38999999999999,191.26,0,7.2,198.45999999999998,3585.37,0,3.436608313191658E-2,118.63908257201354]
[12,1,"2023-02-23","",12,12,360,50,31,1.0333333333333334,{"$f":"IF(B43=\"\",\"\",SUM($J$32:J43))","v":15.166666666666666},3585.37,45.429999999999993,127.39,18.440000000000001,145.83000000000001,191.26,0,7.2,198.45999999999998,3539.94,0,3.436608313191658E-2,114.56827276094961]
[13,1,"2023-03-23","",13,13,360,50,28,0.93333333333333335,{"$f":"IF(B44=\"\",\"\",SUM($J$32:J44))","v":16.099999999999998},3539.94,59.399999999999991,113.42,18.440000000000001,131.86000000000001,191.26,0,7.2,198.45999999999998,3480.54,0,3.436608313191658E-2,111.01160427612837]
[14,1,"2023-04-23","",14,14,360,50,31,1.0333333333333334,{"$f":"IF(B45=\"\",\"\",SUM($J$32:J45))","v":17.133333333333333},3480.54,49.149999999999991,123.67,18.440000000000001,142.11000000000001,191.26,0,7.2,198.45999999999998,3431.39,0,3.436608313191658E-2,107.20251271850525]
[15,1,"2023-05-23","",15,15,360,50,30,1,{"$f":"IF(B46=\"\",\"\",SUM($J$32:J46))","v":18.133333333333333},3431.39,54.899999999999991,117.92,18.440000000000001,136.36000000000001,191.26,0,7.2,198.45999999999998,3376.49,0,3.436608313191658E-2,103.64078488914771]
[16,1,"2023-06-23","",16,16,360,50,31,1.0333333333333334,{"$f":"IF(B47=\"\",\"\",SUM($J$32:J47))","v":19.166666666666668},3376.49,52.849999999999994,119.97,18.440000000000001,138.41,191.26,0,7.2,198.45999999999998,3323.64,0,3.436608313191658E-2,100.08460496254541]
[17,1,"2023-07-23","",17,17,360,50,30,1,{"$f":"IF(B48=\"\",\"\",SUM($J$32:J48))","v":20.166666666666668},3323.64,58.599999999999994,114.22,18.440000000000001,132.66,191.26,0,7.2,198.45999999999998,3265.04,0,3.436608313191658E-2,96.759364595079489]
[18,1,"2023-08-23","",18,18,360,50,31,1.0333333333333334,{"$f":"IF(B49=\"\",\"\",SUM($J$32:J49))","v":21.200000000000003},3265.04,56.809999999999988,116.01,18.440000000000001,134.45000000000002,191.26,0,7.2,198.45999999999998,3208.23,0,3.436608313191658E-2,93.439303767174223]
[19,1,"2023-09-23","",19,19,360,50,31,1.0333333333333334,{"$f":"IF(B50=\"\",\"\",SUM($J$32:J50))","v":22.233333333333338},3208.23,58.83,113.99,18.440000000000001,132.43,191.26,0,7.2,198.45999999999998,3149.4,0,3.436608313191658E-2,90.233162702457975]
[20,1,"2023-10-23","",20,20,360,50,30,1,{"$f":"IF(B51=\"\",\"\",SUM($J$32:J51))","v":23.233333333333338},3149.4,64.589999999999989,108.23,18.440000000000001,126.67,191.26,0,7.2,198.45999999999998,3084.81,0,3.436608313191658E-2,87.235229551654001]
[21,1,"2023-11-23","",21,21,360,50,31,1.0333333333333334,{"$f":"IF(B52=\"\",\"\",SUM($J$32:J52))","v":24.266666666666673},3084.81,63.209999999999994,109.61,18.440000000000001,128.05000000000001,191.26,0,7.2,198.45999999999998,3021.6,0,3.436608313191658E-2,84.241966112401343]
[22,1,"2023-12-23","",22,22,360,50,30,1,{"$f":"IF(B53=\"\",\"\",SUM($J$32:J53))","v":25.266666666666673},3021.6,68.97999999999999,103.84,18.440000000000001,122.28,191.26,0,7.2,198.45999999999998,2952.62,0,3.436608313191658E-2,81.443086240152425]
[23,1,"2024-01-23","",23,23,360,50,31,1.0333333333333334,{"$f":"IF(B54=\"\",\"\",SUM($J$32:J54))","v":26.300000000000008},2952.62,67.91,104.91,18.440000000000001,123.35,191.26,0,7.2,198.45999999999998,2884.71,0,3.436608313191658E-2,78.648566025378386]
[24,1,"2024-02-23","",24,24,360,50,31,1.0333333333333334,{"$f":"IF(B55=\"\",\"\",SUM($J$32:J55))","v":27.333333333333343},2884.71,70.319999999999993,102.5,18.440000000000001,120.94,191.26,0,7.2,198.45999999999998,2814.39,0,3.436608313191658E-2,75.949932933640852]
[25,1,"2024-03-23","",25,25,360,50,29,0.96666666666666667,{"$f":"IF(B56=\"\",\"\",SUM($J$32:J56))","v":28.300000000000008},2814.39,79.38,93.44,18.440000000000001,111.88,191.26,0,7.2,198.45999999999998,2735.01,0,3.436608313191658E-2,73.509296334796645]
[26,1,"2024-04-23","",26,26,360,50,31,1.0333333333333334,{"$f":"IF(B57=\"\",\"\",SUM($J$32:J57))","v":29.333333333333343},2735.01,75.639999999999986,97.18,18.440000000000001,115.62,191.26,0,7.2,198.45999999999998,2659.37,0,3.436608313191658E-2,70.9870047068042]
[27,1,"2024-05-23","",27,27,360,50,30,1,{"$f":"IF(B58=\"\",\"\",SUM($J$32:J58))","v":30.333333333333343},2659.37,81.429999999999993,91.39,18.440000000000001,109.83,191.26,0,7.2,198.45999999999998,2577.94,0,3.436608313191658E-2,68.628511572871219]
[28,1,"2024-06-23","",28,28,360,50,31,1.0333333333333334,{"$f":"IF(B59=\"\",\"\",SUM($J$32:J59))","v":31.366666666666678},2577.94,81.22,91.6,18.440000000000001,110.03999999999999,191.26,0,7.2,198.45999999999998,2496.7199999999998,0,3.436608313191658E-2,66.273692130804307]
[29,1,"2024-07-23","",29,29,360,50,30,1,{"$f":"IF(B60=\"\",\"\",SUM($J$32:J60))","v":32.366666666666674},2496.7199999999998,87.02,85.8,18.440000000000001,104.24,191.26,0,7.2,198.45999999999998,2409.6999999999998,0,3.436608313191658E-2,64.071795480896668]
[30,1,"2024-08-23","",30,30,360,50,31,1.0333333333333334,{"$f":"IF(B61=\"\",\"\",SUM($J$32:J61))","v":33.400000000000006},2409.6999999999998,87.199999999999989,85.62,18.440000000000001,104.06,191.26,0,7.2,198.45999999999998,2322.5,0,3.436608313191658E-2,61.873328601335331]
[31,1,"2024-09-23","",31,31,360,50,31,1.0333333333333334,{"$f":"IF(B62=\"\",\"\",SUM($J$32:J62))","v":34.433333333333337},2322.5,90.3,82.52,18.440000000000001,100.96,191.26,0,7.2,198.45999999999998,2232.1999999999998,0,3.436608313191658E-2,59.750296733142903]
[32,1,"2024-10-23","",32,32,360,50,30,1,{"$f":"IF(B63=\"\",\"\",SUM($J$32:J63))","v":35.433333333333337},2232.1999999999998,96.11,76.709999999999994,18.440000000000001,95.149999999999991,191.26,0,7.2,198.45999999999998,2136.09,0,3.436608313191658E-2,57.765135291585871]
[33,1,"2024-11-23","",33,33,360,50,31,1.0333333333333334,{"$f":"IF(B64=\"\",\"\",SUM($J$32:J64))","v":36.466666666666669},2136.09,96.919999999999987,75.900000000000006,18.440000000000001,94.34,191.26,0,7.2,198.45999999999998,2039.17,0,3.436608313191658E-2,55.783066024152973]
[34,1,"2024-12-23","",34,34,360,50,30,1,{"$f":"IF(B65=\"\",\"\",SUM($J$32:J65))","v":37.466666666666669},2039.17,102.74,70.08,18.440000000000001,88.52,191.26,0,7.2,198.45999999999998,1936.43,0,3.436608313191658E-2,53.929713023120023]
[35,1,"2025-01-23","",35,35,360,50,31,1.0333333333333334,{"$f":"IF(B66=\"\",\"\",SUM($J$32:J66))","v":38.5},1936.43,104.02,68.8,18.440000000000001,87.24,191.26,0,7.2,198.45999999999998,1832.41,0,3.436608313191658E-2,52.079246885630141]
[36,1,"2025-02-23","",36,36,360,50,31,1.0333333333333334,{"$f":"IF(B67=\"\",\"\",SUM($J$32:J67))","v":39.533333333333331},1832.41,107.71,65.11,18.440000000000001,83.55,191.26,0,7.2,198.45999999999998,1724.7,0,3.436608313191658E-2,50.292274965595645]
[37,1,"2025-03-23","",37,37,360,50,28,0.93333333333333335,{"$f":"IF(B68=\"\",\"\",SUM($J$32:J68))","v":40.466666666666661},1724.7,117.56,55.26,18.440000000000001,73.7,191.26,0,7.2,198.45999999999998,1607.14,0,3.436608313191658E-2,48.730996741795217]
[38,1,"2025-04-23","",38,38,360,50,31,1.0333333333333334,{"$f":"IF(B69=\"\",\"\",SUM($J$32:J69))","v":41.499999999999993},1607.14,115.72,57.1,18.440000000000001,75.540000000000006,191.26,0,7.2,198.45999999999998,1491.42,0,3.436608313191658E-2,47.058911832347178]
[39,1,"2025-05-23","",39,39,360,50,30,1,{"$f":"IF(B70=\"\",\"\",SUM($J$32:J70))","v":42.499999999999993},1491.42,121.57,51.25,18.440000000000001,69.69,191.26,0,7.2,198.45999999999998,1369.85,0,3.436608313191658E-2,45.495412697465227]
[40,1,"2025-06-23","",40,40,360,50,31,1.0333333333333334,{"$f":"IF(B71=\"\",\"\",SUM($J$32:J71))","v":43.533333333333324},1369.85,124.14999999999999,48.67,18.440000000000001,67.11,191.26,0,7.2,198.45999999999998,1245.7,0,3.436608313191658E-2,43.934348937090789]
[41,1,"2025-07-23","",41,41,360,50,30,1,{"$f":"IF(B72=\"\",\"\",SUM($J$32:J72))","v":44.533333333333324},1245.7,130.01,42.81,18.440000000000001,61.25,191.26,0,7.2,198.45999999999998,1115.69,0,3.436608313191658E-2,42.474661199315122]
[42,1,"2025-08-23","",42,42,360,50,31,1.0333333333333334,{"$f":"IF(B73=\"\",\"\",SUM($J$32:J73))","v":45.566666666666656},1115.69,133.18,39.64,18.440000000000001,58.08,191.26,0,7.2,198.45999999999998,982.51,0,3.436608313191658E-2,41.017247134882908]
[43,1,"2025-09-23","",43,43,360,50,31,1.0333333333333334,{"$f":"IF(B74=\"\",\"\",SUM($J$32:J74))","v":46.599999999999987},982.51,137.91,34.909999999999997,18.440000000000001,53.349999999999994,191.26,0,7.2,198.45999999999998,844.6,0,3.436608313191658E-2,39.609840667809451]
[44,1,"2025-10-23","",44,44,360,50,30,1,{"$f":"IF(B75=\"\",\"\",SUM($J$32:J75))","v":47.599999999999987},844.6,143.79,29.03,18.440000000000001,47.47,191.26,0,7.2,198.45999999999998,700.81,0,3.436608313191658E-2,38.293831665358134]
[45,1,"2025-11-23","",45,45,360,50,31,1.0333333333333334,{"$f":"IF(B76=\"\",\"\",SUM($J$32:J76))","v":48.633333333333319},700.81,147.91999999999999,24.9,18.440000000000001,43.34,191.26,0,7.2,198.45999999999998,552.89,0,3.436608313191658E-2,36.979872535979787]
[46,1,"2025-12-23","",46,46,360,50,30,1,{"$f":"IF(B77=\"\",\"\",SUM($J$32:J77))","v":49.633333333333319},552.89,153.82,19,18.440000000000001,37.44,191.26,0,7.2,198.45999999999998,399.07,0,3.436608313191658E-2,35.751242368668805]
[47,1,"2026-01-23","",47,47,360,50,31,1.0333333333333334,{"$f":"IF(B78=\"\",\"\",SUM($J$32:J78))","v":50.66666666666665},399.07,158.63999999999999,14.18,18.440000000000001,32.620000000000005,191.26,0,7.2,198.45999999999998,240.43,0,3.436608313191658E-2,34.524525969342641]
[48,1,"2026-02-23","",48,48,360,50,31,1.0333333333333334,{"$f":"IF(B79=\"\",\"\",SUM($J$32:J79))","v":51.699999999999982},240.43,240.43,8.5399999999999991,18.440000000000001,26.98,267.41000000000003,0,7.2,274.61,0,0,3.436608313191658E-2,46.614153601030388]
["","","","","","","","","","",{"$f":"IF(B80=\"\",\"\",SUM($J$32:J80))","v":""},"","","","","","","","","","","","",""]
["","","","","","","","","","",{"$f":"IF(B81=\"\",\"\",SUM($J$32:J81))","v":""},"","","","","","","","","","","","",""]
["","","","","","","","","","",{"$f":"IF(B82=\"\",\"\",SUM($J$32:J82))","v":""},"","","","","","","","","","","","",""]
["","","","","","","","","","",{"$f":"IF(B83=\"\",\"\",SUM($J$32:J83))","v":""},"","","","","","","","","","","","",""]
["","","","","","","","","","",{"$f":"IF(B84=\"\",\"\",SUM($J$32:J84))","v":""},"","","","","","","","","","","","",""]
["","","","","","","","","","",{"$f":"IF(B85=\"\",\"\",SUM($J$32:J85))","v":""},"","","","","","","","","","","","",""]
["","","","","","","","","","",{"$f":"IF(B86=\"\",\"\",SUM($J$32:J86))","v":""},"","","","","","","","","","","","",""]
["","","","","","","","","","",{"$f":"IF(B87=\"\",\"\",SUM($J$32:J87))","v":""},"","","","","","","","","","","","",""]
["","","","","","","","","","",{"$f":"IF(B88=\"\",\"\",SUM($J$32:J88))","v":""},"","","","","","","","","","","","",""]
["","","","","","","","","","",{"$f":"IF(B89=\"\",\"\",SUM($J$32:J89))","v":""},"","","","","","","","","","","","",""]
["","","","","","","","","","",{"$f":"IF(B90=\"\",\"\",SUM($J$32:J90))","v":""},"","","","","","","","","","","","",""]
["","",{"$f":"IF(B91=\"\",\"\",IF(OR(MONTH(EDATE($S$6,F91))=$H$16,MONTH(EDATE($S$6,F91))=$H$17),IF(ABS($H$17-$H$16)=1,EDATE($S$6,F91+2),EDATE($S$6,F91+1)),EDATE($S$6,F91)))","v":""},"",{"$f":"IF(B91=\"\",\"\",IF(OR(MONTH(DATE(YEAR(C90) + 1/12,MONTH(C90)+1,DAY(C90)))=$H$16,MONTH(DATE(YEAR(C90) + 1/12,MONTH(C90)+1,DAY(C90)))=$H$17),IF(ABS($H$17-$H$16)=1,E90+1,E90 + 2),E90 + 1))","v":""},{"$f":"IF(B91=\"\",\"\",F90+1)","v":""},{"$f":"IF(B91=\"\",\"\",$S$9)","v":""},{"$f":"IF(B91=\"\",\"\",$H$8)","v":""},{"$f":"IF(B91=\"\",\"\",C91-C90)","v":""},{"$f":"IF(B91=\"\",\"\",(I91)/30)","v":""},{"$f":"IF(B91=\"\",\"\",SUM($J$32:J91))","v":""},{"$f":"IF(B91=\"\",\"\",U90)","v":""},"",{"$f":"IF(B91=\"\",\"\",IF($L$24+$S$28 + $U$26<ROUND(ROUND(L91*(((1+(H91/100))^(I91/G91))-1),4),2),$L$24+$S$28 + $U$26-0.01,IF(ROUND(ROUND(L91*(((1+(H91/100))^(I91/G91))-1),4),2)+ $U$26>$L$24,$L$24+ $U$26+-0.01,ROUND(ROUND(L91*(((1+(H91/100))^(I91/G91))-1),4),2)+$U$26)))","v":""},{"$f":"IF(B91=\"\",\"\",IF(ISERROR(MATCH(MONTH(C91),$H$18:$H$19,0))=FALSE,$L$23,0)  +$L$23)","v":""},{"$f":"IF(B91=\"\",\"\",N91+O91)","v":""},{"$f":"IF(B91=\"\",\"\",M91+N91 + O91+AA91+IF(A91=$H$13,U91,0))","v":""},{"$f":"IF(B91=\"\",\"\",$L$26)","v":""},{"$f":"IF(B91=\"\",\"\",$L$25+Z91)","v":""},{"$f":"IF(B91=\"\",\"\",Q91+R91+S91)","v":""},{"$f":"IF(B91=\"\",\"\",ROUND(L91-M91,2))","v":""},{"$f":"IF(B91=\"\",\"\",IF(ROUND(ROUND(L91*(((1+(H91/100))^(I91/G91))-1),4),2) - $L$24<0,0,ROUND(ROUND(L91*(((1+(H91/100))^(I91/G91))-1),4),2) - $L$24))","v":""},{"$f":"IF(B91=\"\",\"\",(1+H91/100)^(1/12)-1)","v":""},{"$f":"IF(B91=\"\",\"\",Q91/((1+W91)^K91))","v":""}]
[{"$f":"IF(A91>=$H$13,\"\",A91+1)","v":""},"",{"$f":"IF(B92=\"\",\"\",IF(OR(MONTH(EDATE($S$6,F92))=$H$16,MONTH(EDATE($S$6,F92))=$H$17),IF(ABS($H$17-$H$16)=1,EDATE($S$6,F92+2),EDATE($S$6,F92+1)),EDATE($S$6,F92)))","v":""},"",{"$f":"IF(B92=\"\",\"\",IF(OR(MONTH(DATE(YEAR(C91) + 1/12,MONTH(C91)+1,DAY(C91)))=$H$16,MONTH(DATE(YEAR(C91) + 1/12,MONTH(C91)+1,DAY(C91)))=$H$17),IF(ABS($H$17-$H$16)=1,E91+1,E91 + 2),E91 + 1))","v":""},{"$f":"IF(B92=\"\",\"\",F91+1)","v":""},{"$f":"IF(B92=\"\",\"\",$S$9)","v":""},{"$f":"IF(B92=\"\",\"\",$H$8)","v":""},{"$f":"IF(B92=\"\",\"\",C92-C91)","v":""},{"$f":"IF(B92=\"\",\"\",(I92)/30)","v":""},{"$f":"IF(B92=\"\",\"\",SUM($J$32:J92))","v":""},{"$f":"IF(B92=\"\",\"\",U91)","v":""},"",{"$f":"IF(B92=\"\",\"\",IF($L$24+$S$28 + $U$26<ROUND(ROUND(L92*(((1+(H92/100))^(I92/G92))-1),4),2),$L$24+$S$28 + $U$26-0.01,IF(ROUND(ROUND(L92*(((1+(H92/100))^(I92/G92))-1),4),2)+ $U$26>$L$24,$L$24+ $U$26+-0.01,ROUND(ROUND(L92*(((1+(H92/100))^(I92/G92))-1),4),2)+$U$26)))","v":""},{"$f":"IF(B92=\"\",\"\",IF(ISERROR(MATCH(MONTH(C92),$H$18:$H$19,0))=FALSE,$L$23,0)  +$L$23)","v":""},{"$f":"IF(B92=\"\",\"\",N92+O92)","v":""},{"$f":"IF(B92=\"\",\"\",M92+N92 + O92+AA92+IF(A92=$H$13,U92,0))","v":""},{"$f":"IF(B92=\"\",\"\",$L$26)","v":""},{"$f":"IF(B92=\"\",\"\",$L$25+Z92)","v":""},{"$f":"IF(B92=\"\",\"\",Q92+R92+S92)","v":""},{"$f":"IF(B92=\"\",\"\",ROUND(L92-M92,2))","v":""},{"$f":"IF(B92=\"\",\"\",IF(ROUND(ROUND(L92*(((1+(H92/100))^(I92/G92))-1),4),2) - $L$24<0,0,ROUND(ROUND(L92*(((1+(H92/100))^(I92/G92))-1),4),2) - $L$24))","v":""},{"$f":"IF(B92=\"\",\"\",(1+H92/100)^(1/12)-1)","v":""},{"$f":"IF(B92=\"\",\"\",Q92/((1+W92)^K92))","v":""}]
["","","","","","","","","","",{"$f":"IF(B93=\"\",\"\",SUM($J$32:J93))","v":""},"","","","","","","","","","","","",""]
["","","","","","","","","","",{"$f":"IF(B94=\"\",\"\",SUM($J$32:J94))","v":""},"","","","","","","","","","","","",""]
["","","","","","","","","","",{"$f":"IF(B95=\"\",\"\",SUM($J$32:J95))","v":""},"","","","","","","","","","","","",""]
["","","",{"$f":"IF(B96=\"\",\"\",IF(OR(MONTH(C96)=$H$18,MONTH(C96)=$H$19),\"D\",\"\"))","v":""},"","","","","","",{"$f":"IF(B96=\"\",\"\",SUM($J$32:J96))","v":""},"","","","","","","","","","","","",""]
["",{"$f":"IF(A97=\"\",\"\",IF(A97<=$H$22,0,1))","v":""},"","","","","","","","",{"$f":"IF(B97=\"\",\"\",SUM($J$32:J97))","v":""},"",{"$f":"IF(A97=$H$13,U96,IF(B97=\"\",\"\",IF((IF(ISERROR(MATCH(MONTH(C97),$H$18:$H$19,0))=FALSE,$L$24+$S$28,0)+$L$24+$S$28-IF(AND(D97=\"D\",W97=0),$V$26*2,$V$26))-N97<=0,0.01,IF(ISERROR(MATCH(MONTH(C97),$H$18:$H$19,0))=FALSE,$L$24+$S$28,0)+($L$24+$S$28-IF(AND(D97=\"D\",W97=0),$V$26*2,$V$26))-N97)-Z97))","v":""},"","","","","","","","","","",""]
["","","","","","","","","","",{"$f":"IF(B98=\"\",\"\",SUM($J$32:J98))","v":""},"","","","","","","","","","","","",""]
["","","","","","","","","","",{"$f":"IF(B99=\"\",\"\",SUM($J$32:J99))","v":""},"","","","","","","","","","","","",""]
["","","","","","","","","","",{"$f":"IF(B100=\"\",\"\",SUM($J$32:J100))","v":""},"","","","","","","","","","","","",""]
["","","","","","","","","","",{"$f":"IF(B101=\"\",\"\",SUM($J$32:J101))","v":""},"","","","","","","","","","","","",""]
["","","","","","","","","","",{"$f":"IF(B102=\"\",\"\",SUM($J$32:J102))","v":""},"","","","","","","","","","","","",""]
["","","","","","","","","","",{"$f":"IF(B103=\"\",\"\",SUM($J$32:J103))","v":""},"","","","","","","","","","","","",""]
["","","","","","","","","","",{"$f":"IF(B104=\"\",\"\",SUM($J$32:J104))","v":""},"","","","","","","","","","","","",""]
["","","","","","","","","","",{"$f":"IF(B105=\"\",\"\",SUM($J$32:J105))","v":""},"","","","","","","","","","","","",""]
["","","","","","","","","","",{"$f":"IF(B106=\"\",\"\",SUM($J$32:J106))","v":""},"","","","","","","","","","","","",""]
["","","","","","","","","","",{"$f":"IF(B107=\"\",\"\",SUM($J$32:J107))","v":""},"","","","","","","","","","","","",""]
["","","","","","","","","","",{"$f":"IF(B108=\"\",\"\",SUM($J$32:J108))","v":""},"","","","","","","","","","","","",""]
["","","","","","","","","","",{"$f":"IF(B109=\"\",\"\",SUM($J$32:J109))","v":""},"","","","","","","","","","","","",""]
["","","","","","","","","","",{"$f":"IF(B110=\"\",\"\",SUM($J$32:J110))","v":""},"","","","","","","","","","","","",""]
["","","","","","","","","","",{"$f":"IF(B111=\"\",\"\",SUM($J$32:J111))","v":""},"","","","","","","","","","","","",""]
["","","","","","","","","","",{"$f":"IF(B112=\"\",\"\",SUM($J$32:J112))","v":""},"","","","","","","","","","","","",""]
["","","","","","","","","","",{"$f":"IF(B113=\"\",\"\",SUM($J$32:J113))","v":""},"","","","","","","","","","","","",""]
["","","","","","","","","","",{"$f":"IF(B114=\"\",\"\",SUM($J$32:J114))","v":""},"","","","","","","","","","","","",""]
["","","","","","","","","","",{"$f":"IF(B115=\"\",\"\",SUM($J$32:J115))","v":""},"","","","","","","","","","","","",""]
["","","","","","","","","","",{"$f":"IF(B116=\"\",\"\",SUM($J$32:J116))","v":""},"","","","","","","","","","","","",""]
["","","","","","","","","","",{"$f":"IF(B117=\"\",\"\",SUM($J$32:J117))","v":""},"","","","","","","","","","","","",""]
["","","","","","","","","","",{"$f":"IF(B118=\"\",\"\",SUM($J$32:J118))","v":""},"","","","","","","","","","","","",""]
["","","","","","","","","","",{"$f":"IF(B119=\"\",\"\",SUM($J$32:J119))","v":""},"","","","","","","","","","","","",""]
["","","","","","","","","","",{"$f":"IF(B120=\"\",\"\",SUM($J$32:J120))","v":""},"","","","","","","","","","","","",""]
["","","","","","","","","","",{"$f":"IF(B121=\"\",\"\",SUM($J$32:J121))","v":""},"","","","","","","","","","","","",""]
["","","","","","","","","","",{"$f":"IF(B122=\"\",\"\",SUM($J$32:J122))","v":""},"","","","","","","","","","","","",""]
["","","","","","","","","","",{"$f":"IF(B123=\"\",\"\",SUM($J$32:J123))","v":""},"","","","","","","","","","","","",""]
["","","","","","","","","","",{"$f":"IF(B124=\"\",\"\",SUM($J$32:J124))","v":""},"","","","","","","","","","","","",""]
["","","","","","","","","","",{"$f":"IF(B125=\"\",\"\",SUM($J$32:J125))","v":""},"","","","","","","","","","","","",""]
["","","","","","","","","","",{"$f":"IF(B126=\"\",\"\",SUM($J$32:J126))","v":""},"","","","","","","","","","","","",""]
["","","","","","","","","","",{"$f":"IF(B127=\"\",\"\",SUM($J$32:J127))","v":""},"","","","","","","","","","","","",""]
["","","","","","","","","","",{"$f":"IF(B128=\"\",\"\",SUM($J$32:J128))","v":""},"","","","","","","","","","","","",""]
["","","","","","","","","","",{"$f":"IF(B129=\"\",\"\",SUM($J$32:J129))","v":""},"","","","","","","","","","","","",""]
["","","","","","","","","","",{"$f":"IF(B130=\"\",\"\",SUM($J$32:J130))","v":""},"","","","","","","","","","","","",""]
["","","","","","","","","","",{"$f":"IF(B131=\"\",\"\",SUM($J$32:J131))","v":""},"","","","","","","","","","","","",""]
["","","","","","","","","","",{"$f":"IF(B132=\"\",\"\",SUM($J$32:J132))","v":""},"","","","","","","","","","","","",""]
["","","","","","","","","","",{"$f":"IF(B133=\"\",\"\",SUM($J$32:J133))","v":""},"","","","","","","","","","","","",""]
["","","","","","","","","","",{"$f":"IF(B134=\"\",\"\",SUM($J$32:J134))","v":""},"","","","","","","","","","","","",""]
["","","","","","","","","","",{"$f":"IF(B135=\"\",\"\",SUM($J$32:J135))","v":""},"","","","","","","","","","","","",""]
["","","","","","","","","","",{"$f":"IF(B136=\"\",\"\",SUM($J$32:J136))","v":""},"","","","","","","","","","","","",""]
["","","","","","","","","","",{"$f":"IF(B137=\"\",\"\",SUM($J$32:J137))","v":""},"","","","","","","","","","","","",""]
["","","","","","","","","","",{"$f":"IF(B138=\"\",\"\",SUM($J$32:J138))","v":""},"","","","","","","","","","","","",""]
["","","","","","","","","","",{"$f":"IF(B139=\"\",\"\",SUM($J$32:J139))","v":""},"","","","","","","","","","","","",""]
["","","","","","","","","","",{"$f":"IF(B140=\"\",\"\",SUM($J$32:J140))","v":""},"","","","","","","","","","","","",""]
["","","","","","","","","","",{"$f":"IF(B141=\"\",\"\",SUM($J$32:J141))","v":""},"","","","","","","","","","","","",""]
["","","","","","","","","","",{"$f":"IF(B142=\"\",\"\",SUM($J$32:J142))","v":""},"","","","","","","","","","","","",""]
["","","","","","","","","","",{"$f":"IF(B143=\"\",\"\",SUM($J$32:J143))","v":""},"","","","","","","","","","","","",""]
["","","","","","","","","","",{"$f":"IF(B144=\"\",\"\",SUM($J$32:J144))","v":""},"","","","","","","","","","","","",""]
["","","","","","","","","","",{"$f":"IF(B145=\"\",\"\",SUM($J$32:J145))","v":""},"","","","","","","","","","","","",""]
["","","","","","","","","","",{"$f":"IF(B146=\"\",\"\",SUM($J$32:J146))","v":""},"","","","","","","","","","","","",""]
["","","","","","","","","","",{"$f":"IF(B147=\"\",\"\",SUM($J$32:J147))","v":""},"","","","","","","","","","","","",""]
["","","","","","","","","","",{"$f":"IF(B148=\"\",\"\",SUM($J$32:J148))","v":""},"","","","","","","","","","","","",""]
["","","","","","","","","","",{"$f":"IF(B149=\"\",\"\",SUM($J$32:J149))","v":""},"","","","","","","","","","","","",""]
["","","","","","","","","","",{"$f":"IF(B150=\"\",\"\",SUM($J$32:J150))","v":""},"","","","","","","","","","","","",""]
["","","","","","","","","","",{"$f":"IF(B151=\"\",\"\",SUM($J$32:J151))","v":""},"","","","","","","","","","","","",""]
["","","","","","","","","","",{"$f":"IF(B152=\"\",\"\",SUM($J$32:J152))","v":""},"","","","","","","","","","","","",""]
["","","","","","","","","","",{"$f":"IF(B153=\"\",\"\",SUM($J$32:J153))","v":""},"","","","","","","","","","","","",""]
["","","","","","","","","","",{"$f":"IF(B154=\"\",\"\",SUM($J$32:J154))","v":""},"","","","","","","","","","","","",""]
["","","","","","","","","","",{"$f":"IF(B155=\"\",\"\",SUM($J$32:J155))","v":""},"","","","","","","","","","","","",""]
[{"$f":"IF(A155>=$H$13,\"\",A155+1)","v":""},"",{"$f":"IF(B156=\"\",\"\",IF(OR(MONTH(EDATE($S$6,F156))=$H$16,MONTH(EDATE($S$6,F156))=$H$17),IF(ABS($H$17-$H$16)=1,EDATE($S$6,F156+2),EDATE($S$6,F156+1)),EDATE($S$6,F156)))","v":""},"",{"$f":"IF(B156=\"\",\"\",IF(OR(MONTH(DATE(YEAR(C155) + 1/12,MONTH(C155)+1,DAY(C155)))=$H$16,MONTH(DATE(YEAR(C155) + 1/12,MONTH(C155)+1,DAY(C155)))=$H$17),IF(ABS($H$17-$H$16)=1,E155+1,E155 + 2),E155 + 1))","v":""},{"$f":"IF(B156=\"\",\"\",F155+1)","v":""},{"$f":"IF(B156=\"\",\"\",$S$9)","v":""},{"$f":"IF(B156=\"\",\"\",$H$8)","v":""},{"$f":"IF(B156=\"\",\"\",C156-C155)","v":""},{"$f":"IF(B156=\"\",\"\",(I156)/30)","v":""},{"$f":"IF(B156=\"\",\"\",SUM($J$32:J156))","v":""},{"$f":"IF(B156=\"\",\"\",U155)","v":""},"",{"$f":"IF(B156=\"\",\"\",IF($L$24+$S$28 + $U$26<ROUND(ROUND(L156*(((1+(H156/100))^(I156/G156))-1),4),2),$L$24+$S$28 + $U$26-0.01,IF(ROUND(ROUND(L156*(((1+(H156/100))^(I156/G156))-1),4),2)+ $U$26>$L$24,$L$24+ $U$26+-0.01,ROUND(ROUND(L156*(((1+(H156/100))^(I156/G156))-1),4),2)+$U$26)))","v":""},{"$f":"IF(B156=\"\",\"\",IF(ISERROR(MATCH(MONTH(C156),$H$18:$H$19,0))=FALSE,$L$23,0)  +$L$23)","v":""},{"$f":"IF(B156=\"\",\"\",N156+O156)","v":""},{"$f":"IF(B156=\"\",\"\",M156+N156 + O156+AA156+IF(A156=$H$13,U156,0))","v":""},{"$f":"IF(B156=\"\",\"\",$L$26)","v":""},{"$f":"IF(B156=\"\",\"\",$L$25+Z156)","v":""},{"$f":"IF(B156=\"\",\"\",Q156+R156+S156)","v":""},{"$f":"IF(B156=\"\",\"\",ROUND(L156-M156,2))","v":""},{"$f":"IF(B156=\"\",\"\",IF(ROUND(ROUND(L156*(((1+(H156/100))^(I156/G156))-1),4),2) - $L$24<0,0,ROUND(ROUND(L156*(((1+(H156/100))^(I156/G156))-1),4),2) - $L$24))","v":""},{"$f":"IF(B156=\"\",\"\",(1+H156/100)^(1/12)-1)","v":""},{"$f":"IF(B156=\"\",\"\",Q156/((1+W156)^K156))","v":""}]
["","","","","","","","","","",{"$f":"IF(B157=\"\",\"\",SUM($J$32:J157))","v":""},"","","","","","","","","","","","",""]
["","","","","","","","","","",{"$f":"IF(B158=\"\",\"\",SUM($J$32:J158))","v":""},"","","","","","","","","","","","",""]
["","","","","","","","","","",{"$f":"IF(B159=\"\",\"\",SUM($J$32:J159))","v":""},"","","","","","","","","","","","",""]
["","","",{"$f":"IF(B160=\"\",\"\",IF(OR(MONTH(C160)=$H$18,MONTH(C160)=$H$19),\"D\",\"\"))","v":""},"","","","","","",{"$f":"IF(B160=\"\",\"\",SUM($J$32:J160))","v":""},"","","","","","","","","","","","",""]
["",{"$f":"IF(A161=\"\",\"\",IF(A161<=$H$22,0,1))","v":""},"","","","","","","","",{"$f":"IF(B161=\"\",\"\",SUM($J$32:J161))","v":""},"",{"$f":"IF(A161=$H$13,U160,IF(B161=\"\",\"\",IF((IF(ISERROR(MATCH(MONTH(C161),$H$18:$H$19,0))=FALSE,$L$24+$S$28,0)+$L$24+$S$28-IF(AND(D161=\"D\",W161=0),$V$26*2,$V$26))-N161<=0,0.01,IF(ISERROR(MATCH(MONTH(C161),$H$18:$H$19,0))=FALSE,$L$24+$S$28,0)+($L$24+$S$28-IF(AND(D161=\"D\",W161=0),$V$26*2,$V$26))-N161)-Z161))","v":""},"","","","","","","","","","",""]
["","","","","","","","","","",{"$f":"IF(B162=\"\",\"\",SUM($J$32:J162))","v":""},"","","","","","","","","","","","",""]
["","","","","","","","","","",{"$f":"IF(B163=\"\",\"\",SUM($J$32:J163))","v":""},"","","","","","","","","","","","",""]
["","","","","","","","","","",{"$f":"IF(B164=\"\",\"\",SUM($J$32:J164))","v":""},"","","","","","","","","","","","",""]
["","","","","","","","","","",{"$f":"IF(B165=\"\",\"\",SUM($J$32:J165))","v":""},"","","","","","","","","","","","",""]
["","","","","","","","","","",{"$f":"IF(B166=\"\",\"\",SUM($J$32:J166))","v":""},"","","","","","","","","","","","",""]
["","","","","","","","","","",{"$f":"IF(B167=\"\",\"\",SUM($J$32:J167))","v":""},"","","","","","","","","","","","",""]
["","","","","","","","","","",{"$f":"IF(B168=\"\",\"\",SUM($J$32:J168))","v":""},"","","","","","","","","","","","",""]
["","","","","","","","","","",{"$f":"IF(B169=\"\",\"\",SUM($J$32:J169))","v":""},"","","","","","","","","","","","",""]
["","","","","","","","","","",{"$f":"IF(B170=\"\",\"\",SUM($J$32:J170))","v":""},"","","","","","","","","","","","",""]
["","","","","","","","","","",{"$f":"IF(B171=\"\",\"\",SUM($J$32:J171))","v":""},"","","","","","","","","","","","",""]
["","","","","","","","","","",{"$f":"IF(B172=\"\",\"\",SUM($J$32:J172))","v":""},"","","","","","","","","","","","",""]
["","","","","","","","","","",{"$f":"IF(B173=\"\",\"\",SUM($J$32:J173))","v":""},"","","","","","","","","","","","",""]
["","","","","","","","","","",{"$f":"IF(B174=\"\",\"\",SUM($J$32:J174))","v":""},"","","","","","","","","","","","",""]
["","","","","","","","","","",{"$f":"IF(B175=\"\",\"\",SUM($J$32:J175))","v":""},"","","","","","","","","","","","",""]
["","","","","","","","","","",{"$f":"IF(B176=\"\",\"\",SUM($J$32:J176))","v":""},"","","","","","","","","","","","",""]
["","","","","","","","","","",{"$f":"IF(B177=\"\",\"\",SUM($J$32:J177))","v":""},"","","","","","","","","","","","",""]
["","","","","","","","","","",{"$f":"IF(B178=\"\",\"\",SUM($J$32:J178))","v":""},"","","","","","","","","","","","",""]
["","","","","","","","","","",{"$f":"IF(B179=\"\",\"\",SUM($J$32:J179))","v":""},"","","","","","","","","","","","",""]
["","","","","","","","","","",{"$f":"IF(B180=\"\",\"\",SUM($J$32:J180))","v":""},"","","","","","","","","","","","",""]
["","","","","","","","","","",{"$f":"IF(B181=\"\",\"\",SUM($J$32:J181))","v":""},"","","","","","","","","","","","",""]
["","","","","","","","","","",{"$f":"IF(B182=\"\",\"\",SUM($J$32:J182))","v":""},"","","","","","","","","","","","",""]
["","","","","","","","","","",{"$f":"IF(B183=\"\",\"\",SUM($J$32:J183))","v":""},"","","","","","","","","","","","",""]
["","","","","","","","","","",{"$f":"IF(B184=\"\",\"\",SUM($J$32:J184))","v":""},"","","","","","","","","","","","",""]
["","","","","","","","","","",{"$f":"IF(B185=\"\",\"\",SUM($J$32:J185))","v":""},"","","","","","","","","","","","",""]
["","","","","","","","","","",{"$f":"IF(B186=\"\",\"\",SUM($J$32:J186))","v":""},"","","","","","","","","","","","",""]
["","","","","","","","","","",{"$f":"IF(B187=\"\",\"\",SUM($J$32:J187))","v":""},"","","","","","","","","","","","",""]
["","","","","","","","","","",{"$f":"IF(B188=\"\",\"\",SUM($J$32:J188))","v":""},"","","","","","","","","","","","",""]
["","","","","","","","","","",{"$f":"IF(B189=\"\",\"\",SUM($J$32:J189))","v":""},"","","","","","","","","","","","",""]
["","","","","","","","","","",{"$f":"IF(B190=\"\",\"\",SUM($J$32:J190))","v":""},"","","","","","","","","","","","",""]
["","","","","","","","","","",{"$f":"IF(B191=\"\",\"\",SUM($J$32:J191))","v":""},"","","","","","","","","","","","",""]
["","","","","","","","","","",{"$f":"IF(B192=\"\",\"\",SUM($J$32:J192))","v":""},"","","","","","","","","","","","",""]
["","","","","","","","","","",{"$f":"IF(B193=\"\",\"\",SUM($J$32:J193))","v":""},"","","","","","","","","","","","",""]
["","","","","","","","","","",{"$f":"IF(B194=\"\",\"\",SUM($J$32:J194))","v":""},"","","","","","","","","","","","",""]
["","","","","","","","","","",{"$f":"IF(B195=\"\",\"\",SUM($J$32:J195))","v":""},"","","","","","","","","","","","",""]
["","","","","","","","","","",{"$f":"IF(B196=\"\",\"\",SUM($J$32:J196))","v":""},"","","","","","","","","","","","",""]
["","","","","","","","","","",{"$f":"IF(B197=\"\",\"\",SUM($J$32:J197))","v":""},"","","","","","","","","","","","",""]
["","","","","","","","","","",{"$f":"IF(B198=\"\",\"\",SUM($J$32:J198))","v":""},"","","","","","","","","","","","",""]
["","","","","","","","","","",{"$f":"IF(B199=\"\",\"\",SUM($J$32:J199))","v":""},"","","","","","","","","","","","",""]
["","","","","","","","","","",{"$f":"IF(B200=\"\",\"\",SUM($J$32:J200))","v":""},"","","","","","","","","","","","",""]
["","","","","","","","","","",{"$f":"IF(B201=\"\",\"\",SUM($J$32:J201))","v":""},"","","","","","","","","","","","",""]
["","","","","","","","","","",{"$f":"IF(B202=\"\",\"\",SUM($J$32:J202))","v":""},"","","","","","","","","","","","",""]
["","","","","","","","","","",{"$f":"IF(B203=\"\",\"\",SUM($J$32:J203))","v":""},"","","","","","","","","","","","",""]
["","","","","","","","","","",{"$f":"IF(B204=\"\",\"\",SUM($J$32:J204))","v":""},"","","","","","","","","","","","",""]
["","","","","","","","","","",{"$f":"IF(B205=\"\",\"\",SUM($J$32:J205))","v":""},"","","","","","","","","","","","",""]
["","","","","","","","","","",{"$f":"IF(B206=\"\",\"\",SUM($J$32:J206))","v":""},"","","","","","","","","","","","",""]
["","","","","","","","","","",{"$f":"IF(B207=\"\",\"\",SUM($J$32:J207))","v":""},"","","","","","","","","","","","",""]
["","","","","","","","","","",{"$f":"IF(B208=\"\",\"\",SUM($J$32:J208))","v":""},"","","","","","","","","","","","",""]
["","","","","","","","","","",{"$f":"IF(B209=\"\",\"\",SUM($J$32:J209))","v":""},"","","","","","","","","","","","",""]
["","","","","","","","","","",{"$f":"IF(B210=\"\",\"\",SUM($J$32:J210))","v":""},"","","","","","","","","","","","",""]
["","","","","","","","","","",{"$f":"IF(B211=\"\",\"\",SUM($J$32:J211))","v":""},"","","","","","","","","","","","",""]
["","","","","","","","","","",{"$f":"IF(B212=\"\",\"\",SUM($J$32:J212))","v":""},"","","","","","","","","","","","",""]
["","","","","","","","","","",{"$f":"IF(B213=\"\",\"\",SUM($J$32:J213))","v":""},"","","","","","","","","","","","",""]
["","","","","","","","","","",{"$f":"IF(B214=\"\",\"\",SUM($J$32:J214))","v":""},"","","","","","","","","","","","",""]
["","","","","","","","","","",{"$f":"IF(B215=\"\",\"\",SUM($J$32:J215))","v":""},"","","","","","","","","","","","",""]
["","","","","","","","","","",{"$f":"IF(B216=\"\",\"\",SUM($J$32:J216))","v":""},"","","","","","","","","","","","",""]
["","","","","","","","","","",{"$f":"IF(B217=\"\",\"\",SUM($J$32:J217))","v":""},"","","","","","","","","","","","",""]
["","","","","","","","","","",{"$f":"IF(B218=\"\",\"\",SUM($J$32:J218))","v":""},"","","","","","","","","","","","",""]
["","","","","","","","","","",{"$f":"IF(B219=\"\",\"\",SUM($J$32:J219))","v":""},"","","","","","","","","","","","",""]
[{"$f":"IF(A219>=$H$13,\"\",A219+1)","v":""},"",{"$f":"IF(B220=\"\",\"\",IF(OR(MONTH(EDATE($S$6,F220))=$H$16,MONTH(EDATE($S$6,F220))=$H$17),IF(ABS($H$17-$H$16)=1,EDATE($S$6,F220+2),EDATE($S$6,F220+1)),EDATE($S$6,F220)))","v":""},"",{"$f":"IF(B220=\"\",\"\",IF(OR(MONTH(DATE(YEAR(C219) + 1/12,MONTH(C219)+1,DAY(C219)))=$H$16,MONTH(DATE(YEAR(C219) + 1/12,MONTH(C219)+1,DAY(C219)))=$H$17),IF(ABS($H$17-$H$16)=1,E219+1,E219 + 2),E219 + 1))","v":""},{"$f":"IF(B220=\"\",\"\",F219+1)","v":""},{"$f":"IF(B220=\"\",\"\",$S$9)","v":""},{"$f":"IF(B220=\"\",\"\",$H$8)","v":""},{"$f":"IF(B220=\"\",\"\",C220-C219)","v":""},{"$f":"IF(B220=\"\",\"\",(I220)/30)","v":""},{"$f":"IF(B220=\"\",\"\",SUM($J$32:J220))","v":""},{"$f":"IF(B220=\"\",\"\",U219)","v":""},"",{"$f":"IF(B220=\"\",\"\",IF($L$24+$S$28 + $U$26<ROUND(ROUND(L220*(((1+(H220/100))^(I220/G220))-1),4),2),$L$24+$S$28 + $U$26-0.01,IF(ROUND(ROUND(L220*(((1+(H220/100))^(I220/G220))-1),4),2)+ $U$26>$L$24,$L$24+ $U$26+-0.01,ROUND(ROUND(L220*(((1+(H220/100))^(I220/G220))-1),4),2)+$U$26)))","v":""},{"$f":"IF(B220=\"\",\"\",IF(ISERROR(MATCH(MONTH(C220),$H$18:$H$19,0))=FALSE,$L$23,0)  +$L$23)","v":""},{"$f":"IF(B220=\"\",\"\",N220+O220)","v":""},{"$f":"IF(B220=\"\",\"\",M220+N220 + O220+AA220+IF(A220=$H$13,U220,0))","v":""},{"$f":"IF(B220=\"\",\"\",$L$26)","v":""},{"$f":"IF(B220=\"\",\"\",$L$25+Z220)","v":""},{"$f":"IF(B220=\"\",\"\",Q220+R220+S220)","v":""},{"$f":"IF(B220=\"\",\"\",ROUND(L220-M220,2))","v":""},{"$f":"IF(B220=\"\",\"\",IF(ROUND(ROUND(L220*(((1+(H220/100))^(I220/G220))-1),4),2) - $L$24<0,0,ROUND(ROUND(L220*(((1+(H220/100))^(I220/G220))-1),4),2) - $L$24))","v":""},{"$f":"IF(B220=\"\",\"\",(1+H220/100)^(1/12)-1)","v":""},{"$f":"IF(B220=\"\",\"\",Q220/((1+W220)^K220))","v":""}]
["","","","","","","","","","",{"$f":"IF(B221=\"\",\"\",SUM($J$32:J221))","v":""},"","","","","","","","","","","","",""]
["","","","","","","","","","",{"$f":"IF(B222=\"\",\"\",SUM($J$32:J222))","v":""},"","","","","","","","","","","","",""]
["","","","","","","","","","",{"$f":"IF(B223=\"\",\"\",SUM($J$32:J223))","v":""},"","","","","","","","","","","","",""]
["","","",{"$f":"IF(B224=\"\",\"\",IF(OR(MONTH(C224)=$H$18,MONTH(C224)=$H$19),\"D\",\"\"))","v":""},"","","","","","",{"$f":"IF(B224=\"\",\"\",SUM($J$32:J224))","v":""},"","","","","","","","","","","","",""]
["",{"$f":"IF(A225=\"\",\"\",IF(A225<=$H$22,0,1))","v":""},"","","","","","","","",{"$f":"IF(B225=\"\",\"\",SUM($J$32:J225))","v":""},"",{"$f":"IF(A225=$H$13,U224,IF(B225=\"\",\"\",IF((IF(ISERROR(MATCH(MONTH(C225),$H$18:$H$19,0))=FALSE,$L$24+$S$28,0)+$L$24+$S$28-IF(AND(D225=\"D\",W225=0),$V$26*2,$V$26))-N225<=0,0.01,IF(ISERROR(MATCH(MONTH(C225),$H$18:$H$19,0))=FALSE,$L$24+$S$28,0)+($L$24+$S$28-IF(AND(D225=\"D\",W225=0),$V$26*2,$V$26))-N225)-Z225))","v":""},"","","","","","","","","","",""]
["","","","","","","","","","",{"$f":"IF(B226=\"\",\"\",SUM($J$32:J226))","v":""},"","","","","","","","","","","","",""]
["","","","","","","","","","",{"$f":"IF(B227=\"\",\"\",SUM($J$32:J227))","v":""},"","","","","","","","","","","","",""]
["","","","","","","","","","",{"$f":"IF(B228=\"\",\"\",SUM($J$32:J228))","v":""},"","","","","","","","","","","","",""]
["","","","","","","","","","",{"$f":"IF(B229=\"\",\"\",SUM($J$32:J229))","v":""},"","","","","","","","","","","","",""]
["","","","","","","","","","",{"$f":"IF(B230=\"\",\"\",SUM($J$32:J230))","v":""},"","","","","","","","","","","","",""]
["","","","","","","","","","",{"$f":"IF(B231=\"\",\"\",SUM($J$32:J231))","v":""},"","","","","","","","","","","","",""]
["","","","","","","","","","",{"$f":"IF(B232=\"\",\"\",SUM($J$32:J232))","v":""},"","","","","","","","","","","","",""]
["","","","","","","","","","",{"$f":"IF(B233=\"\",\"\",SUM($J$32:J233))","v":""},"","","","","","","","","","","","",""]
["","","","","","","","","","",{"$f":"IF(B234=\"\",\"\",SUM($J$32:J234))","v":""},"","","","","","","","","","","","",""]
["","","","","","","","","","",{"$f":"IF(B235=\"\",\"\",SUM($J$32:J235))","v":""},"","","","","","","","","","","","",""]
["","","","","","","","","","",{"$f":"IF(B236=\"\",\"\",SUM($J$32:J236))","v":""},"","","","","","","","","","","","",""]
["","","","","","","","","","",{"$f":"IF(B237=\"\",\"\",SUM($J$32:J237))","v":""},"","","","","","","","","","","","",""]
["","","","","","","","","","",{"$f":"IF(B238=\"\",\"\",SUM($J$32:J238))","v":""},"","","","","","","","","","","","",""]
["","","","","","","","","","",{"$f":"IF(B239=\"\",\"\",SUM($J$32:J239))","v":""},"","","","","","","","","","","","",""]
["","","","","","","","","","",{"$f":"IF(B240=\"\",\"\",SUM($J$32:J240))","v":""},"","","","","","","","","","","","",""]
["","","","","","","","","","",{"$f":"IF(B241=\"\",\"\",SUM($J$32:J241))","v":""},"","","","","","","","","","","","",""]
["","","","","","","","","","",{"$f":"IF(B242=\"\",\"\",SUM($J$32:J242))","v":""},"","","","","","","","","","","","",""]
["","","","","","","","","","",{"$f":"IF(B243=\"\",\"\",SUM($J$32:J243))","v":""},"","","","","","","","","","","","",""]
["","","","","","","","","","",{"$f":"IF(B244=\"\",\"\",SUM($J$32:J244))","v":""},"","","","","","","","","","","","",""]
["","","","","","","","","","",{"$f":"IF(B245=\"\",\"\",SUM($J$32:J245))","v":""},"","","","","","","","","","","","",""]
["","","","","","","","","","",{"$f":"IF(B246=\"\",\"\",SUM($J$32:J246))","v":""},"","","","","","","","","","","","",""]
["","","","","","","","","","",{"$f":"IF(B247=\"\",\"\",SUM($J$32:J247))","v":""},"","","","","","","","","","","","",""]
["","","","","","","","","","",{"$f":"IF(B248=\"\",\"\",SUM($J$32:J248))","v":""},"","","","","","","","","","","","",""]
["","","","","","","","","","",{"$f":"IF(B249=\"\",\"\",SUM($J$32:J249))","v":""},"","","","","","","","","","","","",""]
["","","","","","","","","","",{"$f":"IF(B250=\"\",\"\",SUM($J$32:J250))","v":""},"","","","","","","","","","","","",""]
["","","","","","","","","","",{"$f":"IF(B251=\"\",\"\",SUM($J$32:J251))","v":""},"","","","","","","","","","","","",""]
["","","","","","","","","","",{"$f":"IF(B252=\"\",\"\",SUM($J$32:J252))","v":""},"","","","","","","","","","","","",""]
["","","","","","","","","","",{"$f":"IF(B253=\"\",\"\",SUM($J$32:J253))","v":""},"","","","","","","","","","","","",""]
["","","","","","","","","","",{"$f":"IF(B254=\"\",\"\",SUM($J$32:J254))","v":""},"","","","","","","","","","","","",""]
["","","","","","","","","","",{"$f":"IF(B255=\"\",\"\",SUM($J$32:J255))","v":""},"","","","","","","","","","","","",""]
["","","","","","","","","","",{"$f":"IF(B256=\"\",\"\",SUM($J$32:J256))","v":""},"","","","","","","","","","","","",""]
["","","","","","","","","","",{"$f":"IF(B257=\"\",\"\",SUM($J$32:J257))","v":""},"","","","","","","","","","","","",""]
["","","","","","","","","","",{"$f":"IF(B258=\"\",\"\",SUM($J$32:J258))","v":""},"","","","","","","","","","","","",""]
["","","","","","","","","","",{"$f":"IF(B259=\"\",\"\",SUM($J$32:J259))","v":""},"","","","","","","","","","","","",""]
["","","","","","","","","","",{"$f":"IF(B260=\"\",\"\",SUM($J$32:J260))","v":""},"","","","","","","","","","","","",""]
["","","","","","","","","","",{"$f":"IF(B261=\"\",\"\",SUM($J$32:J261))","v":""},"","","","","","","","","","","","",""]
["","","","","","","","","","",{"$f":"IF(B262=\"\",\"\",SUM($J$32:J262))","v":""},"","","","","","","","","","","","",""]
["","","","","","","","","","",{"$f":"IF(B263=\"\",\"\",SUM($J$32:J263))","v":""},"","","","","","","","","","","","",""]
["","","","","","","","","","",{"$f":"IF(B264=\"\",\"\",SUM($J$32:J264))","v":""},"","","","","","","","","","","","",""]
["","","","","","","","","","",{"$f":"IF(B265=\"\",\"\",SUM($J$32:J265))","v":""},"","","","","","","","","","","","",""]
["","","","","","","","","","",{"$f":"IF(B266=\"\",\"\",SUM($J$32:J266))","v":""},"","","","","","","","","","","","",""]
["","","","","","","","","","",{"$f":"IF(B267=\"\",\"\",SUM($J$32:J267))","v":""},"","","","","","","","","","","","",""]
["","","","","","","","","","",{"$f":"IF(B268=\"\",\"\",SUM($J$32:J268))","v":""},"","","","","","","","","","","","",""]
["","","","","","","","","","",{"$f":"IF(B269=\"\",\"\",SUM($J$32:J269))","v":""},"","","","","","","","","","","","",""]
["","","","","","","","","","",{"$f":"IF(B270=\"\",\"\",SUM($J$32:J270))","v":""},"","","","","","","","","","","","",""]
["","","","","","","","","","",{"$f":"IF(B271=\"\",\"\",SUM($J$32:J271))","v":""},"","","","","","","","","","","","",""]
["","","","","","","","","","",{"$f":"IF(B272=\"\",\"\",SUM($J$32:J272))","v":""},"","","","","","","","","","","","",""]
["","","","","","","","","","",{"$f":"IF(B273=\"\",\"\",SUM($J$32:J273))","v":""},"","","","","","","","","","","","",""]
["","","","","","","","","","",{"$f":"IF(B274=\"\",\"\",SUM($J$32:J274))","v":""},"","","","","","","","","","","","",""]
["","","","","","","","","","",{"$f":"IF(B275=\"\",\"\",SUM($J$32:J275))","v":""},"","","","","","","","","","","","",""]
["","","","","","","","","","",{"$f":"IF(B276=\"\",\"\",SUM($J$32:J276))","v":""},"","","","","","","","","","","","",""]
["","","","","","","","","","",{"$f":"IF(B277=\"\",\"\",SUM($J$32:J277))","v":""},"","","","","","","","","","","","",""]
["","","","","","","","","","",{"$f":"IF(B278=\"\",\"\",SUM($J$32:J278))","v":""},"","","","","","","","","","","","",""]
["","","","","","","","","","",{"$f":"IF(B279=\"\",\"\",SUM($J$32:J279))","v":""},"","","","","","","","","","","","",""]
["","","","","","","","","","",{"$f":"IF(B280=\"\",\"\",SUM($J$32:J280))","v":""},"","","","","","","","","","","","",""]
["","","","","","","","","","",{"$f":"IF(B281=\"\",\"\",SUM($J$32:J281))","v":""},"","","","","","","","","","","","",""]
["","","","","","","","","","",{"$f":"IF(B282=\"\",\"\",SUM($J$32:J282))","v":""},"","","","","","","","","","","","",""]
["","","","","","","","","","",{"$f":"IF(B283=\"\",\"\",SUM($J$32:J283))","v":""},"","","","","","","","","","","","",""]
[{"$f":"IF(A283>=$H$13,\"\",A283+1)","v":""},"",{"$f":"IF(B284=\"\",\"\",IF(OR(MONTH(EDATE($S$6,F284))=$H$16,MONTH(EDATE($S$6,F284))=$H$17),IF(ABS($H$17-$H$16)=1,EDATE($S$6,F284+2),EDATE($S$6,F284+1)),EDATE($S$6,F284)))","v":""},"",{"$f":"IF(B284=\"\",\"\",IF(OR(MONTH(DATE(YEAR(C283) + 1/12,MONTH(C283)+1,DAY(C283)))=$H$16,MONTH(DATE(YEAR(C283) + 1/12,MONTH(C283)+1,DAY(C283)))=$H$17),IF(ABS($H$17-$H$16)=1,E283+1,E283 + 2),E283 + 1))","v":""},{"$f":"IF(B284=\"\",\"\",F283+1)","v":""},{"$f":"IF(B284=\"\",\"\",$S$9)","v":""},{"$f":"IF(B284=\"\",\"\",$H$8)","v":""},{"$f":"IF(B284=\"\",\"\",C284-C283)","v":""},{"$f":"IF(B284=\"\",\"\",(I284)/30)","v":""},{"$f":"IF(B284=\"\",\"\",SUM($J$32:J284))","v":""},{"$f":"IF(B284=\"\",\"\",U283)","v":""},"",{"$f":"IF(B284=\"\",\"\",IF($L$24+$S$28 + $U$26<ROUND(ROUND(L284*(((1+(H284/100))^(I284/G284))-1),4),2),$L$24+$S$28 + $U$26-0.01,IF(ROUND(ROUND(L284*(((1+(H284/100))^(I284/G284))-1),4),2)+ $U$26>$L$24,$L$24+ $U$26+-0.01,ROUND(ROUND(L284*(((1+(H284/100))^(I284/G284))-1),4),2)+$U$26)))","v":""},{"$f":"IF(B284=\"\",\"\",IF(ISERROR(MATCH(MONTH(C284),$H$18:$H$19,0))=FALSE,$L$23,0)  +$L$23)","v":""},{"$f":"IF(B284=\"\",\"\",N284+O284)","v":""},{"$f":"IF(B284=\"\",\"\",M284+N284 + O284+AA284+IF(A284=$H$13,U284,0))","v":""},{"$f":"IF(B284=\"\",\"\",$L$26)","v":""},{"$f":"IF(B284=\"\",\"\",$L$25+Z284)","v":""},{"$f":"IF(B284=\"\",\"\",Q284+R284+S284)","v":""},{"$f":"IF(B284=\"\",\"\",ROUND(L284-M284,2))","v":""},{"$f":"IF(B284=\"\",\"\",IF(ROUND(ROUND(L284*(((1+(H284/100))^(I284/G284))-1),4),2) - $L$24<0,0,ROUND(ROUND(L284*(((1+(H284/100))^(I284/G284))-1),4),2) - $L$24))","v":""},{"$f":"IF(B284=\"\",\"\",(1+H284/100)^(1/12)-1)","v":""},{"$f":"IF(B284=\"\",\"\",Q284/((1+W284)^K284))","v":""}]
["","","","","","","","","","",{"$f":"IF(B285=\"\",\"\",SUM($J$32:J285))","v":""},"","","","","","","","","","","","",""]
["","","","","","","","","","",{"$f":"IF(B286=\"\",\"\",SUM($J$32:J286))","v":""},"","","","","","","","","","","","",""]
["","","","","","","","","","",{"$f":"IF(B287=\"\",\"\",SUM($J$32:J287))","v":""},"","","","","","","","","","","","",""]
["","","",{"$f":"IF(B288=\"\",\"\",IF(OR(MONTH(C288)=$H$18,MONTH(C288)=$H$19),\"D\",\"\"))","v":""},"","","","","","",{"$f":"IF(B288=\"\",\"\",SUM($J$32:J288))","v":""},"","","","","","","","","","","","",""]
["",{"$f":"IF(A289=\"\",\"\",IF(A289<=$H$22,0,1))","v":""},"","","","","","","","",{"$f":"IF(B289=\"\",\"\",SUM($J$32:J289))","v":""},"",{"$f":"IF(A289=$H$13,U288,IF(B289=\"\",\"\",IF((IF(ISERROR(MATCH(MONTH(C289),$H$18:$H$19,0))=FALSE,$L$24+$S$28,0)+$L$24+$S$28-IF(AND(D289=\"D\",W289=0),$V$26*2,$V$26))-N289<=0,0.01,IF(ISERROR(MATCH(MONTH(C289),$H$18:$H$19,0))=FALSE,$L$24+$S$28,0)+($L$24+$S$28-IF(AND(D289=\"D\",W289=0),$V$26*2,$V$26))-N289)-Z289))","v":""},"","","","","","","","","","",""]
["","","","","","","","","","",{"$f":"IF(B290=\"\",\"\",SUM($J$32:J290))","v":""},"","","","","","","","","","","","",""]
["","","","","","","","","","",{"$f":"IF(B291=\"\",\"\",SUM($J$32:J291))","v":""},"","","","","","","","","","","","",""]
["","","","","","","","","","",{"$f":"IF(B292=\"\",\"\",SUM($J$32:J292))","v":""},"","","","","","","","","","","","",""]
["","","","","","","","","","",{"$f":"IF(B293=\"\",\"\",SUM($J$32:J293))","v":""},"","","","","","","","","","","","",""]
["","","","","","","","","","",{"$f":"IF(B294=\"\",\"\",SUM($J$32:J294))","v":""},"","","","","","","","","","","","",""]
["","","","","","","","","","",{"$f":"IF(B295=\"\",\"\",SUM($J$32:J295))","v":""},"","","","","","","","","","","","",""]
["","","","","","","","","","",{"$f":"IF(B296=\"\",\"\",SUM($J$32:J296))","v":""},"","","","","","","","","","","","",""]
["","","","","","","","","","",{"$f":"IF(B297=\"\",\"\",SUM($J$32:J297))","v":""},"","","","","","","","","","","","",""]
["","","","","","","","","","",{"$f":"IF(B298=\"\",\"\",SUM($J$32:J298))","v":""},"","","","","","","","","","","","",""]
["","","","","","","","","","",{"$f":"IF(B299=\"\",\"\",SUM($J$32:J299))","v":""},"","","","","","","","","","","","",""]
["","","","","","","","","","",{"$f":"IF(B300=\"\",\"\",SUM($J$32:J300))","v":""},"","","","","","","","","","","","",""]
["","","","","","","","","","",{"$f":"IF(B301=\"\",\"\",SUM($J$32:J301))","v":""},"","","","","","","","","","","","",""]
["","","","","","","","","","",{"$f":"IF(B302=\"\",\"\",SUM($J$32:J302))","v":""},"","","","","","","","","","","","",""]
["","","","","","","","","","",{"$f":"IF(B303=\"\",\"\",SUM($J$32:J303))","v":""},"","","","","","","","","","","","",""]
["","","","","","","","","","",{"$f":"IF(B304=\"\",\"\",SUM($J$32:J304))","v":""},"","","","","","","","","","","","",""]
["","","","","","","","","","",{"$f":"IF(B305=\"\",\"\",SUM($J$32:J305))","v":""},"","","","","","","","","","","","",""]
["","","","","","","","","","",{"$f":"IF(B306=\"\",\"\",SUM($J$32:J306))","v":""},"","","","","","","","","","","","",""]
["","","","","","","","","","",{"$f":"IF(B307=\"\",\"\",SUM($J$32:J307))","v":""},"","","","","","","","","","","","",""]
["","","","","","","","","","",{"$f":"IF(B308=\"\",\"\",SUM($J$32:J308))","v":""},"","","","","","","","","","","","",""]
["","","","","","","","","","",{"$f":"IF(B309=\"\",\"\",SUM($J$32:J309))","v":""},"","","","","","","","","","","","",""]
["","","","","","","","","","",{"$f":"IF(B310=\"\",\"\",SUM($J$32:J310))","v":""},"","","","","","","","","","","","",""]
["","","","","","","","","","",{"$f":"IF(B311=\"\",\"\",SUM($J$32:J311))","v":""},"","","","","","","","","","","","",""]
["","","","","","","","","","",{"$f":"IF(B312=\"\",\"\",SUM($J$32:J312))","v":""},"","","","","","","","","","","","",""]
["","","","","","","","","","",{"$f":"IF(B313=\"\",\"\",SUM($J$32:J313))","v":""},"","","","","","","","","","","","",""]
["","","","","","","","","","",{"$f":"IF(B314=\"\",\"\",SUM($J$32:J314))","v":""},"","","","","","","","","","","","",""]
["","","","","","","","","","",{"$f":"IF(B315=\"\",\"\",SUM($J$32:J315))","v":""},"","","","","","","","","","","","",""]
["","","","","","","","","","",{"$f":"IF(B316=\"\",\"\",SUM($J$32:J316))","v":""},"","","","","","","","","","","","",""]
["","","","","","","","","","",{"$f":"IF(B317=\"\",\"\",SUM($J$32:J317))","v":""},"","","","","","","","","","","","",""]
["","","","","","","","","","",{"$f":"IF(B318=\"\",\"\",SUM($J$32:J318))","v":""},"","","","","","","","","","","","",""]
["","","","","","","","","","",{"$f":"IF(B319=\"\",\"\",SUM($J$32:J319))","v":""},"","","","","","","","","","","","",""]
["","","","","","","","","","",{"$f":"IF(B320=\"\",\"\",SUM($J$32:J320))","v":""},"","","","","","","","","","","","",""]
["","","","","","","","","","",{"$f":"IF(B321=\"\",\"\",SUM($J$32:J321))","v":""},"","","","","","","","","","","","",""]
["","","","","","","","","","",{"$f":"IF(B322=\"\",\"\",SUM($J$32:J322))","v":""},"","","","","","","","","","","","",""]
["","","","","","","","","","",{"$f":"IF(B323=\"\",\"\",SUM($J$32:J323))","v":""},"","","","","","","","","","","","",""]
["","","","","","","","","","",{"$f":"IF(B324=\"\",\"\",SUM($J$32:J324))","v":""},"","","","","","","","","","","","",""]
["","","","","","","","","","",{"$f":"IF(B325=\"\",\"\",SUM($J$32:J325))","v":""},"","","","","","","","","","","","",""]
["","","","","","","","","","",{"$f":"IF(B326=\"\",\"\",SUM($J$32:J326))","v":""},"","","","","","","","","","","","",""]
["","","","","","","","","","",{"$f":"IF(B327=\"\",\"\",SUM($J$32:J327))","v":""},"","","","","","","","","","","","",""]
["","","","","","","","","","",{"$f":"IF(B328=\"\",\"\",SUM($J$32:J328))","v":""},"","","","","","","","","","","","",""]
["","","","","","","","","","",{"$f":"IF(B329=\"\",\"\",SUM($J$32:J329))","v":""},"","","","","","","","","","","","",""]
["","","","","","","","","","",{"$f":"IF(B330=\"\",\"\",SUM($J$32:J330))","v":""},"","","","","","","","","","","","",""]
["","","","","","","","","","",{"$f":"IF(B331=\"\",\"\",SUM($J$32:J331))","v":""},"","","","","","","","","","","","",""]
["","","","","","","","","","",{"$f":"IF(B332=\"\",\"\",SUM($J$32:J332))","v":""},"","","","","","","","","","","","",""]
["","","","","","","","","","",{"$f":"IF(B333=\"\",\"\",SUM($J$32:J333))","v":""},"","","","","","","","","","","","",""]
["","","","","","","","","","",{"$f":"IF(B334=\"\",\"\",SUM($J$32:J334))","v":""},"","","","","","","","","","","","",""]
["","","","","","","","","","",{"$f":"IF(B335=\"\",\"\",SUM($J$32:J335))","v":""},"","","","","","","","","","","","",""]
["","","","","","","","","","",{"$f":"IF(B336=\"\",\"\",SUM($J$32:J336))","v":""},"","","","","","","","","","","","",""]
["","","","","","","","","","",{"$f":"IF(B337=\"\",\"\",SUM($J$32:J337))","v":""},"","","","","","","","","","","","",""]
["","","","","","","","","","",{"$f":"IF(B338=\"\",\"\",SUM($J$32:J338))","v":""},"","","","","","","","","","","","",""]
["","","","","","","","","","",{"$f":"IF(B339=\"\",\"\",SUM($J$32:J339))","v":""},"","","","","","","","","","","","",""]
["","","","","","","","","","",{"$f":"IF(B340=\"\",\"\",SUM($J$32:J340))","v":""},"","","","","","","","","","","","",""]
["","","","","","","","","","",{"$f":"IF(B341=\"\",\"\",SUM($J$32:J341))","v":""},"","","","","","","","","","","","",""]
["","","","","","","","","","",{"$f":"IF(B342=\"\",\"\",SUM($J$32:J342))","v":""},"","","","","","","","","","","","",""]
["","","","","","","","","","",{"$f":"IF(B343=\"\",\"\",SUM($J$32:J343))","v":""},"","","","","","","","","","","","",""]
["","","","","","","","","","",{"$f":"IF(B344=\"\",\"\",SUM($J$32:J344))","v":""},"","","","","","","","","","","","",""]
["","","","","","","","","","",{"$f":"IF(B345=\"\",\"\",SUM($J$32:J345))","v":""},"","","","","","","","","","","","",""]
["","","","","","","","","","",{"$f":"IF(B346=\"\",\"\",SUM($J$32:J346))","v":""},"","","","","","","","","","","","",""]
["","","","","","","","","","",{"$f":"IF(B347=\"\",\"\",SUM($J$32:J347))","v":""},"","","","","","","","","","","","",""]
[{"$f":"IF(A347>=$H$13,\"\",A347+1)","v":""},"",{"$f":"IF(B348=\"\",\"\",IF(OR(MONTH(EDATE($S$6,F348))=$H$16,MONTH(EDATE($S$6,F348))=$H$17),IF(ABS($H$17-$H$16)=1,EDATE($S$6,F348+2),EDATE($S$6,F348+1)),EDATE($S$6,F348)))","v":""},"",{"$f":"IF(B348=\"\",\"\",IF(OR(MONTH(DATE(YEAR(C347) + 1/12,MONTH(C347)+1,DAY(C347)))=$H$16,MONTH(DATE(YEAR(C347) + 1/12,MONTH(C347)+1,DAY(C347)))=$H$17),IF(ABS($H$17-$H$16)=1,E347+1,E347 + 2),E347 + 1))","v":""},{"$f":"IF(B348=\"\",\"\",F347+1)","v":""},{"$f":"IF(B348=\"\",\"\",$S$9)","v":""},{"$f":"IF(B348=\"\",\"\",$H$8)","v":""},{"$f":"IF(B348=\"\",\"\",C348-C347)","v":""},{"$f":"IF(B348=\"\",\"\",(I348)/30)","v":""},{"$f":"IF(B348=\"\",\"\",SUM($J$32:J348))","v":""},{"$f":"IF(B348=\"\",\"\",U347)","v":""},"",{"$f":"IF(B348=\"\",\"\",IF($L$24+$S$28 + $U$26<ROUND(ROUND(L348*(((1+(H348/100))^(I348/G348))-1),4),2),$L$24+$S$28 + $U$26-0.01,IF(ROUND(ROUND(L348*(((1+(H348/100))^(I348/G348))-1),4),2)+ $U$26>$L$24,$L$24+ $U$26+-0.01,ROUND(ROUND(L348*(((1+(H348/100))^(I348/G348))-1),4),2)+$U$26)))","v":""},{"$f":"IF(B348=\"\",\"\",IF(ISERROR(MATCH(MONTH(C348),$H$18:$H$19,0))=FALSE,$L$23,0)  +$L$23)","v":""},{"$f":"IF(B348=\"\",\"\",N348+O348)","v":""},{"$f":"IF(B348=\"\",\"\",M348+N348 + O348+AA348+IF(A348=$H$13,U348,0))","v":""},{"$f":"IF(B348=\"\",\"\",$L$26)","v":""},{"$f":"IF(B348=\"\",\"\",$L$25+Z348)","v":""},{"$f":"IF(B348=\"\",\"\",Q348+R348+S348)","v":""},{"$f":"IF(B348=\"\",\"\",ROUND(L348-M348,2))","v":""},{"$f":"IF(B348=\"\",\"\",IF(ROUND(ROUND(L348*(((1+(H348/100))^(I348/G348))-1),4),2) - $L$24<0,0,ROUND(ROUND(L348*(((1+(H348/100))^(I348/G348))-1),4),2) - $L$24))","v":""},{"$f":"IF(B348=\"\",\"\",(1+H348/100)^(1/12)-1)","v":""},{"$f":"IF(B348=\"\",\"\",Q348/((1+W348)^K348))","v":""}]
["","","","","","","","","","",{"$f":"IF(B349=\"\",\"\",SUM($J$32:J349))","v":""},"","","","","","","","","","","","",""]
["","","","","","","","","","",{"$f":"IF(B350=\"\",\"\",SUM($J$32:J350))","v":""},"","","","","","","","","","","","",""]
["","","","","","","","","","",{"$f":"IF(B351=\"\",\"\",SUM($J$32:J351))","v":""},"","","","","","","","","","","","",""]
["","","",{"$f":"IF(B352=\"\",\"\",IF(OR(MONTH(C352)=$H$18,MONTH(C352)=$H$19),\"D\",\"\"))","v":""},"","","","","","",{"$f":"IF(B352=\"\",\"\",SUM($J$32:J352))","v":""},"","","","","","","","","","","","",""]
["",{"$f":"IF(A353=\"\",\"\",IF(A353<=$H$22,0,1))","v":""},"","","","","","","","",{"$f":"IF(B353=\"\",\"\",SUM($J$32:J353))","v":""},"",{"$f":"IF(A353=$H$13,U352,IF(B353=\"\",\"\",IF((IF(ISERROR(MATCH(MONTH(C353),$H$18:$H$19,0))=FALSE,$L$24+$S$28,0)+$L$24+$S$28-IF(AND(D353=\"D\",W353=0),$V$26*2,$V$26))-N353<=0,0.01,IF(ISERROR(MATCH(MONTH(C353),$H$18:$H$19,0))=FALSE,$L$24+$S$28,0)+($L$24+$S$28-IF(AND(D353=\"D\",W353=0),$V$26*2,$V$26))-N353)-Z353))","v":""},"","","","","","","","","","",""]
["","","","","","","","","","",{"$f":"IF(B354=\"\",\"\",SUM($J$32:J354))","v":""},"","","","","","","","","","","","",""]
["","","","","","","","","","",{"$f":"IF(B355=\"\",\"\",SUM($J$32:J355))","v":""},"","","","","","","","","","","","",""]
["","","","","","","","","","",{"$f":"IF(B356=\"\",\"\",SUM($J$32:J356))","v":""},"","","","","","","","","","","","",""]
["","","","","","","","","","",{"$f":"IF(B357=\"\",\"\",SUM($J$32:J357))","v":""},"","","","","","","","","","","","",""]
["","","","","","","","","","",{"$f":"IF(B358=\"\",\"\",SUM($J$32:J358))","v":""},"","","","","","","","","","","","",""]
["","","","","","","","","","",{"$f":"IF(B359=\"\",\"\",SUM($J$32:J359))","v":""},"","","","","","","","","","","","",""]
["","","","","","","","","","",{"$f":"IF(B360=\"\",\"\",SUM($J$32:J360))","v":""},"","","","","","","","","","","","",""]
["","","","","","","","","","",{"$f":"IF(B361=\"\",\"\",SUM($J$32:J361))","v":""},"","","","","","","","","","","","",""]
["","","","","","","","","","",{"$f":"IF(B362=\"\",\"\",SUM($J$32:J362))","v":""},"","","","","","","","","","","","",""]
["","","","","","","","","","",{"$f":"IF(B363=\"\",\"\",SUM($J$32:J363))","v":""},"","","","","","","","","","","","",""]
["","","","","","","","","","",{"$f":"IF(B364=\"\",\"\",SUM($J$32:J364))","v":""},"","","","","","","","","","","","",""]
["","","","","","","","","","",{"$f":"IF(B365=\"\",\"\",SUM($J$32:J365))","v":""},"","","","","","","","","","","","",""]
["","","","","","","","","","",{"$f":"IF(B366=\"\",\"\",SUM($J$32:J366))","v":""},"","","","","","","","","","","","",""]
["","","","","","","","","","",{"$f":"IF(B367=\"\",\"\",SUM($J$32:J367))","v":""},"","","","","","","","","","","","",""]
["","","","","","","","","","",{"$f":"IF(B368=\"\",\"\",SUM($J$32:J368))","v":""},"","","","","","","","","","","","",""]
["","","","","","","","","","",{"$f":"IF(B369=\"\",\"\",SUM($J$32:J369))","v":""},"","","","","","","","","","","","",""]
["","","","","","","","","","",{"$f":"IF(B370=\"\",\"\",SUM($J$32:J370))","v":""},"","","","","","","","","","","","",""]
["","","","","","","","","","",{"$f":"IF(B371=\"\",\"\",SUM($J$32:J371))","v":""},"","","","","","","","","","","","",""]
["","","","","","","","","","",{"$f":"IF(B372=\"\",\"\",SUM($J$32:J372))","v":""},"","","","","","","","","","","","",""]
["","","","","","","","","","",{"$f":"IF(B373=\"\",\"\",SUM($J$32:J373))","v":""},"","","","","","","","","","","","",""]
["","","","","","","","","","",{"$f":"IF(B374=\"\",\"\",SUM($J$32:J374))","v":""},"","","","","","","","","","","","",""]
["","","","","","","","","","",{"$f":"IF(B375=\"\",\"\",SUM($J$32:J375))","v":""},"","","","","","","","","","","","",""]
["","","","","","","","","","",{"$f":"IF(B376=\"\",\"\",SUM($J$32:J376))","v":""},"","","","","","","","","","","","",""]
["","","","","","","","","","",{"$f":"IF(B377=\"\",\"\",SUM($J$32:J377))","v":""},"","","","","","","","","","","","",""]
["","","","","","","","","","",{"$f":"IF(B378=\"\",\"\",SUM($J$32:J378))","v":""},"","","","","","","","","","","","",""]
["","","","","","","","","","",{"$f":"IF(B379=\"\",\"\",SUM($J$32:J379))","v":""},"","","","","","","","","","","","",""]
["","","","","","","","","","",{"$f":"IF(B380=\"\",\"\",SUM($J$32:J380))","v":""},"","","","","","","","","","","","",""]
["","","","","","","","","","",{"$f":"IF(B381=\"\",\"\",SUM($J$32:J381))","v":""},"","","","","","","","","","","","",""]
["","","","","","","","","","",{"$f":"IF(B382=\"\",\"\",SUM($J$32:J382))","v":""},"","","","","","","","","","","","",""]
["","","","","","","","","","",{"$f":"IF(B383=\"\",\"\",SUM($J$32:J383))","v":""},"","","","","","","","","","","","",""]
["","","","","","","","","","",{"$f":"IF(B384=\"\",\"\",SUM($J$32:J384))","v":""},"","","","","","","","","","","","",""]
["","","","","","","","","","",{"$f":"IF(B385=\"\",\"\",SUM($J$32:J385))","v":""},"","","","","","","","","","","","",""]
["","","","","","","","","","",{"$f":"IF(B386=\"\",\"\",SUM($J$32:J386))","v":""},"","","","","","","","","","","","",""]
["","","","","","","","","","",{"$f":"IF(B387=\"\",\"\",SUM($J$32:J387))","v":""},"","","","","","","","","","","","",""]
["","","","","","","","","","",{"$f":"IF(B388=\"\",\"\",SUM($J$32:J388))","v":""},"","","","","","","","","","","","",""]
["","","","","","","","","","",{"$f":"IF(B389=\"\",\"\",SUM($J$32:J389))","v":""},"","","","","","","","","","","","",""]
["","","","","","","","","","",{"$f":"IF(B390=\"\",\"\",SUM($J$32:J390))","v":""},"","","","","","","","","","","","",""]
["","","","","","","","","","",{"$f":"IF(B391=\"\",\"\",SUM($J$32:J391))","v":""},"","","","","","","","","","","","",""]
["","","","","","","","","","",{"$f":"IF(B392=\"\",\"\",SUM($J$32:J392))","v":""},"","","","","","","","","","","","",""]
["","","","","","","","","","",{"$f":"IF(B393=\"\",\"\",SUM($J$32:J393))","v":""},"","","","","","","","","","","","",""]
["","","","","","","","","","",{"$f":"IF(B394=\"\",\"\",SUM($J$32:J394))","v":""},"","","","","","","","","","","","",""]
["","","","","","","","","","",{"$f":"IF(B395=\"\",\"\",SUM($J$32:J395))","v":""},"","","","","","","","","","","","",""]
["","","","","","","","","","",{"$f":"IF(B396=\"\",\"\",SUM($J$32:J396))","v":""},"","","","","","","","","","","","",""]
["","","","","","","","","","",{"$f":"IF(B397=\"\",\"\",SUM($J$32:J397))","v":""},"","","","","","","","","","","","",""]
["","","","","","","","","","",{"$f":"IF(B398=\"\",\"\",SUM($J$32:J398))","v":""},"","","","","","","","","","","","",""]
["","","","","","","","","","",{"$f":"IF(B399=\"\",\"\",SUM($J$32:J399))","v":""},"","","","","","","","","","","","",""]
["","","","","","","","","","",{"$f":"IF(B400=\"\",\"\",SUM($J$32:J400))","v":""},"","","","","","","","","","","","",""]
["","","","","","","","","","",{"$f":"IF(B401=\"\",\"\",SUM($J$32:J401))","v":""},"","","","","","","","","","","","",""]
["","","","","","","","","","",{"$f":"IF(B402=\"\",\"\",SUM($J$32:J402))","v":""},"","","","","","","","","","","","",""]
["","","","","","","","","","",{"$f":"IF(B403=\"\",\"\",SUM($J$32:J403))","v":""},"","","","","","","","","","","","",""]
["","","","","","","","","","",{"$f":"IF(B404=\"\",\"\",SUM($J$32:J404))","v":""},"","","","","","","","","","","","",""]
["","","","","","","","","","",{"$f":"IF(B405=\"\",\"\",SUM($J$32:J405))","v":""},"","","","","","","","","","","","",""]
["","","","","","","","","","",{"$f":"IF(B406=\"\",\"\",SUM($J$32:J406))","v":""},"","","","","","","","","","","","",""]
["","","","","","","","","","",{"$f":"IF(B407=\"\",\"\",SUM($J$32:J407))","v":""},"","","","","","","","","","","","",""]
["","","","","","","","","","",{"$f":"IF(B408=\"\",\"\",SUM($J$32:J408))","v":""},"","","","","","","","","","","","",""]
["","","","","","","","","","",{"$f":"IF(B409=\"\",\"\",SUM($J$32:J409))","v":""},"","","","","","","","","","","","",""]
["","","","","","","","","","",{"$f":"IF(B410=\"\",\"\",SUM($J$32:J410))","v":""},"","","","","","","","","","","","",""]
["","","","","","","","","","",{"$f":"IF(B411=\"\",\"\",SUM($J$32:J411))","v":""},"","","","","","","","","","","","",""]
[{"$f":"IF(A411>=$H$13,\"\",A411+1)","v":""},"",{"$f":"IF(B412=\"\",\"\",IF(OR(MONTH(EDATE($S$6,F412))=$H$16,MONTH(EDATE($S$6,F412))=$H$17),IF(ABS($H$17-$H$16)=1,EDATE($S$6,F412+2),EDATE($S$6,F412+1)),EDATE($S$6,F412)))","v":""},"",{"$f":"IF(B412=\"\",\"\",IF(OR(MONTH(DATE(YEAR(C411) + 1/12,MONTH(C411)+1,DAY(C411)))=$H$16,MONTH(DATE(YEAR(C411) + 1/12,MONTH(C411)+1,DAY(C411)))=$H$17),IF(ABS($H$17-$H$16)=1,E411+1,E411 + 2),E411 + 1))","v":""},{"$f":"IF(B412=\"\",\"\",F411+1)","v":""},{"$f":"IF(B412=\"\",\"\",$S$9)","v":""},{"$f":"IF(B412=\"\",\"\",$H$8)","v":""},{"$f":"IF(B412=\"\",\"\",C412-C411)","v":""},{"$f":"IF(B412=\"\",\"\",(I412)/30)","v":""},{"$f":"IF(B412=\"\",\"\",SUM($J$32:J412))","v":""},{"$f":"IF(B412=\"\",\"\",U411)","v":""},"",{"$f":"IF(B412=\"\",\"\",IF($L$24+$S$28 + $U$26<ROUND(ROUND(L412*(((1+(H412/100))^(I412/G412))-1),4),2),$L$24+$S$28 + $U$26-0.01,IF(ROUND(ROUND(L412*(((1+(H412/100))^(I412/G412))-1),4),2)+ $U$26>$L$24,$L$24+ $U$26+-0.01,ROUND(ROUND(L412*(((1+(H412/100))^(I412/G412))-1),4),2)+$U$26)))","v":""},{"$f":"IF(B412=\"\",\"\",IF(ISERROR(MATCH(MONTH(C412),$H$18:$H$19,0))=FALSE,$L$23,0)  +$L$23)","v":""},{"$f":"IF(B412=\"\",\"\",N412+O412)","v":""},{"$f":"IF(B412=\"\",\"\",M412+N412 + O412+AA412+IF(A412=$H$13,U412,0))","v":""},{"$f":"IF(B412=\"\",\"\",$L$26)","v":""},{"$f":"IF(B412=\"\",\"\",$L$25+Z412)","v":""},{"$f":"IF(B412=\"\",\"\",Q412+R412+S412)","v":""},{"$f":"IF(B412=\"\",\"\",ROUND(L412-M412,2))","v":""},{"$f":"IF(B412=\"\",\"\",IF(ROUND(ROUND(L412*(((1+(H412/100))^(I412/G412))-1),4),2) - $L$24<0,0,ROUND(ROUND(L412*(((1+(H412/100))^(I412/G412))-1),4),2) - $L$24))","v":""},{"$f":"IF(B412=\"\",\"\",(1+H412/100)^(1/12)-1)","v":""},{"$f":"IF(B412=\"\",\"\",Q412/((1+W412)^K412))","v":""}]
["","","","","","","","","","",{"$f":"IF(B413=\"\",\"\",SUM($J$32:J413))","v":""},"","","","","","","","","","","","",""]
["","","","","","","","","","",{"$f":"IF(B414=\"\",\"\",SUM($J$32:J414))","v":""},"","","","","","","","","","","","",""]
["","","","","","","","","","",{"$f":"IF(B415=\"\",\"\",SUM($J$32:J415))","v":""},"","","","","","","","","","","","",""]
["","","",{"$f":"IF(B416=\"\",\"\",IF(OR(MONTH(C416)=$H$18,MONTH(C416)=$H$19),\"D\",\"\"))","v":""},"","","","","","",{"$f":"IF(B416=\"\",\"\",SUM($J$32:J416))","v":""},"","","","","","","","","","","","",""]
["",{"$f":"IF(A417=\"\",\"\",IF(A417<=$H$22,0,1))","v":""},"","","","","","","","",{"$f":"IF(B417=\"\",\"\",SUM($J$32:J417))","v":""},"",{"$f":"IF(A417=$H$13,U416,IF(B417=\"\",\"\",IF((IF(ISERROR(MATCH(MONTH(C417),$H$18:$H$19,0))=FALSE,$L$24+$S$28,0)+$L$24+$S$28-IF(AND(D417=\"D\",W417=0),$V$26*2,$V$26))-N417<=0,0.01,IF(ISERROR(MATCH(MONTH(C417),$H$18:$H$19,0))=FALSE,$L$24+$S$28,0)+($L$24+$S$28-IF(AND(D417=\"D\",W417=0),$V$26*2,$V$26))-N417)-Z417))","v":""},"","","","","","","","","","",""]
["","","","","","","","","","",{"$f":"IF(B418=\"\",\"\",SUM($J$32:J418))","v":""},"","","","","","","","","","","","",""]
["","","","","","","","","","",{"$f":"IF(B419=\"\",\"\",SUM($J$32:J419))","v":""},"","","","","","","","","","","","",""]
["","","","","","","","","","",{"$f":"IF(B420=\"\",\"\",SUM($J$32:J420))","v":""},"","","","","","","","","","","","",""]
["","","","","","","","","","",{"$f":"IF(B421=\"\",\"\",SUM($J$32:J421))","v":""},"","","","","","","","","","","","",""]
["","","","","","","","","","",{"$f":"IF(B422=\"\",\"\",SUM($J$32:J422))","v":""},"","","","","","","","","","","","",""]
["","","","","","","","","","",{"$f":"IF(B423=\"\",\"\",SUM($J$32:J423))","v":""},"","","","","","","","","","","","",""]
["","","","","","","","","","",{"$f":"IF(B424=\"\",\"\",SUM($J$32:J424))","v":""},"","","","","","","","","","","","",""]
["","","","","","","","","","",{"$f":"IF(B425=\"\",\"\",SUM($J$32:J425))","v":""},"","","","","","","","","","","","",""]
["","","","","","","","","","",{"$f":"IF(B426=\"\",\"\",SUM($J$32:J426))","v":""},"","","","","","","","","","","","",""]
["","","","","","","","","","",{"$f":"IF(B427=\"\",\"\",SUM($J$32:J427))","v":""},"","","","","","","","","","","","",""]
["","","","","","","","","","",{"$f":"IF(B428=\"\",\"\",SUM($J$32:J428))","v":""},"","","","","","","","","","","","",""]
["","","","","","","","","","",{"$f":"IF(B429=\"\",\"\",SUM($J$32:J429))","v":""},"","","","","","","","","","","","",""]
["","","","","","","","","","",{"$f":"IF(B430=\"\",\"\",SUM($J$32:J430))","v":""},"","","","","","","","","","","","",""]
["","","","","","","","","","",{"$f":"IF(B431=\"\",\"\",SUM($J$32:J431))","v":""},"","","","","","","","","","","","",""]
["","","","","","","","","","",{"$f":"IF(B432=\"\",\"\",SUM($J$32:J432))","v":""},"","","","","","","","","","","","",""]
["","","","","","","","","","",{"$f":"IF(B433=\"\",\"\",SUM($J$32:J433))","v":""},"","","","","","","","","","","","",""]
["","","","","","","","","","",{"$f":"IF(B434=\"\",\"\",SUM($J$32:J434))","v":""},"","","","","","","","","","","","",""]
["","","","","","","","","","",{"$f":"IF(B435=\"\",\"\",SUM($J$32:J435))","v":""},"","","","","","","","","","","","",""]
["","","","","","","","","","",{"$f":"IF(B436=\"\",\"\",SUM($J$32:J436))","v":""},"","","","","","","","","","","","",""]
["","","","","","","","","","",{"$f":"IF(B437=\"\",\"\",SUM($J$32:J437))","v":""},"","","","","","","","","","","","",""]
["","","","","","","","","","",{"$f":"IF(B438=\"\",\"\",SUM($J$32:J438))","v":""},"","","","","","","","","","","","",""]
["","","","","","","","","","",{"$f":"IF(B439=\"\",\"\",SUM($J$32:J439))","v":""},"","","","","","","","","","","","",""]
["","","","","","","","","","",{"$f":"IF(B440=\"\",\"\",SUM($J$32:J440))","v":""},"","","","","","","","","","","","",""]
["","","","","","","","","","",{"$f":"IF(B441=\"\",\"\",SUM($J$32:J441))","v":""},"","","","","","","","","","","","",""]
["","","","","","","","","","",{"$f":"IF(B442=\"\",\"\",SUM($J$32:J442))","v":""},"","","","","","","","","","","","",""]
["","","","","","","","","","",{"$f":"IF(B443=\"\",\"\",SUM($J$32:J443))","v":""},"","","","","","","","","","","","",""]
["","","","","","","","","","",{"$f":"IF(B444=\"\",\"\",SUM($J$32:J444))","v":""},"","","","","","","","","","","","",""]
["","","","","","","","","","",{"$f":"IF(B445=\"\",\"\",SUM($J$32:J445))","v":""},"","","","","","","","","","","","",""]
["","","","","","","","","","",{"$f":"IF(B446=\"\",\"\",SUM($J$32:J446))","v":""},"","","","","","","","","","","","",""]
["","","","","","","","","","",{"$f":"IF(B447=\"\",\"\",SUM($J$32:J447))","v":""},"","","","","","","","","","","","",""]
["","","","","","","","","","",{"$f":"IF(B448=\"\",\"\",SUM($J$32:J448))","v":""},"","","","","","","","","","","","",""]
["","","","","","","","","","",{"$f":"IF(B449=\"\",\"\",SUM($J$32:J449))","v":""},"","","","","","","","","","","","",""]
["","","","","","","","","","",{"$f":"IF(B450=\"\",\"\",SUM($J$32:J450))","v":""},"","","","","","","","","","","","",""]
["","","","","","","","","","",{"$f":"IF(B451=\"\",\"\",SUM($J$32:J451))","v":""},"","","","","","","","","","","","",""]
["","","","","","","","","","",{"$f":"IF(B452=\"\",\"\",SUM($J$32:J452))","v":""},"","","","","","","","","","","","",""]
["","","","","","","","","","",{"$f":"IF(B453=\"\",\"\",SUM($J$32:J453))","v":""},"","","","","","","","","","","","",""]
["","","","","","","","","","",{"$f":"IF(B454=\"\",\"\",SUM($J$32:J454))","v":""},"","","","","","","","","","","","",""]
["","","","","","","","","","",{"$f":"IF(B455=\"\",\"\",SUM($J$32:J455))","v":""},"","","","","","","","","","","","",""]
["","","","","","","","","","",{"$f":"IF(B456=\"\",\"\",SUM($J$32:J456))","v":""},"","","","","","","","","","","","",""]
["","","","","","","","","","",{"$f":"IF(B457=\"\",\"\",SUM($J$32:J457))","v":""},"","","","","","","","","","","","",""]
["","","","","","","","","","",{"$f":"IF(B458=\"\",\"\",SUM($J$32:J458))","v":""},"","","","","","","","","","","","",""]
["","","","","","","","","","",{"$f":"IF(B459=\"\",\"\",SUM($J$32:J459))","v":""},"","","","","","","","","","","","",""]
["","","","","","","","","","",{"$f":"IF(B460=\"\",\"\",SUM($J$32:J460))","v":""},"","","","","","","","","","","","",""]
["","","","","","","","","","",{"$f":"IF(B461=\"\",\"\",SUM($J$32:J461))","v":""},"","","","","","","","","","","","",""]
["","","","","","","","","","",{"$f":"IF(B462=\"\",\"\",SUM($J$32:J462))","v":""},"","","","","","","","","","","","",""]
["","","","","","","","","","",{"$f":"IF(B463=\"\",\"\",SUM($J$32:J463))","v":""},"","","","","","","","","","","","",""]
["","","","","","","","","","",{"$f":"IF(B464=\"\",\"\",SUM($J$32:J464))","v":""},"","","","","","","","","","","","",""]
["","","","","","","","","","",{"$f":"IF(B465=\"\",\"\",SUM($J$32:J465))","v":""},"","","","","","","","","","","","",""]
["","","","","","","","","","",{"$f":"IF(B466=\"\",\"\",SUM($J$32:J466))","v":""},"","","","","","","","","","","","",""]
["","","","","","","","","","",{"$f":"IF(B467=\"\",\"\",SUM($J$32:J467))","v":""},"","","","","","","","","","","","",""]
["","","","","","","","","","",{"$f":"IF(B468=\"\",\"\",SUM($J$32:J468))","v":""},"","","","","","","","","","","","",""]
["","","","","","","","","","",{"$f":"IF(B469=\"\",\"\",SUM($J$32:J469))","v":""},"","","","","","","","","","","","",""]
["","","","","","","","","","",{"$f":"IF(B470=\"\",\"\",SUM($J$32:J470))","v":""},"","","","","","","","","","","","",""]
["","","","","","","","","","",{"$f":"IF(B471=\"\",\"\",SUM($J$32:J471))","v":""},"","","","","","","","","","","","",""]
["","","","","","","","","","",{"$f":"IF(B472=\"\",\"\",SUM($J$32:J472))","v":""},"","","","","","","","","","","","",""]
["","","","","","","","","","",{"$f":"IF(B473=\"\",\"\",SUM($J$32:J473))","v":""},"","","","","","","","","","","","",""]
["","","","","","","","","","",{"$f":"IF(B474=\"\",\"\",SUM($J$32:J474))","v":""},"","","","","","","","","","","","",""]
["","","","","","","","","","",{"$f":"IF(B475=\"\",\"\",SUM($J$32:J475))","v":""},"","","","","","","","","","","","",""]
[{"$f":"IF(A475>=$H$13,\"\",A475+1)","v":""},"",{"$f":"IF(B476=\"\",\"\",IF(OR(MONTH(EDATE($S$6,F476))=$H$16,MONTH(EDATE($S$6,F476))=$H$17),IF(ABS($H$17-$H$16)=1,EDATE($S$6,F476+2),EDATE($S$6,F476+1)),EDATE($S$6,F476)))","v":""},"",{"$f":"IF(B476=\"\",\"\",IF(OR(MONTH(DATE(YEAR(C475) + 1/12,MONTH(C475)+1,DAY(C475)))=$H$16,MONTH(DATE(YEAR(C475) + 1/12,MONTH(C475)+1,DAY(C475)))=$H$17),IF(ABS($H$17-$H$16)=1,E475+1,E475 + 2),E475 + 1))","v":""},{"$f":"IF(B476=\"\",\"\",F475+1)","v":""},{"$f":"IF(B476=\"\",\"\",$S$9)","v":""},{"$f":"IF(B476=\"\",\"\",$H$8)","v":""},{"$f":"IF(B476=\"\",\"\",C476-C475)","v":""},{"$f":"IF(B476=\"\",\"\",(I476)/30)","v":""},{"$f":"IF(B476=\"\",\"\",SUM($J$32:J476))","v":""},{"$f":"IF(B476=\"\",\"\",U475)","v":""},"",{"$f":"IF(B476=\"\",\"\",IF($L$24+$S$28 + $U$26<ROUND(ROUND(L476*(((1+(H476/100))^(I476/G476))-1),4),2),$L$24+$S$28 + $U$26-0.01,IF(ROUND(ROUND(L476*(((1+(H476/100))^(I476/G476))-1),4),2)+ $U$26>$L$24,$L$24+ $U$26+-0.01,ROUND(ROUND(L476*(((1+(H476/100))^(I476/G476))-1),4),2)+$U$26)))","v":""},{"$f":"IF(B476=\"\",\"\",IF(ISERROR(MATCH(MONTH(C476),$H$18:$H$19,0))=FALSE,$L$23,0)  +$L$23)","v":""},{"$f":"IF(B476=\"\",\"\",N476+O476)","v":""},{"$f":"IF(B476=\"\",\"\",M476+N476 + O476+AA476+IF(A476=$H$13,U476,0))","v":""},{"$f":"IF(B476=\"\",\"\",$L$26)","v":""},{"$f":"IF(B476=\"\",\"\",$L$25+Z476)","v":""},{"$f":"IF(B476=\"\",\"\",Q476+R476+S476)","v":""},{"$f":"IF(B476=\"\",\"\",ROUND(L476-M476,2))","v":""},{"$f":"IF(B476=\"\",\"\",IF(ROUND(ROUND(L476*(((1+(H476/100))^(I476/G476))-1),4),2) - $L$24<0,0,ROUND(ROUND(L476*(((1+(H476/100))^(I476/G476))-1),4),2) - $L$24))","v":""},{"$f":"IF(B476=\"\",\"\",(1+H476/100)^(1/12)-1)","v":""},{"$f":"IF(B476=\"\",\"\",Q476/((1+W476)^K476))","v":""}]
["","","","","","","","","","",{"$f":"IF(B477=\"\",\"\",SUM($J$32:J477))","v":""},"","","","","","","","","","","","",""]
["","","","","","","","","","",{"$f":"IF(B478=\"\",\"\",SUM($J$32:J478))","v":""},"","","","","","","","","","","","",""]
["","","","","","","","","","",{"$f":"IF(B479=\"\",\"\",SUM($J$32:J479))","v":""},"","","","","","","","","","","","",""]
["","","",{"$f":"IF(B480=\"\",\"\",IF(OR(MONTH(C480)=$H$18,MONTH(C480)=$H$19),\"D\",\"\"))","v":""},"","","","","","",{"$f":"IF(B480=\"\",\"\",SUM($J$32:J480))","v":""},"","","","","","","","","","","","",""]
["",{"$f":"IF(A481=\"\",\"\",IF(A481<=$H$22,0,1))","v":""},"","","","","","","","",{"$f":"IF(B481=\"\",\"\",SUM($J$32:J481))","v":""},"",{"$f":"IF(A481=$H$13,U480,IF(B481=\"\",\"\",IF((IF(ISERROR(MATCH(MONTH(C481),$H$18:$H$19,0))=FALSE,$L$24+$S$28,0)+$L$24+$S$28-IF(AND(D481=\"D\",W481=0),$V$26*2,$V$26))-N481<=0,0.01,IF(ISERROR(MATCH(MONTH(C481),$H$18:$H$19,0))=FALSE,$L$24+$S$28,0)+($L$24+$S$28-IF(AND(D481=\"D\",W481=0),$V$26*2,$V$26))-N481)-Z481))","v":""},"","","","","","","","","","",""]
["","","","","","","","","","",{"$f":"IF(B482=\"\",\"\",SUM($J$32:J482))","v":""},"","","","","","","","","","","","",""]
["","","","","","","","","","",{"$f":"IF(B483=\"\",\"\",SUM($J$32:J483))","v":""},"","","","","","","","","","","","",""]
["","","","","","","","","","",{"$f":"IF(B484=\"\",\"\",SUM($J$32:J484))","v":""},"","","","","","","","","","","","",""]
["","","","","","","","","","",{"$f":"IF(B485=\"\",\"\",SUM($J$32:J485))","v":""},"","","","","","","","","","","","",""]
["","","","","","","","","","",{"$f":"IF(B486=\"\",\"\",SUM($J$32:J486))","v":""},"","","","","","","","","","","","",""]
["","","","","","","","","","",{"$f":"IF(B487=\"\",\"\",SUM($J$32:J487))","v":""},"","","","","","","","","","","","",""]
["","","","","","","","","","",{"$f":"IF(B488=\"\",\"\",SUM($J$32:J488))","v":""},"","","","","","","","","","","","",""]
["","","","","","","","","","",{"$f":"IF(B489=\"\",\"\",SUM($J$32:J489))","v":""},"","","","","","","","","","","","",""]
["","","","","","","","","","",{"$f":"IF(B490=\"\",\"\",SUM($J$32:J490))","v":""},"","","","","","","","","","","","",""]
["","","","","","","","","","",{"$f":"IF(B491=\"\",\"\",SUM($J$32:J491))","v":""},"","","","","","","","","","","","",""]
["","","","","","","","","","",{"$f":"IF(B492=\"\",\"\",SUM($J$32:J492))","v":""},"","","","","","","","","","","","",""]
["","","","","","","","","","",{"$f":"IF(B493=\"\",\"\",SUM($J$32:J493))","v":""},"","","","","","","","","","","","",""]
["","","","","","","","","","",{"$f":"IF(B494=\"\",\"\",SUM($J$32:J494))","v":""},"","","","","","","","","","","","",""]
["","","","","","","","","","",{"$f":"IF(B495=\"\",\"\",SUM($J$32:J495))","v":""},"","","","","","","","","","","","",""]
["","","","","","","","","","",{"$f":"IF(B496=\"\",\"\",SUM($J$32:J496))","v":""},"","","","","","","","","","","","",""]
["","","","","","","","","","",{"$f":"IF(B497=\"\",\"\",SUM($J$32:J497))","v":""},"","","","","","","","","","","","",""]
["","","","","","","","","","",{"$f":"IF(B498=\"\",\"\",SUM($J$32:J498))","v":""},"","","","","","","","","","","","",""]
["","","","","","","","","","",{"$f":"IF(B499=\"\",\"\",SUM($J$32:J499))","v":""},"","","","","","","","","","","","",""]
["","","","","","","","","","",{"$f":"IF(B500=\"\",\"\",SUM($J$32:J500))","v":""},"","","","","","","","","","","","",""]
["","","","","","","","","","",{"$f":"IF(B501=\"\",\"\",SUM($J$32:J501))","v":""},"","","","","","","","","","","","",""]
["","","","","","","","","","",{"$f":"IF(B502=\"\",\"\",SUM($J$32:J502))","v":""},"","","","","","","","","","","","",""]
["","","","","","","","","","",{"$f":"IF(B503=\"\",\"\",SUM($J$32:J503))","v":""},"","","","","","","","","","","","",""]
["","","","","","","","","","",{"$f":"IF(B504=\"\",\"\",SUM($J$32:J504))","v":""},"","","","","","","","","","","","",""]
["","","","","","","","","","",{"$f":"IF(B505=\"\",\"\",SUM($J$32:J505))","v":""},"","","","","","","","","","","","",""]
["","","","","","","","","","",{"$f":"IF(B506=\"\",\"\",SUM($J$32:J506))","v":""},"","","","","","","","","","","","",""]
["","","","","","","","","","",{"$f":"IF(B507=\"\",\"\",SUM($J$32:J507))","v":""},"","","","","","","","","","","","",""]
["","","","","","","","","","",{"$f":"IF(B508=\"\",\"\",SUM($J$32:J508))","v":""},"","","","","","","","","","","","",""]
["","","","","","","","","","",{"$f":"IF(B509=\"\",\"\",SUM($J$32:J509))","v":""},"","","","","","","","","","","","",""]
["","","","","","","","","","",{"$f":"IF(B510=\"\",\"\",SUM($J$32:J510))","v":""},"","","","","","","","","","","","",""]
["","","","","","","","","","",{"$f":"IF(B511=\"\",\"\",SUM($J$32:J511))","v":""},"","","","","","","","","","","","",""]
["","","","","","","","","","",{"$f":"IF(B512=\"\",\"\",SUM($J$32:J512))","v":""},"","","","","","","","","","","","",""]
["","","","","","","","","","",{"$f":"IF(B513=\"\",\"\",SUM($J$32:J513))","v":""},"","","","","","","","","","","","",""]
["","","","","","","","","","",{"$f":"IF(B514=\"\",\"\",SUM($J$32:J514))","v":""},"","","","","","","","","","","","",""]
["","","","","","","","","","",{"$f":"IF(B515=\"\",\"\",SUM($J$32:J515))","v":""},"","","","","","","","","","","","",""]
["","","","","","","","","","",{"$f":"IF(B516=\"\",\"\",SUM($J$32:J516))","v":""},"","","","","","","","","","","","",""]
["","","","","","","","","","",{"$f":"IF(B517=\"\",\"\",SUM($J$32:J517))","v":""},"","","","","","","","","","","","",""]
["","","","","","","","","","",{"$f":"IF(B518=\"\",\"\",SUM($J$32:J518))","v":""},"","","","","","","","","","","","",""]
["","","","","","","","","","",{"$f":"IF(B519=\"\",\"\",SUM($J$32:J519))","v":""},"","","","","","","","","","","","",""]
["","","","","","","","","","",{"$f":"IF(B520=\"\",\"\",SUM($J$32:J520))","v":""},"","","","","","","","","","","","",""]
["","","","","","","","","","",{"$f":"IF(B521=\"\",\"\",SUM($J$32:J521))","v":""},"","","","","","","","","","","","",""]
["","","","","","","","","","",{"$f":"IF(B522=\"\",\"\",SUM($J$32:J522))","v":""},"","","","","","","","","","","","",""]
["","","","","","","","","","",{"$f":"IF(B523=\"\",\"\",SUM($J$32:J523))","v":""},"","","","","","","","","","","","",""]
["","","","","","","","","","",{"$f":"IF(B524=\"\",\"\",SUM($J$32:J524))","v":""},"","","","","","","","","","","","",""]
["","","","","","","","","","",{"$f":"IF(B525=\"\",\"\",SUM($J$32:J525))","v":""},"","","","","","","","","","","","",""]
["","","","","","","","","","",{"$f":"IF(B526=\"\",\"\",SUM($J$32:J526))","v":""},"","","","","","","","","","","","",""]
["","","","","","","","","","",{"$f":"IF(B527=\"\",\"\",SUM($J$32:J527))","v":""},"","","","","","","","","","","","",""]
["","","","","","","","","","",{"$f":"IF(B528=\"\",\"\",SUM($J$32:J528))","v":""},"","","","","","","","","","","","",""]
["","","","","","","","","","",{"$f":"IF(B529=\"\",\"\",SUM($J$32:J529))","v":""},"","","","","","","","","","","","",""]
["","","","","","","","","","",{"$f":"IF(B530=\"\",\"\",SUM($J$32:J530))","v":""},"","","","","","","","","","","","",""]
["","","","","","","","","","",{"$f":"IF(B531=\"\",\"\",SUM($J$32:J531))","v":""},"","","","","","","","","","","","",""]
["","","","","","","","","","",{"$f":"IF(B532=\"\",\"\",SUM($J$32:J532))","v":""},"","","","","","","","","","","","",""]
["","","","","","","","","","",{"$f":"IF(B533=\"\",\"\",SUM($J$32:J533))","v":""},"","","","","","","","","","","","",""]
["","","","","","","","","","",{"$f":"IF(B534=\"\",\"\",SUM($J$32:J534))","v":""},"","","","","","","","","","","","",""]
["","","","","","","","","","",{"$f":"IF(B535=\"\",\"\",SUM($J$32:J535))","v":""},"","","","","","","","","","","","",""]
["","","","","","","","","","",{"$f":"IF(B536=\"\",\"\",SUM($J$32:J536))","v":""},"","","","","","","","","","","","",""]
["","","","","","","","","","",{"$f":"IF(B537=\"\",\"\",SUM($J$32:J537))","v":""},"","","","","","","","","","","","",""]
["","","","","","","","","","",{"$f":"IF(B538=\"\",\"\",SUM($J$32:J538))","v":""},"","","","","","","","","","","","",""]
["","","","","","","","","","",{"$f":"IF(B539=\"\",\"\",SUM($J$32:J539))","v":""},"","","","","","","","","","","","",""]
[{"$f":"IF(A539>=$H$13,\"\",A539+1)","v":""},"",{"$f":"IF(B540=\"\",\"\",IF(OR(MONTH(EDATE($S$6,F540))=$H$16,MONTH(EDATE($S$6,F540))=$H$17),IF(ABS($H$17-$H$16)=1,EDATE($S$6,F540+2),EDATE($S$6,F540+1)),EDATE($S$6,F540)))","v":""},"",{"$f":"IF(B540=\"\",\"\",IF(OR(MONTH(DATE(YEAR(C539) + 1/12,MONTH(C539)+1,DAY(C539)))=$H$16,MONTH(DATE(YEAR(C539) + 1/12,MONTH(C539)+1,DAY(C539)))=$H$17),IF(ABS($H$17-$H$16)=1,E539+1,E539 + 2),E539 + 1))","v":""},{"$f":"IF(B540=\"\",\"\",F539+1)","v":""},{"$f":"IF(B540=\"\",\"\",$S$9)","v":""},{"$f":"IF(B540=\"\",\"\",$H$8)","v":""},{"$f":"IF(B540=\"\",\"\",C540-C539)","v":""},{"$f":"IF(B540=\"\",\"\",(I540)/30)","v":""},{"$f":"IF(B540=\"\",\"\",SUM($J$32:J540))","v":""},{"$f":"IF(B540=\"\",\"\",U539)","v":""},"",{"$f":"IF(B540=\"\",\"\",IF($L$24+$S$28 + $U$26<ROUND(ROUND(L540*(((1+(H540/100))^(I540/G540))-1),4),2),$L$24+$S$28 + $U$26-0.01,IF(ROUND(ROUND(L540*(((1+(H540/100))^(I540/G540))-1),4),2)+ $U$26>$L$24,$L$24+ $U$26+-0.01,ROUND(ROUND(L540*(((1+(H540/100))^(I540/G540))-1),4),2)+$U$26)))","v":""},{"$f":"IF(B540=\"\",\"\",IF(ISERROR(MATCH(MONTH(C540),$H$18:$H$19,0))=FALSE,$L$23,0)  +$L$23)","v":""},{"$f":"IF(B540=\"\",\"\",N540+O540)","v":""},{"$f":"IF(B540=\"\",\"\",M540+N540 + O540+AA540+IF(A540=$H$13,U540,0))","v":""},{"$f":"IF(B540=\"\",\"\",$L$26)","v":""},{"$f":"IF(B540=\"\",\"\",$L$25+Z540)","v":""},{"$f":"IF(B540=\"\",\"\",Q540+R540+S540)","v":""},{"$f":"IF(B540=\"\",\"\",ROUND(L540-M540,2))","v":""},{"$f":"IF(B540=\"\",\"\",IF(ROUND(ROUND(L540*(((1+(H540/100))^(I540/G540))-1),4),2) - $L$24<0,0,ROUND(ROUND(L540*(((1+(H540/100))^(I540/G540))-1),4),2) - $L$24))","v":""},{"$f":"IF(B540=\"\",\"\",(1+H540/100)^(1/12)-1)","v":""},{"$f":"IF(B540=\"\",\"\",Q540/((1+W540)^K540))","v":""}]
["","","","","","","","","","",{"$f":"IF(B541=\"\",\"\",SUM($J$32:J541))","v":""},"","","","","","","","","","","","",""]
["","","","","","","","","","",{"$f":"IF(B542=\"\",\"\",SUM($J$32:J542))","v":""},"","","","","","","","","","","","",""]
["","","","","","","","","","",{"$f":"IF(B543=\"\",\"\",SUM($J$32:J543))","v":""},"","","","","","","","","","","","",""]
["","","",{"$f":"IF(B544=\"\",\"\",IF(OR(MONTH(C544)=$H$18,MONTH(C544)=$H$19),\"D\",\"\"))","v":""},"","","","","","",{"$f":"IF(B544=\"\",\"\",SUM($J$32:J544))","v":""},"","","","","","","","","","","","",""]
["",{"$f":"IF(A545=\"\",\"\",IF(A545<=$H$22,0,1))","v":""},"","","","","","","","",{"$f":"IF(B545=\"\",\"\",SUM($J$32:J545))","v":""},"",{"$f":"IF(A545=$H$13,U544,IF(B545=\"\",\"\",IF((IF(ISERROR(MATCH(MONTH(C545),$H$18:$H$19,0))=FALSE,$L$24+$S$28,0)+$L$24+$S$28-IF(AND(D545=\"D\",W545=0),$V$26*2,$V$26))-N545<=0,0.01,IF(ISERROR(MATCH(MONTH(C545),$H$18:$H$19,0))=FALSE,$L$24+$S$28,0)+($L$24+$S$28-IF(AND(D545=\"D\",W545=0),$V$26*2,$V$26))-N545)-Z545))","v":""},"","","","","","","","","","",""]
["","","","","","","","","","",{"$f":"IF(B546=\"\",\"\",SUM($J$32:J546))","v":""},"","","","","","","","","","","","",""]
["","","","","","","","","","",{"$f":"IF(B547=\"\",\"\",SUM($J$32:J547))","v":""},"","","","","","","","","","","","",""]
["","","","","","","","","","",{"$f":"IF(B548=\"\",\"\",SUM($J$32:J548))","v":""},"","","","","","","","","","","","",""]
["","","","","","","","","","",{"$f":"IF(B549=\"\",\"\",SUM($J$32:J549))","v":""},"","","","","","","","","","","","",""]
["","","","","","","","","","",{"$f":"IF(B550=\"\",\"\",SUM($J$32:J550))","v":""},"","","","","","","","","","","","",""]
["","","","","","","","","","",{"$f":"IF(B551=\"\",\"\",SUM($J$32:J551))","v":""},"","","","","","","","","","","","",""]
["","","","","","","","","","",{"$f":"IF(B552=\"\",\"\",SUM($J$32:J552))","v":""},"","","","","","","","","","","","",""]
["","","","","","","","","","",{"$f":"IF(B553=\"\",\"\",SUM($J$32:J553))","v":""},"","","","","","","","","","","","",""]
["","","","","","","","","","",{"$f":"IF(B554=\"\",\"\",SUM($J$32:J554))","v":""},"","","","","","","","","","","","",""]
["","","","","","","","","","",{"$f":"IF(B555=\"\",\"\",SUM($J$32:J555))","v":""},"","","","","","","","","","","","",""]
["","","","","","","","","","",{"$f":"IF(B556=\"\",\"\",SUM($J$32:J556))","v":""},"","","","","","","","","","","","",""]
["","","","","","","","","","",{"$f":"IF(B557=\"\",\"\",SUM($J$32:J557))","v":""},"","","","","","","","","","","","",""]
["","","","","","","","","","",{"$f":"IF(B558=\"\",\"\",SUM($J$32:J558))","v":""},"","","","","","","","","","","","",""]
["","","","","","","","","","",{"$f":"IF(B559=\"\",\"\",SUM($J$32:J559))","v":""},"","","","","","","","","","","","",""]
["","","","","","","","","","",{"$f":"IF(B560=\"\",\"\",SUM($J$32:J560))","v":""},"","","","","","","","","","","","",""]
["","","","","","","","","","",{"$f":"IF(B561=\"\",\"\",SUM($J$32:J561))","v":""},"","","","","","","","","","","","",""]
["","","","","","","","","","",{"$f":"IF(B562=\"\",\"\",SUM($J$32:J562))","v":""},"","","","","","","","","","","","",""]
["","","","","","","","","","",{"$f":"IF(B563=\"\",\"\",SUM($J$32:J563))","v":""},"","","","","","","","","","","","",""]
["","","","","","","","","","",{"$f":"IF(B564=\"\",\"\",SUM($J$32:J564))","v":""},"","","","","","","","","","","","",""]
["","","","","","","","","","",{"$f":"IF(B565=\"\",\"\",SUM($J$32:J565))","v":""},"","","","","","","","","","","","",""]
["","","","","","","","","","",{"$f":"IF(B566=\"\",\"\",SUM($J$32:J566))","v":""},"","","","","","","","","","","","",""]
["","","","","","","","","","",{"$f":"IF(B567=\"\",\"\",SUM($J$32:J567))","v":""},"","","","","","","","","","","","",""]
["","","","","","","","","","",{"$f":"IF(B568=\"\",\"\",SUM($J$32:J568))","v":""},"","","","","","","","","","","","",""]
["","","","","","","","","","",{"$f":"IF(B569=\"\",\"\",SUM($J$32:J569))","v":""},"","","","","","","","","","","","",""]
["","","","","","","","","","",{"$f":"IF(B570=\"\",\"\",SUM($J$32:J570))","v":""},"","","","","","","","","","","","",""]
["","","","","","","","","","",{"$f":"IF(B571=\"\",\"\",SUM($J$32:J571))","v":""},"","","","","","","","","","","","",""]
["","","","","","","","","","",{"$f":"IF(B572=\"\",\"\",SUM($J$32:J572))","v":""},"","","","","","","","","","","","",""]
["","","","","","","","","","",{"$f":"IF(B573=\"\",\"\",SUM($J$32:J573))","v":""},"","","","","","","","","","","","",""]
["","","","","","","","","","",{"$f":"IF(B574=\"\",\"\",SUM($J$32:J574))","v":""},"","","","","","","","","","","","",""]
["","","","","","","","","","",{"$f":"IF(B575=\"\",\"\",SUM($J$32:J575))","v":""},"","","","","","","","","","","","",""]
["","","","","","","","","","",{"$f":"IF(B576=\"\",\"\",SUM($J$32:J576))","v":""},"","","","","","","","","","","","",""]
["","","","","","","","","","",{"$f":"IF(B577=\"\",\"\",SUM($J$32:J577))","v":""},"","","","","","","","","","","","",""]
["","","","","","","","","","",{"$f":"IF(B578=\"\",\"\",SUM($J$32:J578))","v":""},"","","","","","","","","","","","",""]
["","","","","","","","","","",{"$f":"IF(B579=\"\",\"\",SUM($J$32:J579))","v":""},"","","","","","","","","","","","",""]
["","","","","","","","","","",{"$f":"IF(B580=\"\",\"\",SUM($J$32:J580))","v":""},"","","","","","","","","","","","",""]
["","","","","","","","","","",{"$f":"IF(B581=\"\",\"\",SUM($J$32:J581))","v":""},"","","","","","","","","","","","",""]
["","","","","","","","","","",{"$f":"IF(B582=\"\",\"\",SUM($J$32:J582))","v":""},"","","","","","","","","","","","",""]
["","","","","","","","","","",{"$f":"IF(B583=\"\",\"\",SUM($J$32:J583))","v":""},"","","","","","","","","","","","",""]
["","","","","","","","","","",{"$f":"IF(B584=\"\",\"\",SUM($J$32:J584))","v":""},"","","","","","","","","","","","",""]
["","","","","","","","","","",{"$f":"IF(B585=\"\",\"\",SUM($J$32:J585))","v":""},"","","","","","","","","","","","",""]
["","","","","","","","","","",{"$f":"IF(B586=\"\",\"\",SUM($J$32:J586))","v":""},"","","","","","","","","","","","",""]
["","","","","","","","","","",{"$f":"IF(B587=\"\",\"\",SUM($J$32:J587))","v":""},"","","","","","","","","","","","",""]
["","","","","","","","","","",{"$f":"IF(B588=\"\",\"\",SUM($J$32:J588))","v":""},"","","","","","","","","","","","",""]
["","","","","","","","","","",{"$f":"IF(B589=\"\",\"\",SUM($J$32:J589))","v":""},"","","","","","","","","","","","",""]
["","","","","","","","","","",{"$f":"IF(B590=\"\",\"\",SUM($J$32:J590))","v":""},"","","","","","","","","","","","",""]
["","","","","","","","","","",{"$f":"IF(B591=\"\",\"\",SUM($J$32:J591))","v":""},"","","","","","","","","","","","",""]
["","","","","","","","","","",{"$f":"IF(B592=\"\",\"\",SUM($J$32:J592))","v":""},"","","","","","","","","","","","",""]
["","","","","","","","","","",{"$f":"IF(B593=\"\",\"\",SUM($J$32:J593))","v":""},"","","","","","","","","","","","",""]
["","","","","","","","","","",{"$f":"IF(B594=\"\",\"\",SUM($J$32:J594))","v":""},"","","","","","","","","","","","",""]
["","","","","","","","","","",{"$f":"IF(B595=\"\",\"\",SUM($J$32:J595))","v":""},"","","","","","","","","","","","",""]
["","","","","","","","","","",{"$f":"IF(B596=\"\",\"\",SUM($J$32:J596))","v":""},"","","","","","","","","","","","",""]
["","","","","","","","","","",{"$f":"IF(B597=\"\",\"\",SUM($J$32:J597))","v":""},"","","","","","","","","","","","",""]
["","","","","","","","","","",{"$f":"IF(B598=\"\",\"\",SUM($J$32:J598))","v":""},"","","","","","","","","","","","",""]
["","","","","","","","","","",{"$f":"IF(B599=\"\",\"\",SUM($J$32:J599))","v":""},"","","","","","","","","","","","",""]
["","","","","","","","","","",{"$f":"IF(B600=\"\",\"\",SUM($J$32:J600))","v":""},"","","","","","","","","","","","",""]
["","","","","","","","","","",{"$f":"IF(B601=\"\",\"\",SUM($J$32:J601))","v":""},"","","","","","","","","","","","",""]
["","","","","","","","","","",{"$f":"IF(B602=\"\",\"\",SUM($J$32:J602))","v":""},"","","","","","","","","","","","",""]
["","","","","","","","","","",{"$f":"IF(B603=\"\",\"\",SUM($J$32:J603))","v":""},"","","","","","","","","","","","",""]
[{"$f":"IF(A603>=$H$13,\"\",A603+1)","v":""},"",{"$f":"IF(B604=\"\",\"\",IF(OR(MONTH(EDATE($S$6,F604))=$H$16,MONTH(EDATE($S$6,F604))=$H$17),IF(ABS($H$17-$H$16)=1,EDATE($S$6,F604+2),EDATE($S$6,F604+1)),EDATE($S$6,F604)))","v":""},"",{"$f":"IF(B604=\"\",\"\",IF(OR(MONTH(DATE(YEAR(C603) + 1/12,MONTH(C603)+1,DAY(C603)))=$H$16,MONTH(DATE(YEAR(C603) + 1/12,MONTH(C603)+1,DAY(C603)))=$H$17),IF(ABS($H$17-$H$16)=1,E603+1,E603 + 2),E603 + 1))","v":""},{"$f":"IF(B604=\"\",\"\",F603+1)","v":""},{"$f":"IF(B604=\"\",\"\",$S$9)","v":""},{"$f":"IF(B604=\"\",\"\",$H$8)","v":""},{"$f":"IF(B604=\"\",\"\",C604-C603)","v":""},{"$f":"IF(B604=\"\",\"\",(I604)/30)","v":""},{"$f":"IF(B604=\"\",\"\",SUM($J$32:J604))","v":""},{"$f":"IF(B604=\"\",\"\",U603)","v":""},"",{"$f":"IF(B604=\"\",\"\",IF($L$24+$S$28 + $U$26<ROUND(ROUND(L604*(((1+(H604/100))^(I604/G604))-1),4),2),$L$24+$S$28 + $U$26-0.01,IF(ROUND(ROUND(L604*(((1+(H604/100))^(I604/G604))-1),4),2)+ $U$26>$L$24,$L$24+ $U$26+-0.01,ROUND(ROUND(L604*(((1+(H604/100))^(I604/G604))-1),4),2)+$U$26)))","v":""},{"$f":"IF(B604=\"\",\"\",IF(ISERROR(MATCH(MONTH(C604),$H$18:$H$19,0))=FALSE,$L$23,0)  +$L$23)","v":""},{"$f":"IF(B604=\"\",\"\",N604+O604)","v":""},{"$f":"IF(B604=\"\",\"\",M604+N604 + O604+AA604+IF(A604=$H$13,U604,0))","v":""},{"$f":"IF(B604=\"\",\"\",$L$26)","v":""},{"$f":"IF(B604=\"\",\"\",$L$25+Z604)","v":""},{"$f":"IF(B604=\"\",\"\",Q604+R604+S604)","v":""},{"$f":"IF(B604=\"\",\"\",ROUND(L604-M604,2))","v":""},{"$f":"IF(B604=\"\",\"\",IF(ROUND(ROUND(L604*(((1+(H604/100))^(I604/G604))-1),4),2) - $L$24<0,0,ROUND(ROUND(L604*(((1+(H604/100))^(I604/G604))-1),4),2) - $L$24))","v":""},{"$f":"IF(B604=\"\",\"\",(1+H604/100)^(1/12)-1)","v":""},{"$f":"IF(B604=\"\",\"\",Q604/((1+W604)^K604))","v":""}]
["","","","","","","","","","",{"$f":"IF(B605=\"\",\"\",SUM($J$32:J605))","v":""},"","","","","","","","","","","","",""]
["","","","","","","","","","",{"$f":"IF(B606=\"\",\"\",SUM($J$32:J606))","v":""},"","","","","","","","","","","","",""]
["","","","","","","","","","",{"$f":"IF(B607=\"\",\"\",SUM($J$32:J607))","v":""},"","","","","","","","","","","","",""]
["","","",{"$f":"IF(B608=\"\",\"\",IF(OR(MONTH(C608)=$H$18,MONTH(C608)=$H$19),\"D\",\"\"))","v":""},"","","","","","",{"$f":"IF(B608=\"\",\"\",SUM($J$32:J608))","v":""},"","","","","","","","","","","","",""]
["",{"$f":"IF(A609=\"\",\"\",IF(A609<=$H$22,0,1))","v":""},"","","","","","","","",{"$f":"IF(B609=\"\",\"\",SUM($J$32:J609))","v":""},"",{"$f":"IF(A609=$H$13,U608,IF(B609=\"\",\"\",IF((IF(ISERROR(MATCH(MONTH(C609),$H$18:$H$19,0))=FALSE,$L$24+$S$28,0)+$L$24+$S$28-IF(AND(D609=\"D\",W609=0),$V$26*2,$V$26))-N609<=0,0.01,IF(ISERROR(MATCH(MONTH(C609),$H$18:$H$19,0))=FALSE,$L$24+$S$28,0)+($L$24+$S$28-IF(AND(D609=\"D\",W609=0),$V$26*2,$V$26))-N609)-Z609))","v":""},"","","","","","","","","","",""]
["","","","","","","","","","",{"$f":"IF(B610=\"\",\"\",SUM($J$32:J610))","v":""},"","","","","","","","","","","","",""]
["","","","","","","","","","",{"$f":"IF(B611=\"\",\"\",SUM($J$32:J611))","v":""},"","","","","","","","","","","","",""]
["","","","","","","","","","",{"$f":"IF(B612=\"\",\"\",SUM($J$32:J612))","v":""},"","","","","","","","","","","","",""]
["","","","","","","","","","",{"$f":"IF(B613=\"\",\"\",SUM($J$32:J613))","v":""},"","","","","","","","","","","","",""]
["","","","","","","","","","",{"$f":"IF(B614=\"\",\"\",SUM($J$32:J614))","v":""},"","","","","","","","","","","","",""]
["","","","","","","","","","",{"$f":"IF(B615=\"\",\"\",SUM($J$32:J615))","v":""},"","","","","","","","","","","","",""]
["","","","","","","","","","",{"$f":"IF(B616=\"\",\"\",SUM($J$32:J616))","v":""},"","","","","","","","","","","","",""]
["","","","","","","","","","",{"$f":"IF(B617=\"\",\"\",SUM($J$32:J617))","v":""},"","","","","","","","","","","","",""]
["","","","","","","","","","",{"$f":"IF(B618=\"\",\"\",SUM($J$32:J618))","v":""},"","","","","","","","","","","","",""]
["","","","","","","","","","",{"$f":"IF(B619=\"\",\"\",SUM($J$32:J619))","v":""},"","","","","","","","","","","","",""]
["","","","","","","","","","",{"$f":"IF(B620=\"\",\"\",SUM($J$32:J620))","v":""},"","","","","","","","","","","","",""]
["","","","","","","","","","",{"$f":"IF(B621=\"\",\"\",SUM($J$32:J621))","v":""},"","","","","","","","","","","","",""]
["","","","","","","","","","",{"$f":"IF(B622=\"\",\"\",SUM($J$32:J622))","v":""},"","","","","","","","","","","","",""]
["","","","","","","","","","",{"$f":"IF(B623=\"\",\"\",SUM($J$32:J623))","v":""},"","","","","","","","","","","","",""]
["","","","","","","","","","",{"$f":"IF(B624=\"\",\"\",SUM($J$32:J624))","v":""},"","","","","","","","","","","","",""]
["","","","","","","","","","",{"$f":"IF(B625=\"\",\"\",SUM($J$32:J625))","v":""},"","","","","","","","","","","","",""]
["","","","","","","","","","",{"$f":"IF(B626=\"\",\"\",SUM($J$32:J626))","v":""},"","","","","","","","","","","","",""]
["","","","","","","","","","",{"$f":"IF(B627=\"\",\"\",SUM($J$32:J627))","v":""},"","","","","","","","","","","","",""]
["","","","","","","","","","",{"$f":"IF(B628=\"\",\"\",SUM($J$32:J628))","v":""},"","","","","","","","","","","","",""]
["","","","","","","","","","",{"$f":"IF(B629=\"\",\"\",SUM($J$32:J629))","v":""},"","","","","","","","","","","","",""]
["","","","","","","","","","",{"$f":"IF(B630=\"\",\"\",SUM($J$32:J630))","v":""},"","","","","","","","","","","","",""]
["","","","","","","","","","",{"$f":"IF(B631=\"\",\"\",SUM($J$32:J631))","v":""},"","","","","","","","","","","","",""]
["","","","","","","","","","",{"$f":"IF(B632=\"\",\"\",SUM($J$32:J632))","v":""},"","","","","","","","","","","","",""]
["","","","","","","","","","",{"$f":"IF(B633=\"\",\"\",SUM($J$32:J633))","v":""},"","","","","","","","","","","","",""]
["","","","","","","","","","",{"$f":"IF(B634=\"\",\"\",SUM($J$32:J634))","v":""},"","","","","","","","","","","","",""]
["","","","","","","","","","",{"$f":"IF(B635=\"\",\"\",SUM($J$32:J635))","v":""},"","","","","","","","","","","","",""]
["","","","","","","","","","",{"$f":"IF(B636=\"\",\"\",SUM($J$32:J636))","v":""},"","","","","","","","","","","","",""]
["","","","","","","","","","",{"$f":"IF(B637=\"\",\"\",SUM($J$32:J637))","v":""},"","","","","","","","","","","","",""]
["","","","","","","","","","",{"$f":"IF(B638=\"\",\"\",SUM($J$32:J638))","v":""},"","","","","","","","","","","","",""]
["","","","","","","","","","",{"$f":"IF(B639=\"\",\"\",SUM($J$32:J639))","v":""},"","","","","","","","","","","","",""]
["","","","","","","","","","",{"$f":"IF(B640=\"\",\"\",SUM($J$32:J640))","v":""},"","","","","","","","","","","","",""]
["","","","","","","","","","",{"$f":"IF(B641=\"\",\"\",SUM($J$32:J641))","v":""},"","","","","","","","","","","","",""]
["","","","","","","","","","",{"$f":"IF(B642=\"\",\"\",SUM($J$32:J642))","v":""},"","","","","","","","","","","","",""]
["","","","","","","","","","",{"$f":"IF(B643=\"\",\"\",SUM($J$32:J643))","v":""},"","","","","","","","","","","","",""]
["","","","","","","","","","",{"$f":"IF(B644=\"\",\"\",SUM($J$32:J644))","v":""},"","","","","","","","","","","","",""]
["","","","","","","","","","",{"$f":"IF(B645=\"\",\"\",SUM($J$32:J645))","v":""},"","","","","","","","","","","","",""]
["","","","","","","","","","",{"$f":"IF(B646=\"\",\"\",SUM($J$32:J646))","v":""},"","","","","","","","","","","","",""]
["","","","","","","","","","",{"$f":"IF(B647=\"\",\"\",SUM($J$32:J647))","v":""},"","","","","","","","","","","","",""]
["","","","","","","","","","",{"$f":"IF(B648=\"\",\"\",SUM($J$32:J648))","v":""},"","","","","","","","","","","","",""]
["","","","","","","","","","",{"$f":"IF(B649=\"\",\"\",SUM($J$32:J649))","v":""},"","","","","","","","","","","","",""]
["","","","","","","","","","",{"$f":"IF(B650=\"\",\"\",SUM($J$32:J650))","v":""},"","","","","","","","","","","","",""]
["","","","","","","","","","",{"$f":"IF(B651=\"\",\"\",SUM($J$32:J651))","v":""},"","","","","","","","","","","","",""]
["","","","","","","","","","",{"$f":"IF(B652=\"\",\"\",SUM($J$32:J652))","v":""},"","","","","","","","","","","","",""]
["","","","","","","","","","",{"$f":"IF(B653=\"\",\"\",SUM($J$32:J653))","v":""},"","","","","","","","","","","","",""]
["","","","","","","","","","",{"$f":"IF(B654=\"\",\"\",SUM($J$32:J654))","v":""},"","","","","","","","","","","","",""]
["","","","","","","","","","",{"$f":"IF(B655=\"\",\"\",SUM($J$32:J655))","v":""},"","","","","","","","","","","","",""]
["","","","","","","","","","",{"$f":"IF(B656=\"\",\"\",SUM($J$32:J656))","v":""},"","","","","","","","","","","","",""]
["","","","","","","","","","",{"$f":"IF(B657=\"\",\"\",SUM($J$32:J657))","v":""},"","","","","","","","","","","","",""]
["","","","","","","","","","",{"$f":"IF(B658=\"\",\"\",SUM($J$32:J658))","v":""},"","","","","","","","","","","","",""]
["","","","","","","","","","",{"$f":"IF(B659=\"\",\"\",SUM($J$32:J659))","v":""},"","","","","","","","","","","","",""]
["","","","","","","","","","",{"$f":"IF(B660=\"\",\"\",SUM($J$32:J660))","v":""},"","","","","","","","","","","","",""]
["","","","","","","","","","",{"$f":"IF(B661=\"\",\"\",SUM($J$32:J661))","v":""},"","","","","","","","","","","","",""]
["","","","","","","","","","",{"$f":"IF(B662=\"\",\"\",SUM($J$32:J662))","v":""},"","","","","","","","","","","","",""]
["","","","","","","","","","",{"$f":"IF(B663=\"\",\"\",SUM($J$32:J663))","v":""},"","","","","","","","","","","","",""]
["","","","","","","","","","",{"$f":"IF(B664=\"\",\"\",SUM($J$32:J664))","v":""},"","","","","","","","","","","","",""]
["","","","","","","","","","",{"$f":"IF(B665=\"\",\"\",SUM($J$32:J665))","v":""},"","","","","","","","","","","","",""]
["","","","","","","","","","",{"$f":"IF(B666=\"\",\"\",SUM($J$32:J666))","v":""},"","","","","","","","","","","","",""]
["","","","","","","","","","",{"$f":"IF(B667=\"\",\"\",SUM($J$32:J667))","v":""},"","","","","","","","","","","","",""]
[{"$f":"IF(A667>=$H$13,\"\",A667+1)","v":""},"",{"$f":"IF(B668=\"\",\"\",IF(OR(MONTH(EDATE($S$6,F668))=$H$16,MONTH(EDATE($S$6,F668))=$H$17),IF(ABS($H$17-$H$16)=1,EDATE($S$6,F668+2),EDATE($S$6,F668+1)),EDATE($S$6,F668)))","v":""},"",{"$f":"IF(B668=\"\",\"\",IF(OR(MONTH(DATE(YEAR(C667) + 1/12,MONTH(C667)+1,DAY(C667)))=$H$16,MONTH(DATE(YEAR(C667) + 1/12,MONTH(C667)+1,DAY(C667)))=$H$17),IF(ABS($H$17-$H$16)=1,E667+1,E667 + 2),E667 + 1))","v":""},{"$f":"IF(B668=\"\",\"\",F667+1)","v":""},{"$f":"IF(B668=\"\",\"\",$S$9)","v":""},{"$f":"IF(B668=\"\",\"\",$H$8)","v":""},{"$f":"IF(B668=\"\",\"\",C668-C667)","v":""},{"$f":"IF(B668=\"\",\"\",(I668)/30)","v":""},{"$f":"IF(B668=\"\",\"\",SUM($J$32:J668))","v":""},{"$f":"IF(B668=\"\",\"\",U667)","v":""},"",{"$f":"IF(B668=\"\",\"\",IF($L$24+$S$28 + $U$26<ROUND(ROUND(L668*(((1+(H668/100))^(I668/G668))-1),4),2),$L$24+$S$28 + $U$26-0.01,IF(ROUND(ROUND(L668*(((1+(H668/100))^(I668/G668))-1),4),2)+ $U$26>$L$24,$L$24+ $U$26+-0.01,ROUND(ROUND(L668*(((1+(H668/100))^(I668/G668))-1),4),2)+$U$26)))","v":""},{"$f":"IF(B668=\"\",\"\",IF(ISERROR(MATCH(MONTH(C668),$H$18:$H$19,0))=FALSE,$L$23,0)  +$L$23)","v":""},{"$f":"IF(B668=\"\",\"\",N668+O668)","v":""},{"$f":"IF(B668=\"\",\"\",M668+N668 + O668+AA668+IF(A668=$H$13,U668,0))","v":""},{"$f":"IF(B668=\"\",\"\",$L$26)","v":""},{"$f":"IF(B668=\"\",\"\",$L$25+Z668)","v":""},{"$f":"IF(B668=\"\",\"\",Q668+R668+S668)","v":""},{"$f":"IF(B668=\"\",\"\",ROUND(L668-M668,2))","v":""},{"$f":"IF(B668=\"\",\"\",IF(ROUND(ROUND(L668*(((1+(H668/100))^(I668/G668))-1),4),2) - $L$24<0,0,ROUND(ROUND(L668*(((1+(H668/100))^(I668/G668))-1),4),2) - $L$24))","v":""},{"$f":"IF(B668=\"\",\"\",(1+H668/100)^(1/12)-1)","v":""},{"$f":"IF(B668=\"\",\"\",Q668/((1+W668)^K668))","v":""}]
["","","","","","","","","","",{"$f":"IF(B669=\"\",\"\",SUM($J$32:J669))","v":""},"","","","","","","","","","","","",""]
["","","","","","","","","","",{"$f":"IF(B670=\"\",\"\",SUM($J$32:J670))","v":""},"","","","","","","","","","","","",""]
["","","","","","","","","","",{"$f":"IF(B671=\"\",\"\",SUM($J$32:J671))","v":""},"","","","","","","","","","","","",""]
["","","",{"$f":"IF(B672=\"\",\"\",IF(OR(MONTH(C672)=$H$18,MONTH(C672)=$H$19),\"D\",\"\"))","v":""},"","","","","","",{"$f":"IF(B672=\"\",\"\",SUM($J$32:J672))","v":""},"","","","","","","","","","","","",""]
["",{"$f":"IF(A673=\"\",\"\",IF(A673<=$H$22,0,1))","v":""},"","","","","","","","",{"$f":"IF(B673=\"\",\"\",SUM($J$32:J673))","v":""},"",{"$f":"IF(A673=$H$13,U672,IF(B673=\"\",\"\",IF((IF(ISERROR(MATCH(MONTH(C673),$H$18:$H$19,0))=FALSE,$L$24+$S$28,0)+$L$24+$S$28-IF(AND(D673=\"D\",W673=0),$V$26*2,$V$26))-N673<=0,0.01,IF(ISERROR(MATCH(MONTH(C673),$H$18:$H$19,0))=FALSE,$L$24+$S$28,0)+($L$24+$S$28-IF(AND(D673=\"D\",W673=0),$V$26*2,$V$26))-N673)-Z673))","v":""},"","","","","","","","","","",""]
["","","","","","","","","","",{"$f":"IF(B674=\"\",\"\",SUM($J$32:J674))","v":""},"","","","","","","","","","","","",""]
["","","","","","","","","","",{"$f":"IF(B675=\"\",\"\",SUM($J$32:J675))","v":""},"","","","","","","","","","","","",""]
["","","","","","","","","","",{"$f":"IF(B676=\"\",\"\",SUM($J$32:J676))","v":""},"","","","","","","","","","","","",""]
["","","","","","","","","","",{"$f":"IF(B677=\"\",\"\",SUM($J$32:J677))","v":""},"","","","","","","","","","","","",""]
["","","","","","","","","","",{"$f":"IF(B678=\"\",\"\",SUM($J$32:J678))","v":""},"","","","","","","","","","","","",""]
["","","","","","","","","","",{"$f":"IF(B679=\"\",\"\",SUM($J$32:J679))","v":""},"","","","","","","","","","","","",""]
["","","","","","","","","","",{"$f":"IF(B680=\"\",\"\",SUM($J$32:J680))","v":""},"","","","","","","","","","","","",""]
["","","","","","","","","","",{"$f":"IF(B681=\"\",\"\",SUM($J$32:J681))","v":""},"","","","","","","","","","","","",""]
["","","","","","","","","","",{"$f":"IF(B682=\"\",\"\",SUM($J$32:J682))","v":""},"","","","","","","","","","","","",""]
["","","","","","","","","","",{"$f":"IF(B683=\"\",\"\",SUM($J$32:J683))","v":""},"","","","","","","","","","","","",""]
["","","","","","","","","","",{"$f":"IF(B684=\"\",\"\",SUM($J$32:J684))","v":""},"","","","","","","","","","","","",""]
["","","","","","","","","","",{"$f":"IF(B685=\"\",\"\",SUM($J$32:J685))","v":""},"","","","","","","","","","","","",""]
["","","","","","","","","","",{"$f":"IF(B686=\"\",\"\",SUM($J$32:J686))","v":""},"","","","","","","","","","","","",""]
["","","","","","","","","","",{"$f":"IF(B687=\"\",\"\",SUM($J$32:J687))","v":""},"","","","","","","","","","","","",""]
["","","","","","","","","","",{"$f":"IF(B688=\"\",\"\",SUM($J$32:J688))","v":""},"","","","","","","","","","","","",""]
["","","","","","","","","","",{"$f":"IF(B689=\"\",\"\",SUM($J$32:J689))","v":""},"","","","","","","","","","","","",""]
["","","","","","","","","","",{"$f":"IF(B690=\"\",\"\",SUM($J$32:J690))","v":""},"","","","","","","","","","","","",""]
["","","","","","","","","","",{"$f":"IF(B691=\"\",\"\",SUM($J$32:J691))","v":""},"","","","","","","","","","","","",""]
["","","","","","","","","","",{"$f":"IF(B692=\"\",\"\",SUM($J$32:J692))","v":""},"","","","","","","","","","","","",""]
["","","","","","","","","","",{"$f":"IF(B693=\"\",\"\",SUM($J$32:J693))","v":""},"","","","","","","","","","","","",""]
["","","","","","","","","","",{"$f":"IF(B694=\"\",\"\",SUM($J$32:J694))","v":""},"","","","","","","","","","","","",""]
["","","","","","","","","","",{"$f":"IF(B695=\"\",\"\",SUM($J$32:J695))","v":""},"","","","","","","","","","","","",""]
["","","","","","","","","","",{"$f":"IF(B696=\"\",\"\",SUM($J$32:J696))","v":""},"","","","","","","","","","","","",""]
["","","","","","","","","","",{"$f":"IF(B697=\"\",\"\",SUM($J$32:J697))","v":""},"","","","","","","","","","","","",""]
["","","","","","","","","","",{"$f":"IF(B698=\"\",\"\",SUM($J$32:J698))","v":""},"","","","","","","","","","","","",""]
["","","","","","","","","","",{"$f":"IF(B699=\"\",\"\",SUM($J$32:J699))","v":""},"","","","","","","","","","","","",""]
["","","","","","","","","","",{"$f":"IF(B700=\"\",\"\",SUM($J$32:J700))","v":""},"","","","","","","","","","","","",""]
["","","","","","","","","","",{"$f":"IF(B701=\"\",\"\",SUM($J$32:J701))","v":""},"","","","","","","","","","","","",""]
["","","","","","","","","","",{"$f":"IF(B702=\"\",\"\",SUM($J$32:J702))","v":""},"","","","","","","","","","","","",""]
["","","","","","","","","","",{"$f":"IF(B703=\"\",\"\",SUM($J$32:J703))","v":""},"","","","","","","","","","","","",""]
["","","","","","","","","","",{"$f":"IF(B704=\"\",\"\",SUM($J$32:J704))","v":""},"","","","","","","","","","","","",""]
["","","","","","","","","","",{"$f":"IF(B705=\"\",\"\",SUM($J$32:J705))","v":""},"","","","","","","","","","","","",""]
["","","","","","","","","","",{"$f":"IF(B706=\"\",\"\",SUM($J$32:J706))","v":""},"","","","","","","","","","","","",""]
["","","","","","","","","","",{"$f":"IF(B707=\"\",\"\",SUM($J$32:J707))","v":""},"","","","","","","","","","","","",""]
["","","","","","","","","","",{"$f":"IF(B708=\"\",\"\",SUM($J$32:J708))","v":""},"","","","","","","","","","","","",""]
["","","","","","","","","","",{"$f":"IF(B709=\"\",\"\",SUM($J$32:J709))","v":""},"","","","","","","","","","","","",""]
["","","","","","","","","","",{"$f":"IF(B710=\"\",\"\",SUM($J$32:J710))","v":""},"","","","","","","","","","","","",""]
["","","","","","","","","","",{"$f":"IF(B711=\"\",\"\",SUM($J$32:J711))","v":""},"","","","","","","","","","","","",""]
["","","","","","","","","","",{"$f":"IF(B712=\"\",\"\",SUM($J$32:J712))","v":""},"","","","","","","","","","","","",""]
["","","","","","","","","","",{"$f":"IF(B713=\"\",\"\",SUM($J$32:J713))","v":""},"","","","","","","","","","","","",""]
["","","","","","","","","","",{"$f":"IF(B714=\"\",\"\",SUM($J$32:J714))","v":""},"","","","","","","","","","","","",""]
["","","","","","","","","","",{"$f":"IF(B715=\"\",\"\",SUM($J$32:J715))","v":""},"","","","","","","","","","","","",""]
["","","","","","","","","","",{"$f":"IF(B716=\"\",\"\",SUM($J$32:J716))","v":""},"","","","","","","","","","","","",""]
["","","","","","","","","","",{"$f":"IF(B717=\"\",\"\",SUM($J$32:J717))","v":""},"","","","","","","","","","","","",""]
["","","","","","","","","","",{"$f":"IF(B718=\"\",\"\",SUM($J$32:J718))","v":""},"","","","","","","","","","","","",""]
["","","","","","","","","","",{"$f":"IF(B719=\"\",\"\",SUM($J$32:J719))","v":""},"","","","","","","","","","","","",""]
["","","","","","","","","","",{"$f":"IF(B720=\"\",\"\",SUM($J$32:J720))","v":""},"","","","","","","","","","","","",""]
["","","","","","","","","","",{"$f":"IF(B721=\"\",\"\",SUM($J$32:J721))","v":""},"","","","","","","","","","","","",""]
["","","","","","","","","","",{"$f":"IF(B722=\"\",\"\",SUM($J$32:J722))","v":""},"","","","","","","","","","","","",""]
["","","","","","","","","","",{"$f":"IF(B723=\"\",\"\",SUM($J$32:J723))","v":""},"","","","","","","","","","","","",""]
["","","","","","","","","","",{"$f":"IF(B724=\"\",\"\",SUM($J$32:J724))","v":""},"","","","","","","","","","","","",""]
["","","","","","","","","","",{"$f":"IF(B725=\"\",\"\",SUM($J$32:J725))","v":""},"","","","","","","","","","","","",""]
["","","","","","","","","","",{"$f":"IF(B726=\"\",\"\",SUM($J$32:J726))","v":""},"","","","","","","","","","","","",""]
["","","","","","","","","","",{"$f":"IF(B727=\"\",\"\",SUM($J$32:J727))","v":""},"","","","","","","","","","","","",""]
["","","","","","","","","","",{"$f":"IF(B728=\"\",\"\",SUM($J$32:J728))","v":""},"","","","","","","","","","","","",""]
["","","","","","","","","","",{"$f":"IF(B729=\"\",\"\",SUM($J$32:J729))","v":""},"","","","","","","","","","","","",""]
["","","","","","","","","","",{"$f":"IF(B730=\"\",\"\",SUM($J$32:J730))","v":""},"","","","","","","","","","","","",""]
["","","","","","","","","","",{"$f":"IF(B731=\"\",\"\",SUM($J$32:J731))","v":""},"","","","","","","","","","","","",""]
[{"$f":"IF(A731>=$H$13,\"\",A731+1)","v":""},"",{"$f":"IF(B732=\"\",\"\",IF(OR(MONTH(EDATE($S$6,F732))=$H$16,MONTH(EDATE($S$6,F732))=$H$17),IF(ABS($H$17-$H$16)=1,EDATE($S$6,F732+2),EDATE($S$6,F732+1)),EDATE($S$6,F732)))","v":""},"",{"$f":"IF(B732=\"\",\"\",IF(OR(MONTH(DATE(YEAR(C731) + 1/12,MONTH(C731)+1,DAY(C731)))=$H$16,MONTH(DATE(YEAR(C731) + 1/12,MONTH(C731)+1,DAY(C731)))=$H$17),IF(ABS($H$17-$H$16)=1,E731+1,E731 + 2),E731 + 1))","v":""},{"$f":"IF(B732=\"\",\"\",F731+1)","v":""},{"$f":"IF(B732=\"\",\"\",$S$9)","v":""},{"$f":"IF(B732=\"\",\"\",$H$8)","v":""},{"$f":"IF(B732=\"\",\"\",C732-C731)","v":""},{"$f":"IF(B732=\"\",\"\",(I732)/30)","v":""},{"$f":"IF(B732=\"\",\"\",SUM($J$32:J732))","v":""},{"$f":"IF(B732=\"\",\"\",U731)","v":""},"",{"$f":"IF(B732=\"\",\"\",IF($L$24+$S$28 + $U$26<ROUND(ROUND(L732*(((1+(H732/100))^(I732/G732))-1),4),2),$L$24+$S$28 + $U$26-0.01,IF(ROUND(ROUND(L732*(((1+(H732/100))^(I732/G732))-1),4),2)+ $U$26>$L$24,$L$24+ $U$26+-0.01,ROUND(ROUND(L732*(((1+(H732/100))^(I732/G732))-1),4),2)+$U$26)))","v":""},{"$f":"IF(B732=\"\",\"\",IF(ISERROR(MATCH(MONTH(C732),$H$18:$H$19,0))=FALSE,$L$23,0)  +$L$23)","v":""},{"$f":"IF(B732=\"\",\"\",N732+O732)","v":""},{"$f":"IF(B732=\"\",\"\",M732+N732 + O732+AA732+IF(A732=$H$13,U732,0))","v":""},{"$f":"IF(B732=\"\",\"\",$L$26)","v":""},{"$f":"IF(B732=\"\",\"\",$L$25+Z732)","v":""},{"$f":"IF(B732=\"\",\"\",Q732+R732+S732)","v":""},{"$f":"IF(B732=\"\",\"\",ROUND(L732-M732,2))","v":""},{"$f":"IF(B732=\"\",\"\",IF(ROUND(ROUND(L732*(((1+(H732/100))^(I732/G732))-1),4),2) - $L$24<0,0,ROUND(ROUND(L732*(((1+(H732/100))^(I732/G732))-1),4),2) - $L$24))","v":""},{"$f":"IF(B732=\"\",\"\",(1+H732/100)^(1/12)-1)","v":""},{"$f":"IF(B732=\"\",\"\",Q732/((1+W732)^K732))","v":""}]
["","","","","","","","","","",{"$f":"IF(B733=\"\",\"\",SUM($J$32:J733))","v":""},"","","","","","","","","","","","",""]
["","","","","","","","","","",{"$f":"IF(B734=\"\",\"\",SUM($J$32:J734))","v":""},"","","","","","","","","","","","",""]
["","","","","","","","","","",{"$f":"IF(B735=\"\",\"\",SUM($J$32:J735))","v":""},"","","","","","","","","","","","",""]
["","","",{"$f":"IF(B736=\"\",\"\",IF(OR(MONTH(C736)=$H$18,MONTH(C736)=$H$19),\"D\",\"\"))","v":""},"","","","","","",{"$f":"IF(B736=\"\",\"\",SUM($J$32:J736))","v":""},"","","","","","","","","","","","",""]
["",{"$f":"IF(A737=\"\",\"\",IF(A737<=$H$22,0,1))","v":""},"","","","","","","","",{"$f":"IF(B737=\"\",\"\",SUM($J$32:J737))","v":""},"",{"$f":"IF(A737=$H$13,U736,IF(B737=\"\",\"\",IF((IF(ISERROR(MATCH(MONTH(C737),$H$18:$H$19,0))=FALSE,$L$24+$S$28,0)+$L$24+$S$28-IF(AND(D737=\"D\",W737=0),$V$26*2,$V$26))-N737<=0,0.01,IF(ISERROR(MATCH(MONTH(C737),$H$18:$H$19,0))=FALSE,$L$24+$S$28,0)+($L$24+$S$28-IF(AND(D737=\"D\",W737=0),$V$26*2,$V$26))-N737)-Z737))","v":""},"","","","","","","","","","",""]
["","","","","","","","","","",{"$f":"IF(B738=\"\",\"\",SUM($J$32:J738))","v":""},"","","","","","","","","","","","",""]
["","","","","","","","","","",{"$f":"IF(B739=\"\",\"\",SUM($J$32:J739))","v":""},"","","","","","","","","","","","",""]
["","","","","","","","","","",{"$f":"IF(B740=\"\",\"\",SUM($J$32:J740))","v":""},"","","","","","","","","","","","",""]
["","","","","","","","","","",{"$f":"IF(B741=\"\",\"\",SUM($J$32:J741))","v":""},"","","","","","","","","","","","",""]
["","","","","","","","","","",{"$f":"IF(B742=\"\",\"\",SUM($J$32:J742))","v":""},"","","","","","","","","","","","",""]
["","","","","","","","","","",{"$f":"IF(B743=\"\",\"\",SUM($J$32:J743))","v":""},"","","","","","","","","","","","",""]
["","","","","","","","","","",{"$f":"IF(B744=\"\",\"\",SUM($J$32:J744))","v":""},"","","","","","","","","","","","",""]
["","","","","","","","","","",{"$f":"IF(B745=\"\",\"\",SUM($J$32:J745))","v":""},"","","","","","","","","","","","",""]
["","","","","","","","","","",{"$f":"IF(B746=\"\",\"\",SUM($J$32:J746))","v":""},"","","","","","","","","","","","",""]
["","","","","","","","","","",{"$f":"IF(B747=\"\",\"\",SUM($J$32:J747))","v":""},"","","","","","","","","","","","",""]
["","","","","","","","","","",{"$f":"IF(B748=\"\",\"\",SUM($J$32:J748))","v":""},"","","","","","","","","","","","",""]
["","","","","","","","","","",{"$f":"IF(B749=\"\",\"\",SUM($J$32:J749))","v":""},"","","","","","","","","","","","",""]
["","","","","","","","","","",{"$f":"IF(B750=\"\",\"\",SUM($J$32:J750))","v":""},"","","","","","","","","","","","",""]
["","","","","","","","","","",{"$f":"IF(B751=\"\",\"\",SUM($J$32:J751))","v":""},"","","","","","","","","","","","",""]
["","","","","","","","","","",{"$f":"IF(B752=\"\",\"\",SUM($J$32:J752))","v":""},"","","","","","","","","","","","",""]
["","","","","","","","","","",{"$f":"IF(B753=\"\",\"\",SUM($J$32:J753))","v":""},"","","","","","","","","","","","",""]
["","","","","","","","","","",{"$f":"IF(B754=\"\",\"\",SUM($J$32:J754))","v":""},"","","","","","","","","","","","",""]
["","","","","","","","","","",{"$f":"IF(B755=\"\",\"\",SUM($J$32:J755))","v":""},"","","","","","","","","","","","",""]
["","","","","","","","","","",{"$f":"IF(B756=\"\",\"\",SUM($J$32:J756))","v":""},"","","","","","","","","","","","",""]
["","","","","","","","","","",{"$f":"IF(B757=\"\",\"\",SUM($J$32:J757))","v":""},"","","","","","","","","","","","",""]
["","","","","","","","","","",{"$f":"IF(B758=\"\",\"\",SUM($J$32:J758))","v":""},"","","","","","","","","","","","",""]
["","","","","","","","","","",{"$f":"IF(B759=\"\",\"\",SUM($J$32:J759))","v":""},"","","","","","","","","","","","",""]
["","","","","","","","","","",{"$f":"IF(B760=\"\",\"\",SUM($J$32:J760))","v":""},"","","","","","","","","","","","",""]
["","","","","","","","","","",{"$f":"IF(B761=\"\",\"\",SUM($J$32:J761))","v":""},"","","","","","","","","","","","",""]
["","","","","","","","","","",{"$f":"IF(B762=\"\",\"\",SUM($J$32:J762))","v":""},"","","","","","","","","","","","",""]
["","","","","","","","","","",{"$f":"IF(B763=\"\",\"\",SUM($J$32:J763))","v":""},"","","","","","","","","","","","",""]
["","","","","","","","","","",{"$f":"IF(B764=\"\",\"\",SUM($J$32:J764))","v":""},"","","","","","","","","","","","",""]
["","","","","","","","","","",{"$f":"IF(B765=\"\",\"\",SUM($J$32:J765))","v":""},"","","","","","","","","","","","",""]
["","","","","","","","","","",{"$f":"IF(B766=\"\",\"\",SUM($J$32:J766))","v":""},"","","","","","","","","","","","",""]
["","","","","","","","","","",{"$f":"IF(B767=\"\",\"\",SUM($J$32:J767))","v":""},"","","","","","","","","","","","",""]
["","","","","","","","","","",{"$f":"IF(B768=\"\",\"\",SUM($J$32:J768))","v":""},"","","","","","","","","","","","",""]
["","","","","","","","","","",{"$f":"IF(B769=\"\",\"\",SUM($J$32:J769))","v":""},"","","","","","","","","","","","",""]
["","","","","","","","","","",{"$f":"IF(B770=\"\",\"\",SUM($J$32:J770))","v":""},"","","","","","","","","","","","",""]
["","","","","","","","","","",{"$f":"IF(B771=\"\",\"\",SUM($J$32:J771))","v":""},"","","","","","","","","","","","",""]
["","","","","","","","","","",{"$f":"IF(B772=\"\",\"\",SUM($J$32:J772))","v":""},"","","","","","","","","","","","",""]
["","","","","","","","","","",{"$f":"IF(B773=\"\",\"\",SUM($J$32:J773))","v":""},"","","","","","","","","","","","",""]
["","","","","","","","","","",{"$f":"IF(B774=\"\",\"\",SUM($J$32:J774))","v":""},"","","","","","","","","","","","",""]
["","","","","","","","","","",{"$f":"IF(B775=\"\",\"\",SUM($J$32:J775))","v":""},"","","","","","","","","","","","",""]
["","","","","","","","","","",{"$f":"IF(B776=\"\",\"\",SUM($J$32:J776))","v":""},"","","","","","","","","","","","",""]
["","","","","","","","","","",{"$f":"IF(B777=\"\",\"\",SUM($J$32:J777))","v":""},"","","","","","","","","","","","",""]
["","","","","","","","","","",{"$f":"IF(B778=\"\",\"\",SUM($J$32:J778))","v":""},"","","","","","","","","","","","",""]
["","","","","","","","","","",{"$f":"IF(B779=\"\",\"\",SUM($J$32:J779))","v":""},"","","","","","","","","","","","",""]
["","","","","","","","","","",{"$f":"IF(B780=\"\",\"\",SUM($J$32:J780))","v":""},"","","","","","","","","","","","",""]
["","","","","","","","","","",{"$f":"IF(B781=\"\",\"\",SUM($J$32:J781))","v":""},"","","","","","","","","","","","",""]
["","","","","","","","","","",{"$f":"IF(B782=\"\",\"\",SUM($J$32:J782))","v":""},"","","","","","","","","","","","",""]
["","","","","","","","","","",{"$f":"IF(B783=\"\",\"\",SUM($J$32:J783))","v":""},"","","","","","","","","","","","",""]
["","","","","","","","","","",{"$f":"IF(B784=\"\",\"\",SUM($J$32:J784))","v":""},"","","","","","","","","","","","",""]
["","","","","","","","","","",{"$f":"IF(B785=\"\",\"\",SUM($J$32:J785))","v":""},"","","","","","","","","","","","",""]
["","","","","","","","","","",{"$f":"IF(B786=\"\",\"\",SUM($J$32:J786))","v":""},"","","","","","","","","","","","",""]
["","","","","","","","","","",{"$f":"IF(B787=\"\",\"\",SUM($J$32:J787))","v":""},"","","","","","","","","","","","",""]
["","","","","","","","","","",{"$f":"IF(B788=\"\",\"\",SUM($J$32:J788))","v":""},"","","","","","","","","","","","",""]
["","","","","","","","","","",{"$f":"IF(B789=\"\",\"\",SUM($J$32:J789))","v":""},"","","","","","","","","","","","",""]
["","","","","","","","","","",{"$f":"IF(B790=\"\",\"\",SUM($J$32:J790))","v":""},"","","","","","","","","","","","",""]
["","","","","","","","","","",{"$f":"IF(B791=\"\",\"\",SUM($J$32:J791))","v":""},"","","","","","","","","","","","",""]
["","","","","","","","","","",{"$f":"IF(B792=\"\",\"\",SUM($J$32:J792))","v":""},"","","","","","","","","","","","",""]
["","","","","","","","","","",{"$f":"IF(B793=\"\",\"\",SUM($J$32:J793))","v":""},"","","","","","","","","","","","",""]
["","","","","","","","","","",{"$f":"IF(B794=\"\",\"\",SUM($J$32:J794))","v":""},"","","","","","","","","","","","",""]
["","","","","","","","","","",{"$f":"IF(B795=\"\",\"\",SUM($J$32:J795))","v":""},"","","","","","","","","","","","",""]
[{"$f":"IF(A795>=$H$13,\"\",A795+1)","v":""},"",{"$f":"IF(B796=\"\",\"\",IF(OR(MONTH(EDATE($S$6,F796))=$H$16,MONTH(EDATE($S$6,F796))=$H$17),IF(ABS($H$17-$H$16)=1,EDATE($S$6,F796+2),EDATE($S$6,F796+1)),EDATE($S$6,F796)))","v":""},"",{"$f":"IF(B796=\"\",\"\",IF(OR(MONTH(DATE(YEAR(C795) + 1/12,MONTH(C795)+1,DAY(C795)))=$H$16,MONTH(DATE(YEAR(C795) + 1/12,MONTH(C795)+1,DAY(C795)))=$H$17),IF(ABS($H$17-$H$16)=1,E795+1,E795 + 2),E795 + 1))","v":""},{"$f":"IF(B796=\"\",\"\",F795+1)","v":""},{"$f":"IF(B796=\"\",\"\",$S$9)","v":""},{"$f":"IF(B796=\"\",\"\",$H$8)","v":""},{"$f":"IF(B796=\"\",\"\",C796-C795)","v":""},{"$f":"IF(B796=\"\",\"\",(I796)/30)","v":""},{"$f":"IF(B796=\"\",\"\",SUM($J$32:J796))","v":""},{"$f":"IF(B796=\"\",\"\",U795)","v":""},"",{"$f":"IF(B796=\"\",\"\",IF($L$24+$S$28 + $U$26<ROUND(ROUND(L796*(((1+(H796/100))^(I796/G796))-1),4),2),$L$24+$S$28 + $U$26-0.01,IF(ROUND(ROUND(L796*(((1+(H796/100))^(I796/G796))-1),4),2)+ $U$26>$L$24,$L$24+ $U$26+-0.01,ROUND(ROUND(L796*(((1+(H796/100))^(I796/G796))-1),4),2)+$U$26)))","v":""},{"$f":"IF(B796=\"\",\"\",IF(ISERROR(MATCH(MONTH(C796),$H$18:$H$19,0))=FALSE,$L$23,0)  +$L$23)","v":""},{"$f":"IF(B796=\"\",\"\",N796+O796)","v":""},{"$f":"IF(B796=\"\",\"\",M796+N796 + O796+AA796+IF(A796=$H$13,U796,0))","v":""},{"$f":"IF(B796=\"\",\"\",$L$26)","v":""},{"$f":"IF(B796=\"\",\"\",$L$25+Z796)","v":""},{"$f":"IF(B796=\"\",\"\",Q796+R796+S796)","v":""},{"$f":"IF(B796=\"\",\"\",ROUND(L796-M796,2))","v":""},{"$f":"IF(B796=\"\",\"\",IF(ROUND(ROUND(L796*(((1+(H796/100))^(I796/G796))-1),4),2) - $L$24<0,0,ROUND(ROUND(L796*(((1+(H796/100))^(I796/G796))-1),4),2) - $L$24))","v":""},{"$f":"IF(B796=\"\",\"\",(1+H796/100)^(1/12)-1)","v":""},{"$f":"IF(B796=\"\",\"\",Q796/((1+W796)^K796))","v":""}]
["","","","","","","","","","",{"$f":"IF(B797=\"\",\"\",SUM($J$32:J797))","v":""},"","","","","","","","","","","","",""]
["","","","","","","","","","",{"$f":"IF(B798=\"\",\"\",SUM($J$32:J798))","v":""},"","","","","","","","","","","","",""]
["","","","","","","","","","",{"$f":"IF(B799=\"\",\"\",SUM($J$32:J799))","v":""},"","","","","","","","","","","","",""]
["","","",{"$f":"IF(B800=\"\",\"\",IF(OR(MONTH(C800)=$H$18,MONTH(C800)=$H$19),\"D\",\"\"))","v":""},"","","","","","",{"$f":"IF(B800=\"\",\"\",SUM($J$32:J800))","v":""},"","","","","","","","","","","","",""]
["",{"$f":"IF(A801=\"\",\"\",IF(A801<=$H$22,0,1))","v":""},"","","","","","","","",{"$f":"IF(B801=\"\",\"\",SUM($J$32:J801))","v":""},"",{"$f":"IF(A801=$H$13,U800,IF(B801=\"\",\"\",IF((IF(ISERROR(MATCH(MONTH(C801),$H$18:$H$19,0))=FALSE,$L$24+$S$28,0)+$L$24+$S$28-IF(AND(D801=\"D\",W801=0),$V$26*2,$V$26))-N801<=0,0.01,IF(ISERROR(MATCH(MONTH(C801),$H$18:$H$19,0))=FALSE,$L$24+$S$28,0)+($L$24+$S$28-IF(AND(D801=\"D\",W801=0),$V$26*2,$V$26))-N801)-Z801))","v":""},"","","","","","","","","","",""]
["","","","","","","","","","",{"$f":"IF(B802=\"\",\"\",SUM($J$32:J802))","v":""},"","","","","","","","","","","","",""]
["","","","","","","","","","",{"$f":"IF(B803=\"\",\"\",SUM($J$32:J803))","v":""},"","","","","","","","","","","","",""]
["","","","","","","","","","",{"$f":"IF(B804=\"\",\"\",SUM($J$32:J804))","v":""},"","","","","","","","","","","","",""]
["","","","","","","","","","",{"$f":"IF(B805=\"\",\"\",SUM($J$32:J805))","v":""},"","","","","","","","","","","","",""]
["","","","","","","","","","",{"$f":"IF(B806=\"\",\"\",SUM($J$32:J806))","v":""},"","","","","","","","","","","","",""]
["","","","","","","","","","",{"$f":"IF(B807=\"\",\"\",SUM($J$32:J807))","v":""},"","","","","","","","","","","","",""]
["","","","","","","","","","",{"$f":"IF(B808=\"\",\"\",SUM($J$32:J808))","v":""},"","","","","","","","","","","","",""]
["","","","","","","","","","",{"$f":"IF(B809=\"\",\"\",SUM($J$32:J809))","v":""},"","","","","","","","","","","","",""]
["","","","","","","","","","",{"$f":"IF(B810=\"\",\"\",SUM($J$32:J810))","v":""},"","","","","","","","","","","","",""]
["","","","","","","","","","",{"$f":"IF(B811=\"\",\"\",SUM($J$32:J811))","v":""},"","","","","","","","","","","","",""]
["","","","","","","","","","",{"$f":"IF(B812=\"\",\"\",SUM($J$32:J812))","v":""},"","","","","","","","","","","","",""]
["","","","","","","","","","",{"$f":"IF(B813=\"\",\"\",SUM($J$32:J813))","v":""},"","","","","","","","","","","","",""]
["","","","","","","","","","",{"$f":"IF(B814=\"\",\"\",SUM($J$32:J814))","v":""},"","","","","","","","","","","","",""]
["","","","","","","","","","",{"$f":"IF(B815=\"\",\"\",SUM($J$32:J815))","v":""},"","","","","","","","","","","","",""]
["","","","","","","","","","",{"$f":"IF(B816=\"\",\"\",SUM($J$32:J816))","v":""},"","","","","","","","","","","","",""]
["","","","","","","","","","",{"$f":"IF(B817=\"\",\"\",SUM($J$32:J817))","v":""},"","","","","","","","","","","","",""]
["","","","","","","","","","",{"$f":"IF(B818=\"\",\"\",SUM($J$32:J818))","v":""},"","","","","","","","","","","","",""]
["","","","","","","","","","",{"$f":"IF(B819=\"\",\"\",SUM($J$32:J819))","v":""},"","","","","","","","","","","","",""]
["","","","","","","","","","",{"$f":"IF(B820=\"\",\"\",SUM($J$32:J820))","v":""},"","","","","","","","","","","","",""]
["","","","","","","","","","",{"$f":"IF(B821=\"\",\"\",SUM($J$32:J821))","v":""},"","","","","","","","","","","","",""]
["","","","","","","","","","",{"$f":"IF(B822=\"\",\"\",SUM($J$32:J822))","v":""},"","","","","","","","","","","","",""]
["","","","","","","","","","",{"$f":"IF(B823=\"\",\"\",SUM($J$32:J823))","v":""},"","","","","","","","","","","","",""]
["","","","","","","","","","",{"$f":"IF(B824=\"\",\"\",SUM($J$32:J824))","v":""},"","","","","","","","","","","","",""]
["","","","","","","","","","",{"$f":"IF(B825=\"\",\"\",SUM($J$32:J825))","v":""},"","","","","","","","","","","","",""]
["","","","","","","","","","",{"$f":"IF(B826=\"\",\"\",SUM($J$32:J826))","v":""},"","","","","","","","","","","","",""]
["","","","","","","","","","",{"$f":"IF(B827=\"\",\"\",SUM($J$32:J827))","v":""},"","","","","","","","","","","","",""]
["","","","","","","","","","",{"$f":"IF(B828=\"\",\"\",SUM($J$32:J828))","v":""},"","","","","","","","","","","","",""]
["","","","","","","","","","",{"$f":"IF(B829=\"\",\"\",SUM($J$32:J829))","v":""},"","","","","","","","","","","","",""]
["","","","","","","","","","",{"$f":"IF(B830=\"\",\"\",SUM($J$32:J830))","v":""},"","","","","","","","","","","","",""]
["","","","","","","","","","",{"$f":"IF(B831=\"\",\"\",SUM($J$32:J831))","v":""},"","","","","","","","","","","","",""]
["","","","","","","","","","",{"$f":"IF(B832=\"\",\"\",SUM($J$32:J832))","v":""},"","","","","","","","","","","","",""]
["","","","","","","","","","",{"$f":"IF(B833=\"\",\"\",SUM($J$32:J833))","v":""},"","","","","","","","","","","","",""]
["","","","","","","","","","",{"$f":"IF(B834=\"\",\"\",SUM($J$32:J834))","v":""},"","","","","","","","","","","","",""]
["","","","","","","","","","",{"$f":"IF(B835=\"\",\"\",SUM($J$32:J835))","v":""},"","","","","","","","","","","","",""]
["","","","","","","","","","",{"$f":"IF(B836=\"\",\"\",SUM($J$32:J836))","v":""},"","","","","","","","","","","","",""]
["","","","","","","","","","",{"$f":"IF(B837=\"\",\"\",SUM($J$32:J837))","v":""},"","","","","","","","","","","","",""]
["","","","","","","","","","",{"$f":"IF(B838=\"\",\"\",SUM($J$32:J838))","v":""},"","","","","","","","","","","","",""]
["","","","","","","","","","",{"$f":"IF(B839=\"\",\"\",SUM($J$32:J839))","v":""},"","","","","","","","","","","","",""]
["","","","","","","","","","",{"$f":"IF(B840=\"\",\"\",SUM($J$32:J840))","v":""},"","","","","","","","","","","","",""]
["","","","","","","","","","",{"$f":"IF(B841=\"\",\"\",SUM($J$32:J841))","v":""},"","","","","","","","","","","","",""]
["","","","","","","","","","",{"$f":"IF(B842=\"\",\"\",SUM($J$32:J842))","v":""},"","","","","","","","","","","","",""]
["","","","","","","","","","",{"$f":"IF(B843=\"\",\"\",SUM($J$32:J843))","v":""},"","","","","","","","","","","","",""]
["","","","","","","","","","",{"$f":"IF(B844=\"\",\"\",SUM($J$32:J844))","v":""},"","","","","","","","","","","","",""]
["","","","","","","","","","",{"$f":"IF(B845=\"\",\"\",SUM($J$32:J845))","v":""},"","","","","","","","","","","","",""]
["","","","","","","","","","",{"$f":"IF(B846=\"\",\"\",SUM($J$32:J846))","v":""},"","","","","","","","","","","","",""]
["","","","","","","","","","",{"$f":"IF(B847=\"\",\"\",SUM($J$32:J847))","v":""},"","","","","","","","","","","","",""]
["","","","","","","","","","",{"$f":"IF(B848=\"\",\"\",SUM($J$32:J848))","v":""},"","","","","","","","","","","","",""]
["","","","","","","","","","",{"$f":"IF(B849=\"\",\"\",SUM($J$32:J849))","v":""},"","","","","","","","","","","","",""]
["","","","","","","","","","",{"$f":"IF(B850=\"\",\"\",SUM($J$32:J850))","v":""},"","","","","","","","","","","","",""]
["","","","","","","","","","",{"$f":"IF(B851=\"\",\"\",SUM($J$32:J851))","v":""},"","","","","","","","","","","","",""]
["","","","","","","","","","",{"$f":"IF(B852=\"\",\"\",SUM($J$32:J852))","v":""},"","","","","","","","","","","","",""]
["","","","","","","","","","",{"$f":"IF(B853=\"\",\"\",SUM($J$32:J853))","v":""},"","","","","","","","","","","","",""]
["","","","","","","","","","",{"$f":"IF(B854=\"\",\"\",SUM($J$32:J854))","v":""},"","","","","","","","","","","","",""]
["","","","","","","","","","",{"$f":"IF(B855=\"\",\"\",SUM($J$32:J855))","v":""},"","","","","","","","","","","","",""]
["","","","","","","","","","",{"$f":"IF(B856=\"\",\"\",SUM($J$32:J856))","v":""},"","","","","","","","","","","","",""]
["","","","","","","","","","",{"$f":"IF(B857=\"\",\"\",SUM($J$32:J857))","v":""},"","","","","","","","","","","","",""]
["","","","","","","","","","",{"$f":"IF(B858=\"\",\"\",SUM($J$32:J858))","v":""},"","","","","","","","","","","","",""]
["","","","","","","","","","",{"$f":"IF(B859=\"\",\"\",SUM($J$32:J859))","v":""},"","","","","","","","","","","","",""]
[{"$f":"IF(A859>=$H$13,\"\",A859+1)","v":""},"",{"$f":"IF(B860=\"\",\"\",IF(OR(MONTH(EDATE($S$6,F860))=$H$16,MONTH(EDATE($S$6,F860))=$H$17),IF(ABS($H$17-$H$16)=1,EDATE($S$6,F860+2),EDATE($S$6,F860+1)),EDATE($S$6,F860)))","v":""},"",{"$f":"IF(B860=\"\",\"\",IF(OR(MONTH(DATE(YEAR(C859) + 1/12,MONTH(C859)+1,DAY(C859)))=$H$16,MONTH(DATE(YEAR(C859) + 1/12,MONTH(C859)+1,DAY(C859)))=$H$17),IF(ABS($H$17-$H$16)=1,E859+1,E859 + 2),E859 + 1))","v":""},{"$f":"IF(B860=\"\",\"\",F859+1)","v":""},{"$f":"IF(B860=\"\",\"\",$S$9)","v":""},{"$f":"IF(B860=\"\",\"\",$H$8)","v":""},{"$f":"IF(B860=\"\",\"\",C860-C859)","v":""},{"$f":"IF(B860=\"\",\"\",(I860)/30)","v":""},{"$f":"IF(B860=\"\",\"\",SUM($J$32:J860))","v":""},{"$f":"IF(B860=\"\",\"\",U859)","v":""},"",{"$f":"IF(B860=\"\",\"\",IF($L$24+$S$28 + $U$26<ROUND(ROUND(L860*(((1+(H860/100))^(I860/G860))-1),4),2),$L$24+$S$28 + $U$26-0.01,IF(ROUND(ROUND(L860*(((1+(H860/100))^(I860/G860))-1),4),2)+ $U$26>$L$24,$L$24+ $U$26+-0.01,ROUND(ROUND(L860*(((1+(H860/100))^(I860/G860))-1),4),2)+$U$26)))","v":""},{"$f":"IF(B860=\"\",\"\",IF(ISERROR(MATCH(MONTH(C860),$H$18:$H$19,0))=FALSE,$L$23,0)  +$L$23)","v":""},{"$f":"IF(B860=\"\",\"\",N860+O860)","v":""},{"$f":"IF(B860=\"\",\"\",M860+N860 + O860+AA860+IF(A860=$H$13,U860,0))","v":""},{"$f":"IF(B860=\"\",\"\",$L$26)","v":""},{"$f":"IF(B860=\"\",\"\",$L$25+Z860)","v":""},{"$f":"IF(B860=\"\",\"\",Q860+R860+S860)","v":""},{"$f":"IF(B860=\"\",\"\",ROUND(L860-M860,2))","v":""},{"$f":"IF(B860=\"\",\"\",IF(ROUND(ROUND(L860*(((1+(H860/100))^(I860/G860))-1),4),2) - $L$24<0,0,ROUND(ROUND(L860*(((1+(H860/100))^(I860/G860))-1),4),2) - $L$24))","v":""},{"$f":"IF(B860=\"\",\"\",(1+H860/100)^(1/12)-1)","v":""},{"$f":"IF(B860=\"\",\"\",Q860/((1+W860)^K860))","v":""}]
["","","","","","","","","","",{"$f":"IF(B861=\"\",\"\",SUM($J$32:J861))","v":""},"","","","","","","","","","","","",""]
["","","","","","","","","","",{"$f":"IF(B862=\"\",\"\",SUM($J$32:J862))","v":""},"","","","","","","","","","","","",""]
["","","","","","","","","","",{"$f":"IF(B863=\"\",\"\",SUM($J$32:J863))","v":""},"","","","","","","","","","","","",""]
["","","",{"$f":"IF(B864=\"\",\"\",IF(OR(MONTH(C864)=$H$18,MONTH(C864)=$H$19),\"D\",\"\"))","v":""},"","","","","","",{"$f":"IF(B864=\"\",\"\",SUM($J$32:J864))","v":""},"","","","","","","","","","","","",""]
["",{"$f":"IF(A865=\"\",\"\",IF(A865<=$H$22,0,1))","v":""},"","","","","","","","",{"$f":"IF(B865=\"\",\"\",SUM($J$32:J865))","v":""},"",{"$f":"IF(A865=$H$13,U864,IF(B865=\"\",\"\",IF((IF(ISERROR(MATCH(MONTH(C865),$H$18:$H$19,0))=FALSE,$L$24+$S$28,0)+$L$24+$S$28-IF(AND(D865=\"D\",W865=0),$V$26*2,$V$26))-N865<=0,0.01,IF(ISERROR(MATCH(MONTH(C865),$H$18:$H$19,0))=FALSE,$L$24+$S$28,0)+($L$24+$S$28-IF(AND(D865=\"D\",W865=0),$V$26*2,$V$26))-N865)-Z865))","v":""},"","","","","","","","","","",""]
["","","","","","","","","","",{"$f":"IF(B866=\"\",\"\",SUM($J$32:J866))","v":""},"","","","","","","","","","","","",""]
["","","","","","","","","","",{"$f":"IF(B867=\"\",\"\",SUM($J$32:J867))","v":""},"","","","","","","","","","","","",""]
["","","","","","","","","","",{"$f":"IF(B868=\"\",\"\",SUM($J$32:J868))","v":""},"","","","","","","","","","","","",""]
["","","","","","","","","","",{"$f":"IF(B869=\"\",\"\",SUM($J$32:J869))","v":""},"","","","","","","","","","","","",""]
["","","","","","","","","","",{"$f":"IF(B870=\"\",\"\",SUM($J$32:J870))","v":""},"","","","","","","","","","","","",""]
["","","","","","","","","","",{"$f":"IF(B871=\"\",\"\",SUM($J$32:J871))","v":""},"","","","","","","","","","","","",""]
["","","","","","","","","","",{"$f":"IF(B872=\"\",\"\",SUM($J$32:J872))","v":""},"","","","","","","","","","","","",""]
["","","","","","","","","","",{"$f":"IF(B873=\"\",\"\",SUM($J$32:J873))","v":""},"","","","","","","","","","","","",""]
["","","","","","","","","","",{"$f":"IF(B874=\"\",\"\",SUM($J$32:J874))","v":""},"","","","","","","","","","","","",""]
["","","","","","","","","","",{"$f":"IF(B875=\"\",\"\",SUM($J$32:J875))","v":""},"","","","","","","","","","","","",""]
["","","","","","","","","","",{"$f":"IF(B876=\"\",\"\",SUM($J$32:J876))","v":""},"","","","","","","","","","","","",""]
["","","","","","","","","","",{"$f":"IF(B877=\"\",\"\",SUM($J$32:J877))","v":""},"","","","","","","","","","","","",""]
["","","","","","","","","","",{"$f":"IF(B878=\"\",\"\",SUM($J$32:J878))","v":""},"","","","","","","","","","","","",""]
["","","","","","","","","","",{"$f":"IF(B879=\"\",\"\",SUM($J$32:J879))","v":""},"","","","","","","","","","","","",""]
["","","","","","","","","","",{"$f":"IF(B880=\"\",\"\",SUM($J$32:J880))","v":""},"","","","","","","","","","","","",""]
["","","","","","","","","","",{"$f":"IF(B881=\"\",\"\",SUM($J$32:J881))","v":""},"","","","","","","","","","","","",""]
["","","","","","","","","","",{"$f":"IF(B882=\"\",\"\",SUM($J$32:J882))","v":""},"","","","","","","","","","","","",""]
["","","","","","","","","","",{"$f":"IF(B883=\"\",\"\",SUM($J$32:J883))","v":""},"","","","","","","","","","","","",""]
["","","","","","","","","","",{"$f":"IF(B884=\"\",\"\",SUM($J$32:J884))","v":""},"","","","","","","","","","","","",""]
["","","","","","","","","","",{"$f":"IF(B885=\"\",\"\",SUM($J$32:J885))","v":""},"","","","","","","","","","","","",""]
["","","","","","","","","","",{"$f":"IF(B886=\"\",\"\",SUM($J$32:J886))","v":""},"","","","","","","","","","","","",""]
["","","","","","","","","","",{"$f":"IF(B887=\"\",\"\",SUM($J$32:J887))","v":""},"","","","","","","","","","","","",""]
["","","","","","","","","","",{"$f":"IF(B888=\"\",\"\",SUM($J$32:J888))","v":""},"","","","","","","","","","","","",""]
["","","","","","","","","","",{"$f":"IF(B889=\"\",\"\",SUM($J$32:J889))","v":""},"","","","","","","","","","","","",""]
["","","","","","","","","","",{"$f":"IF(B890=\"\",\"\",SUM($J$32:J890))","v":""},"","","","","","","","","","","","",""]
["","","","","","","","","","",{"$f":"IF(B891=\"\",\"\",SUM($J$32:J891))","v":""},"","","","","","","","","","","","",""]
["","","","","","","","","","",{"$f":"IF(B892=\"\",\"\",SUM($J$32:J892))","v":""},"","","","","","","","","","","","",""]
["","","","","","","","","","",{"$f":"IF(B893=\"\",\"\",SUM($J$32:J893))","v":""},"","","","","","","","","","","","",""]
["","","","","","","","","","",{"$f":"IF(B894=\"\",\"\",SUM($J$32:J894))","v":""},"","","","","","","","","","","","",""]
["","","","","","","","","","",{"$f":"IF(B895=\"\",\"\",SUM($J$32:J895))","v":""},"","","","","","","","","","","","",""]
["","","","","","","","","","",{"$f":"IF(B896=\"\",\"\",SUM($J$32:J896))","v":""},"","","","","","","","","","","","",""]
["","","","","","","","","","",{"$f":"IF(B897=\"\",\"\",SUM($J$32:J897))","v":""},"","","","","","","","","","","","",""]
["","","","","","","","","","",{"$f":"IF(B898=\"\",\"\",SUM($J$32:J898))","v":""},"","","","","","","","","","","","",""]
["","","","","","","","","","",{"$f":"IF(B899=\"\",\"\",SUM($J$32:J899))","v":""},"","","","","","","","","","","","",""]
["","","","","","","","","","",{"$f":"IF(B900=\"\",\"\",SUM($J$32:J900))","v":""},"","","","","","","","","","","","",""]
["","","","","","","","","","",{"$f":"IF(B901=\"\",\"\",SUM($J$32:J901))","v":""},"","","","","","","","","","","","",""]
["","","","","","","","","","",{"$f":"IF(B902=\"\",\"\",SUM($J$32:J902))","v":""},"","","","","","","","","","","","",""]
["","","","","","","","","","",{"$f":"IF(B903=\"\",\"\",SUM($J$32:J903))","v":""},"","","","","","","","","","","","",""]
["","","","","","","","","","",{"$f":"IF(B904=\"\",\"\",SUM($J$32:J904))","v":""},"","","","","","","","","","","","",""]
["","","","","","","","","","",{"$f":"IF(B905=\"\",\"\",SUM($J$32:J905))","v":""},"","","","","","","","","","","","",""]
["","","","","","","","","","",{"$f":"IF(B906=\"\",\"\",SUM($J$32:J906))","v":""},"","","","","","","","","","","","",""]
["","","","","","","","","","",{"$f":"IF(B907=\"\",\"\",SUM($J$32:J907))","v":""},"","","","","","","","","","","","",""]
["","","","","","","","","","",{"$f":"IF(B908=\"\",\"\",SUM($J$32:J908))","v":""},"","","","","","","","","","","","",""]
["","","","","","","","","","",{"$f":"IF(B909=\"\",\"\",SUM($J$32:J909))","v":""},"","","","","","","","","","","","",""]
["","","","","","","","","","",{"$f":"IF(B910=\"\",\"\",SUM($J$32:J910))","v":""},"","","","","","","","","","","","",""]
["","","","","","","","","","",{"$f":"IF(B911=\"\",\"\",SUM($J$32:J911))","v":""},"","","","","","","","","","","","",""]
["","","","","","","","","","",{"$f":"IF(B912=\"\",\"\",SUM($J$32:J912))","v":""},"","","","","","","","","","","","",""]
["","","","","","","","","","",{"$f":"IF(B913=\"\",\"\",SUM($J$32:J913))","v":""},"","","","","","","","","","","","",""]
["","","","","","","","","","",{"$f":"IF(B914=\"\",\"\",SUM($J$32:J914))","v":""},"","","","","","","","","","","","",""]
["","","","","","","","","","",{"$f":"IF(B915=\"\",\"\",SUM($J$32:J915))","v":""},"","","","","","","","","","","","",""]
["","","","","","","","","","",{"$f":"IF(B916=\"\",\"\",SUM($J$32:J916))","v":""},"","","","","","","","","","","","",""]
["","","","","","","","","","",{"$f":"IF(B917=\"\",\"\",SUM($J$32:J917))","v":""},"","","","","","","","","","","","",""]
["","","","","","","","","","",{"$f":"IF(B918=\"\",\"\",SUM($J$32:J918))","v":""},"","","","","","","","","","","","",""]
["","","","","","","","","","",{"$f":"IF(B919=\"\",\"\",SUM($J$32:J919))","v":""},"","","","","","","","","","","","",""]
["","","","","","","","","","",{"$f":"IF(B920=\"\",\"\",SUM($J$32:J920))","v":""},"","","","","","","","","","","","",""]
["","","","","","","","","","",{"$f":"IF(B921=\"\",\"\",SUM($J$32:J921))","v":""},"","","","","","","","","","","","",""]
["","","","","","","","","","",{"$f":"IF(B922=\"\",\"\",SUM($J$32:J922))","v":""},"","","","","","","","","","","","",""]
["","","","","","","","","","",{"$f":"IF(B923=\"\",\"\",SUM($J$32:J923))","v":""},"","","","","","","","","","","","",""]
[{"$f":"IF(A923>=$H$13,\"\",A923+1)","v":""},"",{"$f":"IF(B924=\"\",\"\",IF(OR(MONTH(EDATE($S$6,F924))=$H$16,MONTH(EDATE($S$6,F924))=$H$17),IF(ABS($H$17-$H$16)=1,EDATE($S$6,F924+2),EDATE($S$6,F924+1)),EDATE($S$6,F924)))","v":""},"",{"$f":"IF(B924=\"\",\"\",IF(OR(MONTH(DATE(YEAR(C923) + 1/12,MONTH(C923)+1,DAY(C923)))=$H$16,MONTH(DATE(YEAR(C923) + 1/12,MONTH(C923)+1,DAY(C923)))=$H$17),IF(ABS($H$17-$H$16)=1,E923+1,E923 + 2),E923 + 1))","v":""},{"$f":"IF(B924=\"\",\"\",F923+1)","v":""},{"$f":"IF(B924=\"\",\"\",$S$9)","v":""},{"$f":"IF(B924=\"\",\"\",$H$8)","v":""},{"$f":"IF(B924=\"\",\"\",C924-C923)","v":""},{"$f":"IF(B924=\"\",\"\",(I924)/30)","v":""},{"$f":"IF(B924=\"\",\"\",SUM($J$32:J924))","v":""},{"$f":"IF(B924=\"\",\"\",U923)","v":""},"",{"$f":"IF(B924=\"\",\"\",IF($L$24+$S$28 + $U$26<ROUND(ROUND(L924*(((1+(H924/100))^(I924/G924))-1),4),2),$L$24+$S$28 + $U$26-0.01,IF(ROUND(ROUND(L924*(((1+(H924/100))^(I924/G924))-1),4),2)+ $U$26>$L$24,$L$24+ $U$26+-0.01,ROUND(ROUND(L924*(((1+(H924/100))^(I924/G924))-1),4),2)+$U$26)))","v":""},{"$f":"IF(B924=\"\",\"\",IF(ISERROR(MATCH(MONTH(C924),$H$18:$H$19,0))=FALSE,$L$23,0)  +$L$23)","v":""},{"$f":"IF(B924=\"\",\"\",N924+O924)","v":""},{"$f":"IF(B924=\"\",\"\",M924+N924 + O924+AA924+IF(A924=$H$13,U924,0))","v":""},{"$f":"IF(B924=\"\",\"\",$L$26)","v":""},{"$f":"IF(B924=\"\",\"\",$L$25+Z924)","v":""},{"$f":"IF(B924=\"\",\"\",Q924+R924+S924)","v":""},{"$f":"IF(B924=\"\",\"\",ROUND(L924-M924,2))","v":""},{"$f":"IF(B924=\"\",\"\",IF(ROUND(ROUND(L924*(((1+(H924/100))^(I924/G924))-1),4),2) - $L$24<0,0,ROUND(ROUND(L924*(((1+(H924/100))^(I924/G924))-1),4),2) - $L$24))","v":""},{"$f":"IF(B924=\"\",\"\",(1+H924/100)^(1/12)-1)","v":""},{"$f":"IF(B924=\"\",\"\",Q924/((1+W924)^K924))","v":""}]
["","","","","","","","","","",{"$f":"IF(B925=\"\",\"\",SUM($J$32:J925))","v":""},"","","","","","","","","","","","",""]
["","","","","","","","","","",{"$f":"IF(B926=\"\",\"\",SUM($J$32:J926))","v":""},"","","","","","","","","","","","",""]
["","","","","","","","","","",{"$f":"IF(B927=\"\",\"\",SUM($J$32:J927))","v":""},"","","","","","","","","","","","",""]
["","","",{"$f":"IF(B928=\"\",\"\",IF(OR(MONTH(C928)=$H$18,MONTH(C928)=$H$19),\"D\",\"\"))","v":""},"","","","","","",{"$f":"IF(B928=\"\",\"\",SUM($J$32:J928))","v":""},"","","","","","","","","","","","",""]
["",{"$f":"IF(A929=\"\",\"\",IF(A929<=$H$22,0,1))","v":""},"","","","","","","","",{"$f":"IF(B929=\"\",\"\",SUM($J$32:J929))","v":""},"",{"$f":"IF(A929=$H$13,U928,IF(B929=\"\",\"\",IF((IF(ISERROR(MATCH(MONTH(C929),$H$18:$H$19,0))=FALSE,$L$24+$S$28,0)+$L$24+$S$28-IF(AND(D929=\"D\",W929=0),$V$26*2,$V$26))-N929<=0,0.01,IF(ISERROR(MATCH(MONTH(C929),$H$18:$H$19,0))=FALSE,$L$24+$S$28,0)+($L$24+$S$28-IF(AND(D929=\"D\",W929=0),$V$26*2,$V$26))-N929)-Z929))","v":""},"","","","","","","","","","",""]
["","","","","","","","","","",{"$f":"IF(B930=\"\",\"\",SUM($J$32:J930))","v":""},"","","","","","","","","","","","",""]
["","","","","","","","","","",{"$f":"IF(B931=\"\",\"\",SUM($J$32:J931))","v":""},"","","","","","","","","","","","",""]
["","","","","","","","","","",{"$f":"IF(B932=\"\",\"\",SUM($J$32:J932))","v":""},"","","","","","","","","","","","",""]
["","","","","","","","","","",{"$f":"IF(B933=\"\",\"\",SUM($J$32:J933))","v":""},"","","","","","","","","","","","",""]
["","","","","","","","","","",{"$f":"IF(B934=\"\",\"\",SUM($J$32:J934))","v":""},"","","","","","","","","","","","",""]
["","","","","","","","","","",{"$f":"IF(B935=\"\",\"\",SUM($J$32:J935))","v":""},"","","","","","","","","","","","",""]
["","","","","","","","","","",{"$f":"IF(B936=\"\",\"\",SUM($J$32:J936))","v":""},"","","","","","","","","","","","",""]
["","","","","","","","","","",{"$f":"IF(B937=\"\",\"\",SUM($J$32:J937))","v":""},"","","","","","","","","","","","",""]
["","","","","","","","","","",{"$f":"IF(B938=\"\",\"\",SUM($J$32:J938))","v":""},"","","","","","","","","","","","",""]
["","","","","","","","","","",{"$f":"IF(B939=\"\",\"\",SUM($J$32:J939))","v":""},"","","","","","","","","","","","",""]
["","","","","","","","","","",{"$f":"IF(B940=\"\",\"\",SUM($J$32:J940))","v":""},"","","","","","","","","","","","",""]
["","","","","","","","","","",{"$f":"IF(B941=\"\",\"\",SUM($J$32:J941))","v":""},"","","","","","","","","","","","",""]
["","","","","","","","","","",{"$f":"IF(B942=\"\",\"\",SUM($J$32:J942))","v":""},"","","","","","","","","","","","",""]
["","","","","","","","","","",{"$f":"IF(B943=\"\",\"\",SUM($J$32:J943))","v":""},"","","","","","","","","","","","",""]
["","","","","","","","","","",{"$f":"IF(B944=\"\",\"\",SUM($J$32:J944))","v":""},"","","","","","","","","","","","",""]
["","","","","","","","","","",{"$f":"IF(B945=\"\",\"\",SUM($J$32:J945))","v":""},"","","","","","","","","","","","",""]
["","","","","","","","","","",{"$f":"IF(B946=\"\",\"\",SUM($J$32:J946))","v":""},"","","","","","","","","","","","",""]
["","","","","","","","","","",{"$f":"IF(B947=\"\",\"\",SUM($J$32:J947))","v":""},"","","","","","","","","","","","",""]
["","","","","","","","","","",{"$f":"IF(B948=\"\",\"\",SUM($J$32:J948))","v":""},"","","","","","","","","","","","",""]
["","","","","","","","","","",{"$f":"IF(B949=\"\",\"\",SUM($J$32:J949))","v":""},"","","","","","","","","","","","",""]
["","","","","","","","","","",{"$f":"IF(B950=\"\",\"\",SUM($J$32:J950))","v":""},"","","","","","","","","","","","",""]
["","","","","","","","","","",{"$f":"IF(B951=\"\",\"\",SUM($J$32:J951))","v":""},"","","","","","","","","","","","",""]
["","","","","","","","","","",{"$f":"IF(B952=\"\",\"\",SUM($J$32:J952))","v":""},"","","","","","","","","","","","",""]
["","","","","","","","","","",{"$f":"IF(B953=\"\",\"\",SUM($J$32:J953))","v":""},"","","","","","","","","","","","",""]
["","","","","","","","","","",{"$f":"IF(B954=\"\",\"\",SUM($J$32:J954))","v":""},"","","","","","","","","","","","",""]
["","","","","","","","","","",{"$f":"IF(B955=\"\",\"\",SUM($J$32:J955))","v":""},"","","","","","","","","","","","",""]
["","","","","","","","","","",{"$f":"IF(B956=\"\",\"\",SUM($J$32:J956))","v":""},"","","","","","","","","","","","",""]
["","","","","","","","","","",{"$f":"IF(B957=\"\",\"\",SUM($J$32:J957))","v":""},"","","","","","","","","","","","",""]
["","","","","","","","","","",{"$f":"IF(B958=\"\",\"\",SUM($J$32:J958))","v":""},"","","","","","","","","","","","",""]
["","","","","","","","","","",{"$f":"IF(B959=\"\",\"\",SUM($J$32:J959))","v":""},"","","","","","","","","","","","",""]
["","","","","","","","","","",{"$f":"IF(B960=\"\",\"\",SUM($J$32:J960))","v":""},"","","","","","","","","","","","",""]
["","","","","","","","","","",{"$f":"IF(B961=\"\",\"\",SUM($J$32:J961))","v":""},"","","","","","","","","","","","",""]
["","","","","","","","","","",{"$f":"IF(B962=\"\",\"\",SUM($J$32:J962))","v":""},"","","","","","","","","","","","",""]
["","","","","","","","","","",{"$f":"IF(B963=\"\",\"\",SUM($J$32:J963))","v":""},"","","","","","","","","","","","",""]
["","","","","","","","","","",{"$f":"IF(B964=\"\",\"\",SUM($J$32:J964))","v":""},"","","","","","","","","","","","",""]
["","","","","","","","","","",{"$f":"IF(B965=\"\",\"\",SUM($J$32:J965))","v":""},"","","","","","","","","","","","",""]
["","","","","","","","","","",{"$f":"IF(B966=\"\",\"\",SUM($J$32:J966))","v":""},"","","","","","","","","","","","",""]
["","","","","","","","","","",{"$f":"IF(B967=\"\",\"\",SUM($J$32:J967))","v":""},"","","","","","","","","","","","",""]
["","","","","","","","","","",{"$f":"IF(B968=\"\",\"\",SUM($J$32:J968))","v":""},"","","","","","","","","","","","",""]
["","","","","","","","","","",{"$f":"IF(B969=\"\",\"\",SUM($J$32:J969))","v":""},"","","","","","","","","","","","",""]
["","","","","","","","","","",{"$f":"IF(B970=\"\",\"\",SUM($J$32:J970))","v":""},"","","","","","","","","","","","",""]
["","","","","","","","","","",{"$f":"IF(B971=\"\",\"\",SUM($J$32:J971))","v":""},"","","","","","","","","","","","",""]
["","","","","","","","","","",{"$f":"IF(B972=\"\",\"\",SUM($J$32:J972))","v":""},"","","","","","","","","","","","",""]
["","","","","","","","","","",{"$f":"IF(B973=\"\",\"\",SUM($J$32:J973))","v":""},"","","","","","","","","","","","",""]
["","","","","","","","","","",{"$f":"IF(B974=\"\",\"\",SUM($J$32:J974))","v":""},"","","","","","","","","","","","",""]
["","","","","","","","","","",{"$f":"IF(B975=\"\",\"\",SUM($J$32:J975))","v":""},"","","","","","","","","","","","",""]
["","","","","","","","","","",{"$f":"IF(B976=\"\",\"\",SUM($J$32:J976))","v":""},"","","","","","","","","","","","",""]
["","","","","","","","","","",{"$f":"IF(B977=\"\",\"\",SUM($J$32:J977))","v":""},"","","","","","","","","","","","",""]
["","","","","","","","","","",{"$f":"IF(B978=\"\",\"\",SUM($J$32:J978))","v":""},"","","","","","","","","","","","",""]
["","","","","","","","","","",{"$f":"IF(B979=\"\",\"\",SUM($J$32:J979))","v":""},"","","","","","","","","","","","",""]
["","","","","","","","","","",{"$f":"IF(B980=\"\",\"\",SUM($J$32:J980))","v":""},"","","","","","","","","","","","",""]
["","","","","","","","","","",{"$f":"IF(B981=\"\",\"\",SUM($J$32:J981))","v":""},"","","","","","","","","","","","",""]
["","","","","","","","","","",{"$f":"IF(B982=\"\",\"\",SUM($J$32:J982))","v":""},"","","","","","","","","","","","",""]
["","","","","","","","","","",{"$f":"IF(B983=\"\",\"\",SUM($J$32:J983))","v":""},"","","","","","","","","","","","",""]
["","","","","","","","","","",{"$f":"IF(B984=\"\",\"\",SUM($J$32:J984))","v":""},"","","","","","","","","","","","",""]
["","","","","","","","","","",{"$f":"IF(B985=\"\",\"\",SUM($J$32:J985))","v":""},"","","","","","","","","","","","",""]
["","","","","","","","","","",{"$f":"IF(B986=\"\",\"\",SUM($J$32:J986))","v":""},"","","","","","","","","","","","",""]
["","","","","","","","","","",{"$f":"IF(B987=\"\",\"\",SUM($J$32:J987))","v":""},"","","","","","","","","","","","",""]
[{"$f":"IF(A987>=$H$13,\"\",A987+1)","v":""},"",{"$f":"IF(B988=\"\",\"\",IF(OR(MONTH(EDATE($S$6,F988))=$H$16,MONTH(EDATE($S$6,F988))=$H$17),IF(ABS($H$17-$H$16)=1,EDATE($S$6,F988+2),EDATE($S$6,F988+1)),EDATE($S$6,F988)))","v":""},"",{"$f":"IF(B988=\"\",\"\",IF(OR(MONTH(DATE(YEAR(C987) + 1/12,MONTH(C987)+1,DAY(C987)))=$H$16,MONTH(DATE(YEAR(C987) + 1/12,MONTH(C987)+1,DAY(C987)))=$H$17),IF(ABS($H$17-$H$16)=1,E987+1,E987 + 2),E987 + 1))","v":""},{"$f":"IF(B988=\"\",\"\",F987+1)","v":""},{"$f":"IF(B988=\"\",\"\",$S$9)","v":""},{"$f":"IF(B988=\"\",\"\",$H$8)","v":""},{"$f":"IF(B988=\"\",\"\",C988-C987)","v":""},{"$f":"IF(B988=\"\",\"\",(I988)/30)","v":""},{"$f":"IF(B988=\"\",\"\",SUM($J$32:J988))","v":""},{"$f":"IF(B988=\"\",\"\",U987)","v":""},"",{"$f":"IF(B988=\"\",\"\",IF($L$24+$S$28 + $U$26<ROUND(ROUND(L988*(((1+(H988/100))^(I988/G988))-1),4),2),$L$24+$S$28 + $U$26-0.01,IF(ROUND(ROUND(L988*(((1+(H988/100))^(I988/G988))-1),4),2)+ $U$26>$L$24,$L$24+ $U$26+-0.01,ROUND(ROUND(L988*(((1+(H988/100))^(I988/G988))-1),4),2)+$U$26)))","v":""},{"$f":"IF(B988=\"\",\"\",IF(ISERROR(MATCH(MONTH(C988),$H$18:$H$19,0))=FALSE,$L$23,0)  +$L$23)","v":""},{"$f":"IF(B988=\"\",\"\",N988+O988)","v":""},{"$f":"IF(B988=\"\",\"\",M988+N988 + O988+AA988+IF(A988=$H$13,U988,0))","v":""},{"$f":"IF(B988=\"\",\"\",$L$26)","v":""},{"$f":"IF(B988=\"\",\"\",$L$25+Z988)","v":""},{"$f":"IF(B988=\"\",\"\",Q988+R988+S988)","v":""},{"$f":"IF(B988=\"\",\"\",ROUND(L988-M988,2))","v":""},{"$f":"IF(B988=\"\",\"\",IF(ROUND(ROUND(L988*(((1+(H988/100))^(I988/G988))-1),4),2) - $L$24<0,0,ROUND(ROUND(L988*(((1+(H988/100))^(I988/G988))-1),4),2) - $L$24))","v":""},{"$f":"IF(B988=\"\",\"\",(1+H988/100)^(1/12)-1)","v":""},{"$f":"IF(B988=\"\",\"\",Q988/((1+W988)^K988))","v":""}]
["","","","","","","","","","",{"$f":"IF(B989=\"\",\"\",SUM($J$32:J989))","v":""},"","","","","","","","","","","","",""]
["","","","","","","","","","",{"$f":"IF(B990=\"\",\"\",SUM($J$32:J990))","v":""},"","","","","","","","","","","","",""]
["","","","","","","","","","",{"$f":"IF(B991=\"\",\"\",SUM($J$32:J991))","v":""},"","","","","","","","","","","","",""]
["","","",{"$f":"IF(B992=\"\",\"\",IF(OR(MONTH(C992)=$H$18,MONTH(C992)=$H$19),\"D\",\"\"))","v":""},"","","","","","",{"$f":"IF(B992=\"\",\"\",SUM($J$32:J992))","v":""},"","","","","","","","","","","","",""]
["",{"$f":"IF(A993=\"\",\"\",IF(A993<=$H$22,0,1))","v":""},"","","","","","","","",{"$f":"IF(B993=\"\",\"\",SUM($J$32:J993))","v":""},"",{"$f":"IF(A993=$H$13,U992,IF(B993=\"\",\"\",IF((IF(ISERROR(MATCH(MONTH(C993),$H$18:$H$19,0))=FALSE,$L$24+$S$28,0)+$L$24+$S$28-IF(AND(D993=\"D\",W993=0),$V$26*2,$V$26))-N993<=0,0.01,IF(ISERROR(MATCH(MONTH(C993),$H$18:$H$19,0))=FALSE,$L$24+$S$28,0)+($L$24+$S$28-IF(AND(D993=\"D\",W993=0),$V$26*2,$V$26))-N993)-Z993))","v":""},"","","","","","","","","","",""]
["","","","","","","","","","",{"$f":"IF(B994=\"\",\"\",SUM($J$32:J994))","v":""},"","","","","","","","","","","","",""]
["","","","","","","","","","",{"$f":"IF(B995=\"\",\"\",SUM($J$32:J995))","v":""},"","","","","","","","","","","","",""]
["","","","","","","","","","",{"$f":"IF(B996=\"\",\"\",SUM($J$32:J996))","v":""},"","","","","","","","","","","","",""]
["","","","","","","","","","",{"$f":"IF(B997=\"\",\"\",SUM($J$32:J997))","v":""},"","","","","","","","","","","","",""]
["","","","","","","","","","",{"$f":"IF(B998=\"\",\"\",SUM($J$32:J998))","v":""},"","","","","","","","","","","","",""]
["","","","","","","","","","",{"$f":"IF(B999=\"\",\"\",SUM($J$32:J999))","v":""},"","","","","","","","","","","","",""]
["","","","","","","","","","",{"$f":"IF(B1000=\"\",\"\",SUM($J$32:J1000))","v":""},"","","","","","","","","","","","",""]

{"sheet":"Calculos","index":1,"n_rows":386,"n_cols":7,"rows_kept":386,"cut":false,"hidden":true,"merged":[[0,0,0,6]]}
["Factores utilizados en Meses de No Pago para cálculo del valor cuota"]
[]
["N° de Cuota","Equivalente","Fecha","Mes","Marca Cuota No Pago","Factor (10)","Acumulado"]
[1,{"$f":"IF(E4<>\"C\",IF(ISERROR(1+B3)=TRUE,1,1+B3),IF(ISNUMBER(B3),B3,1))","v":1},{"$f":"+Simulador!S7","v":"2022-03-23"},{"$f":"MONTH(C4)","v":3},{"$f":"IF(ISERROR(MATCH(D4,Simulador!$H$16:$H$17,0))=FALSE,\"C\",IF(ISERROR(MATCH(D4,Simulador!$H$18:$H$19,0))=FALSE,\"D\",\"\"))","v":""},{"$f":"IF(E4=\"C\",0,IF(E4 =\"D\",ROUND(1/((1+Simulador!$S$13)^A4),9) * 2,ROUND(1/((1+Simulador!$S$13)^A4),9)))","v":0.96630750899999995},{"$f":"ROUND(F4,9)","v":0.96630750899999995}]
[{"$f":"A4+1","v":2},{"$f":"IF(E5<>\"C\",IF(ISERROR(1+B4)=TRUE,1,1+B4),IF(ISNUMBER(B4),B4,1))","v":2},{"$f":"DATE(YEAR(C4) + 1/12,MONTH(C4)+1,DAY(C4))","v":"2022-04-23"},4,{"$f":"IF(ISERROR(MATCH(D5,Simulador!$H$16:$H$17,0))=FALSE,\"C\",IF(ISERROR(MATCH(D5,Simulador!$H$18:$H$19,0))=FALSE,\"D\",\"\"))","v":""},{"$f":"IF(E5=\"C\",0,IF(E5 =\"D\",ROUND(1/((1+Simulador!$S$13)^A5),9) * 2,ROUND(1/((1+Simulador!$S$13)^A5),9)))","v":0.933750203},{"$f":"G4+ROUND(F5,9)","v":1.900057712}]
[3,3,"2022-05-23",5,{"$f":"IF(ISERROR(MATCH(D6,Simulador!$H$16:$H$17,0))=FALSE,\"C\",IF(ISERROR(MATCH(D6,Simulador!$H$18:$H$19,0))=FALSE,\"D\",\"\"))","v":""},{"$f":"IF(E6=\"C\",0,IF(E6 =\"D\",ROUND(1/((1+Simulador!$S$13)^A6),9) * 2,ROUND(1/((1+Simulador!$S$13)^A6),9)))","v":0.90228983299999999},{"$f":"G5+ROUND(F6,9)","v":2.8023475449999999}]
[4,4,"2022-06-23",6,{"$f":"IF(ISERROR(MATCH(D7,Simulador!$H$16:$H$17,0))=FALSE,\"C\",IF(ISERROR(MATCH(D7,Simulador!$H$18:$H$19,0))=FALSE,\"D\",\"\"))","v":""},{"$f":"IF(E7=\"C\",0,IF(E7 =\"D\",ROUND(1/((1+Simulador!$S$13)^A7),9) * 2,ROUND(1/((1+Simulador!$S$13)^A7),9)))","v":0.87188944099999999},3.6742369859999999]
[5,5,"2022-07-23",7,{"$f":"IF(ISERROR(MATCH(D8,Simulador!$H$16:$H$17,0))=FALSE,\"C\",IF(ISERROR(MATCH(D8,Simulador!$H$18:$H$19,0))=FALSE,\"D\",\"\"))","v":""},{"$f":"IF(E8=\"C\",0,IF(E8 =\"D\",ROUND(1/((1+Simulador!$S$13)^A8),9) * 2,ROUND(1/((1+Simulador!$S$13)^A8),9)))","v":0.84251331399999996},4.5167503]
[6,6,"2022-08-23",8,{"$f":"IF(ISERROR(MATCH(D9,Simulador!$H$16:$H$17,0))=FALSE,\"C\",IF(ISERROR(MATCH(D9,Simulador!$H$18:$H$19,0))=FALSE,\"D\",\"\"))","v":""},{"$f":"IF(E9=\"C\",0,IF(E9 =\"D\",ROUND(1/((1+Simulador!$S$13)^A9),9) * 2,ROUND(1/((1+Simulador!$S$13)^A9),9)))","v":0.81412694200000002},5.3308772419999997]
[7,7,"2022-09-23",9,{"$f":"IF(ISERROR(MATCH(D10,Simulador!$H$16:$H$17,0))=FALSE,\"C\",IF(ISERROR(MATCH(D10,Simulador!$H$18:$H$19,0))=FALSE,\"D\",\"\"))","v":""},{"$f":"IF(E10=\"C\",0,IF(E10 =\"D\",ROUND(1/((1+Simulador!$S$13)^A10),9) * 2,ROUND(1/((1+Simulador!$S$13)^A10),9)))","v":0.78669697699999996},6.1175742189999998]
[8,8,"2022-10-23",10,{"$f":"IF(ISERROR(MATCH(D11,Simulador!$H$16:$H$17,0))=FALSE,\"C\",IF(ISERROR(MATCH(D11,Simulador!$H$18:$H$19,0))=FALSE,\"D\",\"\"))","v":""},{"$f":"IF(E11=\"C\",0,IF(E11 =\"D\",ROUND(1/((1+Simulador!$S$13)^A11),9) * 2,ROUND(1/((1+Simulador!$S$13)^A11),9)))","v":0.76019119700000004},6.8777654159999999]
[9,9,"2022-11-23",11,{"$f":"IF(ISERROR(MATCH(D12,Simulador!$H$16:$H$17,0))=FALSE,\"C\",IF(ISERROR(MATCH(D12,Simulador!$H$18:$H$19,0))=FALSE,\"D\",\"\"))","v":""},{"$f":"IF(E12=\"C\",0,IF(E12 =\"D\",ROUND(1/((1+Simulador!$S$13)^A12),9) * 2,ROUND(1/((1+Simulador!$S$13)^A12),9)))","v":0.73457846199999999},7.6123438779999999]
[10,10,"2022-12-23",12,{"$f":"IF(ISERROR(MATCH(D13,Simulador!$H$16:$H$17,0))=FALSE,\"C\",IF(ISERROR(MATCH(D13,Simulador!$H$18:$H$19,0))=FALSE,\"D\",\"\"))","v":""},{"$f":"IF(E13=\"C\",0,IF(E13 =\"D\",ROUND(1/((1+Simulador!$S$13)^A13),9) * 2,ROUND(1/((1+Simulador!$S$13)^A13),9)))","v":0.70982868399999999},8.3221725620000004]
[11,11,"2023-01-23",1,{"$f":"IF(ISERROR(MATCH(D14,Simulador!$H$16:$H$17,0))=FALSE,\"C\",IF(ISERROR(MATCH(D14,Simulador!$H$18:$H$19,0))=FALSE,\"D\",\"\"))","v":""},{"$f":"IF(E14=\"C\",0,IF(E14 =\"D\",ROUND(1/((1+Simulador!$S$13)^A14),9) * 2,ROUND(1/((1+Simulador!$S$13)^A14),9)))","v":0.685912788},9.00808535]
[12,12,"2023-02-23",2,{"$f":"IF(ISERROR(MATCH(D15,Simulador!$H$16:$H$17,0))=FALSE,\"C\",IF(ISERROR(MATCH(D15,Simulador!$H$18:$H$19,0))=FALSE,\"D\",\"\"))","v":""},{"$f":"IF(E15=\"C\",0,IF(E15 =\"D\",ROUND(1/((1+Simulador!$S$13)^A15),9) * 2,ROUND(1/((1+Simulador!$S$13)^A15),9)))","v":0.66280267699999995},9.6708880270000002]
[13,13,"2023-03-23",3,{"$f":"IF(ISERROR(MATCH(D16,Simulador!$H$16:$H$17,0))=FALSE,\"C\",IF(ISERROR(MATCH(D16,Simulador!$H$18:$H$19,0))=FALSE,\"D\",\"\"))","v":""},{"$f":"IF(E16=\"C\",0,IF(E16 =\"D\",ROUND(1/((1+Simulador!$S$13)^A16),9) * 2,ROUND(1/((1+Simulador!$S$13)^A16),9)))","v":0.64047120400000002},10.311359231000001]
[14,14,"2023-04-23",4,{"$f":"IF(ISERROR(MATCH(D17,Simulador!$H$16:$H$17,0))=FALSE,\"C\",IF(ISERROR(MATCH(D17,Simulador!$H$18:$H$19,0))=FALSE,\"D\",\"\"))","v":""},{"$f":"IF(E17=\"C\",0,IF(E17 =\"D\",ROUND(1/((1+Simulador!$S$13)^A17),9) * 2,ROUND(1/((1+Simulador!$S$13)^A17),9)))","v":0.61889213399999998},10.930251365]
[15,15,"2023-05-23",5,{"$f":"IF(ISERROR(MATCH(D18,Simulador!$H$16:$H$17,0))=FALSE,\"C\",IF(ISERROR(MATCH(D18,Simulador!$H$18:$H$19,0))=FALSE,\"D\",\"\"))","v":""},{"$f":"IF(E18=\"C\",0,IF(E18 =\"D\",ROUND(1/((1+Simulador!$S$13)^A18),9) * 2,ROUND(1/((1+Simulador!$S$13)^A18),9)))","v":0.59804011700000004},11.528291482]
[16,16,"2023-06-23",6,{"$f":"IF(ISERROR(MATCH(D19,Simulador!$H$16:$H$17,0))=FALSE,\"C\",IF(ISERROR(MATCH(D19,Simulador!$H$18:$H$19,0))=FALSE,\"D\",\"\"))","v":""},{"$f":"IF(E19=\"C\",0,IF(E19 =\"D\",ROUND(1/((1+Simulador!$S$13)^A19),9) * 2,ROUND(1/((1+Simulador!$S$13)^A19),9)))","v":0.577890656},12.106182137999999]
[17,17,"2023-07-23",7,{"$f":"IF(ISERROR(MATCH(D20,Simulador!$H$16:$H$17,0))=FALSE,\"C\",IF(ISERROR(MATCH(D20,Simulador!$H$18:$H$19,0))=FALSE,\"D\",\"\"))","v":""},{"$f":"IF(E20=\"C\",0,IF(E20 =\"D\",ROUND(1/((1+Simulador!$S$13)^A20),9) * 2,ROUND(1/((1+Simulador!$S$13)^A20),9)))","v":0.55842007999999999},12.664602217999999]
[18,18,"2023-08-23",8,{"$f":"IF(ISERROR(MATCH(D21,Simulador!$H$16:$H$17,0))=FALSE,\"C\",IF(ISERROR(MATCH(D21,Simulador!$H$18:$H$19,0))=FALSE,\"D\",\"\"))","v":""},{"$f":"IF(E21=\"C\",0,IF(E21 =\"D\",ROUND(1/((1+Simulador!$S$13)^A21),9) * 2,ROUND(1/((1+Simulador!$S$13)^A21),9)))","v":0.53960551700000003},13.204207734999999]
[19,19,"2023-09-23",9,{"$f":"IF(ISERROR(MATCH(D22,Simulador!$H$16:$H$17,0))=FALSE,\"C\",IF(ISERROR(MATCH(D22,Simulador!$H$18:$H$19,0))=FALSE,\"D\",\"\"))","v":""},{"$f":"IF(E22=\"C\",0,IF(E22 =\"D\",ROUND(1/((1+Simulador!$S$13)^A22),9) * 2,ROUND(1/((1+Simulador!$S$13)^A22),9)))","v":0.52142486300000002},13.725632597999999]
[20,20,"2023-10-23",10,{"$f":"IF(ISERROR(MATCH(D23,Simulador!$H$16:$H$17,0))=FALSE,\"C\",IF(ISERROR(MATCH(D23,Simulador!$H$18:$H$19,0))=FALSE,\"D\",\"\"))","v":""},{"$f":"IF(E23=\"C\",0,IF(E23 =\"D\",ROUND(1/((1+Simulador!$S$13)^A23),9) * 2,ROUND(1/((1+Simulador!$S$13)^A23),9)))","v":0.50385676099999999},14.229489358999999]
[21,21,"2023-11-23",11,{"$f":"IF(ISERROR(MATCH(D24,Simulador!$H$16:$H$17,0))=FALSE,\"C\",IF(ISERROR(MATCH(D24,Simulador!$H$18:$H$19,0))=FALSE,\"D\",\"\"))","v":""},{"$f":"IF(E24=\"C\",0,IF(E24 =\"D\",ROUND(1/((1+Simulador!$S$13)^A24),9) * 2,ROUND(1/((1+Simulador!$S$13)^A24),9)))","v":0.48688057099999998},14.716369929999999]
[22,22,"2023-12-23",12,{"$f":"IF(ISERROR(MATCH(D25,Simulador!$H$16:$H$17,0))=FALSE,\"C\",IF(ISERROR(MATCH(D25,Simulador!$H$18:$H$19,0))=FALSE,\"D\",\"\"))","v":""},{"$f":"IF(E25=\"C\",0,IF(E25 =\"D\",ROUND(1/((1+Simulador!$S$13)^A25),9) * 2,ROUND(1/((1+Simulador!$S$13)^A25),9)))","v":0.47047635199999999},15.186846281999999]
[23,23,"2024-01-23",1,{"$f":"IF(ISERROR(MATCH(D26,Simulador!$H$16:$H$17,0))=FALSE,\"C\",IF(ISERROR(MATCH(D26,Simulador!$H$18:$H$19,0))=FALSE,\"D\",\"\"))","v":""},{"$f":"IF(E26=\"C\",0,IF(E26 =\"D\",ROUND(1/((1+Simulador!$S$13)^A26),9) * 2,ROUND(1/((1+Simulador!$S$13)^A26),9)))","v":0.45462483199999998},15.641471114]
[24,24,"2024-02-23",2,{"$f":"IF(ISERROR(MATCH(D27,Simulador!$H$16:$H$17,0))=FALSE,\"C\",IF(ISERROR(MATCH(D27,Simulador!$H$18:$H$19,0))=FALSE,\"D\",\"\"))","v":""},{"$f":"IF(E27=\"C\",0,IF(E27 =\"D\",ROUND(1/((1+Simulador!$S$13)^A27),9) * 2,ROUND(1/((1+Simulador!$S$13)^A27),9)))","v":0.43930738899999999},16.080778503000001]
[25,25,"2024-03-23",3,{"$f":"IF(ISERROR(MATCH(D28,Simulador!$H$16:$H$17,0))=FALSE,\"C\",IF(ISERROR(MATCH(D28,Simulador!$H$18:$H$19,0))=FALSE,\"D\",\"\"))","v":""},{"$f":"IF(E28=\"C\",0,IF(E28 =\"D\",ROUND(1/((1+Simulador!$S$13)^A28),9) * 2,ROUND(1/((1+Simulador!$S$13)^A28),9)))","v":0.42450602900000001},16.505284532000001]
[26,26,"2024-04-23",4,{"$f":"IF(ISERROR(MATCH(D29,Simulador!$H$16:$H$17,0))=FALSE,\"C\",IF(ISERROR(MATCH(D29,Simulador!$H$18:$H$19,0))=FALSE,\"D\",\"\"))","v":""},{"$f":"IF(E29=\"C\",0,IF(E29 =\"D\",ROUND(1/((1+Simulador!$S$13)^A29),9) * 2,ROUND(1/((1+Simulador!$S$13)^A29),9)))","v":0.41020336400000001},16.915487896000002]
[27,27,"2024-05-23",5,{"$f":"IF(ISERROR(MATCH(D30,Simulador!$H$16:$H$17,0))=FALSE,\"C\",IF(ISERROR(MATCH(D30,Simulador!$H$18:$H$19,0))=FALSE,\"D\",\"\"))","v":""},{"$f":"IF(E30=\"C\",0,IF(E30 =\"D\",ROUND(1/((1+Simulador!$S$13)^A30),9) * 2,ROUND(1/((1+Simulador!$S$13)^A30),9)))","v":0.39638259100000001},17.311870487]
[28,28,"2024-06-23",6,{"$f":"IF(ISERROR(MATCH(D31,Simulador!$H$16:$H$17,0))=FALSE,\"C\",IF(ISERROR(MATCH(D31,Simulador!$H$18:$H$19,0))=FALSE,\"D\",\"\"))","v":""},{"$f":"IF(E31=\"C\",0,IF(E31 =\"D\",ROUND(1/((1+Simulador!$S$13)^A31),9) * 2,ROUND(1/((1+Simulador!$S$13)^A31),9)))","v":0.38302747399999998},17.694897960999999]
[29,29,"2024-07-23",7,{"$f":"IF(ISERROR(MATCH(D32,Simulador!$H$16:$H$17,0))=FALSE,\"C\",IF(ISERROR(MATCH(D32,Simulador!$H$18:$H$19,0))=FALSE,\"D\",\"\"))","v":""},{"$f":"IF(E32=\"C\",0,IF(E32 =\"D\",ROUND(1/((1+Simulador!$S$13)^A32),9) * 2,ROUND(1/((1+Simulador!$S$13)^A32),9)))","v":0.370122324},18.065020284999999]
[30,30,"2024-08-23",8,{"$f":"IF(ISERROR(MATCH(D33,Simulador!$H$16:$H$17,0))=FALSE,\"C\",IF(ISERROR(MATCH(D33,Simulador!$H$18:$H$19,0))=FALSE,\"D\",\"\"))","v":""},{"$f":"IF(E33=\"C\",0,IF(E33 =\"D\",ROUND(1/((1+Simulador!$S$13)^A33),9) * 2,ROUND(1/((1+Simulador!$S$13)^A33),9)))","v":0.35765198100000001},18.422672265999999]
[31,31,"2024-09-23",9,{"$f":"IF(ISERROR(MATCH(D34,Simulador!$H$16:$H$17,0))=FALSE,\"C\",IF(ISERROR(MATCH(D34,Simulador!$H$18:$H$19,0))=FALSE,\"D\",\"\"))","v":""},{"$f":"IF(E34=\"C\",0,IF(E34 =\"D\",ROUND(1/((1+Simulador!$S$13)^A34),9) * 2,ROUND(1/((1+Simulador!$S$13)^A34),9)))","v":0.34560179499999999},18.768274061]
[32,32,"2024-10-23",10,{"$f":"IF(ISERROR(MATCH(D35,Simulador!$H$16:$H$17,0))=FALSE,\"C\",IF(ISERROR(MATCH(D35,Simulador!$H$18:$H$19,0))=FALSE,\"D\",\"\"))","v":""},{"$f":"IF(E35=\"C\",0,IF(E35 =\"D\",ROUND(1/((1+Simulador!$S$13)^A35),9) * 2,ROUND(1/((1+Simulador!$S$13)^A35),9)))","v":0.33395761000000002},19.102231670999998]
[33,33,"2024-11-23",11,{"$f":"IF(ISERROR(MATCH(D36,Simulador!$H$16:$H$17,0))=FALSE,\"C\",IF(ISERROR(MATCH(D36,Simulador!$H$18:$H$19,0))=FALSE,\"D\",\"\"))","v":""},{"$f":"IF(E36=\"C\",0,IF(E36 =\"D\",ROUND(1/((1+Simulador!$S$13)^A36),9) * 2,ROUND(1/((1+Simulador!$S$13)^A36),9)))","v":0.32270574600000002},19.424937416999999]
[34,34,"2024-12-23",12,{"$f":"IF(ISERROR(MATCH(D37,Simulador!$H$16:$H$17,0))=FALSE,\"C\",IF(ISERROR(MATCH(D37,Simulador!$H$18:$H$19,0))=FALSE,\"D\",\"\"))","v":""},{"$f":"IF(E37=\"C\",0,IF(E37 =\"D\",ROUND(1/((1+Simulador!$S$13)^A37),9) * 2,ROUND(1/((1+Simulador!$S$13)^A37),9)))","v":0.31183298599999998},19.736770402999998]
[35,35,"2025-01-23",1,{"$f":"IF(ISERROR(MATCH(D38,Simulador!$H$16:$H$17,0))=FALSE,\"C\",IF(ISERROR(MATCH(D38,Simulador!$H$18:$H$19,0))=FALSE,\"D\",\"\"))","v":""},{"$f":"IF(E38=\"C\",0,IF(E38 =\"D\",ROUND(1/((1+Simulador!$S$13)^A38),9) * 2,ROUND(1/((1+Simulador!$S$13)^A38),9)))","v":0.30132655600000002},20.038096958999997]
[36,36,"2025-02-23",2,{"$f":"IF(ISERROR(MATCH(D39,Simulador!$H$16:$H$17,0))=FALSE,\"C\",IF(ISERROR(MATCH(D39,Simulador!$H$18:$H$19,0))=FALSE,\"D\",\"\"))","v":""},{"$f":"IF(E39=\"C\",0,IF(E39 =\"D\",ROUND(1/((1+Simulador!$S$13)^A39),9) * 2,ROUND(1/((1+Simulador!$S$13)^A39),9)))","v":0.29117411399999998},20.329271072999997]
[37,37,"2025-03-23",3,{"$f":"IF(ISERROR(MATCH(D40,Simulador!$H$16:$H$17,0))=FALSE,\"C\",IF(ISERROR(MATCH(D40,Simulador!$H$18:$H$19,0))=FALSE,\"D\",\"\"))","v":""},{"$f":"IF(E40=\"C\",0,IF(E40 =\"D\",ROUND(1/((1+Simulador!$S$13)^A40),9) * 2,ROUND(1/((1+Simulador!$S$13)^A40),9)))","v":0.281363733},20.610634805999997]
[38,38,"2025-04-23",4,{"$f":"IF(ISERROR(MATCH(D41,Simulador!$H$16:$H$17,0))=FALSE,\"C\",IF(ISERROR(MATCH(D41,Simulador!$H$18:$H$19,0))=FALSE,\"D\",\"\"))","v":""},{"$f":"IF(E41=\"C\",0,IF(E41 =\"D\",ROUND(1/((1+Simulador!$S$13)^A41),9) * 2,ROUND(1/((1+Simulador!$S$13)^A41),9)))","v":0.27188388800000002},20.882518693999998]
[39,39,"2025-05-23",5,{"$f":"IF(ISERROR(MATCH(D42,Simulador!$H$16:$H$17,0))=FALSE,\"C\",IF(ISERROR(MATCH(D42,Simulador!$H$18:$H$19,0))=FALSE,\"D\",\"\"))","v":""},{"$f":"IF(E42=\"C\",0,IF(E42 =\"D\",ROUND(1/((1+Simulador!$S$13)^A42),9) * 2,ROUND(1/((1+Simulador!$S$13)^A42),9)))","v":0.26272344199999997},21.145242135999997]
[40,40,"2025-06-23",6,{"$f":"IF(ISERROR(MATCH(D43,Simulador!$H$16:$H$17,0))=FALSE,\"C\",IF(ISERROR(MATCH(D43,Simulador!$H$18:$H$19,0))=FALSE,\"D\",\"\"))","v":""},{"$f":"IF(E43=\"C\",0,IF(E43 =\"D\",ROUND(1/((1+Simulador!$S$13)^A43),9) * 2,ROUND(1/((1+Simulador!$S$13)^A43),9)))","v":0.25387163499999998},21.399113770999996]
[41,41,"2025-07-23",7,{"$f":"IF(ISERROR(MATCH(D44,Simulador!$H$16:$H$17,0))=FALSE,\"C\",IF(ISERROR(MATCH(D44,Simulador!$H$18:$H$19,0))=FALSE,\"D\",\"\"))","v":""},{"$f":"IF(E44=\"C\",0,IF(E44 =\"D\",ROUND(1/((1+Simulador!$S$13)^A44),9) * 2,ROUND(1/((1+Simulador!$S$13)^A44),9)))","v":0.245318068},21.644431838999996]
[42,42,"2025-08-23",8,{"$f":"IF(ISERROR(MATCH(D45,Simulador!$H$16:$H$17,0))=FALSE,\"C\",IF(ISERROR(MATCH(D45,Simulador!$H$18:$H$19,0))=FALSE,\"D\",\"\"))","v":""},{"$f":"IF(E45=\"C\",0,IF(E45 =\"D\",ROUND(1/((1+Simulador!$S$13)^A45),9) * 2,ROUND(1/((1+Simulador!$S$13)^A45),9)))","v":0.23705269100000001},21.881484529999994]
[43,43,"2025-09-23",9,{"$f":"IF(ISERROR(MATCH(D46,Simulador!$H$16:$H$17,0))=FALSE,\"C\",IF(ISERROR(MATCH(D46,Simulador!$H$18:$H$19,0))=FALSE,\"D\",\"\"))","v":""},{"$f":"IF(E46=\"C\",0,IF(E46 =\"D\",ROUND(1/((1+Simulador!$S$13)^A46),9) * 2,ROUND(1/((1+Simulador!$S$13)^A46),9)))","v":0.22906579499999999},22.110550324999995]
[44,44,"2025-10-23",10,{"$f":"IF(ISERROR(MATCH(D47,Simulador!$H$16:$H$17,0))=FALSE,\"C\",IF(ISERROR(MATCH(D47,Simulador!$H$18:$H$19,0))=FALSE,\"D\",\"\"))","v":""},{"$f":"IF(E47=\"C\",0,IF(E47 =\"D\",ROUND(1/((1+Simulador!$S$13)^A47),9) * 2,ROUND(1/((1+Simulador!$S$13)^A47),9)))","v":0.22134799799999999},22.331898322999994]
[45,45,"2025-11-23",11,{"$f":"IF(ISERROR(MATCH(D48,Simulador!$H$16:$H$17,0))=FALSE,\"C\",IF(ISERROR(MATCH(D48,Simulador!$H$18:$H$19,0))=FALSE,\"D\",\"\"))","v":""},{"$f":"IF(E48=\"C\",0,IF(E48 =\"D\",ROUND(1/((1+Simulador!$S$13)^A48),9) * 2,ROUND(1/((1+Simulador!$S$13)^A48),9)))","v":0.21389023300000001},22.545788555999994]
[46,46,"2025-12-23",12,{"$f":"IF(ISERROR(MATCH(D49,Simulador!$H$16:$H$17,0))=FALSE,\"C\",IF(ISERROR(MATCH(D49,Simulador!$H$18:$H$19,0))=FALSE,\"D\",\"\"))","v":""},{"$f":"IF(E49=\"C\",0,IF(E49 =\"D\",ROUND(1/((1+Simulador!$S$13)^A49),9) * 2,ROUND(1/((1+Simulador!$S$13)^A49),9)))","v":0.20668373800000001},22.752472293999993]
[47,47,"2026-01-23",1,{"$f":"IF(ISERROR(MATCH(D50,Simulador!$H$16:$H$17,0))=FALSE,\"C\",IF(ISERROR(MATCH(D50,Simulador!$H$18:$H$19,0))=FALSE,\"D\",\"\"))","v":""},{"$f":"IF(E50=\"C\",0,IF(E50 =\"D\",ROUND(1/((1+Simulador!$S$13)^A50),9) * 2,ROUND(1/((1+Simulador!$S$13)^A50),9)))","v":0.19972004800000001},22.952192341999993]
[48,48,"2026-02-23",2,{"$f":"IF(ISERROR(MATCH(D51,Simulador!$H$16:$H$17,0))=FALSE,\"C\",IF(ISERROR(MATCH(D51,Simulador!$H$18:$H$19,0))=FALSE,\"D\",\"\"))","v":""},{"$f":"IF(E51=\"C\",0,IF(E51 =\"D\",ROUND(1/((1+Simulador!$S$13)^A51),9) * 2,ROUND(1/((1+Simulador!$S$13)^A51),9)))","v":0.19299098200000001},23.145183323999994]
[49,49,"2026-03-23",3,{"$f":"IF(ISERROR(MATCH(D52,Simulador!$H$16:$H$17,0))=FALSE,\"C\",IF(ISERROR(MATCH(D52,Simulador!$H$18:$H$19,0))=FALSE,\"D\",\"\"))","v":""},{"$f":"IF(E52=\"C\",0,IF(E52 =\"D\",ROUND(1/((1+Simulador!$S$13)^A52),9) * 2,ROUND(1/((1+Simulador!$S$13)^A52),9)))","v":0.18648863500000001},23.331671958999994]
[50,50,"2026-04-23",4,{"$f":"IF(ISERROR(MATCH(D53,Simulador!$H$16:$H$17,0))=FALSE,\"C\",IF(ISERROR(MATCH(D53,Simulador!$H$18:$H$19,0))=FALSE,\"D\",\"\"))","v":""},{"$f":"IF(E53=\"C\",0,IF(E53 =\"D\",ROUND(1/((1+Simulador!$S$13)^A53),9) * 2,ROUND(1/((1+Simulador!$S$13)^A53),9)))","v":0.180205369},23.511877327999994]
[51,51,"2026-05-23",5,{"$f":"IF(ISERROR(MATCH(D54,Simulador!$H$16:$H$17,0))=FALSE,\"C\",IF(ISERROR(MATCH(D54,Simulador!$H$18:$H$19,0))=FALSE,\"D\",\"\"))","v":""},{"$f":"IF(E54=\"C\",0,IF(E54 =\"D\",ROUND(1/((1+Simulador!$S$13)^A54),9) * 2,ROUND(1/((1+Simulador!$S$13)^A54),9)))","v":0.174133801},23.686011128999994]
[52,52,"2026-06-23",6,{"$f":"IF(ISERROR(MATCH(D55,Simulador!$H$16:$H$17,0))=FALSE,\"C\",IF(ISERROR(MATCH(D55,Simulador!$H$18:$H$19,0))=FALSE,\"D\",\"\"))","v":""},{"$f":"IF(E55=\"C\",0,IF(E55 =\"D\",ROUND(1/((1+Simulador!$S$13)^A55),9) * 2,ROUND(1/((1+Simulador!$S$13)^A55),9)))","v":0.16826679999999999},23.854277928999995]
[53,53,"2026-07-23",7,{"$f":"IF(ISERROR(MATCH(D56,Simulador!$H$16:$H$17,0))=FALSE,\"C\",IF(ISERROR(MATCH(D56,Simulador!$H$18:$H$19,0))=FALSE,\"D\",\"\"))","v":""},{"$f":"IF(E56=\"C\",0,IF(E56 =\"D\",ROUND(1/((1+Simulador!$S$13)^A56),9) * 2,ROUND(1/((1+Simulador!$S$13)^A56),9)))","v":0.16259747199999999},24.016875400999997]
[54,54,"2026-08-23",8,{"$f":"IF(ISERROR(MATCH(D57,Simulador!$H$16:$H$17,0))=FALSE,\"C\",IF(ISERROR(MATCH(D57,Simulador!$H$18:$H$19,0))=FALSE,\"D\",\"\"))","v":""},{"$f":"IF(E57=\"C\",0,IF(E57 =\"D\",ROUND(1/((1+Simulador!$S$13)^A57),9) * 2,ROUND(1/((1+Simulador!$S$13)^A57),9)))","v":0.15711915800000001},24.173994558999997]
[55,55,"2026-09-23",9,{"$f":"IF(ISERROR(MATCH(D58,Simulador!$H$16:$H$17,0))=FALSE,\"C\",IF(ISERROR(MATCH(D58,Simulador!$H$18:$H$19,0))=FALSE,\"D\",\"\"))","v":""},{"$f":"IF(E58=\"C\",0,IF(E58 =\"D\",ROUND(1/((1+Simulador!$S$13)^A58),9) * 2,ROUND(1/((1+Simulador!$S$13)^A58),9)))","v":0.15182542199999999},24.325819980999999]
[56,56,"2026-10-23",10,{"$f":"IF(ISERROR(MATCH(D59,Simulador!$H$16:$H$17,0))=FALSE,\"C\",IF(ISERROR(MATCH(D59,Simulador!$H$18:$H$19,0))=FALSE,\"D\",\"\"))","v":""},{"$f":"IF(E59=\"C\",0,IF(E59 =\"D\",ROUND(1/((1+Simulador!$S$13)^A59),9) * 2,ROUND(1/((1+Simulador!$S$13)^A59),9)))","v":0.14671004600000001},24.472530026999998]
[57,57,"2026-11-23",11,{"$f":"IF(ISERROR(MATCH(D60,Simulador!$H$16:$H$17,0))=FALSE,\"C\",IF(ISERROR(MATCH(D60,Simulador!$H$18:$H$19,0))=FALSE,\"D\",\"\"))","v":""},{"$f":"IF(E60=\"C\",0,IF(E60 =\"D\",ROUND(1/((1+Simulador!$S$13)^A60),9) * 2,ROUND(1/((1+Simulador!$S$13)^A60),9)))","v":0.14176701899999999},24.614297045999997]
[58,58,"2026-12-23",12,{"$f":"IF(ISERROR(MATCH(D61,Simulador!$H$16:$H$17,0))=FALSE,\"C\",IF(ISERROR(MATCH(D61,Simulador!$H$18:$H$19,0))=FALSE,\"D\",\"\"))","v":""},{"$f":"IF(E61=\"C\",0,IF(E61 =\"D\",ROUND(1/((1+Simulador!$S$13)^A61),9) * 2,ROUND(1/((1+Simulador!$S$13)^A61),9)))","v":0.136990535},24.751287580999996]
[59,59,"2027-01-23",1,{"$f":"IF(ISERROR(MATCH(D62,Simulador!$H$16:$H$17,0))=FALSE,\"C\",IF(ISERROR(MATCH(D62,Simulador!$H$18:$H$19,0))=FALSE,\"D\",\"\"))","v":""},{"$f":"IF(E62=\"C\",0,IF(E62 =\"D\",ROUND(1/((1+Simulador!$S$13)^A62),9) * 2,ROUND(1/((1+Simulador!$S$13)^A62),9)))","v":0.132374983},24.883662563999994]
[60,60,"2027-02-23",2,{"$f":"IF(ISERROR(MATCH(D63,Simulador!$H$16:$H$17,0))=FALSE,\"C\",IF(ISERROR(MATCH(D63,Simulador!$H$18:$H$19,0))=FALSE,\"D\",\"\"))","v":""},{"$f":"IF(E63=\"C\",0,IF(E63 =\"D\",ROUND(1/((1+Simulador!$S$13)^A63),9) * 2,ROUND(1/((1+Simulador!$S$13)^A63),9)))","v":0.12791494},25.011577503999995]
[61,61,"2027-03-23",3,{"$f":"IF(ISERROR(MATCH(D64,Simulador!$H$16:$H$17,0))=FALSE,\"C\",IF(ISERROR(MATCH(D64,Simulador!$H$18:$H$19,0))=FALSE,\"D\",\"\"))","v":""},{"$f":"IF(E64=\"C\",0,IF(E64 =\"D\",ROUND(1/((1+Simulador!$S$13)^A64),9) * 2,ROUND(1/((1+Simulador!$S$13)^A64),9)))","v":0.123605167},25.135182670999995]
[62,62,"2027-04-23",4,{"$f":"IF(ISERROR(MATCH(D65,Simulador!$H$16:$H$17,0))=FALSE,\"C\",IF(ISERROR(MATCH(D65,Simulador!$H$18:$H$19,0))=FALSE,\"D\",\"\"))","v":""},{"$f":"IF(E65=\"C\",0,IF(E65 =\"D\",ROUND(1/((1+Simulador!$S$13)^A65),9) * 2,ROUND(1/((1+Simulador!$S$13)^A65),9)))","v":0.11944060099999999},25.254623271999996]
[63,63,"2027-05-23",5,{"$f":"IF(ISERROR(MATCH(D66,Simulador!$H$16:$H$17,0))=FALSE,\"C\",IF(ISERROR(MATCH(D66,Simulador!$H$18:$H$19,0))=FALSE,\"D\",\"\"))","v":""},{"$f":"IF(E66=\"C\",0,IF(E66 =\"D\",ROUND(1/((1+Simulador!$S$13)^A66),9) * 2,ROUND(1/((1+Simulador!$S$13)^A66),9)))","v":0.11541635},25.370039621999997]
[64,64,"2027-06-23",6,{"$f":"IF(ISERROR(MATCH(D67,Simulador!$H$16:$H$17,0))=FALSE,\"C\",IF(ISERROR(MATCH(D67,Simulador!$H$18:$H$19,0))=FALSE,\"D\",\"\"))","v":""},{"$f":"IF(E67=\"C\",0,IF(E67 =\"D\",ROUND(1/((1+Simulador!$S$13)^A67),9) * 2,ROUND(1/((1+Simulador!$S$13)^A67),9)))","v":0.111527685},25.481567306999995]
[65,65,"2027-07-23",{"$f":"MONTH(C68)","v":7},{"$f":"IF(ISERROR(MATCH(D68,Simulador!$H$16:$H$17,0))=FALSE,\"C\",IF(ISERROR(MATCH(D68,Simulador!$H$18:$H$19,0))=FALSE,\"D\",\"\"))","v":""},{"$f":"IF(E68=\"C\",0,IF(E68 =\"D\",ROUND(1/((1+Simulador!$S$13)^A68),9) * 2,ROUND(1/((1+Simulador!$S$13)^A68),9)))","v":0.10777004},25.589337346999994]
[{"$f":"A68+1","v":66},{"$f":"IF(E69<>\"C\",IF(ISERROR(1+B68)=TRUE,1,1+B68),IF(ISNUMBER(B68),B68,1))","v":66},{"$f":"DATE(YEAR(C68) + 1/12,MONTH(C68)+1,DAY(C68))","v":"2027-08-23"},8,{"$f":"IF(ISERROR(MATCH(D69,Simulador!$H$16:$H$17,0))=FALSE,\"C\",IF(ISERROR(MATCH(D69,Simulador!$H$18:$H$19,0))=FALSE,\"D\",\"\"))","v":""},{"$f":"IF(E69=\"C\",0,IF(E69 =\"D\",ROUND(1/((1+Simulador!$S$13)^A69),9) * 2,ROUND(1/((1+Simulador!$S$13)^A69),9)))","v":0.104138999},25.693476345999994]
[67,67,"2027-09-23",9,{"$f":"IF(ISERROR(MATCH(D70,Simulador!$H$16:$H$17,0))=FALSE,\"C\",IF(ISERROR(MATCH(D70,Simulador!$H$18:$H$19,0))=FALSE,\"D\",\"\"))","v":""},{"$f":"IF(E70=\"C\",0,IF(E70 =\"D\",ROUND(1/((1+Simulador!$S$13)^A70),9) * 2,ROUND(1/((1+Simulador!$S$13)^A70),9)))","v":0.10063029599999999},{"$f":"G69+ROUND(F70,9)","v":25.794106641999992}]
[68,68,"2027-10-23",10,{"$f":"IF(ISERROR(MATCH(D71,Simulador!$H$16:$H$17,0))=FALSE,\"C\",IF(ISERROR(MATCH(D71,Simulador!$H$18:$H$19,0))=FALSE,\"D\",\"\"))","v":""},{"$f":"IF(E71=\"C\",0,IF(E71 =\"D\",ROUND(1/((1+Simulador!$S$13)^A71),9) * 2,ROUND(1/((1+Simulador!$S$13)^A71),9)))","v":9.7239810999999995E-2},25.891346452999993]
[69,69,"2027-11-23",11,{"$f":"IF(ISERROR(MATCH(D72,Simulador!$H$16:$H$17,0))=FALSE,\"C\",IF(ISERROR(MATCH(D72,Simulador!$H$18:$H$19,0))=FALSE,\"D\",\"\"))","v":""},{"$f":"IF(E72=\"C\",0,IF(E72 =\"D\",ROUND(1/((1+Simulador!$S$13)^A72),9) * 2,ROUND(1/((1+Simulador!$S$13)^A72),9)))","v":9.3963560000000002E-2},25.985310012999992]
[70,70,"2027-12-23",12,{"$f":"IF(ISERROR(MATCH(D73,Simulador!$H$16:$H$17,0))=FALSE,\"C\",IF(ISERROR(MATCH(D73,Simulador!$H$18:$H$19,0))=FALSE,\"D\",\"\"))","v":""},{"$f":"IF(E73=\"C\",0,IF(E73 =\"D\",ROUND(1/((1+Simulador!$S$13)^A73),9) * 2,ROUND(1/((1+Simulador!$S$13)^A73),9)))","v":9.0797692999999999E-2},26.076107705999991]
[71,71,"2028-01-23",1,{"$f":"IF(ISERROR(MATCH(D74,Simulador!$H$16:$H$17,0))=FALSE,\"C\",IF(ISERROR(MATCH(D74,Simulador!$H$18:$H$19,0))=FALSE,\"D\",\"\"))","v":""},{"$f":"IF(E74=\"C\",0,IF(E74 =\"D\",ROUND(1/((1+Simulador!$S$13)^A74),9) * 2,ROUND(1/((1+Simulador!$S$13)^A74),9)))","v":8.7738493000000001E-2},26.163846198999991]
[72,72,"2028-02-23",2,{"$f":"IF(ISERROR(MATCH(D75,Simulador!$H$16:$H$17,0))=FALSE,\"C\",IF(ISERROR(MATCH(D75,Simulador!$H$18:$H$19,0))=FALSE,\"D\",\"\"))","v":""},{"$f":"IF(E75=\"C\",0,IF(E75 =\"D\",ROUND(1/((1+Simulador!$S$13)^A75),9) * 2,ROUND(1/((1+Simulador!$S$13)^A75),9)))","v":8.4782364999999998E-2},26.24862856399999]
[73,73,"2028-03-23",3,{"$f":"IF(ISERROR(MATCH(D76,Simulador!$H$16:$H$17,0))=FALSE,\"C\",IF(ISERROR(MATCH(D76,Simulador!$H$18:$H$19,0))=FALSE,\"D\",\"\"))","v":""},{"$f":"IF(E76=\"C\",0,IF(E76 =\"D\",ROUND(1/((1+Simulador!$S$13)^A76),9) * 2,ROUND(1/((1+Simulador!$S$13)^A76),9)))","v":8.1925836000000002E-2},26.33055439999999]
[74,74,"2028-04-23",4,{"$f":"IF(ISERROR(MATCH(D77,Simulador!$H$16:$H$17,0))=FALSE,\"C\",IF(ISERROR(MATCH(D77,Simulador!$H$18:$H$19,0))=FALSE,\"D\",\"\"))","v":""},{"$f":"IF(E77=\"C\",0,IF(E77 =\"D\",ROUND(1/((1+Simulador!$S$13)^A77),9) * 2,ROUND(1/((1+Simulador!$S$13)^A77),9)))","v":7.9165550000000001E-2},26.409719949999989]
[75,75,"2028-05-23",5,{"$f":"IF(ISERROR(MATCH(D78,Simulador!$H$16:$H$17,0))=FALSE,\"C\",IF(ISERROR(MATCH(D78,Simulador!$H$18:$H$19,0))=FALSE,\"D\",\"\"))","v":""},{"$f":"IF(E78=\"C\",0,IF(E78 =\"D\",ROUND(1/((1+Simulador!$S$13)^A78),9) * 2,ROUND(1/((1+Simulador!$S$13)^A78),9)))","v":7.6498264999999996E-2},26.48621821499999]
[76,76,"2028-06-23",6,{"$f":"IF(ISERROR(MATCH(D79,Simulador!$H$16:$H$17,0))=FALSE,\"C\",IF(ISERROR(MATCH(D79,Simulador!$H$18:$H$19,0))=FALSE,\"D\",\"\"))","v":""},{"$f":"IF(E79=\"C\",0,IF(E79 =\"D\",ROUND(1/((1+Simulador!$S$13)^A79),9) * 2,ROUND(1/((1+Simulador!$S$13)^A79),9)))","v":7.3920847999999997E-2},26.560139062999991]
[77,77,"2028-07-23",7,{"$f":"IF(ISERROR(MATCH(D80,Simulador!$H$16:$H$17,0))=FALSE,\"C\",IF(ISERROR(MATCH(D80,Simulador!$H$18:$H$19,0))=FALSE,\"D\",\"\"))","v":""},{"$f":"IF(E80=\"C\",0,IF(E80 =\"D\",ROUND(1/((1+Simulador!$S$13)^A80),9) * 2,ROUND(1/((1+Simulador!$S$13)^A80),9)))","v":7.1430271000000004E-2},26.631569333999991]
[78,78,"2028-08-23",8,{"$f":"IF(ISERROR(MATCH(D81,Simulador!$H$16:$H$17,0))=FALSE,\"C\",IF(ISERROR(MATCH(D81,Simulador!$H$18:$H$19,0))=FALSE,\"D\",\"\"))","v":""},{"$f":"IF(E81=\"C\",0,IF(E81 =\"D\",ROUND(1/((1+Simulador!$S$13)^A81),9) * 2,ROUND(1/((1+Simulador!$S$13)^A81),9)))","v":6.9023607000000001E-2},26.700592940999989]
[79,79,"2028-09-23",9,{"$f":"IF(ISERROR(MATCH(D82,Simulador!$H$16:$H$17,0))=FALSE,\"C\",IF(ISERROR(MATCH(D82,Simulador!$H$18:$H$19,0))=FALSE,\"D\",\"\"))","v":""},{"$f":"IF(E82=\"C\",0,IF(E82 =\"D\",ROUND(1/((1+Simulador!$S$13)^A82),9) * 2,ROUND(1/((1+Simulador!$S$13)^A82),9)))","v":6.6698030000000005E-2},26.767290970999991]
[80,80,"2028-10-23",10,{"$f":"IF(ISERROR(MATCH(D83,Simulador!$H$16:$H$17,0))=FALSE,\"C\",IF(ISERROR(MATCH(D83,Simulador!$H$18:$H$19,0))=FALSE,\"D\",\"\"))","v":""},{"$f":"IF(E83=\"C\",0,IF(E83 =\"D\",ROUND(1/((1+Simulador!$S$13)^A83),9) * 2,ROUND(1/((1+Simulador!$S$13)^A83),9)))","v":6.4450806999999999E-2},26.831741777999991]
[81,81,"2028-11-23",11,{"$f":"IF(ISERROR(MATCH(D84,Simulador!$H$16:$H$17,0))=FALSE,\"C\",IF(ISERROR(MATCH(D84,Simulador!$H$18:$H$19,0))=FALSE,\"D\",\"\"))","v":""},{"$f":"IF(E84=\"C\",0,IF(E84 =\"D\",ROUND(1/((1+Simulador!$S$13)^A84),9) * 2,ROUND(1/((1+Simulador!$S$13)^A84),9)))","v":6.2279299000000003E-2},26.894021076999991]
[82,82,"2028-12-23",12,{"$f":"IF(ISERROR(MATCH(D85,Simulador!$H$16:$H$17,0))=FALSE,\"C\",IF(ISERROR(MATCH(D85,Simulador!$H$18:$H$19,0))=FALSE,\"D\",\"\"))","v":""},{"$f":"IF(E85=\"C\",0,IF(E85 =\"D\",ROUND(1/((1+Simulador!$S$13)^A85),9) * 2,ROUND(1/((1+Simulador!$S$13)^A85),9)))","v":6.0180954000000002E-2},26.954202030999991]
[83,83,"2029-01-23",1,{"$f":"IF(ISERROR(MATCH(D86,Simulador!$H$16:$H$17,0))=FALSE,\"C\",IF(ISERROR(MATCH(D86,Simulador!$H$18:$H$19,0))=FALSE,\"D\",\"\"))","v":""},{"$f":"IF(E86=\"C\",0,IF(E86 =\"D\",ROUND(1/((1+Simulador!$S$13)^A86),9) * 2,ROUND(1/((1+Simulador!$S$13)^A86),9)))","v":5.8153308000000001E-2},27.012355338999992]
[84,84,"2029-02-23",2,{"$f":"IF(ISERROR(MATCH(D87,Simulador!$H$16:$H$17,0))=FALSE,\"C\",IF(ISERROR(MATCH(D87,Simulador!$H$18:$H$19,0))=FALSE,\"D\",\"\"))","v":""},{"$f":"IF(E87=\"C\",0,IF(E87 =\"D\",ROUND(1/((1+Simulador!$S$13)^A87),9) * 2,ROUND(1/((1+Simulador!$S$13)^A87),9)))","v":5.6193977999999999E-2},27.068549316999992]
[85,85,"2029-03-23",3,{"$f":"IF(ISERROR(MATCH(D88,Simulador!$H$16:$H$17,0))=FALSE,\"C\",IF(ISERROR(MATCH(D88,Simulador!$H$18:$H$19,0))=FALSE,\"D\",\"\"))","v":""},{"$f":"IF(E88=\"C\",0,IF(E88 =\"D\",ROUND(1/((1+Simulador!$S$13)^A88),9) * 2,ROUND(1/((1+Simulador!$S$13)^A88),9)))","v":5.4300662999999999E-2},27.122849979999991]
[86,86,"2029-04-23",4,{"$f":"IF(ISERROR(MATCH(D89,Simulador!$H$16:$H$17,0))=FALSE,\"C\",IF(ISERROR(MATCH(D89,Simulador!$H$18:$H$19,0))=FALSE,\"D\",\"\"))","v":""},{"$f":"IF(E89=\"C\",0,IF(E89 =\"D\",ROUND(1/((1+Simulador!$S$13)^A89),9) * 2,ROUND(1/((1+Simulador!$S$13)^A89),9)))","v":5.2471139E-2},27.175321118999992]
[87,87,"2029-05-23",5,{"$f":"IF(ISERROR(MATCH(D90,Simulador!$H$16:$H$17,0))=FALSE,\"C\",IF(ISERROR(MATCH(D90,Simulador!$H$18:$H$19,0))=FALSE,\"D\",\"\"))","v":""},{"$f":"IF(E90=\"C\",0,IF(E90 =\"D\",ROUND(1/((1+Simulador!$S$13)^A90),9) * 2,ROUND(1/((1+Simulador!$S$13)^A90),9)))","v":5.0703255000000003E-2},27.226024373999991]
[88,88,"2029-06-23",6,{"$f":"IF(ISERROR(MATCH(D91,Simulador!$H$16:$H$17,0))=FALSE,\"C\",IF(ISERROR(MATCH(D91,Simulador!$H$18:$H$19,0))=FALSE,\"D\",\"\"))","v":""},{"$f":"IF(E91=\"C\",0,IF(E91 =\"D\",ROUND(1/((1+Simulador!$S$13)^A91),9) * 2,ROUND(1/((1+Simulador!$S$13)^A91),9)))","v":4.8994936000000003E-2},27.27501930999999]
[89,89,"2029-07-23",7,{"$f":"IF(ISERROR(MATCH(D92,Simulador!$H$16:$H$17,0))=FALSE,\"C\",IF(ISERROR(MATCH(D92,Simulador!$H$18:$H$19,0))=FALSE,\"D\",\"\"))","v":""},{"$f":"IF(E92=\"C\",0,IF(E92 =\"D\",ROUND(1/((1+Simulador!$S$13)^A92),9) * 2,ROUND(1/((1+Simulador!$S$13)^A92),9)))","v":4.7344175000000002E-2},27.32236348499999]
[90,90,"2029-08-23",8,{"$f":"IF(ISERROR(MATCH(D93,Simulador!$H$16:$H$17,0))=FALSE,\"C\",IF(ISERROR(MATCH(D93,Simulador!$H$18:$H$19,0))=FALSE,\"D\",\"\"))","v":""},{"$f":"IF(E93=\"C\",0,IF(E93 =\"D\",ROUND(1/((1+Simulador!$S$13)^A93),9) * 2,ROUND(1/((1+Simulador!$S$13)^A93),9)))","v":4.5749032000000002E-2},27.368112516999989]
[91,91,"2029-09-23",9,{"$f":"IF(ISERROR(MATCH(D94,Simulador!$H$16:$H$17,0))=FALSE,\"C\",IF(ISERROR(MATCH(D94,Simulador!$H$18:$H$19,0))=FALSE,\"D\",\"\"))","v":""},{"$f":"IF(E94=\"C\",0,IF(E94 =\"D\",ROUND(1/((1+Simulador!$S$13)^A94),9) * 2,ROUND(1/((1+Simulador!$S$13)^A94),9)))","v":4.4207633000000003E-2},27.412320149999989]
[92,92,"2029-10-23",10,{"$f":"IF(ISERROR(MATCH(D95,Simulador!$H$16:$H$17,0))=FALSE,\"C\",IF(ISERROR(MATCH(D95,Simulador!$H$18:$H$19,0))=FALSE,\"D\",\"\"))","v":""},{"$f":"IF(E95=\"C\",0,IF(E95 =\"D\",ROUND(1/((1+Simulador!$S$13)^A95),9) * 2,ROUND(1/((1+Simulador!$S$13)^A95),9)))","v":4.2718168000000001E-2},27.455038317999989]
[93,93,"2029-11-23",11,{"$f":"IF(ISERROR(MATCH(D96,Simulador!$H$16:$H$17,0))=FALSE,\"C\",IF(ISERROR(MATCH(D96,Simulador!$H$18:$H$19,0))=FALSE,\"D\",\"\"))","v":""},{"$f":"IF(E96=\"C\",0,IF(E96 =\"D\",ROUND(1/((1+Simulador!$S$13)^A96),9) * 2,ROUND(1/((1+Simulador!$S$13)^A96),9)))","v":4.1278886000000001E-2},27.49631720399999]
[94,94,"2029-12-23",12,{"$f":"IF(ISERROR(MATCH(D97,Simulador!$H$16:$H$17,0))=FALSE,\"C\",IF(ISERROR(MATCH(D97,Simulador!$H$18:$H$19,0))=FALSE,\"D\",\"\"))","v":""},{"$f":"IF(E97=\"C\",0,IF(E97 =\"D\",ROUND(1/((1+Simulador!$S$13)^A97),9) * 2,ROUND(1/((1+Simulador!$S$13)^A97),9)))","v":3.9888097999999997E-2},27.536205301999988]
[95,95,"2030-01-23",1,{"$f":"IF(ISERROR(MATCH(D98,Simulador!$H$16:$H$17,0))=FALSE,\"C\",IF(ISERROR(MATCH(D98,Simulador!$H$18:$H$19,0))=FALSE,\"D\",\"\"))","v":""},{"$f":"IF(E98=\"C\",0,IF(E98 =\"D\",ROUND(1/((1+Simulador!$S$13)^A98),9) * 2,ROUND(1/((1+Simulador!$S$13)^A98),9)))","v":3.8544167999999997E-2},27.57474946999999]
[96,96,"2030-02-23",2,{"$f":"IF(ISERROR(MATCH(D99,Simulador!$H$16:$H$17,0))=FALSE,\"C\",IF(ISERROR(MATCH(D99,Simulador!$H$18:$H$19,0))=FALSE,\"D\",\"\"))","v":""},{"$f":"IF(E99=\"C\",0,IF(E99 =\"D\",ROUND(1/((1+Simulador!$S$13)^A99),9) * 2,ROUND(1/((1+Simulador!$S$13)^A99),9)))","v":3.7245518999999998E-2},27.611994988999989]
[97,{"$f":"IF(E100<>\"C\",IF(ISERROR(1+B99)=TRUE,1,1+B99),IF(ISNUMBER(B99),B99,1))","v":97},"2030-03-23",{"$f":"MONTH(C100)","v":3},{"$f":"IF(ISERROR(MATCH(D100,Simulador!$H$16:$H$17,0))=FALSE,\"C\",IF(ISERROR(MATCH(D100,Simulador!$H$18:$H$19,0))=FALSE,\"D\",\"\"))","v":""},{"$f":"IF(E100=\"C\",0,IF(E100 =\"D\",ROUND(1/((1+Simulador!$S$13)^A100),9) * 2,ROUND(1/((1+Simulador!$S$13)^A100),9)))","v":3.5990624999999998E-2},{"$f":"G99+ROUND(F100,9)","v":27.647985613999989}]
[98,98,"2030-04-23",4,{"$f":"IF(ISERROR(MATCH(D101,Simulador!$H$16:$H$17,0))=FALSE,\"C\",IF(ISERROR(MATCH(D101,Simulador!$H$18:$H$19,0))=FALSE,\"D\",\"\"))","v":""},{"$f":"IF(E101=\"C\",0,IF(E101 =\"D\",ROUND(1/((1+Simulador!$S$13)^A101),9) * 2,ROUND(1/((1+Simulador!$S$13)^A101),9)))","v":3.4778010999999998E-2},27.682763624999989]
[99,99,"2030-05-23",5,{"$f":"IF(ISERROR(MATCH(D102,Simulador!$H$16:$H$17,0))=FALSE,\"C\",IF(ISERROR(MATCH(D102,Simulador!$H$18:$H$19,0))=FALSE,\"D\",\"\"))","v":""},{"$f":"IF(E102=\"C\",0,IF(E102 =\"D\",ROUND(1/((1+Simulador!$S$13)^A102),9) * 2,ROUND(1/((1+Simulador!$S$13)^A102),9)))","v":3.3606253000000003E-2},27.716369877999988]
[100,100,"2030-06-23",6,{"$f":"IF(ISERROR(MATCH(D103,Simulador!$H$16:$H$17,0))=FALSE,\"C\",IF(ISERROR(MATCH(D103,Simulador!$H$18:$H$19,0))=FALSE,\"D\",\"\"))","v":""},{"$f":"IF(E103=\"C\",0,IF(E103 =\"D\",ROUND(1/((1+Simulador!$S$13)^A103),9) * 2,ROUND(1/((1+Simulador!$S$13)^A103),9)))","v":3.2473975000000002E-2},27.748843852999986]
[101,101,"2030-07-23",7,{"$f":"IF(ISERROR(MATCH(D104,Simulador!$H$16:$H$17,0))=FALSE,\"C\",IF(ISERROR(MATCH(D104,Simulador!$H$18:$H$19,0))=FALSE,\"D\",\"\"))","v":""},{"$f":"IF(E104=\"C\",0,IF(E104 =\"D\",ROUND(1/((1+Simulador!$S$13)^A104),9) * 2,ROUND(1/((1+Simulador!$S$13)^A104),9)))","v":3.1379846000000003E-2},27.780223698999986]
[102,102,"2030-08-23",8,{"$f":"IF(ISERROR(MATCH(D105,Simulador!$H$16:$H$17,0))=FALSE,\"C\",IF(ISERROR(MATCH(D105,Simulador!$H$18:$H$19,0))=FALSE,\"D\",\"\"))","v":""},{"$f":"IF(E105=\"C\",0,IF(E105 =\"D\",ROUND(1/((1+Simulador!$S$13)^A105),9) * 2,ROUND(1/((1+Simulador!$S$13)^A105),9)))","v":3.0322581000000001E-2},27.810546279999986]
[103,103,"2030-09-23",9,{"$f":"IF(ISERROR(MATCH(D106,Simulador!$H$16:$H$17,0))=FALSE,\"C\",IF(ISERROR(MATCH(D106,Simulador!$H$18:$H$19,0))=FALSE,\"D\",\"\"))","v":""},{"$f":"IF(E106=\"C\",0,IF(E106 =\"D\",ROUND(1/((1+Simulador!$S$13)^A106),9) * 2,ROUND(1/((1+Simulador!$S$13)^A106),9)))","v":2.9300936999999999E-2},27.839847216999985]
[104,104,"2030-10-23",10,{"$f":"IF(ISERROR(MATCH(D107,Simulador!$H$16:$H$17,0))=FALSE,\"C\",IF(ISERROR(MATCH(D107,Simulador!$H$18:$H$19,0))=FALSE,\"D\",\"\"))","v":""},{"$f":"IF(E107=\"C\",0,IF(E107 =\"D\",ROUND(1/((1+Simulador!$S$13)^A107),9) * 2,ROUND(1/((1+Simulador!$S$13)^A107),9)))","v":2.8313715999999999E-2},27.868160932999984]
[105,105,"2030-11-23",11,{"$f":"IF(ISERROR(MATCH(D108,Simulador!$H$16:$H$17,0))=FALSE,\"C\",IF(ISERROR(MATCH(D108,Simulador!$H$18:$H$19,0))=FALSE,\"D\",\"\"))","v":""},{"$f":"IF(E108=\"C\",0,IF(E108 =\"D\",ROUND(1/((1+Simulador!$S$13)^A108),9) * 2,ROUND(1/((1+Simulador!$S$13)^A108),9)))","v":2.7359755999999999E-2},27.895520688999984]
[106,106,"2030-12-23",12,{"$f":"IF(ISERROR(MATCH(D109,Simulador!$H$16:$H$17,0))=FALSE,\"C\",IF(ISERROR(MATCH(D109,Simulador!$H$18:$H$19,0))=FALSE,\"D\",\"\"))","v":""},{"$f":"IF(E109=\"C\",0,IF(E109 =\"D\",ROUND(1/((1+Simulador!$S$13)^A109),9) * 2,ROUND(1/((1+Simulador!$S$13)^A109),9)))","v":2.6437938000000001E-2},27.921958626999984]
[107,107,"2031-01-23",1,{"$f":"IF(ISERROR(MATCH(D110,Simulador!$H$16:$H$17,0))=FALSE,\"C\",IF(ISERROR(MATCH(D110,Simulador!$H$18:$H$19,0))=FALSE,\"D\",\"\"))","v":""},{"$f":"IF(E110=\"C\",0,IF(E110 =\"D\",ROUND(1/((1+Simulador!$S$13)^A110),9) * 2,ROUND(1/((1+Simulador!$S$13)^A110),9)))","v":2.5547178E-2},27.947505804999984]
[108,108,"2031-02-23",2,{"$f":"IF(ISERROR(MATCH(D111,Simulador!$H$16:$H$17,0))=FALSE,\"C\",IF(ISERROR(MATCH(D111,Simulador!$H$18:$H$19,0))=FALSE,\"D\",\"\"))","v":""},{"$f":"IF(E111=\"C\",0,IF(E111 =\"D\",ROUND(1/((1+Simulador!$S$13)^A111),9) * 2,ROUND(1/((1+Simulador!$S$13)^A111),9)))","v":2.4686429999999999E-2},27.972192234999984]
[109,109,"2031-03-23",3,{"$f":"IF(ISERROR(MATCH(D112,Simulador!$H$16:$H$17,0))=FALSE,\"C\",IF(ISERROR(MATCH(D112,Simulador!$H$18:$H$19,0))=FALSE,\"D\",\"\"))","v":""},{"$f":"IF(E112=\"C\",0,IF(E112 =\"D\",ROUND(1/((1+Simulador!$S$13)^A112),9) * 2,ROUND(1/((1+Simulador!$S$13)^A112),9)))","v":2.3854683000000002E-2},27.996046917999983]
[110,110,"2031-04-23",4,{"$f":"IF(ISERROR(MATCH(D113,Simulador!$H$16:$H$17,0))=FALSE,\"C\",IF(ISERROR(MATCH(D113,Simulador!$H$18:$H$19,0))=FALSE,\"D\",\"\"))","v":""},{"$f":"IF(E113=\"C\",0,IF(E113 =\"D\",ROUND(1/((1+Simulador!$S$13)^A113),9) * 2,ROUND(1/((1+Simulador!$S$13)^A113),9)))","v":2.3050958999999999E-2},28.019097876999982]
[111,111,"2031-05-23",5,{"$f":"IF(ISERROR(MATCH(D114,Simulador!$H$16:$H$17,0))=FALSE,\"C\",IF(ISERROR(MATCH(D114,Simulador!$H$18:$H$19,0))=FALSE,\"D\",\"\"))","v":""},{"$f":"IF(E114=\"C\",0,IF(E114 =\"D\",ROUND(1/((1+Simulador!$S$13)^A114),9) * 2,ROUND(1/((1+Simulador!$S$13)^A114),9)))","v":2.2274314999999999E-2},28.041372191999983]
[112,112,"2031-06-23",6,{"$f":"IF(ISERROR(MATCH(D115,Simulador!$H$16:$H$17,0))=FALSE,\"C\",IF(ISERROR(MATCH(D115,Simulador!$H$18:$H$19,0))=FALSE,\"D\",\"\"))","v":""},{"$f":"IF(E115=\"C\",0,IF(E115 =\"D\",ROUND(1/((1+Simulador!$S$13)^A115),9) * 2,ROUND(1/((1+Simulador!$S$13)^A115),9)))","v":2.1523838E-2},28.062896029999983]
[113,113,"2031-07-23",7,{"$f":"IF(ISERROR(MATCH(D116,Simulador!$H$16:$H$17,0))=FALSE,\"C\",IF(ISERROR(MATCH(D116,Simulador!$H$18:$H$19,0))=FALSE,\"D\",\"\"))","v":""},{"$f":"IF(E116=\"C\",0,IF(E116 =\"D\",ROUND(1/((1+Simulador!$S$13)^A116),9) * 2,ROUND(1/((1+Simulador!$S$13)^A116),9)))","v":2.0798646E-2},28.083694675999983]
[114,114,"2031-08-23",8,{"$f":"IF(ISERROR(MATCH(D117,Simulador!$H$16:$H$17,0))=FALSE,\"C\",IF(ISERROR(MATCH(D117,Simulador!$H$18:$H$19,0))=FALSE,\"D\",\"\"))","v":""},{"$f":"IF(E117=\"C\",0,IF(E117 =\"D\",ROUND(1/((1+Simulador!$S$13)^A117),9) * 2,ROUND(1/((1+Simulador!$S$13)^A117),9)))","v":2.0097888000000001E-2},28.103792563999981]
[115,115,"2031-09-23",9,{"$f":"IF(ISERROR(MATCH(D118,Simulador!$H$16:$H$17,0))=FALSE,\"C\",IF(ISERROR(MATCH(D118,Simulador!$H$18:$H$19,0))=FALSE,\"D\",\"\"))","v":""},{"$f":"IF(E118=\"C\",0,IF(E118 =\"D\",ROUND(1/((1+Simulador!$S$13)^A118),9) * 2,ROUND(1/((1+Simulador!$S$13)^A118),9)))","v":1.9420739999999999E-2},28.123213303999982]
[116,116,"2031-10-23",10,{"$f":"IF(ISERROR(MATCH(D119,Simulador!$H$16:$H$17,0))=FALSE,\"C\",IF(ISERROR(MATCH(D119,Simulador!$H$18:$H$19,0))=FALSE,\"D\",\"\"))","v":""},{"$f":"IF(E119=\"C\",0,IF(E119 =\"D\",ROUND(1/((1+Simulador!$S$13)^A119),9) * 2,ROUND(1/((1+Simulador!$S$13)^A119),9)))","v":1.8766406999999999E-2},28.141979710999983]
[117,117,"2031-11-23",11,{"$f":"IF(ISERROR(MATCH(D120,Simulador!$H$16:$H$17,0))=FALSE,\"C\",IF(ISERROR(MATCH(D120,Simulador!$H$18:$H$19,0))=FALSE,\"D\",\"\"))","v":""},{"$f":"IF(E120=\"C\",0,IF(E120 =\"D\",ROUND(1/((1+Simulador!$S$13)^A120),9) * 2,ROUND(1/((1+Simulador!$S$13)^A120),9)))","v":1.813412E-2},28.160113830999983]
[118,118,"2031-12-23",12,{"$f":"IF(ISERROR(MATCH(D121,Simulador!$H$16:$H$17,0))=FALSE,\"C\",IF(ISERROR(MATCH(D121,Simulador!$H$18:$H$19,0))=FALSE,\"D\",\"\"))","v":""},{"$f":"IF(E121=\"C\",0,IF(E121 =\"D\",ROUND(1/((1+Simulador!$S$13)^A121),9) * 2,ROUND(1/((1+Simulador!$S$13)^A121),9)))","v":1.7523136000000002E-2},28.177636966999984]
[119,119,"2032-01-23",1,{"$f":"IF(ISERROR(MATCH(D122,Simulador!$H$16:$H$17,0))=FALSE,\"C\",IF(ISERROR(MATCH(D122,Simulador!$H$18:$H$19,0))=FALSE,\"D\",\"\"))","v":""},{"$f":"IF(E122=\"C\",0,IF(E122 =\"D\",ROUND(1/((1+Simulador!$S$13)^A122),9) * 2,ROUND(1/((1+Simulador!$S$13)^A122),9)))","v":1.6932737999999999E-2},28.194569704999985]
[120,120,"2032-02-23",2,{"$f":"IF(ISERROR(MATCH(D123,Simulador!$H$16:$H$17,0))=FALSE,\"C\",IF(ISERROR(MATCH(D123,Simulador!$H$18:$H$19,0))=FALSE,\"D\",\"\"))","v":""},{"$f":"IF(E123=\"C\",0,IF(E123 =\"D\",ROUND(1/((1+Simulador!$S$13)^A123),9) * 2,ROUND(1/((1+Simulador!$S$13)^A123),9)))","v":1.6362232000000001E-2},28.210931936999984]
[121,121,"2032-03-23",3,{"$f":"IF(ISERROR(MATCH(D124,Simulador!$H$16:$H$17,0))=FALSE,\"C\",IF(ISERROR(MATCH(D124,Simulador!$H$18:$H$19,0))=FALSE,\"D\",\"\"))","v":""},{"$f":"IF(E124=\"C\",0,IF(E124 =\"D\",ROUND(1/((1+Simulador!$S$13)^A124),9) * 2,ROUND(1/((1+Simulador!$S$13)^A124),9)))","v":1.5810946999999999E-2},28.226742883999982]
[122,122,"2032-04-23",4,{"$f":"IF(ISERROR(MATCH(D125,Simulador!$H$16:$H$17,0))=FALSE,\"C\",IF(ISERROR(MATCH(D125,Simulador!$H$18:$H$19,0))=FALSE,\"D\",\"\"))","v":""},{"$f":"IF(E125=\"C\",0,IF(E125 =\"D\",ROUND(1/((1+Simulador!$S$13)^A125),9) * 2,ROUND(1/((1+Simulador!$S$13)^A125),9)))","v":1.5278237E-2},28.242021120999983]
[123,123,"2032-05-23",5,{"$f":"IF(ISERROR(MATCH(D126,Simulador!$H$16:$H$17,0))=FALSE,\"C\",IF(ISERROR(MATCH(D126,Simulador!$H$18:$H$19,0))=FALSE,\"D\",\"\"))","v":""},{"$f":"IF(E126=\"C\",0,IF(E126 =\"D\",ROUND(1/((1+Simulador!$S$13)^A126),9) * 2,ROUND(1/((1+Simulador!$S$13)^A126),9)))","v":1.4763475E-2},28.256784595999981]
[124,124,"2032-06-23",6,{"$f":"IF(ISERROR(MATCH(D127,Simulador!$H$16:$H$17,0))=FALSE,\"C\",IF(ISERROR(MATCH(D127,Simulador!$H$18:$H$19,0))=FALSE,\"D\",\"\"))","v":""},{"$f":"IF(E127=\"C\",0,IF(E127 =\"D\",ROUND(1/((1+Simulador!$S$13)^A127),9) * 2,ROUND(1/((1+Simulador!$S$13)^A127),9)))","v":1.4266057E-2},28.271050652999982]
[125,125,"2032-07-23",7,{"$f":"IF(ISERROR(MATCH(D128,Simulador!$H$16:$H$17,0))=FALSE,\"C\",IF(ISERROR(MATCH(D128,Simulador!$H$18:$H$19,0))=FALSE,\"D\",\"\"))","v":""},{"$f":"IF(E128=\"C\",0,IF(E128 =\"D\",ROUND(1/((1+Simulador!$S$13)^A128),9) * 2,ROUND(1/((1+Simulador!$S$13)^A128),9)))","v":1.3785398000000001E-2},28.284836050999981]
[126,126,"2032-08-23",8,{"$f":"IF(ISERROR(MATCH(D129,Simulador!$H$16:$H$17,0))=FALSE,\"C\",IF(ISERROR(MATCH(D129,Simulador!$H$18:$H$19,0))=FALSE,\"D\",\"\"))","v":""},{"$f":"IF(E129=\"C\",0,IF(E129 =\"D\",ROUND(1/((1+Simulador!$S$13)^A129),9) * 2,ROUND(1/((1+Simulador!$S$13)^A129),9)))","v":1.3320934E-2},28.298156984999981]
[127,127,"2032-09-23",9,{"$f":"IF(ISERROR(MATCH(D130,Simulador!$H$16:$H$17,0))=FALSE,\"C\",IF(ISERROR(MATCH(D130,Simulador!$H$18:$H$19,0))=FALSE,\"D\",\"\"))","v":""},{"$f":"IF(E130=\"C\",0,IF(E130 =\"D\",ROUND(1/((1+Simulador!$S$13)^A130),9) * 2,ROUND(1/((1+Simulador!$S$13)^A130),9)))","v":1.2872118E-2},28.311029102999981]
[128,128,"2032-10-23",10,{"$f":"IF(ISERROR(MATCH(D131,Simulador!$H$16:$H$17,0))=FALSE,\"C\",IF(ISERROR(MATCH(D131,Simulador!$H$18:$H$19,0))=FALSE,\"D\",\"\"))","v":""},{"$f":"IF(E131=\"C\",0,IF(E131 =\"D\",ROUND(1/((1+Simulador!$S$13)^A131),9) * 2,ROUND(1/((1+Simulador!$S$13)^A131),9)))","v":1.2438424999999999E-2},28.323467527999981]
[129,129,"2032-11-23",11,{"$f":"IF(ISERROR(MATCH(D132,Simulador!$H$16:$H$17,0))=FALSE,\"C\",IF(ISERROR(MATCH(D132,Simulador!$H$18:$H$19,0))=FALSE,\"D\",\"\"))","v":""},{"$f":"IF(E132=\"C\",0,IF(E132 =\"D\",ROUND(1/((1+Simulador!$S$13)^A132),9) * 2,ROUND(1/((1+Simulador!$S$13)^A132),9)))","v":1.2019343E-2},28.335486870999979]
[{"$f":"A132+1","v":130},130,{"$f":"DATE(YEAR(C132) + 1/12,MONTH(C132)+1,DAY(C132))","v":"2032-12-23"},12,{"$f":"IF(ISERROR(MATCH(D133,Simulador!$H$16:$H$17,0))=FALSE,\"C\",IF(ISERROR(MATCH(D133,Simulador!$H$18:$H$19,0))=FALSE,\"D\",\"\"))","v":""},{"$f":"IF(E133=\"C\",0,IF(E133 =\"D\",ROUND(1/((1+Simulador!$S$13)^A133),9) * 2,ROUND(1/((1+Simulador!$S$13)^A133),9)))","v":1.1614381E-2},28.34710125199998]
[131,131,"2033-01-23",1,{"$f":"IF(ISERROR(MATCH(D134,Simulador!$H$16:$H$17,0))=FALSE,\"C\",IF(ISERROR(MATCH(D134,Simulador!$H$18:$H$19,0))=FALSE,\"D\",\"\"))","v":""},{"$f":"IF(E134=\"C\",0,IF(E134 =\"D\",ROUND(1/((1+Simulador!$S$13)^A134),9) * 2,ROUND(1/((1+Simulador!$S$13)^A134),9)))","v":1.1223064E-2},28.35832431599998]
[132,132,"2033-02-23",2,{"$f":"IF(ISERROR(MATCH(D135,Simulador!$H$16:$H$17,0))=FALSE,\"C\",IF(ISERROR(MATCH(D135,Simulador!$H$18:$H$19,0))=FALSE,\"D\",\"\"))","v":""},{"$f":"IF(E135=\"C\",0,IF(E135 =\"D\",ROUND(1/((1+Simulador!$S$13)^A135),9) * 2,ROUND(1/((1+Simulador!$S$13)^A135),9)))","v":1.0844931E-2},28.369169246999981]
[133,133,"2033-03-23",3,{"$f":"IF(ISERROR(MATCH(D136,Simulador!$H$16:$H$17,0))=FALSE,\"C\",IF(ISERROR(MATCH(D136,Simulador!$H$18:$H$19,0))=FALSE,\"D\",\"\"))","v":""},{"$f":"IF(E136=\"C\",0,IF(E136 =\"D\",ROUND(1/((1+Simulador!$S$13)^A136),9) * 2,ROUND(1/((1+Simulador!$S$13)^A136),9)))","v":1.0479538E-2},28.379648784999979]
[134,134,"2033-04-23",4,{"$f":"IF(ISERROR(MATCH(D137,Simulador!$H$16:$H$17,0))=FALSE,\"C\",IF(ISERROR(MATCH(D137,Simulador!$H$18:$H$19,0))=FALSE,\"D\",\"\"))","v":""},{"$f":"IF(E137=\"C\",0,IF(E137 =\"D\",ROUND(1/((1+Simulador!$S$13)^A137),9) * 2,ROUND(1/((1+Simulador!$S$13)^A137),9)))","v":1.0126457E-2},28.389775241999978]
[135,135,"2033-05-23",5,{"$f":"IF(ISERROR(MATCH(D138,Simulador!$H$16:$H$17,0))=FALSE,\"C\",IF(ISERROR(MATCH(D138,Simulador!$H$18:$H$19,0))=FALSE,\"D\",\"\"))","v":""},{"$f":"IF(E138=\"C\",0,IF(E138 =\"D\",ROUND(1/((1+Simulador!$S$13)^A138),9) * 2,ROUND(1/((1+Simulador!$S$13)^A138),9)))","v":9.7852709999999999E-3},28.399560512999976]
[136,136,"2033-06-23",6,{"$f":"IF(ISERROR(MATCH(D139,Simulador!$H$16:$H$17,0))=FALSE,\"C\",IF(ISERROR(MATCH(D139,Simulador!$H$18:$H$19,0))=FALSE,\"D\",\"\"))","v":""},{"$f":"IF(E139=\"C\",0,IF(E139 =\"D\",ROUND(1/((1+Simulador!$S$13)^A139),9) * 2,ROUND(1/((1+Simulador!$S$13)^A139),9)))","v":9.4555809999999994E-3},28.409016093999977]
[137,137,"2033-07-23",7,{"$f":"IF(ISERROR(MATCH(D140,Simulador!$H$16:$H$17,0))=FALSE,\"C\",IF(ISERROR(MATCH(D140,Simulador!$H$18:$H$19,0))=FALSE,\"D\",\"\"))","v":""},{"$f":"IF(E140=\"C\",0,IF(E140 =\"D\",ROUND(1/((1+Simulador!$S$13)^A140),9) * 2,ROUND(1/((1+Simulador!$S$13)^A140),9)))","v":9.1369989999999998E-3},28.418153092999976]
[138,138,"2033-08-23",8,{"$f":"IF(ISERROR(MATCH(D141,Simulador!$H$16:$H$17,0))=FALSE,\"C\",IF(ISERROR(MATCH(D141,Simulador!$H$18:$H$19,0))=FALSE,\"D\",\"\"))","v":""},{"$f":"IF(E141=\"C\",0,IF(E141 =\"D\",ROUND(1/((1+Simulador!$S$13)^A141),9) * 2,ROUND(1/((1+Simulador!$S$13)^A141),9)))","v":8.8291510000000004E-3},28.426982243999976]
[139,139,"2033-09-23",9,{"$f":"IF(ISERROR(MATCH(D142,Simulador!$H$16:$H$17,0))=FALSE,\"C\",IF(ISERROR(MATCH(D142,Simulador!$H$18:$H$19,0))=FALSE,\"D\",\"\"))","v":""},{"$f":"IF(E142=\"C\",0,IF(E142 =\"D\",ROUND(1/((1+Simulador!$S$13)^A142),9) * 2,ROUND(1/((1+Simulador!$S$13)^A142),9)))","v":8.5316739999999995E-3},28.435513917999977]
[140,140,"2033-10-23",10,{"$f":"IF(ISERROR(MATCH(D143,Simulador!$H$16:$H$17,0))=FALSE,\"C\",IF(ISERROR(MATCH(D143,Simulador!$H$18:$H$19,0))=FALSE,\"D\",\"\"))","v":""},{"$f":"IF(E143=\"C\",0,IF(E143 =\"D\",ROUND(1/((1+Simulador!$S$13)^A143),9) * 2,ROUND(1/((1+Simulador!$S$13)^A143),9)))","v":8.2442209999999995E-3},28.443758138999979]
[141,141,"2033-11-23",11,{"$f":"IF(ISERROR(MATCH(D144,Simulador!$H$16:$H$17,0))=FALSE,\"C\",IF(ISERROR(MATCH(D144,Simulador!$H$18:$H$19,0))=FALSE,\"D\",\"\"))","v":""},{"$f":"IF(E144=\"C\",0,IF(E144 =\"D\",ROUND(1/((1+Simulador!$S$13)^A144),9) * 2,ROUND(1/((1+Simulador!$S$13)^A144),9)))","v":7.9664530000000001E-3},28.45172459199998]
[142,142,"2033-12-23",12,{"$f":"IF(ISERROR(MATCH(D145,Simulador!$H$16:$H$17,0))=FALSE,\"C\",IF(ISERROR(MATCH(D145,Simulador!$H$18:$H$19,0))=FALSE,\"D\",\"\"))","v":""},{"$f":"IF(E145=\"C\",0,IF(E145 =\"D\",ROUND(1/((1+Simulador!$S$13)^A145),9) * 2,ROUND(1/((1+Simulador!$S$13)^A145),9)))","v":7.6980429999999999E-3},28.459422634999981]
[143,143,"2034-01-23",1,{"$f":"IF(ISERROR(MATCH(D146,Simulador!$H$16:$H$17,0))=FALSE,\"C\",IF(ISERROR(MATCH(D146,Simulador!$H$18:$H$19,0))=FALSE,\"D\",\"\"))","v":""},{"$f":"IF(E146=\"C\",0,IF(E146 =\"D\",ROUND(1/((1+Simulador!$S$13)^A146),9) * 2,ROUND(1/((1+Simulador!$S$13)^A146),9)))","v":7.4386770000000003E-3},28.466861311999981]
[144,144,"2034-02-23",2,{"$f":"IF(ISERROR(MATCH(D147,Simulador!$H$16:$H$17,0))=FALSE,\"C\",IF(ISERROR(MATCH(D147,Simulador!$H$18:$H$19,0))=FALSE,\"D\",\"\"))","v":""},{"$f":"IF(E147=\"C\",0,IF(E147 =\"D\",ROUND(1/((1+Simulador!$S$13)^A147),9) * 2,ROUND(1/((1+Simulador!$S$13)^A147),9)))","v":7.1880490000000002E-3},28.474049360999981]
[145,145,"2034-03-23",3,{"$f":"IF(ISERROR(MATCH(D148,Simulador!$H$16:$H$17,0))=FALSE,\"C\",IF(ISERROR(MATCH(D148,Simulador!$H$18:$H$19,0))=FALSE,\"D\",\"\"))","v":""},{"$f":"IF(E148=\"C\",0,IF(E148 =\"D\",ROUND(1/((1+Simulador!$S$13)^A148),9) * 2,ROUND(1/((1+Simulador!$S$13)^A148),9)))","v":6.9458660000000002E-3},28.48099522699998]
[146,146,"2034-04-23",4,{"$f":"IF(ISERROR(MATCH(D149,Simulador!$H$16:$H$17,0))=FALSE,\"C\",IF(ISERROR(MATCH(D149,Simulador!$H$18:$H$19,0))=FALSE,\"D\",\"\"))","v":""},{"$f":"IF(E149=\"C\",0,IF(E149 =\"D\",ROUND(1/((1+Simulador!$S$13)^A149),9) * 2,ROUND(1/((1+Simulador!$S$13)^A149),9)))","v":6.7118430000000003E-3},28.487707069999981]
[147,147,"2034-05-23",5,{"$f":"IF(ISERROR(MATCH(D150,Simulador!$H$16:$H$17,0))=FALSE,\"C\",IF(ISERROR(MATCH(D150,Simulador!$H$18:$H$19,0))=FALSE,\"D\",\"\"))","v":""},{"$f":"IF(E150=\"C\",0,IF(E150 =\"D\",ROUND(1/((1+Simulador!$S$13)^A150),9) * 2,ROUND(1/((1+Simulador!$S$13)^A150),9)))","v":6.4857040000000001E-3},28.494192773999981]
[148,148,"2034-06-23",6,{"$f":"IF(ISERROR(MATCH(D151,Simulador!$H$16:$H$17,0))=FALSE,\"C\",IF(ISERROR(MATCH(D151,Simulador!$H$18:$H$19,0))=FALSE,\"D\",\"\"))","v":""},{"$f":"IF(E151=\"C\",0,IF(E151 =\"D\",ROUND(1/((1+Simulador!$S$13)^A151),9) * 2,ROUND(1/((1+Simulador!$S$13)^A151),9)))","v":6.2671840000000003E-3},28.500459957999979]
[149,149,"2034-07-23",7,{"$f":"IF(ISERROR(MATCH(D152,Simulador!$H$16:$H$17,0))=FALSE,\"C\",IF(ISERROR(MATCH(D152,Simulador!$H$18:$H$19,0))=FALSE,\"D\",\"\"))","v":""},{"$f":"IF(E152=\"C\",0,IF(E152 =\"D\",ROUND(1/((1+Simulador!$S$13)^A152),9) * 2,ROUND(1/((1+Simulador!$S$13)^A152),9)))","v":6.0560270000000003E-3},28.506515984999979]
[150,150,"2034-08-23",8,{"$f":"IF(ISERROR(MATCH(D153,Simulador!$H$16:$H$17,0))=FALSE,\"C\",IF(ISERROR(MATCH(D153,Simulador!$H$18:$H$19,0))=FALSE,\"D\",\"\"))","v":""},{"$f":"IF(E153=\"C\",0,IF(E153 =\"D\",ROUND(1/((1+Simulador!$S$13)^A153),9) * 2,ROUND(1/((1+Simulador!$S$13)^A153),9)))","v":5.8519849999999997E-3},28.512367969999978]
[151,151,"2034-09-23",9,{"$f":"IF(ISERROR(MATCH(D154,Simulador!$H$16:$H$17,0))=FALSE,\"C\",IF(ISERROR(MATCH(D154,Simulador!$H$18:$H$19,0))=FALSE,\"D\",\"\"))","v":""},{"$f":"IF(E154=\"C\",0,IF(E154 =\"D\",ROUND(1/((1+Simulador!$S$13)^A154),9) * 2,ROUND(1/((1+Simulador!$S$13)^A154),9)))","v":5.6548170000000004E-3},28.518022786999978]
[152,152,"2034-10-23",10,{"$f":"IF(ISERROR(MATCH(D155,Simulador!$H$16:$H$17,0))=FALSE,\"C\",IF(ISERROR(MATCH(D155,Simulador!$H$18:$H$19,0))=FALSE,\"D\",\"\"))","v":""},{"$f":"IF(E155=\"C\",0,IF(E155 =\"D\",ROUND(1/((1+Simulador!$S$13)^A155),9) * 2,ROUND(1/((1+Simulador!$S$13)^A155),9)))","v":5.4642919999999999E-3},28.523487078999977]
[153,153,"2034-11-23",11,{"$f":"IF(ISERROR(MATCH(D156,Simulador!$H$16:$H$17,0))=FALSE,\"C\",IF(ISERROR(MATCH(D156,Simulador!$H$18:$H$19,0))=FALSE,\"D\",\"\"))","v":""},{"$f":"IF(E156=\"C\",0,IF(E156 =\"D\",ROUND(1/((1+Simulador!$S$13)^A156),9) * 2,ROUND(1/((1+Simulador!$S$13)^A156),9)))","v":5.2801860000000001E-3},28.528767264999978]
[154,154,"2034-12-23",12,{"$f":"IF(ISERROR(MATCH(D157,Simulador!$H$16:$H$17,0))=FALSE,\"C\",IF(ISERROR(MATCH(D157,Simulador!$H$18:$H$19,0))=FALSE,\"D\",\"\"))","v":""},{"$f":"IF(E157=\"C\",0,IF(E157 =\"D\",ROUND(1/((1+Simulador!$S$13)^A157),9) * 2,ROUND(1/((1+Simulador!$S$13)^A157),9)))","v":5.1022840000000003E-3},28.533869548999977]
[155,155,"2035-01-23",1,{"$f":"IF(ISERROR(MATCH(D158,Simulador!$H$16:$H$17,0))=FALSE,\"C\",IF(ISERROR(MATCH(D158,Simulador!$H$18:$H$19,0))=FALSE,\"D\",\"\"))","v":""},{"$f":"IF(E158=\"C\",0,IF(E158 =\"D\",ROUND(1/((1+Simulador!$S$13)^A158),9) * 2,ROUND(1/((1+Simulador!$S$13)^A158),9)))","v":4.9303749999999999E-3},28.538799923999978]
[156,156,"2035-02-23",2,{"$f":"IF(ISERROR(MATCH(D159,Simulador!$H$16:$H$17,0))=FALSE,\"C\",IF(ISERROR(MATCH(D159,Simulador!$H$18:$H$19,0))=FALSE,\"D\",\"\"))","v":""},{"$f":"IF(E159=\"C\",0,IF(E159 =\"D\",ROUND(1/((1+Simulador!$S$13)^A159),9) * 2,ROUND(1/((1+Simulador!$S$13)^A159),9)))","v":4.7642580000000004E-3},28.543564181999979]
[157,157,"2035-03-23",3,{"$f":"IF(ISERROR(MATCH(D160,Simulador!$H$16:$H$17,0))=FALSE,\"C\",IF(ISERROR(MATCH(D160,Simulador!$H$18:$H$19,0))=FALSE,\"D\",\"\"))","v":""},{"$f":"IF(E160=\"C\",0,IF(E160 =\"D\",ROUND(1/((1+Simulador!$S$13)^A160),9) * 2,ROUND(1/((1+Simulador!$S$13)^A160),9)))","v":4.6037389999999999E-3},28.54816792099998]
[158,158,"2035-04-23",4,{"$f":"IF(ISERROR(MATCH(D161,Simulador!$H$16:$H$17,0))=FALSE,\"C\",IF(ISERROR(MATCH(D161,Simulador!$H$18:$H$19,0))=FALSE,\"D\",\"\"))","v":""},{"$f":"IF(E161=\"C\",0,IF(E161 =\"D\",ROUND(1/((1+Simulador!$S$13)^A161),9) * 2,ROUND(1/((1+Simulador!$S$13)^A161),9)))","v":4.4486270000000001E-3},28.552616547999978]
[159,159,"2035-05-23",5,{"$f":"IF(ISERROR(MATCH(D162,Simulador!$H$16:$H$17,0))=FALSE,\"C\",IF(ISERROR(MATCH(D162,Simulador!$H$18:$H$19,0))=FALSE,\"D\",\"\"))","v":""},{"$f":"IF(E162=\"C\",0,IF(E162 =\"D\",ROUND(1/((1+Simulador!$S$13)^A162),9) * 2,ROUND(1/((1+Simulador!$S$13)^A162),9)))","v":4.2987420000000004E-3},28.556915289999978]
[160,160,"2035-06-23",6,{"$f":"IF(ISERROR(MATCH(D163,Simulador!$H$16:$H$17,0))=FALSE,\"C\",IF(ISERROR(MATCH(D163,Simulador!$H$18:$H$19,0))=FALSE,\"D\",\"\"))","v":""},{"$f":"IF(E163=\"C\",0,IF(E163 =\"D\",ROUND(1/((1+Simulador!$S$13)^A163),9) * 2,ROUND(1/((1+Simulador!$S$13)^A163),9)))","v":4.1539070000000001E-3},28.561069196999977]
[161,{"$f":"IF(E164<>\"C\",IF(ISERROR(1+B163)=TRUE,1,1+B163),IF(ISNUMBER(B163),B163,1))","v":161},"2035-07-23",{"$f":"MONTH(C164)","v":7},{"$f":"IF(ISERROR(MATCH(D164,Simulador!$H$16:$H$17,0))=FALSE,\"C\",IF(ISERROR(MATCH(D164,Simulador!$H$18:$H$19,0))=FALSE,\"D\",\"\"))","v":""},{"$f":"IF(E164=\"C\",0,IF(E164 =\"D\",ROUND(1/((1+Simulador!$S$13)^A164),9) * 2,ROUND(1/((1+Simulador!$S$13)^A164),9)))","v":4.013951E-3},{"$f":"G163+ROUND(F164,9)","v":28.565083147999978}]
[162,162,"2035-08-23",8,{"$f":"IF(ISERROR(MATCH(D165,Simulador!$H$16:$H$17,0))=FALSE,\"C\",IF(ISERROR(MATCH(D165,Simulador!$H$18:$H$19,0))=FALSE,\"D\",\"\"))","v":""},{"$f":"IF(E165=\"C\",0,IF(E165 =\"D\",ROUND(1/((1+Simulador!$S$13)^A165),9) * 2,ROUND(1/((1+Simulador!$S$13)^A165),9)))","v":3.878711E-3},28.568961858999977]
[163,163,"2035-09-23",9,{"$f":"IF(ISERROR(MATCH(D166,Simulador!$H$16:$H$17,0))=FALSE,\"C\",IF(ISERROR(MATCH(D166,Simulador!$H$18:$H$19,0))=FALSE,\"D\",\"\"))","v":""},{"$f":"IF(E166=\"C\",0,IF(E166 =\"D\",ROUND(1/((1+Simulador!$S$13)^A166),9) * 2,ROUND(1/((1+Simulador!$S$13)^A166),9)))","v":3.748028E-3},28.572709886999977]
[164,164,"2035-10-23",10,{"$f":"IF(ISERROR(MATCH(D167,Simulador!$H$16:$H$17,0))=FALSE,\"C\",IF(ISERROR(MATCH(D167,Simulador!$H$18:$H$19,0))=FALSE,\"D\",\"\"))","v":""},{"$f":"IF(E167=\"C\",0,IF(E167 =\"D\",ROUND(1/((1+Simulador!$S$13)^A167),9) * 2,ROUND(1/((1+Simulador!$S$13)^A167),9)))","v":3.6217469999999998E-3},28.576331633999978]
[165,165,"2035-11-23",11,{"$f":"IF(ISERROR(MATCH(D168,Simulador!$H$16:$H$17,0))=FALSE,\"C\",IF(ISERROR(MATCH(D168,Simulador!$H$18:$H$19,0))=FALSE,\"D\",\"\"))","v":""},{"$f":"IF(E168=\"C\",0,IF(E168 =\"D\",ROUND(1/((1+Simulador!$S$13)^A168),9) * 2,ROUND(1/((1+Simulador!$S$13)^A168),9)))","v":3.4997219999999998E-3},28.579831355999978]
[166,166,"2035-12-23",12,{"$f":"IF(ISERROR(MATCH(D169,Simulador!$H$16:$H$17,0))=FALSE,\"C\",IF(ISERROR(MATCH(D169,Simulador!$H$18:$H$19,0))=FALSE,\"D\",\"\"))","v":""},{"$f":"IF(E169=\"C\",0,IF(E169 =\"D\",ROUND(1/((1+Simulador!$S$13)^A169),9) * 2,ROUND(1/((1+Simulador!$S$13)^A169),9)))","v":3.3818070000000001E-3},28.583213162999979]
[167,167,"2036-01-23",1,{"$f":"IF(ISERROR(MATCH(D170,Simulador!$H$16:$H$17,0))=FALSE,\"C\",IF(ISERROR(MATCH(D170,Simulador!$H$18:$H$19,0))=FALSE,\"D\",\"\"))","v":""},{"$f":"IF(E170=\"C\",0,IF(E170 =\"D\",ROUND(1/((1+Simulador!$S$13)^A170),9) * 2,ROUND(1/((1+Simulador!$S$13)^A170),9)))","v":3.2678659999999999E-3},28.58648102899998]
[168,168,"2036-02-23",2,{"$f":"IF(ISERROR(MATCH(D171,Simulador!$H$16:$H$17,0))=FALSE,\"C\",IF(ISERROR(MATCH(D171,Simulador!$H$18:$H$19,0))=FALSE,\"D\",\"\"))","v":""},{"$f":"IF(E171=\"C\",0,IF(E171 =\"D\",ROUND(1/((1+Simulador!$S$13)^A171),9) * 2,ROUND(1/((1+Simulador!$S$13)^A171),9)))","v":3.1577630000000001E-3},28.589638791999981]
[169,169,"2036-03-23",3,{"$f":"IF(ISERROR(MATCH(D172,Simulador!$H$16:$H$17,0))=FALSE,\"C\",IF(ISERROR(MATCH(D172,Simulador!$H$18:$H$19,0))=FALSE,\"D\",\"\"))","v":""},{"$f":"IF(E172=\"C\",0,IF(E172 =\"D\",ROUND(1/((1+Simulador!$S$13)^A172),9) * 2,ROUND(1/((1+Simulador!$S$13)^A172),9)))","v":3.0513699999999999E-3},28.592690161999982]
[170,170,"2036-04-23",4,{"$f":"IF(ISERROR(MATCH(D173,Simulador!$H$16:$H$17,0))=FALSE,\"C\",IF(ISERROR(MATCH(D173,Simulador!$H$18:$H$19,0))=FALSE,\"D\",\"\"))","v":""},{"$f":"IF(E173=\"C\",0,IF(E173 =\"D\",ROUND(1/((1+Simulador!$S$13)^A173),9) * 2,ROUND(1/((1+Simulador!$S$13)^A173),9)))","v":2.9485620000000001E-3},28.595638723999983]
[171,171,"2036-05-23",5,{"$f":"IF(ISERROR(MATCH(D174,Simulador!$H$16:$H$17,0))=FALSE,\"C\",IF(ISERROR(MATCH(D174,Simulador!$H$18:$H$19,0))=FALSE,\"D\",\"\"))","v":""},{"$f":"IF(E174=\"C\",0,IF(E174 =\"D\",ROUND(1/((1+Simulador!$S$13)^A174),9) * 2,ROUND(1/((1+Simulador!$S$13)^A174),9)))","v":2.8492180000000001E-3},28.598487941999984]
[172,172,"2036-06-23",6,{"$f":"IF(ISERROR(MATCH(D175,Simulador!$H$16:$H$17,0))=FALSE,\"C\",IF(ISERROR(MATCH(D175,Simulador!$H$18:$H$19,0))=FALSE,\"D\",\"\"))","v":""},{"$f":"IF(E175=\"C\",0,IF(E175 =\"D\",ROUND(1/((1+Simulador!$S$13)^A175),9) * 2,ROUND(1/((1+Simulador!$S$13)^A175),9)))","v":2.7532199999999998E-3},28.601241161999983]
[173,173,"2036-07-23",7,{"$f":"IF(ISERROR(MATCH(D176,Simulador!$H$16:$H$17,0))=FALSE,\"C\",IF(ISERROR(MATCH(D176,Simulador!$H$18:$H$19,0))=FALSE,\"D\",\"\"))","v":""},{"$f":"IF(E176=\"C\",0,IF(E176 =\"D\",ROUND(1/((1+Simulador!$S$13)^A176),9) * 2,ROUND(1/((1+Simulador!$S$13)^A176),9)))","v":2.6604580000000001E-3},28.603901619999984]
[174,174,"2036-08-23",8,{"$f":"IF(ISERROR(MATCH(D177,Simulador!$H$16:$H$17,0))=FALSE,\"C\",IF(ISERROR(MATCH(D177,Simulador!$H$18:$H$19,0))=FALSE,\"D\",\"\"))","v":""},{"$f":"IF(E177=\"C\",0,IF(E177 =\"D\",ROUND(1/((1+Simulador!$S$13)^A177),9) * 2,ROUND(1/((1+Simulador!$S$13)^A177),9)))","v":2.5708200000000001E-3},28.606472439999983]
[175,175,"2036-09-23",9,{"$f":"IF(ISERROR(MATCH(D178,Simulador!$H$16:$H$17,0))=FALSE,\"C\",IF(ISERROR(MATCH(D178,Simulador!$H$18:$H$19,0))=FALSE,\"D\",\"\"))","v":""},{"$f":"IF(E178=\"C\",0,IF(E178 =\"D\",ROUND(1/((1+Simulador!$S$13)^A178),9) * 2,ROUND(1/((1+Simulador!$S$13)^A178),9)))","v":2.4842029999999999E-3},28.608956642999985]
[176,176,"2036-10-23",10,{"$f":"IF(ISERROR(MATCH(D179,Simulador!$H$16:$H$17,0))=FALSE,\"C\",IF(ISERROR(MATCH(D179,Simulador!$H$18:$H$19,0))=FALSE,\"D\",\"\"))","v":""},{"$f":"IF(E179=\"C\",0,IF(E179 =\"D\",ROUND(1/((1+Simulador!$S$13)^A179),9) * 2,ROUND(1/((1+Simulador!$S$13)^A179),9)))","v":2.4005039999999999E-3},28.611357146999985]
[177,177,"2036-11-23",11,{"$f":"IF(ISERROR(MATCH(D180,Simulador!$H$16:$H$17,0))=FALSE,\"C\",IF(ISERROR(MATCH(D180,Simulador!$H$18:$H$19,0))=FALSE,\"D\",\"\"))","v":""},{"$f":"IF(E180=\"C\",0,IF(E180 =\"D\",ROUND(1/((1+Simulador!$S$13)^A180),9) * 2,ROUND(1/((1+Simulador!$S$13)^A180),9)))","v":2.3196250000000001E-3},28.613676771999984]
[178,178,"2036-12-23",12,{"$f":"IF(ISERROR(MATCH(D181,Simulador!$H$16:$H$17,0))=FALSE,\"C\",IF(ISERROR(MATCH(D181,Simulador!$H$18:$H$19,0))=FALSE,\"D\",\"\"))","v":""},{"$f":"IF(E181=\"C\",0,IF(E181 =\"D\",ROUND(1/((1+Simulador!$S$13)^A181),9) * 2,ROUND(1/((1+Simulador!$S$13)^A181),9)))","v":2.2414710000000001E-3},28.615918242999985]
[179,179,"2037-01-23",1,{"$f":"IF(ISERROR(MATCH(D182,Simulador!$H$16:$H$17,0))=FALSE,\"C\",IF(ISERROR(MATCH(D182,Simulador!$H$18:$H$19,0))=FALSE,\"D\",\"\"))","v":""},{"$f":"IF(E182=\"C\",0,IF(E182 =\"D\",ROUND(1/((1+Simulador!$S$13)^A182),9) * 2,ROUND(1/((1+Simulador!$S$13)^A182),9)))","v":2.1659499999999998E-3},28.618084192999984]
[180,180,"2037-02-23",2,{"$f":"IF(ISERROR(MATCH(D183,Simulador!$H$16:$H$17,0))=FALSE,\"C\",IF(ISERROR(MATCH(D183,Simulador!$H$18:$H$19,0))=FALSE,\"D\",\"\"))","v":""},{"$f":"IF(E183=\"C\",0,IF(E183 =\"D\",ROUND(1/((1+Simulador!$S$13)^A183),9) * 2,ROUND(1/((1+Simulador!$S$13)^A183),9)))","v":2.092974E-3},28.620177166999984]
[181,181,"2037-03-23",3,{"$f":"IF(ISERROR(MATCH(D184,Simulador!$H$16:$H$17,0))=FALSE,\"C\",IF(ISERROR(MATCH(D184,Simulador!$H$18:$H$19,0))=FALSE,\"D\",\"\"))","v":""},{"$f":"IF(E184=\"C\",0,IF(E184 =\"D\",ROUND(1/((1+Simulador!$S$13)^A184),9) * 2,ROUND(1/((1+Simulador!$S$13)^A184),9)))","v":2.0224560000000002E-3},28.622199622999982]
[182,182,"2037-04-23",4,{"$f":"IF(ISERROR(MATCH(D185,Simulador!$H$16:$H$17,0))=FALSE,\"C\",IF(ISERROR(MATCH(D185,Simulador!$H$18:$H$19,0))=FALSE,\"D\",\"\"))","v":""},{"$f":"IF(E185=\"C\",0,IF(E185 =\"D\",ROUND(1/((1+Simulador!$S$13)^A185),9) * 2,ROUND(1/((1+Simulador!$S$13)^A185),9)))","v":1.9543149999999999E-3},28.624153937999981]
[183,183,"2037-05-23",5,{"$f":"IF(ISERROR(MATCH(D186,Simulador!$H$16:$H$17,0))=FALSE,\"C\",IF(ISERROR(MATCH(D186,Simulador!$H$18:$H$19,0))=FALSE,\"D\",\"\"))","v":""},{"$f":"IF(E186=\"C\",0,IF(E186 =\"D\",ROUND(1/((1+Simulador!$S$13)^A186),9) * 2,ROUND(1/((1+Simulador!$S$13)^A186),9)))","v":1.888469E-3},28.626042406999982]
[184,184,"2037-06-23",6,{"$f":"IF(ISERROR(MATCH(D187,Simulador!$H$16:$H$17,0))=FALSE,\"C\",IF(ISERROR(MATCH(D187,Simulador!$H$18:$H$19,0))=FALSE,\"D\",\"\"))","v":""},{"$f":"IF(E187=\"C\",0,IF(E187 =\"D\",ROUND(1/((1+Simulador!$S$13)^A187),9) * 2,ROUND(1/((1+Simulador!$S$13)^A187),9)))","v":1.8248419999999999E-3},28.627867248999983]
[185,185,"2037-07-23",7,{"$f":"IF(ISERROR(MATCH(D188,Simulador!$H$16:$H$17,0))=FALSE,\"C\",IF(ISERROR(MATCH(D188,Simulador!$H$18:$H$19,0))=FALSE,\"D\",\"\"))","v":""},{"$f":"IF(E188=\"C\",0,IF(E188 =\"D\",ROUND(1/((1+Simulador!$S$13)^A188),9) * 2,ROUND(1/((1+Simulador!$S$13)^A188),9)))","v":1.763358E-3},28.629630606999985]
[186,186,"2037-08-23",8,{"$f":"IF(ISERROR(MATCH(D189,Simulador!$H$16:$H$17,0))=FALSE,\"C\",IF(ISERROR(MATCH(D189,Simulador!$H$18:$H$19,0))=FALSE,\"D\",\"\"))","v":""},{"$f":"IF(E189=\"C\",0,IF(E189 =\"D\",ROUND(1/((1+Simulador!$S$13)^A189),9) * 2,ROUND(1/((1+Simulador!$S$13)^A189),9)))","v":1.703946E-3},28.631334552999984]
[187,187,"2037-09-23",9,{"$f":"IF(ISERROR(MATCH(D190,Simulador!$H$16:$H$17,0))=FALSE,\"C\",IF(ISERROR(MATCH(D190,Simulador!$H$18:$H$19,0))=FALSE,\"D\",\"\"))","v":""},{"$f":"IF(E190=\"C\",0,IF(E190 =\"D\",ROUND(1/((1+Simulador!$S$13)^A190),9) * 2,ROUND(1/((1+Simulador!$S$13)^A190),9)))","v":1.6465360000000001E-3},28.632981088999983]
[188,188,"2037-10-23",10,{"$f":"IF(ISERROR(MATCH(D191,Simulador!$H$16:$H$17,0))=FALSE,\"C\",IF(ISERROR(MATCH(D191,Simulador!$H$18:$H$19,0))=FALSE,\"D\",\"\"))","v":""},{"$f":"IF(E191=\"C\",0,IF(E191 =\"D\",ROUND(1/((1+Simulador!$S$13)^A191),9) * 2,ROUND(1/((1+Simulador!$S$13)^A191),9)))","v":1.59106E-3},28.634572148999982]
[189,189,"2037-11-23",11,{"$f":"IF(ISERROR(MATCH(D192,Simulador!$H$16:$H$17,0))=FALSE,\"C\",IF(ISERROR(MATCH(D192,Simulador!$H$18:$H$19,0))=FALSE,\"D\",\"\"))","v":""},{"$f":"IF(E192=\"C\",0,IF(E192 =\"D\",ROUND(1/((1+Simulador!$S$13)^A192),9) * 2,ROUND(1/((1+Simulador!$S$13)^A192),9)))","v":1.5374539999999999E-3},28.636109602999984]
[190,190,"2037-12-23",12,{"$f":"IF(ISERROR(MATCH(D193,Simulador!$H$16:$H$17,0))=FALSE,\"C\",IF(ISERROR(MATCH(D193,Simulador!$H$18:$H$19,0))=FALSE,\"D\",\"\"))","v":""},{"$f":"IF(E193=\"C\",0,IF(E193 =\"D\",ROUND(1/((1+Simulador!$S$13)^A193),9) * 2,ROUND(1/((1+Simulador!$S$13)^A193),9)))","v":1.485653E-3},28.637595255999983]
[191,191,"2038-01-23",1,{"$f":"IF(ISERROR(MATCH(D194,Simulador!$H$16:$H$17,0))=FALSE,\"C\",IF(ISERROR(MATCH(D194,Simulador!$H$18:$H$19,0))=FALSE,\"D\",\"\"))","v":""},{"$f":"IF(E194=\"C\",0,IF(E194 =\"D\",ROUND(1/((1+Simulador!$S$13)^A194),9) * 2,ROUND(1/((1+Simulador!$S$13)^A194),9)))","v":1.435598E-3},28.639030853999984]
[192,192,"2038-02-23",2,{"$f":"IF(ISERROR(MATCH(D195,Simulador!$H$16:$H$17,0))=FALSE,\"C\",IF(ISERROR(MATCH(D195,Simulador!$H$18:$H$19,0))=FALSE,\"D\",\"\"))","v":""},{"$f":"IF(E195=\"C\",0,IF(E195 =\"D\",ROUND(1/((1+Simulador!$S$13)^A195),9) * 2,ROUND(1/((1+Simulador!$S$13)^A195),9)))","v":1.387229E-3},28.640418082999982]
[193,193,"2038-03-23",3,{"$f":"IF(ISERROR(MATCH(D196,Simulador!$H$16:$H$17,0))=FALSE,\"C\",IF(ISERROR(MATCH(D196,Simulador!$H$18:$H$19,0))=FALSE,\"D\",\"\"))","v":""},{"$f":"IF(E196=\"C\",0,IF(E196 =\"D\",ROUND(1/((1+Simulador!$S$13)^A196),9) * 2,ROUND(1/((1+Simulador!$S$13)^A196),9)))","v":1.34049E-3},28.641758572999983]
[{"$f":"A196+1","v":194},194,{"$f":"DATE(YEAR(C196) + 1/12,MONTH(C196)+1,DAY(C196))","v":"2038-04-23"},4,{"$f":"IF(ISERROR(MATCH(D197,Simulador!$H$16:$H$17,0))=FALSE,\"C\",IF(ISERROR(MATCH(D197,Simulador!$H$18:$H$19,0))=FALSE,\"D\",\"\"))","v":""},{"$f":"IF(E197=\"C\",0,IF(E197 =\"D\",ROUND(1/((1+Simulador!$S$13)^A197),9) * 2,ROUND(1/((1+Simulador!$S$13)^A197),9)))","v":1.2953249999999999E-3},28.643053897999984]
[195,195,"2038-05-23",5,{"$f":"IF(ISERROR(MATCH(D198,Simulador!$H$16:$H$17,0))=FALSE,\"C\",IF(ISERROR(MATCH(D198,Simulador!$H$18:$H$19,0))=FALSE,\"D\",\"\"))","v":""},{"$f":"IF(E198=\"C\",0,IF(E198 =\"D\",ROUND(1/((1+Simulador!$S$13)^A198),9) * 2,ROUND(1/((1+Simulador!$S$13)^A198),9)))","v":1.2516820000000001E-3},28.644305579999983]
[196,196,"2038-06-23",6,{"$f":"IF(ISERROR(MATCH(D199,Simulador!$H$16:$H$17,0))=FALSE,\"C\",IF(ISERROR(MATCH(D199,Simulador!$H$18:$H$19,0))=FALSE,\"D\",\"\"))","v":""},{"$f":"IF(E199=\"C\",0,IF(E199 =\"D\",ROUND(1/((1+Simulador!$S$13)^A199),9) * 2,ROUND(1/((1+Simulador!$S$13)^A199),9)))","v":1.20951E-3},28.645515089999982]
[197,197,"2038-07-23",7,{"$f":"IF(ISERROR(MATCH(D200,Simulador!$H$16:$H$17,0))=FALSE,\"C\",IF(ISERROR(MATCH(D200,Simulador!$H$18:$H$19,0))=FALSE,\"D\",\"\"))","v":""},{"$f":"IF(E200=\"C\",0,IF(E200 =\"D\",ROUND(1/((1+Simulador!$S$13)^A200),9) * 2,ROUND(1/((1+Simulador!$S$13)^A200),9)))","v":1.1687589999999999E-3},28.646683848999981]
[198,198,"2038-08-23",8,{"$f":"IF(ISERROR(MATCH(D201,Simulador!$H$16:$H$17,0))=FALSE,\"C\",IF(ISERROR(MATCH(D201,Simulador!$H$18:$H$19,0))=FALSE,\"D\",\"\"))","v":""},{"$f":"IF(E201=\"C\",0,IF(E201 =\"D\",ROUND(1/((1+Simulador!$S$13)^A201),9) * 2,ROUND(1/((1+Simulador!$S$13)^A201),9)))","v":1.1293799999999999E-3},28.647813228999979]
[199,199,"2038-09-23",9,{"$f":"IF(ISERROR(MATCH(D202,Simulador!$H$16:$H$17,0))=FALSE,\"C\",IF(ISERROR(MATCH(D202,Simulador!$H$18:$H$19,0))=FALSE,\"D\",\"\"))","v":""},{"$f":"IF(E202=\"C\",0,IF(E202 =\"D\",ROUND(1/((1+Simulador!$S$13)^A202),9) * 2,ROUND(1/((1+Simulador!$S$13)^A202),9)))","v":1.091329E-3},28.64890455799998]
[200,200,"2038-10-23",10,{"$f":"IF(ISERROR(MATCH(D203,Simulador!$H$16:$H$17,0))=FALSE,\"C\",IF(ISERROR(MATCH(D203,Simulador!$H$18:$H$19,0))=FALSE,\"D\",\"\"))","v":""},{"$f":"IF(E203=\"C\",0,IF(E203 =\"D\",ROUND(1/((1+Simulador!$S$13)^A203),9) * 2,ROUND(1/((1+Simulador!$S$13)^A203),9)))","v":1.0545590000000001E-3},28.64995911699998]
[201,201,"2038-11-23",11,{"$f":"IF(ISERROR(MATCH(D204,Simulador!$H$16:$H$17,0))=FALSE,\"C\",IF(ISERROR(MATCH(D204,Simulador!$H$18:$H$19,0))=FALSE,\"D\",\"\"))","v":""},{"$f":"IF(E204=\"C\",0,IF(E204 =\"D\",ROUND(1/((1+Simulador!$S$13)^A204),9) * 2,ROUND(1/((1+Simulador!$S$13)^A204),9)))","v":1.0190279999999999E-3},28.650978144999982]
[202,202,"2038-12-23",12,{"$f":"IF(ISERROR(MATCH(D205,Simulador!$H$16:$H$17,0))=FALSE,\"C\",IF(ISERROR(MATCH(D205,Simulador!$H$18:$H$19,0))=FALSE,\"D\",\"\"))","v":""},{"$f":"IF(E205=\"C\",0,IF(E205 =\"D\",ROUND(1/((1+Simulador!$S$13)^A205),9) * 2,ROUND(1/((1+Simulador!$S$13)^A205),9)))","v":9.8469500000000006E-4},28.651962839999982]
[203,203,"2039-01-23",1,{"$f":"IF(ISERROR(MATCH(D206,Simulador!$H$16:$H$17,0))=FALSE,\"C\",IF(ISERROR(MATCH(D206,Simulador!$H$18:$H$19,0))=FALSE,\"D\",\"\"))","v":""},{"$f":"IF(E206=\"C\",0,IF(E206 =\"D\",ROUND(1/((1+Simulador!$S$13)^A206),9) * 2,ROUND(1/((1+Simulador!$S$13)^A206),9)))","v":9.5151800000000005E-4},28.652914357999983]
[204,204,"2039-02-23",2,{"$f":"IF(ISERROR(MATCH(D207,Simulador!$H$16:$H$17,0))=FALSE,\"C\",IF(ISERROR(MATCH(D207,Simulador!$H$18:$H$19,0))=FALSE,\"D\",\"\"))","v":""},{"$f":"IF(E207=\"C\",0,IF(E207 =\"D\",ROUND(1/((1+Simulador!$S$13)^A207),9) * 2,ROUND(1/((1+Simulador!$S$13)^A207),9)))","v":9.1945899999999997E-4},28.653833816999981]
[205,205,"2039-03-23",3,{"$f":"IF(ISERROR(MATCH(D208,Simulador!$H$16:$H$17,0))=FALSE,\"C\",IF(ISERROR(MATCH(D208,Simulador!$H$18:$H$19,0))=FALSE,\"D\",\"\"))","v":""},{"$f":"IF(E208=\"C\",0,IF(E208 =\"D\",ROUND(1/((1+Simulador!$S$13)^A208),9) * 2,ROUND(1/((1+Simulador!$S$13)^A208),9)))","v":8.8847999999999998E-4},28.654722296999982]
[206,206,"2039-04-23",4,{"$f":"IF(ISERROR(MATCH(D209,Simulador!$H$16:$H$17,0))=FALSE,\"C\",IF(ISERROR(MATCH(D209,Simulador!$H$18:$H$19,0))=FALSE,\"D\",\"\"))","v":""},{"$f":"IF(E209=\"C\",0,IF(E209 =\"D\",ROUND(1/((1+Simulador!$S$13)^A209),9) * 2,ROUND(1/((1+Simulador!$S$13)^A209),9)))","v":8.5854499999999995E-4},28.655580841999981]
[207,207,"2039-05-23",5,{"$f":"IF(ISERROR(MATCH(D210,Simulador!$H$16:$H$17,0))=FALSE,\"C\",IF(ISERROR(MATCH(D210,Simulador!$H$18:$H$19,0))=FALSE,\"D\",\"\"))","v":""},{"$f":"IF(E210=\"C\",0,IF(E210 =\"D\",ROUND(1/((1+Simulador!$S$13)^A210),9) * 2,ROUND(1/((1+Simulador!$S$13)^A210),9)))","v":8.2961799999999996E-4},28.656410459999982]
[208,208,"2039-06-23",6,{"$f":"IF(ISERROR(MATCH(D211,Simulador!$H$16:$H$17,0))=FALSE,\"C\",IF(ISERROR(MATCH(D211,Simulador!$H$18:$H$19,0))=FALSE,\"D\",\"\"))","v":""},{"$f":"IF(E211=\"C\",0,IF(E211 =\"D\",ROUND(1/((1+Simulador!$S$13)^A211),9) * 2,ROUND(1/((1+Simulador!$S$13)^A211),9)))","v":8.0166700000000005E-4},28.657212126999983]
[209,209,"2039-07-23",7,{"$f":"IF(ISERROR(MATCH(D212,Simulador!$H$16:$H$17,0))=FALSE,\"C\",IF(ISERROR(MATCH(D212,Simulador!$H$18:$H$19,0))=FALSE,\"D\",\"\"))","v":""},{"$f":"IF(E212=\"C\",0,IF(E212 =\"D\",ROUND(1/((1+Simulador!$S$13)^A212),9) * 2,ROUND(1/((1+Simulador!$S$13)^A212),9)))","v":7.7465599999999998E-4},28.657986782999984]
[210,210,"2039-08-23",8,{"$f":"IF(ISERROR(MATCH(D213,Simulador!$H$16:$H$17,0))=FALSE,\"C\",IF(ISERROR(MATCH(D213,Simulador!$H$18:$H$19,0))=FALSE,\"D\",\"\"))","v":""},{"$f":"IF(E213=\"C\",0,IF(E213 =\"D\",ROUND(1/((1+Simulador!$S$13)^A213),9) * 2,ROUND(1/((1+Simulador!$S$13)^A213),9)))","v":7.4855600000000005E-4},28.658735338999985]
[211,211,"2039-09-23",9,{"$f":"IF(ISERROR(MATCH(D214,Simulador!$H$16:$H$17,0))=FALSE,\"C\",IF(ISERROR(MATCH(D214,Simulador!$H$18:$H$19,0))=FALSE,\"D\",\"\"))","v":""},{"$f":"IF(E214=\"C\",0,IF(E214 =\"D\",ROUND(1/((1+Simulador!$S$13)^A214),9) * 2,ROUND(1/((1+Simulador!$S$13)^A214),9)))","v":7.2333599999999999E-4},28.659458674999986]
[212,212,"2039-10-23",10,{"$f":"IF(ISERROR(MATCH(D215,Simulador!$H$16:$H$17,0))=FALSE,\"C\",IF(ISERROR(MATCH(D215,Simulador!$H$18:$H$19,0))=FALSE,\"D\",\"\"))","v":""},{"$f":"IF(E215=\"C\",0,IF(E215 =\"D\",ROUND(1/((1+Simulador!$S$13)^A215),9) * 2,ROUND(1/((1+Simulador!$S$13)^A215),9)))","v":6.9896499999999996E-4},28.660157639999987]
[213,213,"2039-11-23",11,{"$f":"IF(ISERROR(MATCH(D216,Simulador!$H$16:$H$17,0))=FALSE,\"C\",IF(ISERROR(MATCH(D216,Simulador!$H$18:$H$19,0))=FALSE,\"D\",\"\"))","v":""},{"$f":"IF(E216=\"C\",0,IF(E216 =\"D\",ROUND(1/((1+Simulador!$S$13)^A216),9) * 2,ROUND(1/((1+Simulador!$S$13)^A216),9)))","v":6.7541499999999996E-4},28.660833054999987]
[214,214,"2039-12-23",12,{"$f":"IF(ISERROR(MATCH(D217,Simulador!$H$16:$H$17,0))=FALSE,\"C\",IF(ISERROR(MATCH(D217,Simulador!$H$18:$H$19,0))=FALSE,\"D\",\"\"))","v":""},{"$f":"IF(E217=\"C\",0,IF(E217 =\"D\",ROUND(1/((1+Simulador!$S$13)^A217),9) * 2,ROUND(1/((1+Simulador!$S$13)^A217),9)))","v":6.5265799999999997E-4},28.661485712999987]
[215,215,"2040-01-23",1,{"$f":"IF(ISERROR(MATCH(D218,Simulador!$H$16:$H$17,0))=FALSE,\"C\",IF(ISERROR(MATCH(D218,Simulador!$H$18:$H$19,0))=FALSE,\"D\",\"\"))","v":""},{"$f":"IF(E218=\"C\",0,IF(E218 =\"D\",ROUND(1/((1+Simulador!$S$13)^A218),9) * 2,ROUND(1/((1+Simulador!$S$13)^A218),9)))","v":6.3066900000000004E-4},28.662116381999986]
[216,216,"2040-02-23",2,{"$f":"IF(ISERROR(MATCH(D219,Simulador!$H$16:$H$17,0))=FALSE,\"C\",IF(ISERROR(MATCH(D219,Simulador!$H$18:$H$19,0))=FALSE,\"D\",\"\"))","v":""},{"$f":"IF(E219=\"C\",0,IF(E219 =\"D\",ROUND(1/((1+Simulador!$S$13)^A219),9) * 2,ROUND(1/((1+Simulador!$S$13)^A219),9)))","v":6.0941999999999995E-4},28.662725801999986]
[217,217,"2040-03-23",3,{"$f":"IF(ISERROR(MATCH(D220,Simulador!$H$16:$H$17,0))=FALSE,\"C\",IF(ISERROR(MATCH(D220,Simulador!$H$18:$H$19,0))=FALSE,\"D\",\"\"))","v":""},{"$f":"IF(E220=\"C\",0,IF(E220 =\"D\",ROUND(1/((1+Simulador!$S$13)^A220),9) * 2,ROUND(1/((1+Simulador!$S$13)^A220),9)))","v":5.8888699999999996E-4},28.663314688999986]
[218,218,"2040-04-23",4,{"$f":"IF(ISERROR(MATCH(D221,Simulador!$H$16:$H$17,0))=FALSE,\"C\",IF(ISERROR(MATCH(D221,Simulador!$H$18:$H$19,0))=FALSE,\"D\",\"\"))","v":""},{"$f":"IF(E221=\"C\",0,IF(E221 =\"D\",ROUND(1/((1+Simulador!$S$13)^A221),9) * 2,ROUND(1/((1+Simulador!$S$13)^A221),9)))","v":5.6904600000000003E-4},28.663883734999985]
[219,219,"2040-05-23",5,{"$f":"IF(ISERROR(MATCH(D222,Simulador!$H$16:$H$17,0))=FALSE,\"C\",IF(ISERROR(MATCH(D222,Simulador!$H$18:$H$19,0))=FALSE,\"D\",\"\"))","v":""},{"$f":"IF(E222=\"C\",0,IF(E222 =\"D\",ROUND(1/((1+Simulador!$S$13)^A222),9) * 2,ROUND(1/((1+Simulador!$S$13)^A222),9)))","v":5.4987299999999999E-4},28.664433607999985]
[220,220,"2040-06-23",6,{"$f":"IF(ISERROR(MATCH(D223,Simulador!$H$16:$H$17,0))=FALSE,\"C\",IF(ISERROR(MATCH(D223,Simulador!$H$18:$H$19,0))=FALSE,\"D\",\"\"))","v":""},{"$f":"IF(E223=\"C\",0,IF(E223 =\"D\",ROUND(1/((1+Simulador!$S$13)^A223),9) * 2,ROUND(1/((1+Simulador!$S$13)^A223),9)))","v":5.3134700000000005E-4},28.664964954999984]
[221,221,"2040-07-23",7,{"$f":"IF(ISERROR(MATCH(D224,Simulador!$H$16:$H$17,0))=FALSE,\"C\",IF(ISERROR(MATCH(D224,Simulador!$H$18:$H$19,0))=FALSE,\"D\",\"\"))","v":""},{"$f":"IF(E224=\"C\",0,IF(E224 =\"D\",ROUND(1/((1+Simulador!$S$13)^A224),9) * 2,ROUND(1/((1+Simulador!$S$13)^A224),9)))","v":5.1344400000000005E-4},28.665478398999984]
[222,222,"2040-08-23",8,{"$f":"IF(ISERROR(MATCH(D225,Simulador!$H$16:$H$17,0))=FALSE,\"C\",IF(ISERROR(MATCH(D225,Simulador!$H$18:$H$19,0))=FALSE,\"D\",\"\"))","v":""},{"$f":"IF(E225=\"C\",0,IF(E225 =\"D\",ROUND(1/((1+Simulador!$S$13)^A225),9) * 2,ROUND(1/((1+Simulador!$S$13)^A225),9)))","v":4.9614500000000003E-4},28.665974543999983]
[223,223,"2040-09-23",9,{"$f":"IF(ISERROR(MATCH(D226,Simulador!$H$16:$H$17,0))=FALSE,\"C\",IF(ISERROR(MATCH(D226,Simulador!$H$18:$H$19,0))=FALSE,\"D\",\"\"))","v":""},{"$f":"IF(E226=\"C\",0,IF(E226 =\"D\",ROUND(1/((1+Simulador!$S$13)^A226),9) * 2,ROUND(1/((1+Simulador!$S$13)^A226),9)))","v":4.7942900000000002E-4},28.666453972999982]
[224,224,"2040-10-23",10,{"$f":"IF(ISERROR(MATCH(D227,Simulador!$H$16:$H$17,0))=FALSE,\"C\",IF(ISERROR(MATCH(D227,Simulador!$H$18:$H$19,0))=FALSE,\"D\",\"\"))","v":""},{"$f":"IF(E227=\"C\",0,IF(E227 =\"D\",ROUND(1/((1+Simulador!$S$13)^A227),9) * 2,ROUND(1/((1+Simulador!$S$13)^A227),9)))","v":4.6327599999999999E-4},28.666917248999983]
[225,{"$f":"IF(E228<>\"C\",IF(ISERROR(1+B227)=TRUE,1,1+B227),IF(ISNUMBER(B227),B227,1))","v":225},"2040-11-23",{"$f":"MONTH(C228)","v":11},{"$f":"IF(ISERROR(MATCH(D228,Simulador!$H$16:$H$17,0))=FALSE,\"C\",IF(ISERROR(MATCH(D228,Simulador!$H$18:$H$19,0))=FALSE,\"D\",\"\"))","v":""},{"$f":"IF(E228=\"C\",0,IF(E228 =\"D\",ROUND(1/((1+Simulador!$S$13)^A228),9) * 2,ROUND(1/((1+Simulador!$S$13)^A228),9)))","v":4.4766700000000001E-4},{"$f":"G227+ROUND(F228,9)","v":28.667364915999983}]
[226,226,"2040-12-23",12,{"$f":"IF(ISERROR(MATCH(D229,Simulador!$H$16:$H$17,0))=FALSE,\"C\",IF(ISERROR(MATCH(D229,Simulador!$H$18:$H$19,0))=FALSE,\"D\",\"\"))","v":""},{"$f":"IF(E229=\"C\",0,IF(E229 =\"D\",ROUND(1/((1+Simulador!$S$13)^A229),9) * 2,ROUND(1/((1+Simulador!$S$13)^A229),9)))","v":4.3258400000000002E-4},28.667797499999981]
[227,227,"2041-01-23",1,{"$f":"IF(ISERROR(MATCH(D230,Simulador!$H$16:$H$17,0))=FALSE,\"C\",IF(ISERROR(MATCH(D230,Simulador!$H$18:$H$19,0))=FALSE,\"D\",\"\"))","v":""},{"$f":"IF(E230=\"C\",0,IF(E230 =\"D\",ROUND(1/((1+Simulador!$S$13)^A230),9) * 2,ROUND(1/((1+Simulador!$S$13)^A230),9)))","v":4.18009E-4},28.668215508999982]
[228,228,"2041-02-23",2,{"$f":"IF(ISERROR(MATCH(D231,Simulador!$H$16:$H$17,0))=FALSE,\"C\",IF(ISERROR(MATCH(D231,Simulador!$H$18:$H$19,0))=FALSE,\"D\",\"\"))","v":""},{"$f":"IF(E231=\"C\",0,IF(E231 =\"D\",ROUND(1/((1+Simulador!$S$13)^A231),9) * 2,ROUND(1/((1+Simulador!$S$13)^A231),9)))","v":4.0392500000000002E-4},28.668619433999982]
[229,229,"2041-03-23",3,{"$f":"IF(ISERROR(MATCH(D232,Simulador!$H$16:$H$17,0))=FALSE,\"C\",IF(ISERROR(MATCH(D232,Simulador!$H$18:$H$19,0))=FALSE,\"D\",\"\"))","v":""},{"$f":"IF(E232=\"C\",0,IF(E232 =\"D\",ROUND(1/((1+Simulador!$S$13)^A232),9) * 2,ROUND(1/((1+Simulador!$S$13)^A232),9)))","v":3.9031599999999998E-4},28.669009749999983]
[230,230,"2041-04-23",4,{"$f":"IF(ISERROR(MATCH(D233,Simulador!$H$16:$H$17,0))=FALSE,\"C\",IF(ISERROR(MATCH(D233,Simulador!$H$18:$H$19,0))=FALSE,\"D\",\"\"))","v":""},{"$f":"IF(E233=\"C\",0,IF(E233 =\"D\",ROUND(1/((1+Simulador!$S$13)^A233),9) * 2,ROUND(1/((1+Simulador!$S$13)^A233),9)))","v":3.77165E-4},28.669386914999983]
[231,231,"2041-05-23",5,{"$f":"IF(ISERROR(MATCH(D234,Simulador!$H$16:$H$17,0))=FALSE,\"C\",IF(ISERROR(MATCH(D234,Simulador!$H$18:$H$19,0))=FALSE,\"D\",\"\"))","v":""},{"$f":"IF(E234=\"C\",0,IF(E234 =\"D\",ROUND(1/((1+Simulador!$S$13)^A234),9) * 2,ROUND(1/((1+Simulador!$S$13)^A234),9)))","v":3.64457E-4},28.669751371999983]
[232,232,"2041-06-23",6,{"$f":"IF(ISERROR(MATCH(D235,Simulador!$H$16:$H$17,0))=FALSE,\"C\",IF(ISERROR(MATCH(D235,Simulador!$H$18:$H$19,0))=FALSE,\"D\",\"\"))","v":""},{"$f":"IF(E235=\"C\",0,IF(E235 =\"D\",ROUND(1/((1+Simulador!$S$13)^A235),9) * 2,ROUND(1/((1+Simulador!$S$13)^A235),9)))","v":3.5217799999999997E-4},28.670103549999983]
[233,233,"2041-07-23",7,{"$f":"IF(ISERROR(MATCH(D236,Simulador!$H$16:$H$17,0))=FALSE,\"C\",IF(ISERROR(MATCH(D236,Simulador!$H$18:$H$19,0))=FALSE,\"D\",\"\"))","v":""},{"$f":"IF(E236=\"C\",0,IF(E236 =\"D\",ROUND(1/((1+Simulador!$S$13)^A236),9) * 2,ROUND(1/((1+Simulador!$S$13)^A236),9)))","v":3.40312E-4},28.670443861999981]
[234,234,"2041-08-23",8,{"$f":"IF(ISERROR(MATCH(D237,Simulador!$H$16:$H$17,0))=FALSE,\"C\",IF(ISERROR(MATCH(D237,Simulador!$H$18:$H$19,0))=FALSE,\"D\",\"\"))","v":""},{"$f":"IF(E237=\"C\",0,IF(E237 =\"D\",ROUND(1/((1+Simulador!$S$13)^A237),9) * 2,ROUND(1/((1+Simulador!$S$13)^A237),9)))","v":3.2884599999999999E-4},28.67077270799998]
[235,235,"2041-09-23",9,{"$f":"IF(ISERROR(MATCH(D238,Simulador!$H$16:$H$17,0))=FALSE,\"C\",IF(ISERROR(MATCH(D238,Simulador!$H$18:$H$19,0))=FALSE,\"D\",\"\"))","v":""},{"$f":"IF(E238=\"C\",0,IF(E238 =\"D\",ROUND(1/((1+Simulador!$S$13)^A238),9) * 2,ROUND(1/((1+Simulador!$S$13)^A238),9)))","v":3.17767E-4},28.671090474999978]
[236,236,"2041-10-23",10,{"$f":"IF(ISERROR(MATCH(D239,Simulador!$H$16:$H$17,0))=FALSE,\"C\",IF(ISERROR(MATCH(D239,Simulador!$H$18:$H$19,0))=FALSE,\"D\",\"\"))","v":""},{"$f":"IF(E239=\"C\",0,IF(E239 =\"D\",ROUND(1/((1+Simulador!$S$13)^A239),9) * 2,ROUND(1/((1+Simulador!$S$13)^A239),9)))","v":3.0706E-4},28.671397534999979]
[237,237,"2041-11-23",11,{"$f":"IF(ISERROR(MATCH(D240,Simulador!$H$16:$H$17,0))=FALSE,\"C\",IF(ISERROR(MATCH(D240,Simulador!$H$18:$H$19,0))=FALSE,\"D\",\"\"))","v":""},{"$f":"IF(E240=\"C\",0,IF(E240 =\"D\",ROUND(1/((1+Simulador!$S$13)^A240),9) * 2,ROUND(1/((1+Simulador!$S$13)^A240),9)))","v":2.9671500000000002E-4},28.67169424999998]
[238,238,"2041-12-23",12,{"$f":"IF(ISERROR(MATCH(D241,Simulador!$H$16:$H$17,0))=FALSE,\"C\",IF(ISERROR(MATCH(D241,Simulador!$H$18:$H$19,0))=FALSE,\"D\",\"\"))","v":""},{"$f":"IF(E241=\"C\",0,IF(E241 =\"D\",ROUND(1/((1+Simulador!$S$13)^A241),9) * 2,ROUND(1/((1+Simulador!$S$13)^A241),9)))","v":2.8671799999999999E-4},28.671980967999982]
[239,239,"2042-01-23",1,{"$f":"IF(ISERROR(MATCH(D242,Simulador!$H$16:$H$17,0))=FALSE,\"C\",IF(ISERROR(MATCH(D242,Simulador!$H$18:$H$19,0))=FALSE,\"D\",\"\"))","v":""},{"$f":"IF(E242=\"C\",0,IF(E242 =\"D\",ROUND(1/((1+Simulador!$S$13)^A242),9) * 2,ROUND(1/((1+Simulador!$S$13)^A242),9)))","v":2.7705699999999999E-4},28.672258024999984]
[240,240,"2042-02-23",2,{"$f":"IF(ISERROR(MATCH(D243,Simulador!$H$16:$H$17,0))=FALSE,\"C\",IF(ISERROR(MATCH(D243,Simulador!$H$18:$H$19,0))=FALSE,\"D\",\"\"))","v":""},{"$f":"IF(E243=\"C\",0,IF(E243 =\"D\",ROUND(1/((1+Simulador!$S$13)^A243),9) * 2,ROUND(1/((1+Simulador!$S$13)^A243),9)))","v":2.6772299999999998E-4},28.672525747999984]
[241,241,"2042-03-23",3,{"$f":"IF(ISERROR(MATCH(D244,Simulador!$H$16:$H$17,0))=FALSE,\"C\",IF(ISERROR(MATCH(D244,Simulador!$H$18:$H$19,0))=FALSE,\"D\",\"\"))","v":""},{"$f":"IF(E244=\"C\",0,IF(E244 =\"D\",ROUND(1/((1+Simulador!$S$13)^A244),9) * 2,ROUND(1/((1+Simulador!$S$13)^A244),9)))","v":2.5870199999999998E-4},28.672784449999984]
[242,242,"2042-04-23",4,{"$f":"IF(ISERROR(MATCH(D245,Simulador!$H$16:$H$17,0))=FALSE,\"C\",IF(ISERROR(MATCH(D245,Simulador!$H$18:$H$19,0))=FALSE,\"D\",\"\"))","v":""},{"$f":"IF(E245=\"C\",0,IF(E245 =\"D\",ROUND(1/((1+Simulador!$S$13)^A245),9) * 2,ROUND(1/((1+Simulador!$S$13)^A245),9)))","v":2.49986E-4},28.673034435999984]
[243,243,"2042-05-23",5,{"$f":"IF(ISERROR(MATCH(D246,Simulador!$H$16:$H$17,0))=FALSE,\"C\",IF(ISERROR(MATCH(D246,Simulador!$H$18:$H$19,0))=FALSE,\"D\",\"\"))","v":""},{"$f":"IF(E246=\"C\",0,IF(E246 =\"D\",ROUND(1/((1+Simulador!$S$13)^A246),9) * 2,ROUND(1/((1+Simulador!$S$13)^A246),9)))","v":2.41563E-4},28.673275998999983]
[244,244,"2042-06-23",6,{"$f":"IF(ISERROR(MATCH(D247,Simulador!$H$16:$H$17,0))=FALSE,\"C\",IF(ISERROR(MATCH(D247,Simulador!$H$18:$H$19,0))=FALSE,\"D\",\"\"))","v":""},{"$f":"IF(E247=\"C\",0,IF(E247 =\"D\",ROUND(1/((1+Simulador!$S$13)^A247),9) * 2,ROUND(1/((1+Simulador!$S$13)^A247),9)))","v":2.33425E-4},28.673509423999985]
[245,245,"2042-07-23",7,{"$f":"IF(ISERROR(MATCH(D248,Simulador!$H$16:$H$17,0))=FALSE,\"C\",IF(ISERROR(MATCH(D248,Simulador!$H$18:$H$19,0))=FALSE,\"D\",\"\"))","v":""},{"$f":"IF(E248=\"C\",0,IF(E248 =\"D\",ROUND(1/((1+Simulador!$S$13)^A248),9) * 2,ROUND(1/((1+Simulador!$S$13)^A248),9)))","v":2.2556E-4},28.673734983999985]
[246,246,"2042-08-23",8,{"$f":"IF(ISERROR(MATCH(D249,Simulador!$H$16:$H$17,0))=FALSE,\"C\",IF(ISERROR(MATCH(D249,Simulador!$H$18:$H$19,0))=FALSE,\"D\",\"\"))","v":""},{"$f":"IF(E249=\"C\",0,IF(E249 =\"D\",ROUND(1/((1+Simulador!$S$13)^A249),9) * 2,ROUND(1/((1+Simulador!$S$13)^A249),9)))","v":2.1796000000000001E-4},28.673952943999986]
[247,247,"2042-09-23",9,{"$f":"IF(ISERROR(MATCH(D250,Simulador!$H$16:$H$17,0))=FALSE,\"C\",IF(ISERROR(MATCH(D250,Simulador!$H$18:$H$19,0))=FALSE,\"D\",\"\"))","v":""},{"$f":"IF(E250=\"C\",0,IF(E250 =\"D\",ROUND(1/((1+Simulador!$S$13)^A250),9) * 2,ROUND(1/((1+Simulador!$S$13)^A250),9)))","v":2.1061699999999999E-4},28.674163560999986]
[248,248,"2042-10-23",10,{"$f":"IF(ISERROR(MATCH(D251,Simulador!$H$16:$H$17,0))=FALSE,\"C\",IF(ISERROR(MATCH(D251,Simulador!$H$18:$H$19,0))=FALSE,\"D\",\"\"))","v":""},{"$f":"IF(E251=\"C\",0,IF(E251 =\"D\",ROUND(1/((1+Simulador!$S$13)^A251),9) * 2,ROUND(1/((1+Simulador!$S$13)^A251),9)))","v":2.0352E-4},28.674367080999986]
[249,249,"2042-11-23",11,{"$f":"IF(ISERROR(MATCH(D252,Simulador!$H$16:$H$17,0))=FALSE,\"C\",IF(ISERROR(MATCH(D252,Simulador!$H$18:$H$19,0))=FALSE,\"D\",\"\"))","v":""},{"$f":"IF(E252=\"C\",0,IF(E252 =\"D\",ROUND(1/((1+Simulador!$S$13)^A252),9) * 2,ROUND(1/((1+Simulador!$S$13)^A252),9)))","v":1.96663E-4},28.674563743999986]
[250,250,"2042-12-23",12,{"$f":"IF(ISERROR(MATCH(D253,Simulador!$H$16:$H$17,0))=FALSE,\"C\",IF(ISERROR(MATCH(D253,Simulador!$H$18:$H$19,0))=FALSE,\"D\",\"\"))","v":""},{"$f":"IF(E253=\"C\",0,IF(E253 =\"D\",ROUND(1/((1+Simulador!$S$13)^A253),9) * 2,ROUND(1/((1+Simulador!$S$13)^A253),9)))","v":1.90037E-4},28.674753780999986]
[251,251,"2043-01-23",1,{"$f":"IF(ISERROR(MATCH(D254,Simulador!$H$16:$H$17,0))=FALSE,\"C\",IF(ISERROR(MATCH(D254,Simulador!$H$18:$H$19,0))=FALSE,\"D\",\"\"))","v":""},{"$f":"IF(E254=\"C\",0,IF(E254 =\"D\",ROUND(1/((1+Simulador!$S$13)^A254),9) * 2,ROUND(1/((1+Simulador!$S$13)^A254),9)))","v":1.8363400000000001E-4},28.674937414999984]
[252,252,"2043-02-23",2,{"$f":"IF(ISERROR(MATCH(D255,Simulador!$H$16:$H$17,0))=FALSE,\"C\",IF(ISERROR(MATCH(D255,Simulador!$H$18:$H$19,0))=FALSE,\"D\",\"\"))","v":""},{"$f":"IF(E255=\"C\",0,IF(E255 =\"D\",ROUND(1/((1+Simulador!$S$13)^A255),9) * 2,ROUND(1/((1+Simulador!$S$13)^A255),9)))","v":1.7744700000000001E-4},28.675114861999983]
[253,253,"2043-03-23",3,{"$f":"IF(ISERROR(MATCH(D256,Simulador!$H$16:$H$17,0))=FALSE,\"C\",IF(ISERROR(MATCH(D256,Simulador!$H$18:$H$19,0))=FALSE,\"D\",\"\"))","v":""},{"$f":"IF(E256=\"C\",0,IF(E256 =\"D\",ROUND(1/((1+Simulador!$S$13)^A256),9) * 2,ROUND(1/((1+Simulador!$S$13)^A256),9)))","v":1.7146899999999999E-4},28.675286330999985]
[254,254,"2043-04-23",4,{"$f":"IF(ISERROR(MATCH(D257,Simulador!$H$16:$H$17,0))=FALSE,\"C\",IF(ISERROR(MATCH(D257,Simulador!$H$18:$H$19,0))=FALSE,\"D\",\"\"))","v":""},{"$f":"IF(E257=\"C\",0,IF(E257 =\"D\",ROUND(1/((1+Simulador!$S$13)^A257),9) * 2,ROUND(1/((1+Simulador!$S$13)^A257),9)))","v":1.6569100000000001E-4},28.675452021999984]
[255,255,"2043-05-23",5,{"$f":"IF(ISERROR(MATCH(D258,Simulador!$H$16:$H$17,0))=FALSE,\"C\",IF(ISERROR(MATCH(D258,Simulador!$H$18:$H$19,0))=FALSE,\"D\",\"\"))","v":""},{"$f":"IF(E258=\"C\",0,IF(E258 =\"D\",ROUND(1/((1+Simulador!$S$13)^A258),9) * 2,ROUND(1/((1+Simulador!$S$13)^A258),9)))","v":1.6010899999999999E-4},28.675612130999983]
[256,256,"2043-06-23",6,{"$f":"IF(ISERROR(MATCH(D259,Simulador!$H$16:$H$17,0))=FALSE,\"C\",IF(ISERROR(MATCH(D259,Simulador!$H$18:$H$19,0))=FALSE,\"D\",\"\"))","v":""},{"$f":"IF(E259=\"C\",0,IF(E259 =\"D\",ROUND(1/((1+Simulador!$S$13)^A259),9) * 2,ROUND(1/((1+Simulador!$S$13)^A259),9)))","v":1.54714E-4},28.675766844999984]
[257,257,"2043-07-23",7,{"$f":"IF(ISERROR(MATCH(D260,Simulador!$H$16:$H$17,0))=FALSE,\"C\",IF(ISERROR(MATCH(D260,Simulador!$H$18:$H$19,0))=FALSE,\"D\",\"\"))","v":""},{"$f":"IF(E260=\"C\",0,IF(E260 =\"D\",ROUND(1/((1+Simulador!$S$13)^A260),9) * 2,ROUND(1/((1+Simulador!$S$13)^A260),9)))","v":1.4950200000000001E-4},28.675916346999983]
[{"$f":"A260+1","v":258},258,{"$f":"DATE(YEAR(C260) + 1/12,MONTH(C260)+1,DAY(C260))","v":"2043-08-23"},8,{"$f":"IF(ISERROR(MATCH(D261,Simulador!$H$16:$H$17,0))=FALSE,\"C\",IF(ISERROR(MATCH(D261,Simulador!$H$18:$H$19,0))=FALSE,\"D\",\"\"))","v":""},{"$f":"IF(E261=\"C\",0,IF(E261 =\"D\",ROUND(1/((1+Simulador!$S$13)^A261),9) * 2,ROUND(1/((1+Simulador!$S$13)^A261),9)))","v":1.4446500000000001E-4},28.676060811999985]
[259,259,"2043-09-23",9,{"$f":"IF(ISERROR(MATCH(D262,Simulador!$H$16:$H$17,0))=FALSE,\"C\",IF(ISERROR(MATCH(D262,Simulador!$H$18:$H$19,0))=FALSE,\"D\",\"\"))","v":""},{"$f":"IF(E262=\"C\",0,IF(E262 =\"D\",ROUND(1/((1+Simulador!$S$13)^A262),9) * 2,ROUND(1/((1+Simulador!$S$13)^A262),9)))","v":1.3959700000000001E-4},28.676200408999986]
[260,260,"2043-10-23",10,{"$f":"IF(ISERROR(MATCH(D263,Simulador!$H$16:$H$17,0))=FALSE,\"C\",IF(ISERROR(MATCH(D263,Simulador!$H$18:$H$19,0))=FALSE,\"D\",\"\"))","v":""},{"$f":"IF(E263=\"C\",0,IF(E263 =\"D\",ROUND(1/((1+Simulador!$S$13)^A263),9) * 2,ROUND(1/((1+Simulador!$S$13)^A263),9)))","v":1.3489400000000001E-4},28.676335302999984]
[261,261,"2043-11-23",11,{"$f":"IF(ISERROR(MATCH(D264,Simulador!$H$16:$H$17,0))=FALSE,\"C\",IF(ISERROR(MATCH(D264,Simulador!$H$18:$H$19,0))=FALSE,\"D\",\"\"))","v":""},{"$f":"IF(E264=\"C\",0,IF(E264 =\"D\",ROUND(1/((1+Simulador!$S$13)^A264),9) * 2,ROUND(1/((1+Simulador!$S$13)^A264),9)))","v":1.3034900000000001E-4},28.676465651999983]
[262,262,"2043-12-23",12,{"$f":"IF(ISERROR(MATCH(D265,Simulador!$H$16:$H$17,0))=FALSE,\"C\",IF(ISERROR(MATCH(D265,Simulador!$H$18:$H$19,0))=FALSE,\"D\",\"\"))","v":""},{"$f":"IF(E265=\"C\",0,IF(E265 =\"D\",ROUND(1/((1+Simulador!$S$13)^A265),9) * 2,ROUND(1/((1+Simulador!$S$13)^A265),9)))","v":1.25957E-4},28.676591608999985]
[263,263,"2044-01-23",1,{"$f":"IF(ISERROR(MATCH(D266,Simulador!$H$16:$H$17,0))=FALSE,\"C\",IF(ISERROR(MATCH(D266,Simulador!$H$18:$H$19,0))=FALSE,\"D\",\"\"))","v":""},{"$f":"IF(E266=\"C\",0,IF(E266 =\"D\",ROUND(1/((1+Simulador!$S$13)^A266),9) * 2,ROUND(1/((1+Simulador!$S$13)^A266),9)))","v":1.2171300000000001E-4},28.676713321999983]
[264,264,"2044-02-23",2,{"$f":"IF(ISERROR(MATCH(D267,Simulador!$H$16:$H$17,0))=FALSE,\"C\",IF(ISERROR(MATCH(D267,Simulador!$H$18:$H$19,0))=FALSE,\"D\",\"\"))","v":""},{"$f":"IF(E267=\"C\",0,IF(E267 =\"D\",ROUND(1/((1+Simulador!$S$13)^A267),9) * 2,ROUND(1/((1+Simulador!$S$13)^A267),9)))","v":1.17613E-4},28.676830934999984]
[265,265,"2044-03-23",3,{"$f":"IF(ISERROR(MATCH(D268,Simulador!$H$16:$H$17,0))=FALSE,\"C\",IF(ISERROR(MATCH(D268,Simulador!$H$18:$H$19,0))=FALSE,\"D\",\"\"))","v":""},{"$f":"IF(E268=\"C\",0,IF(E268 =\"D\",ROUND(1/((1+Simulador!$S$13)^A268),9) * 2,ROUND(1/((1+Simulador!$S$13)^A268),9)))","v":1.1365E-4},28.676944584999983]
[266,266,"2044-04-23",4,{"$f":"IF(ISERROR(MATCH(D269,Simulador!$H$16:$H$17,0))=FALSE,\"C\",IF(ISERROR(MATCH(D269,Simulador!$H$18:$H$19,0))=FALSE,\"D\",\"\"))","v":""},{"$f":"IF(E269=\"C\",0,IF(E269 =\"D\",ROUND(1/((1+Simulador!$S$13)^A269),9) * 2,ROUND(1/((1+Simulador!$S$13)^A269),9)))","v":1.09821E-4},28.677054405999982]
[267,267,"2044-05-23",5,{"$f":"IF(ISERROR(MATCH(D270,Simulador!$H$16:$H$17,0))=FALSE,\"C\",IF(ISERROR(MATCH(D270,Simulador!$H$18:$H$19,0))=FALSE,\"D\",\"\"))","v":""},{"$f":"IF(E270=\"C\",0,IF(E270 =\"D\",ROUND(1/((1+Simulador!$S$13)^A270),9) * 2,ROUND(1/((1+Simulador!$S$13)^A270),9)))","v":1.06121E-4},28.677160526999984]
[268,268,"2044-06-23",6,{"$f":"IF(ISERROR(MATCH(D271,Simulador!$H$16:$H$17,0))=FALSE,\"C\",IF(ISERROR(MATCH(D271,Simulador!$H$18:$H$19,0))=FALSE,\"D\",\"\"))","v":""},{"$f":"IF(E271=\"C\",0,IF(E271 =\"D\",ROUND(1/((1+Simulador!$S$13)^A271),9) * 2,ROUND(1/((1+Simulador!$S$13)^A271),9)))","v":1.02545E-4},28.677263071999985]
[269,269,"2044-07-23",7,{"$f":"IF(ISERROR(MATCH(D272,Simulador!$H$16:$H$17,0))=FALSE,\"C\",IF(ISERROR(MATCH(D272,Simulador!$H$18:$H$19,0))=FALSE,\"D\",\"\"))","v":""},{"$f":"IF(E272=\"C\",0,IF(E272 =\"D\",ROUND(1/((1+Simulador!$S$13)^A272),9) * 2,ROUND(1/((1+Simulador!$S$13)^A272),9)))","v":9.9090000000000002E-5},28.677362161999984]
[270,270,"2044-08-23",8,{"$f":"IF(ISERROR(MATCH(D273,Simulador!$H$16:$H$17,0))=FALSE,\"C\",IF(ISERROR(MATCH(D273,Simulador!$H$18:$H$19,0))=FALSE,\"D\",\"\"))","v":""},{"$f":"IF(E273=\"C\",0,IF(E273 =\"D\",ROUND(1/((1+Simulador!$S$13)^A273),9) * 2,ROUND(1/((1+Simulador!$S$13)^A273),9)))","v":9.5752000000000001E-5},28.677457913999984]
[271,271,"2044-09-23",9,{"$f":"IF(ISERROR(MATCH(D274,Simulador!$H$16:$H$17,0))=FALSE,\"C\",IF(ISERROR(MATCH(D274,Simulador!$H$18:$H$19,0))=FALSE,\"D\",\"\"))","v":""},{"$f":"IF(E274=\"C\",0,IF(E274 =\"D\",ROUND(1/((1+Simulador!$S$13)^A274),9) * 2,ROUND(1/((1+Simulador!$S$13)^A274),9)))","v":9.2524999999999999E-5},28.677550438999983]
[272,272,"2044-10-23",10,{"$f":"IF(ISERROR(MATCH(D275,Simulador!$H$16:$H$17,0))=FALSE,\"C\",IF(ISERROR(MATCH(D275,Simulador!$H$18:$H$19,0))=FALSE,\"D\",\"\"))","v":""},{"$f":"IF(E275=\"C\",0,IF(E275 =\"D\",ROUND(1/((1+Simulador!$S$13)^A275),9) * 2,ROUND(1/((1+Simulador!$S$13)^A275),9)))","v":8.9407999999999995E-5},28.677639846999984]
[273,273,"2044-11-23",11,{"$f":"IF(ISERROR(MATCH(D276,Simulador!$H$16:$H$17,0))=FALSE,\"C\",IF(ISERROR(MATCH(D276,Simulador!$H$18:$H$19,0))=FALSE,\"D\",\"\"))","v":""},{"$f":"IF(E276=\"C\",0,IF(E276 =\"D\",ROUND(1/((1+Simulador!$S$13)^A276),9) * 2,ROUND(1/((1+Simulador!$S$13)^A276),9)))","v":8.6396000000000004E-5},28.677726242999984]
[274,274,"2044-12-23",12,{"$f":"IF(ISERROR(MATCH(D277,Simulador!$H$16:$H$17,0))=FALSE,\"C\",IF(ISERROR(MATCH(D277,Simulador!$H$18:$H$19,0))=FALSE,\"D\",\"\"))","v":""},{"$f":"IF(E277=\"C\",0,IF(E277 =\"D\",ROUND(1/((1+Simulador!$S$13)^A277),9) * 2,ROUND(1/((1+Simulador!$S$13)^A277),9)))","v":8.3485000000000005E-5},28.677809727999986]
[275,275,"2045-01-23",1,{"$f":"IF(ISERROR(MATCH(D278,Simulador!$H$16:$H$17,0))=FALSE,\"C\",IF(ISERROR(MATCH(D278,Simulador!$H$18:$H$19,0))=FALSE,\"D\",\"\"))","v":""},{"$f":"IF(E278=\"C\",0,IF(E278 =\"D\",ROUND(1/((1+Simulador!$S$13)^A278),9) * 2,ROUND(1/((1+Simulador!$S$13)^A278),9)))","v":8.0672000000000003E-5},28.677890399999985]
[276,276,"2045-02-23",2,{"$f":"IF(ISERROR(MATCH(D279,Simulador!$H$16:$H$17,0))=FALSE,\"C\",IF(ISERROR(MATCH(D279,Simulador!$H$18:$H$19,0))=FALSE,\"D\",\"\"))","v":""},{"$f":"IF(E279=\"C\",0,IF(E279 =\"D\",ROUND(1/((1+Simulador!$S$13)^A279),9) * 2,ROUND(1/((1+Simulador!$S$13)^A279),9)))","v":7.7954000000000006E-5},28.677968353999987]
[277,277,"2045-03-23",3,{"$f":"IF(ISERROR(MATCH(D280,Simulador!$H$16:$H$17,0))=FALSE,\"C\",IF(ISERROR(MATCH(D280,Simulador!$H$18:$H$19,0))=FALSE,\"D\",\"\"))","v":""},{"$f":"IF(E280=\"C\",0,IF(E280 =\"D\",ROUND(1/((1+Simulador!$S$13)^A280),9) * 2,ROUND(1/((1+Simulador!$S$13)^A280),9)))","v":7.5327000000000006E-5},28.678043680999988]
[278,278,"2045-04-23",4,{"$f":"IF(ISERROR(MATCH(D281,Simulador!$H$16:$H$17,0))=FALSE,\"C\",IF(ISERROR(MATCH(D281,Simulador!$H$18:$H$19,0))=FALSE,\"D\",\"\"))","v":""},{"$f":"IF(E281=\"C\",0,IF(E281 =\"D\",ROUND(1/((1+Simulador!$S$13)^A281),9) * 2,ROUND(1/((1+Simulador!$S$13)^A281),9)))","v":7.2788999999999997E-5},28.678116469999988]
[279,279,"2045-05-23",5,{"$f":"IF(ISERROR(MATCH(D282,Simulador!$H$16:$H$17,0))=FALSE,\"C\",IF(ISERROR(MATCH(D282,Simulador!$H$18:$H$19,0))=FALSE,\"D\",\"\"))","v":""},{"$f":"IF(E282=\"C\",0,IF(E282 =\"D\",ROUND(1/((1+Simulador!$S$13)^A282),9) * 2,ROUND(1/((1+Simulador!$S$13)^A282),9)))","v":7.0337000000000001E-5},28.678186806999989]
[280,280,"2045-06-23",6,{"$f":"IF(ISERROR(MATCH(D283,Simulador!$H$16:$H$17,0))=FALSE,\"C\",IF(ISERROR(MATCH(D283,Simulador!$H$18:$H$19,0))=FALSE,\"D\",\"\"))","v":""},{"$f":"IF(E283=\"C\",0,IF(E283 =\"D\",ROUND(1/((1+Simulador!$S$13)^A283),9) * 2,ROUND(1/((1+Simulador!$S$13)^A283),9)))","v":6.7966999999999995E-5},28.678254773999988]
[281,281,"2045-07-23",7,{"$f":"IF(ISERROR(MATCH(D284,Simulador!$H$16:$H$17,0))=FALSE,\"C\",IF(ISERROR(MATCH(D284,Simulador!$H$18:$H$19,0))=FALSE,\"D\",\"\"))","v":""},{"$f":"IF(E284=\"C\",0,IF(E284 =\"D\",ROUND(1/((1+Simulador!$S$13)^A284),9) * 2,ROUND(1/((1+Simulador!$S$13)^A284),9)))","v":6.5677000000000002E-5},28.678320450999987]
[282,282,"2045-08-23",8,{"$f":"IF(ISERROR(MATCH(D285,Simulador!$H$16:$H$17,0))=FALSE,\"C\",IF(ISERROR(MATCH(D285,Simulador!$H$18:$H$19,0))=FALSE,\"D\",\"\"))","v":""},{"$f":"IF(E285=\"C\",0,IF(E285 =\"D\",ROUND(1/((1+Simulador!$S$13)^A285),9) * 2,ROUND(1/((1+Simulador!$S$13)^A285),9)))","v":6.3464000000000001E-5},28.678383914999987]
[283,283,"2045-09-23",9,{"$f":"IF(ISERROR(MATCH(D286,Simulador!$H$16:$H$17,0))=FALSE,\"C\",IF(ISERROR(MATCH(D286,Simulador!$H$18:$H$19,0))=FALSE,\"D\",\"\"))","v":""},{"$f":"IF(E286=\"C\",0,IF(E286 =\"D\",ROUND(1/((1+Simulador!$S$13)^A286),9) * 2,ROUND(1/((1+Simulador!$S$13)^A286),9)))","v":6.1326000000000002E-5},28.678445240999988]
[284,284,"2045-10-23",10,{"$f":"IF(ISERROR(MATCH(D287,Simulador!$H$16:$H$17,0))=FALSE,\"C\",IF(ISERROR(MATCH(D287,Simulador!$H$18:$H$19,0))=FALSE,\"D\",\"\"))","v":""},{"$f":"IF(E287=\"C\",0,IF(E287 =\"D\",ROUND(1/((1+Simulador!$S$13)^A287),9) * 2,ROUND(1/((1+Simulador!$S$13)^A287),9)))","v":5.9259999999999998E-5},28.678504500999988]
[285,285,"2045-11-23",11,{"$f":"IF(ISERROR(MATCH(D288,Simulador!$H$16:$H$17,0))=FALSE,\"C\",IF(ISERROR(MATCH(D288,Simulador!$H$18:$H$19,0))=FALSE,\"D\",\"\"))","v":""},{"$f":"IF(E288=\"C\",0,IF(E288 =\"D\",ROUND(1/((1+Simulador!$S$13)^A288),9) * 2,ROUND(1/((1+Simulador!$S$13)^A288),9)))","v":5.7262999999999997E-5},28.678561763999987]
[286,286,"2045-12-23",12,{"$f":"IF(ISERROR(MATCH(D289,Simulador!$H$16:$H$17,0))=FALSE,\"C\",IF(ISERROR(MATCH(D289,Simulador!$H$18:$H$19,0))=FALSE,\"D\",\"\"))","v":""},{"$f":"IF(E289=\"C\",0,IF(E289 =\"D\",ROUND(1/((1+Simulador!$S$13)^A289),9) * 2,ROUND(1/((1+Simulador!$S$13)^A289),9)))","v":5.5334000000000002E-5},28.678617097999986]
[287,287,"2046-01-23",1,{"$f":"IF(ISERROR(MATCH(D290,Simulador!$H$16:$H$17,0))=FALSE,\"C\",IF(ISERROR(MATCH(D290,Simulador!$H$18:$H$19,0))=FALSE,\"D\",\"\"))","v":""},{"$f":"IF(E290=\"C\",0,IF(E290 =\"D\",ROUND(1/((1+Simulador!$S$13)^A290),9) * 2,ROUND(1/((1+Simulador!$S$13)^A290),9)))","v":5.3470000000000001E-5},28.678670567999987]
[288,288,"2046-02-23",2,{"$f":"IF(ISERROR(MATCH(D291,Simulador!$H$16:$H$17,0))=FALSE,\"C\",IF(ISERROR(MATCH(D291,Simulador!$H$18:$H$19,0))=FALSE,\"D\",\"\"))","v":""},{"$f":"IF(E291=\"C\",0,IF(E291 =\"D\",ROUND(1/((1+Simulador!$S$13)^A291),9) * 2,ROUND(1/((1+Simulador!$S$13)^A291),9)))","v":5.1668000000000001E-5},28.678722235999988]
[289,{"$f":"IF(E292<>\"C\",IF(ISERROR(1+B291)=TRUE,1,1+B291),IF(ISNUMBER(B291),B291,1))","v":289},"2046-03-23",{"$f":"MONTH(C292)","v":3},{"$f":"IF(ISERROR(MATCH(D292,Simulador!$H$16:$H$17,0))=FALSE,\"C\",IF(ISERROR(MATCH(D292,Simulador!$H$18:$H$19,0))=FALSE,\"D\",\"\"))","v":""},{"$f":"IF(E292=\"C\",0,IF(E292 =\"D\",ROUND(1/((1+Simulador!$S$13)^A292),9) * 2,ROUND(1/((1+Simulador!$S$13)^A292),9)))","v":4.9926999999999998E-5},{"$f":"G291+ROUND(F292,9)","v":28.678772162999987}]
[290,290,"2046-04-23",4,{"$f":"IF(ISERROR(MATCH(D293,Simulador!$H$16:$H$17,0))=FALSE,\"C\",IF(ISERROR(MATCH(D293,Simulador!$H$18:$H$19,0))=FALSE,\"D\",\"\"))","v":""},{"$f":"IF(E293=\"C\",0,IF(E293 =\"D\",ROUND(1/((1+Simulador!$S$13)^A293),9) * 2,ROUND(1/((1+Simulador!$S$13)^A293),9)))","v":4.8245000000000003E-5},28.678820407999986]
[291,291,"2046-05-23",5,{"$f":"IF(ISERROR(MATCH(D294,Simulador!$H$16:$H$17,0))=FALSE,\"C\",IF(ISERROR(MATCH(D294,Simulador!$H$18:$H$19,0))=FALSE,\"D\",\"\"))","v":""},{"$f":"IF(E294=\"C\",0,IF(E294 =\"D\",ROUND(1/((1+Simulador!$S$13)^A294),9) * 2,ROUND(1/((1+Simulador!$S$13)^A294),9)))","v":4.6619999999999997E-5},28.678867027999985]
[292,292,"2046-06-23",6,{"$f":"IF(ISERROR(MATCH(D295,Simulador!$H$16:$H$17,0))=FALSE,\"C\",IF(ISERROR(MATCH(D295,Simulador!$H$18:$H$19,0))=FALSE,\"D\",\"\"))","v":""},{"$f":"IF(E295=\"C\",0,IF(E295 =\"D\",ROUND(1/((1+Simulador!$S$13)^A295),9) * 2,ROUND(1/((1+Simulador!$S$13)^A295),9)))","v":4.5049000000000002E-5},28.678912076999985]
[293,293,"2046-07-23",7,{"$f":"IF(ISERROR(MATCH(D296,Simulador!$H$16:$H$17,0))=FALSE,\"C\",IF(ISERROR(MATCH(D296,Simulador!$H$18:$H$19,0))=FALSE,\"D\",\"\"))","v":""},{"$f":"IF(E296=\"C\",0,IF(E296 =\"D\",ROUND(1/((1+Simulador!$S$13)^A296),9) * 2,ROUND(1/((1+Simulador!$S$13)^A296),9)))","v":4.3531E-5},28.678955607999985]
[294,294,"2046-08-23",8,{"$f":"IF(ISERROR(MATCH(D297,Simulador!$H$16:$H$17,0))=FALSE,\"C\",IF(ISERROR(MATCH(D297,Simulador!$H$18:$H$19,0))=FALSE,\"D\",\"\"))","v":""},{"$f":"IF(E297=\"C\",0,IF(E297 =\"D\",ROUND(1/((1+Simulador!$S$13)^A297),9) * 2,ROUND(1/((1+Simulador!$S$13)^A297),9)))","v":4.2064000000000002E-5},28.678997671999984]
[295,295,"2046-09-23",9,{"$f":"IF(ISERROR(MATCH(D298,Simulador!$H$16:$H$17,0))=FALSE,\"C\",IF(ISERROR(MATCH(D298,Simulador!$H$18:$H$19,0))=FALSE,\"D\",\"\"))","v":""},{"$f":"IF(E298=\"C\",0,IF(E298 =\"D\",ROUND(1/((1+Simulador!$S$13)^A298),9) * 2,ROUND(1/((1+Simulador!$S$13)^A298),9)))","v":4.0646999999999999E-5},28.679038318999982]
[296,296,"2046-10-23",10,{"$f":"IF(ISERROR(MATCH(D299,Simulador!$H$16:$H$17,0))=FALSE,\"C\",IF(ISERROR(MATCH(D299,Simulador!$H$18:$H$19,0))=FALSE,\"D\",\"\"))","v":""},{"$f":"IF(E299=\"C\",0,IF(E299 =\"D\",ROUND(1/((1+Simulador!$S$13)^A299),9) * 2,ROUND(1/((1+Simulador!$S$13)^A299),9)))","v":3.9277999999999999E-5},28.679077596999981]
[297,297,"2046-11-23",11,{"$f":"IF(ISERROR(MATCH(D300,Simulador!$H$16:$H$17,0))=FALSE,\"C\",IF(ISERROR(MATCH(D300,Simulador!$H$18:$H$19,0))=FALSE,\"D\",\"\"))","v":""},{"$f":"IF(E300=\"C\",0,IF(E300 =\"D\",ROUND(1/((1+Simulador!$S$13)^A300),9) * 2,ROUND(1/((1+Simulador!$S$13)^A300),9)))","v":3.7954000000000003E-5},28.679115550999981]
[298,298,"2046-12-23",12,{"$f":"IF(ISERROR(MATCH(D301,Simulador!$H$16:$H$17,0))=FALSE,\"C\",IF(ISERROR(MATCH(D301,Simulador!$H$18:$H$19,0))=FALSE,\"D\",\"\"))","v":""},{"$f":"IF(E301=\"C\",0,IF(E301 =\"D\",ROUND(1/((1+Simulador!$S$13)^A301),9) * 2,ROUND(1/((1+Simulador!$S$13)^A301),9)))","v":3.6674999999999997E-5},28.679152225999982]
[299,299,"2047-01-23",1,{"$f":"IF(ISERROR(MATCH(D302,Simulador!$H$16:$H$17,0))=FALSE,\"C\",IF(ISERROR(MATCH(D302,Simulador!$H$18:$H$19,0))=FALSE,\"D\",\"\"))","v":""},{"$f":"IF(E302=\"C\",0,IF(E302 =\"D\",ROUND(1/((1+Simulador!$S$13)^A302),9) * 2,ROUND(1/((1+Simulador!$S$13)^A302),9)))","v":3.5439999999999999E-5},28.679187665999983]
[300,300,"2047-02-23",2,{"$f":"IF(ISERROR(MATCH(D303,Simulador!$H$16:$H$17,0))=FALSE,\"C\",IF(ISERROR(MATCH(D303,Simulador!$H$18:$H$19,0))=FALSE,\"D\",\"\"))","v":""},{"$f":"IF(E303=\"C\",0,IF(E303 =\"D\",ROUND(1/((1+Simulador!$S$13)^A303),9) * 2,ROUND(1/((1+Simulador!$S$13)^A303),9)))","v":3.4245999999999997E-5},28.679221911999981]
[301,301,"2047-03-23",3,{"$f":"IF(ISERROR(MATCH(D304,Simulador!$H$16:$H$17,0))=FALSE,\"C\",IF(ISERROR(MATCH(D304,Simulador!$H$18:$H$19,0))=FALSE,\"D\",\"\"))","v":""},{"$f":"IF(E304=\"C\",0,IF(E304 =\"D\",ROUND(1/((1+Simulador!$S$13)^A304),9) * 2,ROUND(1/((1+Simulador!$S$13)^A304),9)))","v":3.3092000000000001E-5},28.67925500399998]
[302,302,"2047-04-23",4,{"$f":"IF(ISERROR(MATCH(D305,Simulador!$H$16:$H$17,0))=FALSE,\"C\",IF(ISERROR(MATCH(D305,Simulador!$H$18:$H$19,0))=FALSE,\"D\",\"\"))","v":""},{"$f":"IF(E305=\"C\",0,IF(E305 =\"D\",ROUND(1/((1+Simulador!$S$13)^A305),9) * 2,ROUND(1/((1+Simulador!$S$13)^A305),9)))","v":3.1977000000000002E-5},28.679286980999979]
[303,303,"2047-05-23",5,{"$f":"IF(ISERROR(MATCH(D306,Simulador!$H$16:$H$17,0))=FALSE,\"C\",IF(ISERROR(MATCH(D306,Simulador!$H$18:$H$19,0))=FALSE,\"D\",\"\"))","v":""},{"$f":"IF(E306=\"C\",0,IF(E306 =\"D\",ROUND(1/((1+Simulador!$S$13)^A306),9) * 2,ROUND(1/((1+Simulador!$S$13)^A306),9)))","v":3.0899999999999999E-5},28.679317880999978]
[304,304,"2047-06-23",6,{"$f":"IF(ISERROR(MATCH(D307,Simulador!$H$16:$H$17,0))=FALSE,\"C\",IF(ISERROR(MATCH(D307,Simulador!$H$18:$H$19,0))=FALSE,\"D\",\"\"))","v":""},{"$f":"IF(E307=\"C\",0,IF(E307 =\"D\",ROUND(1/((1+Simulador!$S$13)^A307),9) * 2,ROUND(1/((1+Simulador!$S$13)^A307),9)))","v":2.9858000000000001E-5},28.679347738999979]
[305,305,"2047-07-23",7,{"$f":"IF(ISERROR(MATCH(D308,Simulador!$H$16:$H$17,0))=FALSE,\"C\",IF(ISERROR(MATCH(D308,Simulador!$H$18:$H$19,0))=FALSE,\"D\",\"\"))","v":""},{"$f":"IF(E308=\"C\",0,IF(E308 =\"D\",ROUND(1/((1+Simulador!$S$13)^A308),9) * 2,ROUND(1/((1+Simulador!$S$13)^A308),9)))","v":2.8852000000000001E-5},28.679376590999979]
[306,306,"2047-08-23",8,{"$f":"IF(ISERROR(MATCH(D309,Simulador!$H$16:$H$17,0))=FALSE,\"C\",IF(ISERROR(MATCH(D309,Simulador!$H$18:$H$19,0))=FALSE,\"D\",\"\"))","v":""},{"$f":"IF(E309=\"C\",0,IF(E309 =\"D\",ROUND(1/((1+Simulador!$S$13)^A309),9) * 2,ROUND(1/((1+Simulador!$S$13)^A309),9)))","v":2.7880000000000001E-5},28.67940447099998]
[307,307,"2047-09-23",9,{"$f":"IF(ISERROR(MATCH(D310,Simulador!$H$16:$H$17,0))=FALSE,\"C\",IF(ISERROR(MATCH(D310,Simulador!$H$18:$H$19,0))=FALSE,\"D\",\"\"))","v":""},{"$f":"IF(E310=\"C\",0,IF(E310 =\"D\",ROUND(1/((1+Simulador!$S$13)^A310),9) * 2,ROUND(1/((1+Simulador!$S$13)^A310),9)))","v":2.6940999999999998E-5},28.679431411999982]
[308,308,"2047-10-23",10,{"$f":"IF(ISERROR(MATCH(D311,Simulador!$H$16:$H$17,0))=FALSE,\"C\",IF(ISERROR(MATCH(D311,Simulador!$H$18:$H$19,0))=FALSE,\"D\",\"\"))","v":""},{"$f":"IF(E311=\"C\",0,IF(E311 =\"D\",ROUND(1/((1+Simulador!$S$13)^A311),9) * 2,ROUND(1/((1+Simulador!$S$13)^A311),9)))","v":2.6033E-5},28.679457444999983]
[309,309,"2047-11-23",11,{"$f":"IF(ISERROR(MATCH(D312,Simulador!$H$16:$H$17,0))=FALSE,\"C\",IF(ISERROR(MATCH(D312,Simulador!$H$18:$H$19,0))=FALSE,\"D\",\"\"))","v":""},{"$f":"IF(E312=\"C\",0,IF(E312 =\"D\",ROUND(1/((1+Simulador!$S$13)^A312),9) * 2,ROUND(1/((1+Simulador!$S$13)^A312),9)))","v":2.5156000000000001E-5},28.679482600999982]
[310,310,"2047-12-23",12,{"$f":"IF(ISERROR(MATCH(D313,Simulador!$H$16:$H$17,0))=FALSE,\"C\",IF(ISERROR(MATCH(D313,Simulador!$H$18:$H$19,0))=FALSE,\"D\",\"\"))","v":""},{"$f":"IF(E313=\"C\",0,IF(E313 =\"D\",ROUND(1/((1+Simulador!$S$13)^A313),9) * 2,ROUND(1/((1+Simulador!$S$13)^A313),9)))","v":2.4309000000000001E-5},28.679506909999983]
[311,311,"2048-01-23",1,{"$f":"IF(ISERROR(MATCH(D314,Simulador!$H$16:$H$17,0))=FALSE,\"C\",IF(ISERROR(MATCH(D314,Simulador!$H$18:$H$19,0))=FALSE,\"D\",\"\"))","v":""},{"$f":"IF(E314=\"C\",0,IF(E314 =\"D\",ROUND(1/((1+Simulador!$S$13)^A314),9) * 2,ROUND(1/((1+Simulador!$S$13)^A314),9)))","v":2.349E-5},28.679530399999983]
[312,312,"2048-02-23",2,{"$f":"IF(ISERROR(MATCH(D315,Simulador!$H$16:$H$17,0))=FALSE,\"C\",IF(ISERROR(MATCH(D315,Simulador!$H$18:$H$19,0))=FALSE,\"D\",\"\"))","v":""},{"$f":"IF(E315=\"C\",0,IF(E315 =\"D\",ROUND(1/((1+Simulador!$S$13)^A315),9) * 2,ROUND(1/((1+Simulador!$S$13)^A315),9)))","v":2.2697999999999999E-5},28.679553097999982]
[313,313,"2048-03-23",3,{"$f":"IF(ISERROR(MATCH(D316,Simulador!$H$16:$H$17,0))=FALSE,\"C\",IF(ISERROR(MATCH(D316,Simulador!$H$18:$H$19,0))=FALSE,\"D\",\"\"))","v":""},{"$f":"IF(E316=\"C\",0,IF(E316 =\"D\",ROUND(1/((1+Simulador!$S$13)^A316),9) * 2,ROUND(1/((1+Simulador!$S$13)^A316),9)))","v":2.1933000000000002E-5},28.679575030999981]
[314,314,"2048-04-23",4,{"$f":"IF(ISERROR(MATCH(D317,Simulador!$H$16:$H$17,0))=FALSE,\"C\",IF(ISERROR(MATCH(D317,Simulador!$H$18:$H$19,0))=FALSE,\"D\",\"\"))","v":""},{"$f":"IF(E317=\"C\",0,IF(E317 =\"D\",ROUND(1/((1+Simulador!$S$13)^A317),9) * 2,ROUND(1/((1+Simulador!$S$13)^A317),9)))","v":2.1194000000000001E-5},28.67959622499998]
[315,315,"2048-05-23",5,{"$f":"IF(ISERROR(MATCH(D318,Simulador!$H$16:$H$17,0))=FALSE,\"C\",IF(ISERROR(MATCH(D318,Simulador!$H$18:$H$19,0))=FALSE,\"D\",\"\"))","v":""},{"$f":"IF(E318=\"C\",0,IF(E318 =\"D\",ROUND(1/((1+Simulador!$S$13)^A318),9) * 2,ROUND(1/((1+Simulador!$S$13)^A318),9)))","v":2.048E-5},28.67961670499998]
[316,316,"2048-06-23",6,{"$f":"IF(ISERROR(MATCH(D319,Simulador!$H$16:$H$17,0))=FALSE,\"C\",IF(ISERROR(MATCH(D319,Simulador!$H$18:$H$19,0))=FALSE,\"D\",\"\"))","v":""},{"$f":"IF(E319=\"C\",0,IF(E319 =\"D\",ROUND(1/((1+Simulador!$S$13)^A319),9) * 2,ROUND(1/((1+Simulador!$S$13)^A319),9)))","v":1.9789999999999999E-5},28.679636494999979]
[317,317,"2048-07-23",7,{"$f":"IF(ISERROR(MATCH(D320,Simulador!$H$16:$H$17,0))=FALSE,\"C\",IF(ISERROR(MATCH(D320,Simulador!$H$18:$H$19,0))=FALSE,\"D\",\"\"))","v":""},{"$f":"IF(E320=\"C\",0,IF(E320 =\"D\",ROUND(1/((1+Simulador!$S$13)^A320),9) * 2,ROUND(1/((1+Simulador!$S$13)^A320),9)))","v":1.9123E-5},28.67965561799998]
[318,318,"2048-08-23",8,{"$f":"IF(ISERROR(MATCH(D321,Simulador!$H$16:$H$17,0))=FALSE,\"C\",IF(ISERROR(MATCH(D321,Simulador!$H$18:$H$19,0))=FALSE,\"D\",\"\"))","v":""},{"$f":"IF(E321=\"C\",0,IF(E321 =\"D\",ROUND(1/((1+Simulador!$S$13)^A321),9) * 2,ROUND(1/((1+Simulador!$S$13)^A321),9)))","v":1.8479E-5},28.679674096999982]
[319,319,"2048-09-23",9,{"$f":"IF(ISERROR(MATCH(D322,Simulador!$H$16:$H$17,0))=FALSE,\"C\",IF(ISERROR(MATCH(D322,Simulador!$H$18:$H$19,0))=FALSE,\"D\",\"\"))","v":""},{"$f":"IF(E322=\"C\",0,IF(E322 =\"D\",ROUND(1/((1+Simulador!$S$13)^A322),9) * 2,ROUND(1/((1+Simulador!$S$13)^A322),9)))","v":1.7856999999999999E-5},28.679691953999981]
[320,320,"2048-10-23",10,{"$f":"IF(ISERROR(MATCH(D323,Simulador!$H$16:$H$17,0))=FALSE,\"C\",IF(ISERROR(MATCH(D323,Simulador!$H$18:$H$19,0))=FALSE,\"D\",\"\"))","v":""},{"$f":"IF(E323=\"C\",0,IF(E323 =\"D\",ROUND(1/((1+Simulador!$S$13)^A323),9) * 2,ROUND(1/((1+Simulador!$S$13)^A323),9)))","v":1.7255E-5},28.679709208999981]
[321,321,"2048-11-23",11,{"$f":"IF(ISERROR(MATCH(D324,Simulador!$H$16:$H$17,0))=FALSE,\"C\",IF(ISERROR(MATCH(D324,Simulador!$H$18:$H$19,0))=FALSE,\"D\",\"\"))","v":""},{"$f":"IF(E324=\"C\",0,IF(E324 =\"D\",ROUND(1/((1+Simulador!$S$13)^A324),9) * 2,ROUND(1/((1+Simulador!$S$13)^A324),9)))","v":1.6674E-5},28.679725882999982]
[{"$f":"A324+1","v":322},322,{"$f":"DATE(YEAR(C324) + 1/12,MONTH(C324)+1,DAY(C324))","v":"2048-12-23"},12,{"$f":"IF(ISERROR(MATCH(D325,Simulador!$H$16:$H$17,0))=FALSE,\"C\",IF(ISERROR(MATCH(D325,Simulador!$H$18:$H$19,0))=FALSE,\"D\",\"\"))","v":""},{"$f":"IF(E325=\"C\",0,IF(E325 =\"D\",ROUND(1/((1+Simulador!$S$13)^A325),9) * 2,ROUND(1/((1+Simulador!$S$13)^A325),9)))","v":1.6112000000000001E-5},28.679741994999983]
[323,323,"2049-01-23",1,{"$f":"IF(ISERROR(MATCH(D326,Simulador!$H$16:$H$17,0))=FALSE,\"C\",IF(ISERROR(MATCH(D326,Simulador!$H$18:$H$19,0))=FALSE,\"D\",\"\"))","v":""},{"$f":"IF(E326=\"C\",0,IF(E326 =\"D\",ROUND(1/((1+Simulador!$S$13)^A326),9) * 2,ROUND(1/((1+Simulador!$S$13)^A326),9)))","v":1.5569E-5},28.679757563999981]
[324,324,"2049-02-23",2,{"$f":"IF(ISERROR(MATCH(D327,Simulador!$H$16:$H$17,0))=FALSE,\"C\",IF(ISERROR(MATCH(D327,Simulador!$H$18:$H$19,0))=FALSE,\"D\",\"\"))","v":""},{"$f":"IF(E327=\"C\",0,IF(E327 =\"D\",ROUND(1/((1+Simulador!$S$13)^A327),9) * 2,ROUND(1/((1+Simulador!$S$13)^A327),9)))","v":1.5044E-5},28.679772607999983]
[325,325,"2049-03-23",3,{"$f":"IF(ISERROR(MATCH(D328,Simulador!$H$16:$H$17,0))=FALSE,\"C\",IF(ISERROR(MATCH(D328,Simulador!$H$18:$H$19,0))=FALSE,\"D\",\"\"))","v":""},{"$f":"IF(E328=\"C\",0,IF(E328 =\"D\",ROUND(1/((1+Simulador!$S$13)^A328),9) * 2,ROUND(1/((1+Simulador!$S$13)^A328),9)))","v":1.4538E-5},28.679787145999981]
[326,326,"2049-04-23",4,{"$f":"IF(ISERROR(MATCH(D329,Simulador!$H$16:$H$17,0))=FALSE,\"C\",IF(ISERROR(MATCH(D329,Simulador!$H$18:$H$19,0))=FALSE,\"D\",\"\"))","v":""},{"$f":"IF(E329=\"C\",0,IF(E329 =\"D\",ROUND(1/((1+Simulador!$S$13)^A329),9) * 2,ROUND(1/((1+Simulador!$S$13)^A329),9)))","v":1.4048E-5},28.679801193999982]
[327,327,"2049-05-23",5,{"$f":"IF(ISERROR(MATCH(D330,Simulador!$H$16:$H$17,0))=FALSE,\"C\",IF(ISERROR(MATCH(D330,Simulador!$H$18:$H$19,0))=FALSE,\"D\",\"\"))","v":""},{"$f":"IF(E330=\"C\",0,IF(E330 =\"D\",ROUND(1/((1+Simulador!$S$13)^A330),9) * 2,ROUND(1/((1+Simulador!$S$13)^A330),9)))","v":1.3574000000000001E-5},28.679814767999982]
[328,328,"2049-06-23",6,{"$f":"IF(ISERROR(MATCH(D331,Simulador!$H$16:$H$17,0))=FALSE,\"C\",IF(ISERROR(MATCH(D331,Simulador!$H$18:$H$19,0))=FALSE,\"D\",\"\"))","v":""},{"$f":"IF(E331=\"C\",0,IF(E331 =\"D\",ROUND(1/((1+Simulador!$S$13)^A331),9) * 2,ROUND(1/((1+Simulador!$S$13)^A331),9)))","v":1.3117E-5},28.679827884999984]
[329,329,"2049-07-23",7,{"$f":"IF(ISERROR(MATCH(D332,Simulador!$H$16:$H$17,0))=FALSE,\"C\",IF(ISERROR(MATCH(D332,Simulador!$H$18:$H$19,0))=FALSE,\"D\",\"\"))","v":""},{"$f":"IF(E332=\"C\",0,IF(E332 =\"D\",ROUND(1/((1+Simulador!$S$13)^A332),9) * 2,ROUND(1/((1+Simulador!$S$13)^A332),9)))","v":1.2675E-5},28.679840559999985]
[330,330,"2049-08-23",8,{"$f":"IF(ISERROR(MATCH(D333,Simulador!$H$16:$H$17,0))=FALSE,\"C\",IF(ISERROR(MATCH(D333,Simulador!$H$18:$H$19,0))=FALSE,\"D\",\"\"))","v":""},{"$f":"IF(E333=\"C\",0,IF(E333 =\"D\",ROUND(1/((1+Simulador!$S$13)^A333),9) * 2,ROUND(1/((1+Simulador!$S$13)^A333),9)))","v":1.2248E-5},28.679852807999985]
[331,331,"2049-09-23",9,{"$f":"IF(ISERROR(MATCH(D334,Simulador!$H$16:$H$17,0))=FALSE,\"C\",IF(ISERROR(MATCH(D334,Simulador!$H$18:$H$19,0))=FALSE,\"D\",\"\"))","v":""},{"$f":"IF(E334=\"C\",0,IF(E334 =\"D\",ROUND(1/((1+Simulador!$S$13)^A334),9) * 2,ROUND(1/((1+Simulador!$S$13)^A334),9)))","v":1.1834999999999999E-5},28.679864642999984]
[332,332,"2049-10-23",10,{"$f":"IF(ISERROR(MATCH(D335,Simulador!$H$16:$H$17,0))=FALSE,\"C\",IF(ISERROR(MATCH(D335,Simulador!$H$18:$H$19,0))=FALSE,\"D\",\"\"))","v":""},{"$f":"IF(E335=\"C\",0,IF(E335 =\"D\",ROUND(1/((1+Simulador!$S$13)^A335),9) * 2,ROUND(1/((1+Simulador!$S$13)^A335),9)))","v":1.1437000000000001E-5},28.679876079999985]
[333,333,"2049-11-23",11,{"$f":"IF(ISERROR(MATCH(D336,Simulador!$H$16:$H$17,0))=FALSE,\"C\",IF(ISERROR(MATCH(D336,Simulador!$H$18:$H$19,0))=FALSE,\"D\",\"\"))","v":""},{"$f":"IF(E336=\"C\",0,IF(E336 =\"D\",ROUND(1/((1+Simulador!$S$13)^A336),9) * 2,ROUND(1/((1+Simulador!$S$13)^A336),9)))","v":1.1051E-5},28.679887130999987]
[334,334,"2049-12-23",12,{"$f":"IF(ISERROR(MATCH(D337,Simulador!$H$16:$H$17,0))=FALSE,\"C\",IF(ISERROR(MATCH(D337,Simulador!$H$18:$H$19,0))=FALSE,\"D\",\"\"))","v":""},{"$f":"IF(E337=\"C\",0,IF(E337 =\"D\",ROUND(1/((1+Simulador!$S$13)^A337),9) * 2,ROUND(1/((1+Simulador!$S$13)^A337),9)))","v":1.0679000000000001E-5},28.679897809999986]
[335,335,"2050-01-23",1,{"$f":"IF(ISERROR(MATCH(D338,Simulador!$H$16:$H$17,0))=FALSE,\"C\",IF(ISERROR(MATCH(D338,Simulador!$H$18:$H$19,0))=FALSE,\"D\",\"\"))","v":""},{"$f":"IF(E338=\"C\",0,IF(E338 =\"D\",ROUND(1/((1+Simulador!$S$13)^A338),9) * 2,ROUND(1/((1+Simulador!$S$13)^A338),9)))","v":1.0319000000000001E-5},28.679908128999987]
[336,336,"2050-02-23",2,{"$f":"IF(ISERROR(MATCH(D339,Simulador!$H$16:$H$17,0))=FALSE,\"C\",IF(ISERROR(MATCH(D339,Simulador!$H$18:$H$19,0))=FALSE,\"D\",\"\"))","v":""},{"$f":"IF(E339=\"C\",0,IF(E339 =\"D\",ROUND(1/((1+Simulador!$S$13)^A339),9) * 2,ROUND(1/((1+Simulador!$S$13)^A339),9)))","v":9.9709999999999999E-6},28.679918099999988]
[337,337,"2050-03-23",3,{"$f":"IF(ISERROR(MATCH(D340,Simulador!$H$16:$H$17,0))=FALSE,\"C\",IF(ISERROR(MATCH(D340,Simulador!$H$18:$H$19,0))=FALSE,\"D\",\"\"))","v":""},{"$f":"IF(E340=\"C\",0,IF(E340 =\"D\",ROUND(1/((1+Simulador!$S$13)^A340),9) * 2,ROUND(1/((1+Simulador!$S$13)^A340),9)))","v":9.6360000000000006E-6},28.679927735999989]
[338,338,"2050-04-23",4,{"$f":"IF(ISERROR(MATCH(D341,Simulador!$H$16:$H$17,0))=FALSE,\"C\",IF(ISERROR(MATCH(D341,Simulador!$H$18:$H$19,0))=FALSE,\"D\",\"\"))","v":""},{"$f":"IF(E341=\"C\",0,IF(E341 =\"D\",ROUND(1/((1+Simulador!$S$13)^A341),9) * 2,ROUND(1/((1+Simulador!$S$13)^A341),9)))","v":9.3109999999999995E-6},28.679937046999989]
[339,339,"2050-05-23",5,{"$f":"IF(ISERROR(MATCH(D342,Simulador!$H$16:$H$17,0))=FALSE,\"C\",IF(ISERROR(MATCH(D342,Simulador!$H$18:$H$19,0))=FALSE,\"D\",\"\"))","v":""},{"$f":"IF(E342=\"C\",0,IF(E342 =\"D\",ROUND(1/((1+Simulador!$S$13)^A342),9) * 2,ROUND(1/((1+Simulador!$S$13)^A342),9)))","v":8.9970000000000004E-6},28.679946043999987]
[340,340,"2050-06-23",6,{"$f":"IF(ISERROR(MATCH(D343,Simulador!$H$16:$H$17,0))=FALSE,\"C\",IF(ISERROR(MATCH(D343,Simulador!$H$18:$H$19,0))=FALSE,\"D\",\"\"))","v":""},{"$f":"IF(E343=\"C\",0,IF(E343 =\"D\",ROUND(1/((1+Simulador!$S$13)^A343),9) * 2,ROUND(1/((1+Simulador!$S$13)^A343),9)))","v":8.6940000000000001E-6},28.679954737999989]
[341,341,"2050-07-23",7,{"$f":"IF(ISERROR(MATCH(D344,Simulador!$H$16:$H$17,0))=FALSE,\"C\",IF(ISERROR(MATCH(D344,Simulador!$H$18:$H$19,0))=FALSE,\"D\",\"\"))","v":""},{"$f":"IF(E344=\"C\",0,IF(E344 =\"D\",ROUND(1/((1+Simulador!$S$13)^A344),9) * 2,ROUND(1/((1+Simulador!$S$13)^A344),9)))","v":8.4009999999999997E-6},28.679963138999987]
[342,342,"2050-08-23",8,{"$f":"IF(ISERROR(MATCH(D345,Simulador!$H$16:$H$17,0))=FALSE,\"C\",IF(ISERROR(MATCH(D345,Simulador!$H$18:$H$19,0))=FALSE,\"D\",\"\"))","v":""},{"$f":"IF(E345=\"C\",0,IF(E345 =\"D\",ROUND(1/((1+Simulador!$S$13)^A345),9) * 2,ROUND(1/((1+Simulador!$S$13)^A345),9)))","v":8.1179999999999992E-6},28.679971256999988]
[343,343,"2050-09-23",9,{"$f":"IF(ISERROR(MATCH(D346,Simulador!$H$16:$H$17,0))=FALSE,\"C\",IF(ISERROR(MATCH(D346,Simulador!$H$18:$H$19,0))=FALSE,\"D\",\"\"))","v":""},{"$f":"IF(E346=\"C\",0,IF(E346 =\"D\",ROUND(1/((1+Simulador!$S$13)^A346),9) * 2,ROUND(1/((1+Simulador!$S$13)^A346),9)))","v":7.8450000000000003E-6},28.679979101999987]
[344,344,"2050-10-23",10,{"$f":"IF(ISERROR(MATCH(D347,Simulador!$H$16:$H$17,0))=FALSE,\"C\",IF(ISERROR(MATCH(D347,Simulador!$H$18:$H$19,0))=FALSE,\"D\",\"\"))","v":""},{"$f":"IF(E347=\"C\",0,IF(E347 =\"D\",ROUND(1/((1+Simulador!$S$13)^A347),9) * 2,ROUND(1/((1+Simulador!$S$13)^A347),9)))","v":7.5800000000000003E-6},28.679986681999985]
[345,345,"2050-11-23",11,{"$f":"IF(ISERROR(MATCH(D348,Simulador!$H$16:$H$17,0))=FALSE,\"C\",IF(ISERROR(MATCH(D348,Simulador!$H$18:$H$19,0))=FALSE,\"D\",\"\"))","v":""},{"$f":"IF(E348=\"C\",0,IF(E348 =\"D\",ROUND(1/((1+Simulador!$S$13)^A348),9) * 2,ROUND(1/((1+Simulador!$S$13)^A348),9)))","v":7.3250000000000002E-6},28.679994006999983]
[346,346,"2050-12-23",12,{"$f":"IF(ISERROR(MATCH(D349,Simulador!$H$16:$H$17,0))=FALSE,\"C\",IF(ISERROR(MATCH(D349,Simulador!$H$18:$H$19,0))=FALSE,\"D\",\"\"))","v":""},{"$f":"IF(E349=\"C\",0,IF(E349 =\"D\",ROUND(1/((1+Simulador!$S$13)^A349),9) * 2,ROUND(1/((1+Simulador!$S$13)^A349),9)))","v":7.0779999999999998E-6},28.680001084999983]
[347,347,"2051-01-23",1,{"$f":"IF(ISERROR(MATCH(D350,Simulador!$H$16:$H$17,0))=FALSE,\"C\",IF(ISERROR(MATCH(D350,Simulador!$H$18:$H$19,0))=FALSE,\"D\",\"\"))","v":""},{"$f":"IF(E350=\"C\",0,IF(E350 =\"D\",ROUND(1/((1+Simulador!$S$13)^A350),9) * 2,ROUND(1/((1+Simulador!$S$13)^A350),9)))","v":6.8399999999999997E-6},28.680007924999984]
[348,348,"2051-02-23",2,{"$f":"IF(ISERROR(MATCH(D351,Simulador!$H$16:$H$17,0))=FALSE,\"C\",IF(ISERROR(MATCH(D351,Simulador!$H$18:$H$19,0))=FALSE,\"D\",\"\"))","v":""},{"$f":"IF(E351=\"C\",0,IF(E351 =\"D\",ROUND(1/((1+Simulador!$S$13)^A351),9) * 2,ROUND(1/((1+Simulador!$S$13)^A351),9)))","v":6.6089999999999997E-6},28.680014533999984]
[349,349,"2051-03-23",3,{"$f":"IF(ISERROR(MATCH(D352,Simulador!$H$16:$H$17,0))=FALSE,\"C\",IF(ISERROR(MATCH(D352,Simulador!$H$18:$H$19,0))=FALSE,\"D\",\"\"))","v":""},{"$f":"IF(E352=\"C\",0,IF(E352 =\"D\",ROUND(1/((1+Simulador!$S$13)^A352),9) * 2,ROUND(1/((1+Simulador!$S$13)^A352),9)))","v":6.3860000000000004E-6},28.680020919999983]
[350,350,"2051-04-23",4,{"$f":"IF(ISERROR(MATCH(D353,Simulador!$H$16:$H$17,0))=FALSE,\"C\",IF(ISERROR(MATCH(D353,Simulador!$H$18:$H$19,0))=FALSE,\"D\",\"\"))","v":""},{"$f":"IF(E353=\"C\",0,IF(E353 =\"D\",ROUND(1/((1+Simulador!$S$13)^A353),9) * 2,ROUND(1/((1+Simulador!$S$13)^A353),9)))","v":6.1709999999999999E-6},28.680027090999982]
[351,351,"2051-05-23",5,{"$f":"IF(ISERROR(MATCH(D354,Simulador!$H$16:$H$17,0))=FALSE,\"C\",IF(ISERROR(MATCH(D354,Simulador!$H$18:$H$19,0))=FALSE,\"D\",\"\"))","v":""},{"$f":"IF(E354=\"C\",0,IF(E354 =\"D\",ROUND(1/((1+Simulador!$S$13)^A354),9) * 2,ROUND(1/((1+Simulador!$S$13)^A354),9)))","v":5.9630000000000003E-6},28.680033053999981]
[352,352,"2051-06-23",6,{"$f":"IF(ISERROR(MATCH(D355,Simulador!$H$16:$H$17,0))=FALSE,\"C\",IF(ISERROR(MATCH(D355,Simulador!$H$18:$H$19,0))=FALSE,\"D\",\"\"))","v":""},{"$f":"IF(E355=\"C\",0,IF(E355 =\"D\",ROUND(1/((1+Simulador!$S$13)^A355),9) * 2,ROUND(1/((1+Simulador!$S$13)^A355),9)))","v":5.7620000000000001E-6},28.680038815999982]
[353,{"$f":"IF(E356<>\"C\",IF(ISERROR(1+B355)=TRUE,1,1+B355),IF(ISNUMBER(B355),B355,1))","v":353},"2051-07-23",{"$f":"MONTH(C356)","v":7},{"$f":"IF(ISERROR(MATCH(D356,Simulador!$H$16:$H$17,0))=FALSE,\"C\",IF(ISERROR(MATCH(D356,Simulador!$H$18:$H$19,0))=FALSE,\"D\",\"\"))","v":""},{"$f":"IF(E356=\"C\",0,IF(E356 =\"D\",ROUND(1/((1+Simulador!$S$13)^A356),9) * 2,ROUND(1/((1+Simulador!$S$13)^A356),9)))","v":5.5679999999999999E-6},{"$f":"G355+ROUND(F356,9)","v":28.680044383999981}]
[354,354,"2051-08-23",8,{"$f":"IF(ISERROR(MATCH(D357,Simulador!$H$16:$H$17,0))=FALSE,\"C\",IF(ISERROR(MATCH(D357,Simulador!$H$18:$H$19,0))=FALSE,\"D\",\"\"))","v":""},{"$f":"IF(E357=\"C\",0,IF(E357 =\"D\",ROUND(1/((1+Simulador!$S$13)^A357),9) * 2,ROUND(1/((1+Simulador!$S$13)^A357),9)))","v":5.3809999999999998E-6},28.680049764999982]
[355,355,"2051-09-23",9,{"$f":"IF(ISERROR(MATCH(D358,Simulador!$H$16:$H$17,0))=FALSE,\"C\",IF(ISERROR(MATCH(D358,Simulador!$H$18:$H$19,0))=FALSE,\"D\",\"\"))","v":""},{"$f":"IF(E358=\"C\",0,IF(E358 =\"D\",ROUND(1/((1+Simulador!$S$13)^A358),9) * 2,ROUND(1/((1+Simulador!$S$13)^A358),9)))","v":5.1989999999999997E-6},28.680054963999982]
[356,356,"2051-10-23",10,{"$f":"IF(ISERROR(MATCH(D359,Simulador!$H$16:$H$17,0))=FALSE,\"C\",IF(ISERROR(MATCH(D359,Simulador!$H$18:$H$19,0))=FALSE,\"D\",\"\"))","v":""},{"$f":"IF(E359=\"C\",0,IF(E359 =\"D\",ROUND(1/((1+Simulador!$S$13)^A359),9) * 2,ROUND(1/((1+Simulador!$S$13)^A359),9)))","v":5.0239999999999997E-6},28.680059987999982]
[357,357,"2051-11-23",11,{"$f":"IF(ISERROR(MATCH(D360,Simulador!$H$16:$H$17,0))=FALSE,\"C\",IF(ISERROR(MATCH(D360,Simulador!$H$18:$H$19,0))=FALSE,\"D\",\"\"))","v":""},{"$f":"IF(E360=\"C\",0,IF(E360 =\"D\",ROUND(1/((1+Simulador!$S$13)^A360),9) * 2,ROUND(1/((1+Simulador!$S$13)^A360),9)))","v":4.8550000000000001E-6},28.680064842999982]
[358,358,"2051-12-23",12,{"$f":"IF(ISERROR(MATCH(D361,Simulador!$H$16:$H$17,0))=FALSE,\"C\",IF(ISERROR(MATCH(D361,Simulador!$H$18:$H$19,0))=FALSE,\"D\",\"\"))","v":""},{"$f":"IF(E361=\"C\",0,IF(E361 =\"D\",ROUND(1/((1+Simulador!$S$13)^A361),9) * 2,ROUND(1/((1+Simulador!$S$13)^A361),9)))","v":4.6909999999999996E-6},28.680069533999983]
[359,359,"2052-01-23",1,{"$f":"IF(ISERROR(MATCH(D362,Simulador!$H$16:$H$17,0))=FALSE,\"C\",IF(ISERROR(MATCH(D362,Simulador!$H$18:$H$19,0))=FALSE,\"D\",\"\"))","v":""},{"$f":"IF(E362=\"C\",0,IF(E362 =\"D\",ROUND(1/((1+Simulador!$S$13)^A362),9) * 2,ROUND(1/((1+Simulador!$S$13)^A362),9)))","v":4.5329999999999996E-6},28.680074066999982]
[360,360,"2052-02-23",2,{"$f":"IF(ISERROR(MATCH(D363,Simulador!$H$16:$H$17,0))=FALSE,\"C\",IF(ISERROR(MATCH(D363,Simulador!$H$18:$H$19,0))=FALSE,\"D\",\"\"))","v":""},{"$f":"IF(E363=\"C\",0,IF(E363 =\"D\",ROUND(1/((1+Simulador!$S$13)^A363),9) * 2,ROUND(1/((1+Simulador!$S$13)^A363),9)))","v":4.3810000000000001E-6},28.680078447999982]
[361,361,"2052-03-23",3,{"$f":"IF(ISERROR(MATCH(D364,Simulador!$H$16:$H$17,0))=FALSE,\"C\",IF(ISERROR(MATCH(D364,Simulador!$H$18:$H$19,0))=FALSE,\"D\",\"\"))","v":""},{"$f":"IF(E364=\"C\",0,IF(E364 =\"D\",ROUND(1/((1+Simulador!$S$13)^A364),9) * 2,ROUND(1/((1+Simulador!$S$13)^A364),9)))","v":4.233E-6},28.68008268099998]
[362,362,"2052-04-23",4,{"$f":"IF(ISERROR(MATCH(D365,Simulador!$H$16:$H$17,0))=FALSE,\"C\",IF(ISERROR(MATCH(D365,Simulador!$H$18:$H$19,0))=FALSE,\"D\",\"\"))","v":""},{"$f":"IF(E365=\"C\",0,IF(E365 =\"D\",ROUND(1/((1+Simulador!$S$13)^A365),9) * 2,ROUND(1/((1+Simulador!$S$13)^A365),9)))","v":4.0899999999999998E-6},28.680086770999981]
[363,363,"2052-05-23",5,{"$f":"IF(ISERROR(MATCH(D366,Simulador!$H$16:$H$17,0))=FALSE,\"C\",IF(ISERROR(MATCH(D366,Simulador!$H$18:$H$19,0))=FALSE,\"D\",\"\"))","v":""},{"$f":"IF(E366=\"C\",0,IF(E366 =\"D\",ROUND(1/((1+Simulador!$S$13)^A366),9) * 2,ROUND(1/((1+Simulador!$S$13)^A366),9)))","v":3.9530000000000001E-6},28.680090723999982]
[364,364,"2052-06-23",6,{"$f":"IF(ISERROR(MATCH(D367,Simulador!$H$16:$H$17,0))=FALSE,\"C\",IF(ISERROR(MATCH(D367,Simulador!$H$18:$H$19,0))=FALSE,\"D\",\"\"))","v":""},{"$f":"IF(E367=\"C\",0,IF(E367 =\"D\",ROUND(1/((1+Simulador!$S$13)^A367),9) * 2,ROUND(1/((1+Simulador!$S$13)^A367),9)))","v":3.8190000000000002E-6},28.680094542999981]
[365,365,"2052-07-23",7,{"$f":"IF(ISERROR(MATCH(D368,Simulador!$H$16:$H$17,0))=FALSE,\"C\",IF(ISERROR(MATCH(D368,Simulador!$H$18:$H$19,0))=FALSE,\"D\",\"\"))","v":""},{"$f":"IF(E368=\"C\",0,IF(E368 =\"D\",ROUND(1/((1+Simulador!$S$13)^A368),9) * 2,ROUND(1/((1+Simulador!$S$13)^A368),9)))","v":3.6909999999999999E-6},28.680098233999981]
[366,366,"2052-08-23",8,{"$f":"IF(ISERROR(MATCH(D369,Simulador!$H$16:$H$17,0))=FALSE,\"C\",IF(ISERROR(MATCH(D369,Simulador!$H$18:$H$19,0))=FALSE,\"D\",\"\"))","v":""},{"$f":"IF(E369=\"C\",0,IF(E369 =\"D\",ROUND(1/((1+Simulador!$S$13)^A369),9) * 2,ROUND(1/((1+Simulador!$S$13)^A369),9)))","v":3.5659999999999998E-6},28.680101799999981]
[367,367,"2052-09-23",9,{"$f":"IF(ISERROR(MATCH(D370,Simulador!$H$16:$H$17,0))=FALSE,\"C\",IF(ISERROR(MATCH(D370,Simulador!$H$18:$H$19,0))=FALSE,\"D\",\"\"))","v":""},{"$f":"IF(E370=\"C\",0,IF(E370 =\"D\",ROUND(1/((1+Simulador!$S$13)^A370),9) * 2,ROUND(1/((1+Simulador!$S$13)^A370),9)))","v":3.4460000000000001E-6},28.680105245999982]
[368,368,"2052-10-23",10,{"$f":"IF(ISERROR(MATCH(D371,Simulador!$H$16:$H$17,0))=FALSE,\"C\",IF(ISERROR(MATCH(D371,Simulador!$H$18:$H$19,0))=FALSE,\"D\",\"\"))","v":""},{"$f":"IF(E371=\"C\",0,IF(E371 =\"D\",ROUND(1/((1+Simulador!$S$13)^A371),9) * 2,ROUND(1/((1+Simulador!$S$13)^A371),9)))","v":3.3299999999999999E-6},28.680108575999981]
[369,369,"2052-11-23",11,{"$f":"IF(ISERROR(MATCH(D372,Simulador!$H$16:$H$17,0))=FALSE,\"C\",IF(ISERROR(MATCH(D372,Simulador!$H$18:$H$19,0))=FALSE,\"D\",\"\"))","v":""},{"$f":"IF(E372=\"C\",0,IF(E372 =\"D\",ROUND(1/((1+Simulador!$S$13)^A372),9) * 2,ROUND(1/((1+Simulador!$S$13)^A372),9)))","v":3.2179999999999999E-6},28.680111793999981]
[370,370,"2052-12-23",12,{"$f":"IF(ISERROR(MATCH(D373,Simulador!$H$16:$H$17,0))=FALSE,\"C\",IF(ISERROR(MATCH(D373,Simulador!$H$18:$H$19,0))=FALSE,\"D\",\"\"))","v":""},{"$f":"IF(E373=\"C\",0,IF(E373 =\"D\",ROUND(1/((1+Simulador!$S$13)^A373),9) * 2,ROUND(1/((1+Simulador!$S$13)^A373),9)))","v":3.1089999999999998E-6},28.680114902999982]
[371,371,"2053-01-23",1,{"$f":"IF(ISERROR(MATCH(D374,Simulador!$H$16:$H$17,0))=FALSE,\"C\",IF(ISERROR(MATCH(D374,Simulador!$H$18:$H$19,0))=FALSE,\"D\",\"\"))","v":""},{"$f":"IF(E374=\"C\",0,IF(E374 =\"D\",ROUND(1/((1+Simulador!$S$13)^A374),9) * 2,ROUND(1/((1+Simulador!$S$13)^A374),9)))","v":3.005E-6},28.680117907999982]
[372,372,"2053-02-23",2,{"$f":"IF(ISERROR(MATCH(D375,Simulador!$H$16:$H$17,0))=FALSE,\"C\",IF(ISERROR(MATCH(D375,Simulador!$H$18:$H$19,0))=FALSE,\"D\",\"\"))","v":""},{"$f":"IF(E375=\"C\",0,IF(E375 =\"D\",ROUND(1/((1+Simulador!$S$13)^A375),9) * 2,ROUND(1/((1+Simulador!$S$13)^A375),9)))","v":2.903E-6},28.680120810999981]
[373,373,"2053-03-23",3,{"$f":"IF(ISERROR(MATCH(D376,Simulador!$H$16:$H$17,0))=FALSE,\"C\",IF(ISERROR(MATCH(D376,Simulador!$H$18:$H$19,0))=FALSE,\"D\",\"\"))","v":""},{"$f":"IF(E376=\"C\",0,IF(E376 =\"D\",ROUND(1/((1+Simulador!$S$13)^A376),9) * 2,ROUND(1/((1+Simulador!$S$13)^A376),9)))","v":2.8059999999999999E-6},28.680123616999982]
[374,374,"2053-04-23",4,{"$f":"IF(ISERROR(MATCH(D377,Simulador!$H$16:$H$17,0))=FALSE,\"C\",IF(ISERROR(MATCH(D377,Simulador!$H$18:$H$19,0))=FALSE,\"D\",\"\"))","v":""},{"$f":"IF(E377=\"C\",0,IF(E377 =\"D\",ROUND(1/((1+Simulador!$S$13)^A377),9) * 2,ROUND(1/((1+Simulador!$S$13)^A377),9)))","v":2.711E-6},28.680126327999982]
[375,375,"2053-05-23",5,{"$f":"IF(ISERROR(MATCH(D378,Simulador!$H$16:$H$17,0))=FALSE,\"C\",IF(ISERROR(MATCH(D378,Simulador!$H$18:$H$19,0))=FALSE,\"D\",\"\"))","v":""},{"$f":"IF(E378=\"C\",0,IF(E378 =\"D\",ROUND(1/((1+Simulador!$S$13)^A378),9) * 2,ROUND(1/((1+Simulador!$S$13)^A378),9)))","v":2.6199999999999999E-6},28.680128947999982]
[376,376,"2053-06-23",6,{"$f":"IF(ISERROR(MATCH(D379,Simulador!$H$16:$H$17,0))=FALSE,\"C\",IF(ISERROR(MATCH(D379,Simulador!$H$18:$H$19,0))=FALSE,\"D\",\"\"))","v":""},{"$f":"IF(E379=\"C\",0,IF(E379 =\"D\",ROUND(1/((1+Simulador!$S$13)^A379),9) * 2,ROUND(1/((1+Simulador!$S$13)^A379),9)))","v":2.531E-6},28.680131478999982]
[377,377,"2053-07-23",7,{"$f":"IF(ISERROR(MATCH(D380,Simulador!$H$16:$H$17,0))=FALSE,\"C\",IF(ISERROR(MATCH(D380,Simulador!$H$18:$H$19,0))=FALSE,\"D\",\"\"))","v":""},{"$f":"IF(E380=\"C\",0,IF(E380 =\"D\",ROUND(1/((1+Simulador!$S$13)^A380),9) * 2,ROUND(1/((1+Simulador!$S$13)^A380),9)))","v":2.446E-6},28.680133924999982]
[378,378,"2053-08-23",8,{"$f":"IF(ISERROR(MATCH(D381,Simulador!$H$16:$H$17,0))=FALSE,\"C\",IF(ISERROR(MATCH(D381,Simulador!$H$18:$H$19,0))=FALSE,\"D\",\"\"))","v":""},{"$f":"IF(E381=\"C\",0,IF(E381 =\"D\",ROUND(1/((1+Simulador!$S$13)^A381),9) * 2,ROUND(1/((1+Simulador!$S$13)^A381),9)))","v":2.3640000000000002E-6},28.680136288999982]
[379,379,"2053-09-23",9,{"$f":"IF(ISERROR(MATCH(D382,Simulador!$H$16:$H$17,0))=FALSE,\"C\",IF(ISERROR(MATCH(D382,Simulador!$H$18:$H$19,0))=FALSE,\"D\",\"\"))","v":""},{"$f":"IF(E382=\"C\",0,IF(E382 =\"D\",ROUND(1/((1+Simulador!$S$13)^A382),9) * 2,ROUND(1/((1+Simulador!$S$13)^A382),9)))","v":2.2840000000000001E-6},28.680138572999983]
[380,380,"2053-10-23",10,{"$f":"IF(ISERROR(MATCH(D383,Simulador!$H$16:$H$17,0))=FALSE,\"C\",IF(ISERROR(MATCH(D383,Simulador!$H$18:$H$19,0))=FALSE,\"D\",\"\"))","v":""},{"$f":"IF(E383=\"C\",0,IF(E383 =\"D\",ROUND(1/((1+Simulador!$S$13)^A383),9) * 2,ROUND(1/((1+Simulador!$S$13)^A383),9)))","v":2.2069999999999998E-6},28.680140779999984]
[381,381,"2053-11-23",11,{"$f":"IF(ISERROR(MATCH(D384,Simulador!$H$16:$H$17,0))=FALSE,\"C\",IF(ISERROR(MATCH(D384,Simulador!$H$18:$H$19,0))=FALSE,\"D\",\"\"))","v":""},{"$f":"IF(E384=\"C\",0,IF(E384 =\"D\",ROUND(1/((1+Simulador!$S$13)^A384),9) * 2,ROUND(1/((1+Simulador!$S$13)^A384),9)))","v":2.1330000000000002E-6},28.680142912999983]
[382,382,"2053-12-23",12,{"$f":"IF(ISERROR(MATCH(D385,Simulador!$H$16:$H$17,0))=FALSE,\"C\",IF(ISERROR(MATCH(D385,Simulador!$H$18:$H$19,0))=FALSE,\"D\",\"\"))","v":""},{"$f":"IF(E385=\"C\",0,IF(E385 =\"D\",ROUND(1/((1+Simulador!$S$13)^A385),9) * 2,ROUND(1/((1+Simulador!$S$13)^A385),9)))","v":2.0609999999999998E-6},28.680144973999983]
[383,383,"2054-01-23",1,{"$f":"IF(ISERROR(MATCH(D386,Simulador!$H$16:$H$17,0))=FALSE,\"C\",IF(ISERROR(MATCH(D386,Simulador!$H$18:$H$19,0))=FALSE,\"D\",\"\"))","v":""},{"$f":"IF(E386=\"C\",0,IF(E386 =\"D\",ROUND(1/((1+Simulador!$S$13)^A386),9) * 2,ROUND(1/((1+Simulador!$S$13)^A386),9)))","v":1.9920000000000002E-6},28.680146965999985]

{"sheet":"Hoja1","index":2,"n_rows":19,"n_cols":13,"rows_kept":19,"cut":false,"hidden":false,"merged":[[15,0,15,1],[16,0,16,1],[2,2,3,3],[18,0,18,3]]}
[]
[]
[null,null,"SIMULADOR PRÉSTAMO PERSONAL\nSIN GARANTÍA",null,null,null,"Soles"]
[null,null,null,null,null,null,"Dólares"]
[]
[null,null,null,null,null,null,"No"]
[null,"Moneda","Soles",null,null,null,"Julio"]
[null,"Monto del Préstamo",4000,null,null,null,"Diciembre"]
[null,"Fecha de Desembolso","2021-11-25",null,null,null,null,null,null,null,null,null,0]
[null,"Plazo",48,null,null,null,"Banco",null,null,null,null,null,30]
[null,"TEA",50,null,null,null,"Endoso",null,null,null,null,null,60]
[null,"Días de Gracia",90,null,null,null,null,null,null,null,null,null,90]
[null,"Seguro Desgravamen","Banco"]
[null,"Cuota Doble 1","No"]
[null,"Cuota Doble 2","No"]
[]
[]
[]
["•  \tLa cotización obtenida no representa la aprobación del crédito, la cual está sujeta a la evaluación crediticia que debe realizar el Banco.\n•  \tEste simulador es referencial en base a la información ingresada.\n•  \tEsta simulación no incluye ITF (Impuesto a las Transacciones Financieras). Consulte el tarifario del producto antes de realizar la simulación.\n•  \tEl seguro de desgravamen se calcula sobre el monto principal del crédito. El costo del seguro es el cobrado por la aseguradora, de acuerdo con las condiciones establecidas por esta.\n•  \tEl cliente puede optar por contratar el/los seguros(s) incluido(s) en la simulación directamente o a través de un corredor de seguros, en tanto posea(n) las mismas condiciones que el/los comercializado(s) por el Banco y cubra(n) al 100% el importe de capital adeudado.\n•  \tEn el caso de incumplimiento en los pagos, se aplicará la tasa de interés moratorio anual establecido. Mayor información visite \"Tasas y Tarifas\" y/o \"Formulas y Ejemplos\", publicados en nuestra web\n•  \tEn caso el cliente decida endosar el seguro de desgravamen, se precisa que la póliza endosada deberá ser presentada mediante una solicitud que cumpla con los requisitos y procedimientos establecidos por el Banco, a través de la página web u otro canal que éste ponga a disposición del cliente y el Banco responderá a dicha solicitud dentro del plazo de 20 días calendario posteriores a la presentación de dicha solicitud\n•\t  Esta información se proporciona de acuerdo con el Reglamento de Gestión de Conducta de Mercado del Sistema Financiero."]

{"sheet":"Hoja1 (2)","index":3,"n_rows":93,"n_cols":9,"rows_kept":93,"cut":false,"hidden":false,"merged":[[13,1,13,2],[13,5,13,6],[4,1,4,7],[5,1,5,7],[8,1,8,2],[9,1,9,2],[10,1,10,2],[11,1,11,2],[12,1,12,2],[8,5,8,6],[9,5,9,6],[10,5,10,6],[11,5,11,6],[12,5,12,6]]}
[]
[]
[]
[]
[null,"(SIMULACIÓN)"]
[null,"CRONOGRAMA DE PAGOS"]
[]
[]
[null,"Moneda                                                  :",null,{"$f":"+Hoja1!C7","v":"Soles"},null,"Monto del Préstamo                                                    :",null,{"$f":"+Hoja1!C8","v":4000}]
[null,"Producto                                                :",null,"Préstamo Personal Sin Garantía",null,"Tasa Efectiva Anual                                                      :",null,{"$f":"+Hoja1!C11&\"%\"","v":"50%"}]
[null,"Fecha de desembolso                          :",null,{"$f":"+Hoja1!C9","v":"2021-11-25"},null,"Plazo (en meses)                                                          :",null,{"$f":"+Hoja1!C10","v":48}]
[null,"Mes de Cuota Doble 1                          :",null,{"$f":"+Hoja1!C14","v":"No"},null,"Tasa de Costo Efectiva Anual                                     :",null,{"$f":"+((1+I12)^12)-1","v":0.54631786466514898},{"$f":"+RATE(H11,H18,-H9-I13)","v":3.6990786523445812E-2}]
[null,"Mes de Cuota Doble 2                          :",null,{"$f":"+Hoja1!C15","v":"No"},null,"Tasa Seguro de Desgravamen Mensual                   :",null,{"$f":"+IF(Hoja1!C13=\"Endoso\",0,0.18%)","v":1.8E-3},{"$f":"+Simulador!S16","v":426.72770000000003}]
[null,"Periodo de gracia                                 :",null,{"$f":"+Hoja1!C12&\" \"& \"días\"","v":"90 días"}]
[]
[]
[null,"N°","Fecha Vencimiento","Capital","Interes","Interes de Gracia","Seguro Desgravamen","Total Cuota"]
[null,1,{"$f":"IFERROR(+IF(B18>0,VLOOKUP(B18,Simulador!$A$32:$T$550,3,0),\" \"),\" \")","v":"2022-03-23"},{"$f":"IFERROR(+IF(B18>0,VLOOKUP(B18,Simulador!$A$32:$T$550,13,0),\" \"),\" \")","v":23.069999999999986},{"$f":"IFERROR(+IF(B18>0,VLOOKUP(B18,Simulador!$A$32:$T$550,14,0),\" \"),\" \")","v":128.15},{"$f":"IFERROR(+IF(B18>0,VLOOKUP(B18,Simulador!$A$32:$T$550,15,0),\" \"),\" \")","v":18.440000000000001},{"$f":"IFERROR(+IF(B18>0,VLOOKUP(B18,Simulador!$A$32:$T$550,19,0),\" \"),\" \")","v":28.8},{"$f":"IFERROR(+IF(B18>0,VLOOKUP(B18,Simulador!$A$32:$T$550,20,0),\" \"),\" \")","v":198.46}]
[null,{"$f":"IF(B18=0,\" \",IF(B18>=$H$11,\"\",B18+1))","v":2},{"$f":"IF($H$11=0,\" \",IF(B18=$H$11,\"TOTALES\",+IF(B19>0,VLOOKUP(B19,Simulador!$A$32:$T$550,3,0),\" \")))","v":"2022-04-23"},{"$f":"IF($H$11=0,\" \",IF(B18=$H$11,Simulador!$M$30,+IF(B19>0,VLOOKUP(B19,Simulador!$A$32:$T$550,13,0),\" \")))","v":31.509999999999991},{"$f":"IF($H$11=0,\" \",IF(B18=$H$11,Simulador!$N$30,+IF(B19>0,VLOOKUP(B19,Simulador!$A$32:$T$550,14,0),\" \")))","v":141.31},{"$f":"IF($H$11=0,\" \",IF(B18=$H$11,Simulador!$O$30,+IF(B19>0,VLOOKUP(B19,Simulador!$A$32:$T$550,15,0),\" \")))","v":18.440000000000001},{"$f":"IF($H$11=0,\" \",IF(B18=$H$11,Simulador!$S$30,+IF(B19>0,VLOOKUP(B19,Simulador!$A$32:$T$550,19,0),\" \")))","v":7.2},{"$f":"IF($H$11=0,\" \",IF(B18=$H$11,Simulador!$T$30,+IF(B19>0,VLOOKUP(B19,Simulador!$A$32:$T$550,20,0),\" \")))","v":198.45999999999998}]
[null,{"$f":"IF(B19=0,\" \",IF(B19>=$H$11,\"\",B19+1))","v":3},{"$f":"IF($H$11=0,\" \",IF(B19=$H$11,\"TOTALES\",+IF(B20>0,VLOOKUP(B20,Simulador!$A$32:$T$550,3,0),\" \")))","v":"2022-05-23"},{"$f":"IF($H$11=0,\" \",IF(B19=$H$11,Simulador!$M$30,+IF(B20>0,VLOOKUP(B20,Simulador!$A$32:$T$550,13,0),\" \")))","v":37.22999999999999},{"$f":"IF($H$11=0,\" \",IF(B19=$H$11,Simulador!$N$30,+IF(B20>0,VLOOKUP(B20,Simulador!$A$32:$T$550,14,0),\" \")))","v":135.59},{"$f":"IF($H$11=0,\" \",IF(B19=$H$11,Simulador!$O$30,+IF(B20>0,VLOOKUP(B20,Simulador!$A$32:$T$550,15,0),\" \")))","v":18.440000000000001},{"$f":"IF($H$11=0,\" \",IF(B19=$H$11,Simulador!$S$30,+IF(B20>0,VLOOKUP(B20,Simulador!$A$32:$T$550,19,0),\" \")))","v":7.2},{"$f":"IF($H$11=0,\" \",IF(B19=$H$11,Simulador!$T$30,+IF(B20>0,VLOOKUP(B20,Simulador!$A$32:$T$550,20,0),\" \")))","v":198.45999999999998}]
[null,4,{"$f":"IF($H$11=0,\" \",IF(B20=$H$11,\"TOTALES\",+IF(B21>0,VLOOKUP(B21,Simulador!$A$32:$T$550,3,0),\" \")))","v":"2022-06-23"},{"$f":"IF($H$11=0,\" \",IF(B20=$H$11,Simulador!$M$30,+IF(B21>0,VLOOKUP(B21,Simulador!$A$32:$T$550,13,0),\" \")))","v":33.95999999999998},{"$f":"IF($H$11=0,\" \",IF(B20=$H$11,Simulador!$N$30,+IF(B21>0,VLOOKUP(B21,Simulador!$A$32:$T$550,14,0),\" \")))","v":138.86000000000001},{"$f":"IF($H$11=0,\" \",IF(B20=$H$11,Simulador!$O$30,+IF(B21>0,VLOOKUP(B21,Simulador!$A$32:$T$550,15,0),\" \")))","v":18.440000000000001},{"$f":"IF($H$11=0,\" \",IF(B20=$H$11,Simulador!$S$30,+IF(B21>0,VLOOKUP(B21,Simulador!$A$32:$T$550,19,0),\" \")))","v":7.2},{"$f":"IF($H$11=0,\" \",IF(B20=$H$11,Simulador!$T$30,+IF(B21>0,VLOOKUP(B21,Simulador!$A$32:$T$550,20,0),\" \")))","v":198.45999999999998}]
[null,5,{"$f":"IF($H$11=0,\" \",IF(B21=$H$11,\"TOTALES\",+IF(B22>0,VLOOKUP(B22,Simulador!$A$32:$T$550,3,0),\" \")))","v":"2022-07-23"},{"$f":"IF($H$11=0,\" \",IF(B21=$H$11,Simulador!$M$30,+IF(B22>0,VLOOKUP(B22,Simulador!$A$32:$T$550,13,0),\" \")))","v":39.680000000000007},{"$f":"IF($H$11=0,\" \",IF(B21=$H$11,Simulador!$N$30,+IF(B22>0,VLOOKUP(B22,Simulador!$A$32:$T$550,14,0),\" \")))","v":133.13999999999999},{"$f":"IF($H$11=0,\" \",IF(B21=$H$11,Simulador!$O$30,+IF(B22>0,VLOOKUP(B22,Simulador!$A$32:$T$550,15,0),\" \")))","v":18.440000000000001},{"$f":"IF($H$11=0,\" \",IF(B21=$H$11,Simulador!$S$30,+IF(B22>0,VLOOKUP(B22,Simulador!$A$32:$T$550,19,0),\" \")))","v":7.2},{"$f":"IF($H$11=0,\" \",IF(B21=$H$11,Simulador!$T$30,+IF(B22>0,VLOOKUP(B22,Simulador!$A$32:$T$550,20,0),\" \")))","v":198.45999999999998}]
[null,6,{"$f":"IF($H$11=0,\" \",IF(B22=$H$11,\"TOTALES\",+IF(B23>0,VLOOKUP(B23,Simulador!$A$32:$T$550,3,0),\" \")))","v":"2022-08-23"},{"$f":"IF($H$11=0,\" \",IF(B22=$H$11,Simulador!$M$30,+IF(B23>0,VLOOKUP(B23,Simulador!$A$32:$T$550,13,0),\" \")))","v":36.569999999999993},{"$f":"IF($H$11=0,\" \",IF(B22=$H$11,Simulador!$N$30,+IF(B23>0,VLOOKUP(B23,Simulador!$A$32:$T$550,14,0),\" \")))","v":136.25},{"$f":"IF($H$11=0,\" \",IF(B22=$H$11,Simulador!$O$30,+IF(B23>0,VLOOKUP(B23,Simulador!$A$32:$T$550,15,0),\" \")))","v":18.440000000000001},{"$f":"IF($H$11=0,\" \",IF(B22=$H$11,Simulador!$S$30,+IF(B23>0,VLOOKUP(B23,Simulador!$A$32:$T$550,19,0),\" \")))","v":7.2},{"$f":"IF($H$11=0,\" \",IF(B22=$H$11,Simulador!$T$30,+IF(B23>0,VLOOKUP(B23,Simulador!$A$32:$T$550,20,0),\" \")))","v":198.45999999999998}]
[null,7,{"$f":"IF($H$11=0,\" \",IF(B23=$H$11,\"TOTALES\",+IF(B24>0,VLOOKUP(B24,Simulador!$A$32:$T$550,3,0),\" \")))","v":"2022-09-23"},{"$f":"IF($H$11=0,\" \",IF(B23=$H$11,Simulador!$M$30,+IF(B24>0,VLOOKUP(B24,Simulador!$A$32:$T$550,13,0),\" \")))","v":37.870000000000005},{"$f":"IF($H$11=0,\" \",IF(B23=$H$11,Simulador!$N$30,+IF(B24>0,VLOOKUP(B24,Simulador!$A$32:$T$550,14,0),\" \")))","v":134.94999999999999},{"$f":"IF($H$11=0,\" \",IF(B23=$H$11,Simulador!$O$30,+IF(B24>0,VLOOKUP(B24,Simulador!$A$32:$T$550,15,0),\" \")))","v":18.440000000000001},{"$f":"IF($H$11=0,\" \",IF(B23=$H$11,Simulador!$S$30,+IF(B24>0,VLOOKUP(B24,Simulador!$A$32:$T$550,19,0),\" \")))","v":7.2},{"$f":"IF($H$11=0,\" \",IF(B23=$H$11,Simulador!$T$30,+IF(B24>0,VLOOKUP(B24,Simulador!$A$32:$T$550,20,0),\" \")))","v":198.45999999999998}]
[null,8,{"$f":"IF($H$11=0,\" \",IF(B24=$H$11,\"TOTALES\",+IF(B25>0,VLOOKUP(B25,Simulador!$A$32:$T$550,3,0),\" \")))","v":"2022-10-23"},{"$f":"IF($H$11=0,\" \",IF(B24=$H$11,Simulador!$M$30,+IF(B25>0,VLOOKUP(B25,Simulador!$A$32:$T$550,13,0),\" \")))","v":43.599999999999994},{"$f":"IF($H$11=0,\" \",IF(B24=$H$11,Simulador!$N$30,+IF(B25>0,VLOOKUP(B25,Simulador!$A$32:$T$550,14,0),\" \")))","v":129.22},{"$f":"IF($H$11=0,\" \",IF(B24=$H$11,Simulador!$O$30,+IF(B25>0,VLOOKUP(B25,Simulador!$A$32:$T$550,15,0),\" \")))","v":18.440000000000001},{"$f":"IF($H$11=0,\" \",IF(B24=$H$11,Simulador!$S$30,+IF(B25>0,VLOOKUP(B25,Simulador!$A$32:$T$550,19,0),\" \")))","v":7.2},{"$f":"IF($H$11=0,\" \",IF(B24=$H$11,Simulador!$T$30,+IF(B25>0,VLOOKUP(B25,Simulador!$A$32:$T$550,20,0),\" \")))","v":198.45999999999998}]
[null,9,{"$f":"IF($H$11=0,\" \",IF(B25=$H$11,\"TOTALES\",+IF(B26>0,VLOOKUP(B26,Simulador!$A$32:$T$550,3,0),\" \")))","v":"2022-11-23"},{"$f":"IF($H$11=0,\" \",IF(B25=$H$11,Simulador!$M$30,+IF(B26>0,VLOOKUP(B26,Simulador!$A$32:$T$550,13,0),\" \")))","v":40.769999999999982},{"$f":"IF($H$11=0,\" \",IF(B25=$H$11,Simulador!$N$30,+IF(B26>0,VLOOKUP(B26,Simulador!$A$32:$T$550,14,0),\" \")))","v":132.05000000000001},{"$f":"IF($H$11=0,\" \",IF(B25=$H$11,Simulador!$O$30,+IF(B26>0,VLOOKUP(B26,Simulador!$A$32:$T$550,15,0),\" \")))","v":18.440000000000001},{"$f":"IF($H$11=0,\" \",IF(B25=$H$11,Simulador!$S$30,+IF(B26>0,VLOOKUP(B26,Simulador!$A$32:$T$550,19,0),\" \")))","v":7.2},{"$f":"IF($H$11=0,\" \",IF(B25=$H$11,Simulador!$T$30,+IF(B26>0,VLOOKUP(B26,Simulador!$A$32:$T$550,20,0),\" \")))","v":198.45999999999998}]
[null,10,{"$f":"IF($H$11=0,\" \",IF(B26=$H$11,\"TOTALES\",+IF(B27>0,VLOOKUP(B27,Simulador!$A$32:$T$550,3,0),\" \")))","v":"2022-12-23"},{"$f":"IF($H$11=0,\" \",IF(B26=$H$11,Simulador!$M$30,+IF(B27>0,VLOOKUP(B27,Simulador!$A$32:$T$550,13,0),\" \")))","v":46.5},{"$f":"IF($H$11=0,\" \",IF(B26=$H$11,Simulador!$N$30,+IF(B27>0,VLOOKUP(B27,Simulador!$A$32:$T$550,14,0),\" \")))","v":126.32},{"$f":"IF($H$11=0,\" \",IF(B26=$H$11,Simulador!$O$30,+IF(B27>0,VLOOKUP(B27,Simulador!$A$32:$T$550,15,0),\" \")))","v":18.440000000000001},{"$f":"IF($H$11=0,\" \",IF(B26=$H$11,Simulador!$S$30,+IF(B27>0,VLOOKUP(B27,Simulador!$A$32:$T$550,19,0),\" \")))","v":7.2},{"$f":"IF($H$11=0,\" \",IF(B26=$H$11,Simulador!$T$30,+IF(B27>0,VLOOKUP(B27,Simulador!$A$32:$T$550,20,0),\" \")))","v":198.45999999999998}]
[null,11,{"$f":"IF($H$11=0,\" \",IF(B27=$H$11,\"TOTALES\",+IF(B28>0,VLOOKUP(B28,Simulador!$A$32:$T$550,3,0),\" \")))","v":"2023-01-23"},{"$f":"IF($H$11=0,\" \",IF(B27=$H$11,Simulador!$M$30,+IF(B28>0,VLOOKUP(B28,Simulador!$A$32:$T$550,13,0),\" \")))","v":43.870000000000005},{"$f":"IF($H$11=0,\" \",IF(B27=$H$11,Simulador!$N$30,+IF(B28>0,VLOOKUP(B28,Simulador!$A$32:$T$550,14,0),\" \")))","v":128.94999999999999},{"$f":"IF($H$11=0,\" \",IF(B27=$H$11,Simulador!$O$30,+IF(B28>0,VLOOKUP(B28,Simulador!$A$32:$T$550,15,0),\" \")))","v":18.440000000000001},{"$f":"IF($H$11=0,\" \",IF(B27=$H$11,Simulador!$S$30,+IF(B28>0,VLOOKUP(B28,Simulador!$A$32:$T$550,19,0),\" \")))","v":7.2},{"$f":"IF($H$11=0,\" \",IF(B27=$H$11,Simulador!$T$30,+IF(B28>0,VLOOKUP(B28,Simulador!$A$32:$T$550,20,0),\" \")))","v":198.45999999999998}]
[null,12,{"$f":"IF($H$11=0,\" \",IF(B28=$H$11,\"TOTALES\",+IF(B29>0,VLOOKUP(B29,Simulador!$A$32:$T$550,3,0),\" \")))","v":"2023-02-23"},{"$f":"IF($H$11=0,\" \",IF(B28=$H$11,Simulador!$M$30,+IF(B29>0,VLOOKUP(B29,Simulador!$A$32:$T$550,13,0),\" \")))","v":45.429999999999993},{"$f":"IF($H$11=0,\" \",IF(B28=$H$11,Simulador!$N$30,+IF(B29>0,VLOOKUP(B29,Simulador!$A$32:$T$550,14,0),\" \")))","v":127.39},{"$f":"IF($H$11=0,\" \",IF(B28=$H$11,Simulador!$O$30,+IF(B29>0,VLOOKUP(B29,Simulador!$A$32:$T$550,15,0),\" \")))","v":18.440000000000001},{"$f":"IF($H$11=0,\" \",IF(B28=$H$11,Simulador!$S$30,+IF(B29>0,VLOOKUP(B29,Simulador!$A$32:$T$550,19,0),\" \")))","v":7.2},{"$f":"IF($H$11=0,\" \",IF(B28=$H$11,Simulador!$T$30,+IF(B29>0,VLOOKUP(B29,Simulador!$A$32:$T$550,20,0),\" \")))","v":198.45999999999998}]
[null,13,{"$f":"IF($H$11=0,\" \",IF(B29=$H$11,\"TOTALES\",+IF(B30>0,VLOOKUP(B30,Simulador!$A$32:$T$550,3,0),\" \")))","v":"2023-03-23"},{"$f":"IF($H$11=0,\" \",IF(B29=$H$11,Simulador!$M$30,+IF(B30>0,VLOOKUP(B30,Simulador!$A$32:$T$550,13,0),\" \")))","v":59.399999999999991},{"$f":"IF($H$11=0,\" \",IF(B29=$H$11,Simulador!$N$30,+IF(B30>0,VLOOKUP(B30,Simulador!$A$32:$T$550,14,0),\" \")))","v":113.42},{"$f":"IF($H$11=0,\" \",IF(B29=$H$11,Simulador!$O$30,+IF(B30>0,VLOOKUP(B30,Simulador!$A$32:$T$550,15,0),\" \")))","v":18.440000000000001},{"$f":"IF($H$11=0,\" \",IF(B29=$H$11,Simulador!$S$30,+IF(B30>0,VLOOKUP(B30,Simulador!$A$32:$T$550,19,0),\" \")))","v":7.2},{"$f":"IF($H$11=0,\" \",IF(B29=$H$11,Simulador!$T$30,+IF(B30>0,VLOOKUP(B30,Simulador!$A$32:$T$550,20,0),\" \")))","v":198.45999999999998}]
[null,14,{"$f":"IF($H$11=0,\" \",IF(B30=$H$11,\"TOTALES\",+IF(B31>0,VLOOKUP(B31,Simulador!$A$32:$T$550,3,0),\" \")))","v":"2023-04-23"},{"$f":"IF($H$11=0,\" \",IF(B30=$H$11,Simulador!$M$30,+IF(B31>0,VLOOKUP(B31,Simulador!$A$32:$T$550,13,0),\" \")))","v":49.149999999999991},{"$f":"IF($H$11=0,\" \",IF(B30=$H$11,Simulador!$N$30,+IF(B31>0,VLOOKUP(B31,Simulador!$A$32:$T$550,14,0),\" \")))","v":123.67},{"$f":"IF($H$11=0,\" \",IF(B30=$H$11,Simulador!$O$30,+IF(B31>0,VLOOKUP(B31,Simulador!$A$32:$T$550,15,0),\" \")))","v":18.440000000000001},{"$f":"IF($H$11=0,\" \",IF(B30=$H$11,Simulador!$S$30,+IF(B31>0,VLOOKUP(B31,Simulador!$A$32:$T$550,19,0),\" \")))","v":7.2},{"$f":"IF($H$11=0,\" \",IF(B30=$H$11,Simulador!$T$30,+IF(B31>0,VLOOKUP(B31,Simulador!$A$32:$T$550,20,0),\" \")))","v":198.45999999999998}]
[null,15,{"$f":"IF($H$11=0,\" \",IF(B31=$H$11,\"TOTALES\",+IF(B32>0,VLOOKUP(B32,Simulador!$A$32:$T$550,3,0),\" \")))","v":"2023-05-23"},{"$f":"IF($H$11=0,\" \",IF(B31=$H$11,Simulador!$M$30,+IF(B32>0,VLOOKUP(B32,Simulador!$A$32:$T$550,13,0),\" \")))","v":54.899999999999991},{"$f":"IF($H$11=0,\" \",IF(B31=$H$11,Simulador!$N$30,+IF(B32>0,VLOOKUP(B32,Simulador!$A$32:$T$550,14,0),\" \")))","v":117.92},{"$f":"IF($H$11=0,\" \",IF(B31=$H$11,Simulador!$O$30,+IF(B32>0,VLOOKUP(B32,Simulador!$A$32:$T$550,15,0),\" \")))","v":18.440000000000001},{"$f":"IF($H$11=0,\" \",IF(B31=$H$11,Simulador!$S$30,+IF(B32>0,VLOOKUP(B32,Simulador!$A$32:$T$550,19,0),\" \")))","v":7.2},{"$f":"IF($H$11=0,\" \",IF(B31=$H$11,Simulador!$T$30,+IF(B32>0,VLOOKUP(B32,Simulador!$A$32:$T$550,20,0),\" \")))","v":198.45999999999998}]
[null,16,{"$f":"IF($H$11=0,\" \",IF(B32=$H$11,\"TOTALES\",+IF(B33>0,VLOOKUP(B33,Simulador!$A$32:$T$550,3,0),\" \")))","v":"2023-06-23"},{"$f":"IF($H$11=0,\" \",IF(B32=$H$11,Simulador!$M$30,+IF(B33>0,VLOOKUP(B33,Simulador!$A$32:$T$550,13,0),\" \")))","v":52.849999999999994},{"$f":"IF($H$11=0,\" \",IF(B32=$H$11,Simulador!$N$30,+IF(B33>0,VLOOKUP(B33,Simulador!$A$32:$T$550,14,0),\" \")))","v":119.97},{"$f":"IF($H$11=0,\" \",IF(B32=$H$11,Simulador!$O$30,+IF(B33>0,VLOOKUP(B33,Simulador!$A$32:$T$550,15,0),\" \")))","v":18.440000000000001},{"$f":"IF($H$11=0,\" \",IF(B32=$H$11,Simulador!$S$30,+IF(B33>0,VLOOKUP(B33,Simulador!$A$32:$T$550,19,0),\" \")))","v":7.2},{"$f":"IF($H$11=0,\" \",IF(B32=$H$11,Simulador!$T$30,+IF(B33>0,VLOOKUP(B33,Simulador!$A$32:$T$550,20,0),\" \")))","v":198.45999999999998}]
[null,17,{"$f":"IF($H$11=0,\" \",IF(B33=$H$11,\"TOTALES\",+IF(B34>0,VLOOKUP(B34,Simulador!$A$32:$T$550,3,0),\" \")))","v":"2023-07-23"},{"$f":"IF($H$11=0,\" \",IF(B33=$H$11,Simulador!$M$30,+IF(B34>0,VLOOKUP(B34,Simulador!$A$32:$T$550,13,0),\" \")))","v":58.599999999999994},{"$f":"IF($H$11=0,\" \",IF(B33=$H$11,Simulador!$N$30,+IF(B34>0,VLOOKUP(B34,Simulador!$A$32:$T$550,14,0),\" \")))","v":114.22},{"$f":"IF($H$11=0,\" \",IF(B33=$H$11,Simulador!$O$30,+IF(B34>0,VLOOKUP(B34,Simulador!$A$32:$T$550,15,0),\" \")))","v":18.440000000000001},{"$f":"IF($H$11=0,\" \",IF(B33=$H$11,Simulador!$S$30,+IF(B34>0,VLOOKUP(B34,Simulador!$A$32:$T$550,19,0),\" \")))","v":7.2},{"$f":"IF($H$11=0,\" \",IF(B33=$H$11,Simulador!$T$30,+IF(B34>0,VLOOKUP(B34,Simulador!$A$32:$T$550,20,0),\" \")))","v":198.45999999999998}]
[null,18,{"$f":"IF($H$11=0,\" \",IF(B34=$H$11,\"TOTALES\",+IF(B35>0,VLOOKUP(B35,Simulador!$A$32:$T$550,3,0),\" \")))","v":"2023-08-23"},{"$f":"IF($H$11=0,\" \",IF(B34=$H$11,Simulador!$M$30,+IF(B35>0,VLOOKUP(B35,Simulador!$A$32:$T$550,13,0),\" \")))","v":56.809999999999988},{"$f":"IF($H$11=0,\" \",IF(B34=$H$11,Simulador!$N$30,+IF(B35>0,VLOOKUP(B35,Simulador!$A$32:$T$550,14,0),\" \")))","v":116.01},{"$f":"IF($H$11=0,\" \",IF(B34=$H$11,Simulador!$O$30,+IF(B35>0,VLOOKUP(B35,Simulador!$A$32:$T$550,15,0),\" \")))","v":18.440000000000001},{"$f":"IF($H$11=0,\" \",IF(B34=$H$11,Simulador!$S$30,+IF(B35>0,VLOOKUP(B35,Simulador!$A$32:$T$550,19,0),\" \")))","v":7.2},{"$f":"IF($H$11=0,\" \",IF(B34=$H$11,Simulador!$T$30,+IF(B35>0,VLOOKUP(B35,Simulador!$A$32:$T$550,20,0),\" \")))","v":198.45999999999998}]
[null,19,{"$f":"IF($H$11=0,\" \",IF(B35=$H$11,\"TOTALES\",+IF(B36>0,VLOOKUP(B36,Simulador!$A$32:$T$550,3,0),\" \")))","v":"2023-09-23"},{"$f":"IF($H$11=0,\" \",IF(B35=$H$11,Simulador!$M$30,+IF(B36>0,VLOOKUP(B36,Simulador!$A$32:$T$550,13,0),\" \")))","v":58.83},{"$f":"IF($H$11=0,\" \",IF(B35=$H$11,Simulador!$N$30,+IF(B36>0,VLOOKUP(B36,Simulador!$A$32:$T$550,14,0),\" \")))","v":113.99},{"$f":"IF($H$11=0,\" \",IF(B35=$H$11,Simulador!$O$30,+IF(B36>0,VLOOKUP(B36,Simulador!$A$32:$T$550,15,0),\" \")))","v":18.440000000000001},{"$f":"IF($H$11=0,\" \",IF(B35=$H$11,Simulador!$S$30,+IF(B36>0,VLOOKUP(B36,Simulador!$A$32:$T$550,19,0),\" \")))","v":7.2},{"$f":"IF($H$11=0,\" \",IF(B35=$H$11,Simulador!$T$30,+IF(B36>0,VLOOKUP(B36,Simulador!$A$32:$T$550,20,0),\" \")))","v":198.45999999999998}]
[null,20,{"$f":"IF($H$11=0,\" \",IF(B36=$H$11,\"TOTALES\",+IF(B37>0,VLOOKUP(B37,Simulador!$A$32:$T$550,3,0),\" \")))","v":"2023-10-23"},{"$f":"IF($H$11=0,\" \",IF(B36=$H$11,Simulador!$M$30,+IF(B37>0,VLOOKUP(B37,Simulador!$A$32:$T$550,13,0),\" \")))","v":64.589999999999989},{"$f":"IF($H$11=0,\" \",IF(B36=$H$11,Simulador!$N$30,+IF(B37>0,VLOOKUP(B37,Simulador!$A$32:$T$550,14,0),\" \")))","v":108.23},{"$f":"IF($H$11=0,\" \",IF(B36=$H$11,Simulador!$O$30,+IF(B37>0,VLOOKUP(B37,Simulador!$A$32:$T$550,15,0),\" \")))","v":18.440000000000001},{"$f":"IF($H$11=0,\" \",IF(B36=$H$11,Simulador!$S$30,+IF(B37>0,VLOOKUP(B37,Simulador!$A$32:$T$550,19,0),\" \")))","v":7.2},{"$f":"IF($H$11=0,\" \",IF(B36=$H$11,Simulador!$T$30,+IF(B37>0,VLOOKUP(B37,Simulador!$A$32:$T$550,20,0),\" \")))","v":198.45999999999998}]
[null,21,{"$f":"IF($H$11=0,\" \",IF(B37=$H$11,\"TOTALES\",+IF(B38>0,VLOOKUP(B38,Simulador!$A$32:$T$550,3,0),\" \")))","v":"2023-11-23"},{"$f":"IF($H$11=0,\" \",IF(B37=$H$11,Simulador!$M$30,+IF(B38>0,VLOOKUP(B38,Simulador!$A$32:$T$550,13,0),\" \")))","v":63.209999999999994},{"$f":"IF($H$11=0,\" \",IF(B37=$H$11,Simulador!$N$30,+IF(B38>0,VLOOKUP(B38,Simulador!$A$32:$T$550,14,0),\" \")))","v":109.61},{"$f":"IF($H$11=0,\" \",IF(B37=$H$11,Simulador!$O$30,+IF(B38>0,VLOOKUP(B38,Simulador!$A$32:$T$550,15,0),\" \")))","v":18.440000000000001},{"$f":"IF($H$11=0,\" \",IF(B37=$H$11,Simulador!$S$30,+IF(B38>0,VLOOKUP(B38,Simulador!$A$32:$T$550,19,0),\" \")))","v":7.2},{"$f":"IF($H$11=0,\" \",IF(B37=$H$11,Simulador!$T$30,+IF(B38>0,VLOOKUP(B38,Simulador!$A$32:$T$550,20,0),\" \")))","v":198.45999999999998}]
[null,22,{"$f":"IF($H$11=0,\" \",IF(B38=$H$11,\"TOTALES\",+IF(B39>0,VLOOKUP(B39,Simulador!$A$32:$T$550,3,0),\" \")))","v":"2023-12-23"},{"$f":"IF($H$11=0,\" \",IF(B38=$H$11,Simulador!$M$30,+IF(B39>0,VLOOKUP(B39,Simulador!$A$32:$T$550,13,0),\" \")))","v":68.97999999999999},{"$f":"IF($H$11=0,\" \",IF(B38=$H$11,Simulador!$N$30,+IF(B39>0,VLOOKUP(B39,Simulador!$A$32:$T$550,14,0),\" \")))","v":103.84},{"$f":"IF($H$11=0,\" \",IF(B38=$H$11,Simulador!$O$30,+IF(B39>0,VLOOKUP(B39,Simulador!$A$32:$T$550,15,0),\" \")))","v":18.440000000000001},{"$f":"IF($H$11=0,\" \",IF(B38=$H$11,Simulador!$S$30,+IF(B39>0,VLOOKUP(B39,Simulador!$A$32:$T$550,19,0),\" \")))","v":7.2},{"$f":"IF($H$11=0,\" \",IF(B38=$H$11,Simulador!$T$30,+IF(B39>0,VLOOKUP(B39,Simulador!$A$32:$T$550,20,0),\" \")))","v":198.45999999999998}]
[null,23,{"$f":"IF($H$11=0,\" \",IF(B39=$H$11,\"TOTALES\",+IF(B40>0,VLOOKUP(B40,Simulador!$A$32:$T$550,3,0),\" \")))","v":"2024-01-23"},{"$f":"IF($H$11=0,\" \",IF(B39=$H$11,Simulador!$M$30,+IF(B40>0,VLOOKUP(B40,Simulador!$A$32:$T$550,13,0),\" \")))","v":67.91},{"$f":"IF($H$11=0,\" \",IF(B39=$H$11,Simulador!$N$30,+IF(B40>0,VLOOKUP(B40,Simulador!$A$32:$T$550,14,0),\" \")))","v":104.91},{"$f":"IF($H$11=0,\" \",IF(B39=$H$11,Simulador!$O$30,+IF(B40>0,VLOOKUP(B40,Simulador!$A$32:$T$550,15,0),\" \")))","v":18.440000000000001},{"$f":"IF($H$11=0,\" \",IF(B39=$H$11,Simulador!$S$30,+IF(B40>0,VLOOKUP(B40,Simulador!$A$32:$T$550,19,0),\" \")))","v":7.2},{"$f":"IF($H$11=0,\" \",IF(B39=$H$11,Simulador!$T$30,+IF(B40>0,VLOOKUP(B40,Simulador!$A$32:$T$550,20,0),\" \")))","v":198.45999999999998}]
[null,24,{"$f":"IF($H$11=0,\" \",IF(B40=$H$11,\"TOTALES\",+IF(B41>0,VLOOKUP(B41,Simulador!$A$32:$T$550,3,0),\" \")))","v":"2024-02-23"},{"$f":"IF($H$11=0,\" \",IF(B40=$H$11,Simulador!$M$30,+IF(B41>0,VLOOKUP(B41,Simulador!$A$32:$T$550,13,0),\" \")))","v":70.319999999999993},{"$f":"IF($H$11=0,\" \",IF(B40=$H$11,Simulador!$N$30,+IF(B41>0,VLOOKUP(B41,Simulador!$A$32:$T$550,14,0),\" \")))","v":102.5},{"$f":"IF($H$11=0,\" \",IF(B40=$H$11,Simulador!$O$30,+IF(B41>0,VLOOKUP(B41,Simulador!$A$32:$T$550,15,0),\" \")))","v":18.440000000000001},{"$f":"IF($H$11=0,\" \",IF(B40=$H$11,Simulador!$S$30,+IF(B41>0,VLOOKUP(B41,Simulador!$A$32:$T$550,19,0),\" \")))","v":7.2},{"$f":"IF($H$11=0,\" \",IF(B40=$H$11,Simulador!$T$30,+IF(B41>0,VLOOKUP(B41,Simulador!$A$32:$T$550,20,0),\" \")))","v":198.45999999999998}]
[null,25,{"$f":"IF($H$11=0,\" \",IF(B41=$H$11,\"TOTALES\",+IF(B42>0,VLOOKUP(B42,Simulador!$A$32:$T$550,3,0),\" \")))","v":"2024-03-23"},{"$f":"IF($H$11=0,\" \",IF(B41=$H$11,Simulador!$M$30,+IF(B42>0,VLOOKUP(B42,Simulador!$A$32:$T$550,13,0),\" \")))","v":79.38},{"$f":"IF($H$11=0,\" \",IF(B41=$H$11,Simulador!$N$30,+IF(B42>0,VLOOKUP(B42,Simulador!$A$32:$T$550,14,0),\" \")))","v":93.44},{"$f":"IF($H$11=0,\" \",IF(B41=$H$11,Simulador!$O$30,+IF(B42>0,VLOOKUP(B42,Simulador!$A$32:$T$550,15,0),\" \")))","v":18.440000000000001},{"$f":"IF($H$11=0,\" \",IF(B41=$H$11,Simulador!$S$30,+IF(B42>0,VLOOKUP(B42,Simulador!$A$32:$T$550,19,0),\" \")))","v":7.2},{"$f":"IF($H$11=0,\" \",IF(B41=$H$11,Simulador!$T$30,+IF(B42>0,VLOOKUP(B42,Simulador!$A$32:$T$550,20,0),\" \")))","v":198.45999999999998}]
[null,26,{"$f":"IF($H$11=0,\" \",IF(B42=$H$11,\"TOTALES\",+IF(B43>0,VLOOKUP(B43,Simulador!$A$32:$T$550,3,0),\" \")))","v":"2024-04-23"},{"$f":"IF($H$11=0,\" \",IF(B42=$H$11,Simulador!$M$30,+IF(B43>0,VLOOKUP(B43,Simulador!$A$32:$T$550,13,0),\" \")))","v":75.639999999999986},{"$f":"IF($H$11=0,\" \",IF(B42=$H$11,Simulador!$N$30,+IF(B43>0,VLOOKUP(B43,Simulador!$A$32:$T$550,14,0),\" \")))","v":97.18},{"$f":"IF($H$11=0,\" \",IF(B42=$H$11,Simulador!$O$30,+IF(B43>0,VLOOKUP(B43,Simulador!$A$32:$T$550,15,0),\" \")))","v":18.440000000000001},{"$f":"IF($H$11=0,\" \",IF(B42=$H$11,Simulador!$S$30,+IF(B43>0,VLOOKUP(B43,Simulador!$A$32:$T$550,19,0),\" \")))","v":7.2},{"$f":"IF($H$11=0,\" \",IF(B42=$H$11,Simulador!$T$30,+IF(B43>0,VLOOKUP(B43,Simulador!$A$32:$T$550,20,0),\" \")))","v":198.45999999999998}]
[null,27,{"$f":"IF($H$11=0,\" \",IF(B43=$H$11,\"TOTALES\",+IF(B44>0,VLOOKUP(B44,Simulador!$A$32:$T$550,3,0),\" \")))","v":"2024-05-23"},{"$f":"IF($H$11=0,\" \",IF(B43=$H$11,Simulador!$M$30,+IF(B44>0,VLOOKUP(B44,Simulador!$A$32:$T$550,13,0),\" \")))","v":81.429999999999993},{"$f":"IF($H$11=0,\" \",IF(B43=$H$11,Simulador!$N$30,+IF(B44>0,VLOOKUP(B44,Simulador!$A$32:$T$550,14,0),\" \")))","v":91.39},{"$f":"IF($H$11=0,\" \",IF(B43=$H$11,Simulador!$O$30,+IF(B44>0,VLOOKUP(B44,Simulador!$A$32:$T$550,15,0),\" \")))","v":18.440000000000001},{"$f":"IF($H$11=0,\" \",IF(B43=$H$11,Simulador!$S$30,+IF(B44>0,VLOOKUP(B44,Simulador!$A$32:$T$550,19,0),\" \")))","v":7.2},{"$f":"IF($H$11=0,\" \",IF(B43=$H$11,Simulador!$T$30,+IF(B44>0,VLOOKUP(B44,Simulador!$A$32:$T$550,20,0),\" \")))","v":198.45999999999998}]
[null,28,{"$f":"IF($H$11=0,\" \",IF(B44=$H$11,\"TOTALES\",+IF(B45>0,VLOOKUP(B45,Simulador!$A$32:$T$550,3,0),\" \")))","v":"2024-06-23"},{"$f":"IF($H$11=0,\" \",IF(B44=$H$11,Simulador!$M$30,+IF(B45>0,VLOOKUP(B45,Simulador!$A$32:$T$550,13,0),\" \")))","v":81.22},{"$f":"IF($H$11=0,\" \",IF(B44=$H$11,Simulador!$N$30,+IF(B45>0,VLOOKUP(B45,Simulador!$A$32:$T$550,14,0),\" \")))","v":91.6},{"$f":"IF($H$11=0,\" \",IF(B44=$H$11,Simulador!$O$30,+IF(B45>0,VLOOKUP(B45,Simulador!$A$32:$T$550,15,0),\" \")))","v":18.440000000000001},{"$f":"IF($H$11=0,\" \",IF(B44=$H$11,Simulador!$S$30,+IF(B45>0,VLOOKUP(B45,Simulador!$A$32:$T$550,19,0),\" \")))","v":7.2},{"$f":"IF($H$11=0,\" \",IF(B44=$H$11,Simulador!$T$30,+IF(B45>0,VLOOKUP(B45,Simulador!$A$32:$T$550,20,0),\" \")))","v":198.45999999999998}]
[null,29,{"$f":"IF($H$11=0,\" \",IF(B45=$H$11,\"TOTALES\",+IF(B46>0,VLOOKUP(B46,Simulador!$A$32:$T$550,3,0),\" \")))","v":"2024-07-23"},{"$f":"IF($H$11=0,\" \",IF(B45=$H$11,Simulador!$M$30,+IF(B46>0,VLOOKUP(B46,Simulador!$A$32:$T$550,13,0),\" \")))","v":87.02},{"$f":"IF($H$11=0,\" \",IF(B45=$H$11,Simulador!$N$30,+IF(B46>0,VLOOKUP(B46,Simulador!$A$32:$T$550,14,0),\" \")))","v":85.8},{"$f":"IF($H$11=0,\" \",IF(B45=$H$11,Simulador!$O$30,+IF(B46>0,VLOOKUP(B46,Simulador!$A$32:$T$550,15,0),\" \")))","v":18.440000000000001},{"$f":"IF($H$11=0,\" \",IF(B45=$H$11,Simulador!$S$30,+IF(B46>0,VLOOKUP(B46,Simulador!$A$32:$T$550,19,0),\" \")))","v":7.2},{"$f":"IF($H$11=0,\" \",IF(B45=$H$11,Simulador!$T$30,+IF(B46>0,VLOOKUP(B46,Simulador!$A$32:$T$550,20,0),\" \")))","v":198.45999999999998}]
[null,30,{"$f":"IF($H$11=0,\" \",IF(B46=$H$11,\"TOTALES\",+IF(B47>0,VLOOKUP(B47,Simulador!$A$32:$T$550,3,0),\" \")))","v":"2024-08-23"},{"$f":"IF($H$11=0,\" \",IF(B46=$H$11,Simulador!$M$30,+IF(B47>0,VLOOKUP(B47,Simulador!$A$32:$T$550,13,0),\" \")))","v":87.199999999999989},{"$f":"IF($H$11=0,\" \",IF(B46=$H$11,Simulador!$N$30,+IF(B47>0,VLOOKUP(B47,Simulador!$A$32:$T$550,14,0),\" \")))","v":85.62},{"$f":"IF($H$11=0,\" \",IF(B46=$H$11,Simulador!$O$30,+IF(B47>0,VLOOKUP(B47,Simulador!$A$32:$T$550,15,0),\" \")))","v":18.440000000000001},{"$f":"IF($H$11=0,\" \",IF(B46=$H$11,Simulador!$S$30,+IF(B47>0,VLOOKUP(B47,Simulador!$A$32:$T$550,19,0),\" \")))","v":7.2},{"$f":"IF($H$11=0,\" \",IF(B46=$H$11,Simulador!$T$30,+IF(B47>0,VLOOKUP(B47,Simulador!$A$32:$T$550,20,0),\" \")))","v":198.45999999999998}]
[null,31,{"$f":"IF($H$11=0,\" \",IF(B47=$H$11,\"TOTALES\",+IF(B48>0,VLOOKUP(B48,Simulador!$A$32:$T$550,3,0),\" \")))","v":"2024-09-23"},{"$f":"IF($H$11=0,\" \",IF(B47=$H$11,Simulador!$M$30,+IF(B48>0,VLOOKUP(B48,Simulador!$A$32:$T$550,13,0),\" \")))","v":90.3},{"$f":"IF($H$11=0,\" \",IF(B47=$H$11,Simulador!$N$30,+IF(B48>0,VLOOKUP(B48,Simulador!$A$32:$T$550,14,0),\" \")))","v":82.52},{"$f":"IF($H$11=0,\" \",IF(B47=$H$11,Simulador!$O$30,+IF(B48>0,VLOOKUP(B48,Simulador!$A$32:$T$550,15,0),\" \")))","v":18.440000000000001},{"$f":"IF($H$11=0,\" \",IF(B47=$H$11,Simulador!$S$30,+IF(B48>0,VLOOKUP(B48,Simulador!$A$32:$T$550,19,0),\" \")))","v":7.2},{"$f":"IF($H$11=0,\" \",IF(B47=$H$11,Simulador!$T$30,+IF(B48>0,VLOOKUP(B48,Simulador!$A$32:$T$550,20,0),\" \")))","v":198.45999999999998}]
[null,32,{"$f":"IF($H$11=0,\" \",IF(B48=$H$11,\"TOTALES\",+IF(B49>0,VLOOKUP(B49,Simulador!$A$32:$T$550,3,0),\" \")))","v":"2024-10-23"},{"$f":"IF($H$11=0,\" \",IF(B48=$H$11,Simulador!$M$30,+IF(B49>0,VLOOKUP(B49,Simulador!$A$32:$T$550,13,0),\" \")))","v":96.11},{"$f":"IF($H$11=0,\" \",IF(B48=$H$11,Simulador!$N$30,+IF(B49>0,VLOOKUP(B49,Simulador!$A$32:$T$550,14,0),\" \")))","v":76.709999999999994},{"$f":"IF($H$11=0,\" \",IF(B48=$H$11,Simulador!$O$30,+IF(B49>0,VLOOKUP(B49,Simulador!$A$32:$T$550,15,0),\" \")))","v":18.440000000000001},{"$f":"IF($H$11=0,\" \",IF(B48=$H$11,Simulador!$S$30,+IF(B49>0,VLOOKUP(B49,Simulador!$A$32:$T$550,19,0),\" \")))","v":7.2},{"$f":"IF($H$11=0,\" \",IF(B48=$H$11,Simulador!$T$30,+IF(B49>0,VLOOKUP(B49,Simulador!$A$32:$T$550,20,0),\" \")))","v":198.45999999999998}]
[null,33,{"$f":"IF($H$11=0,\" \",IF(B49=$H$11,\"TOTALES\",+IF(B50>0,VLOOKUP(B50,Simulador!$A$32:$T$550,3,0),\" \")))","v":"2024-11-23"},{"$f":"IF($H$11=0,\" \",IF(B49=$H$11,Simulador!$M$30,+IF(B50>0,VLOOKUP(B50,Simulador!$A$32:$T$550,13,0),\" \")))","v":96.919999999999987},{"$f":"IF($H$11=0,\" \",IF(B49=$H$11,Simulador!$N$30,+IF(B50>0,VLOOKUP(B50,Simulador!$A$32:$T$550,14,0),\" \")))","v":75.900000000000006},{"$f":"IF($H$11=0,\" \",IF(B49=$H$11,Simulador!$O$30,+IF(B50>0,VLOOKUP(B50,Simulador!$A$32:$T$550,15,0),\" \")))","v":18.440000000000001},{"$f":"IF($H$11=0,\" \",IF(B49=$H$11,Simulador!$S$30,+IF(B50>0,VLOOKUP(B50,Simulador!$A$32:$T$550,19,0),\" \")))","v":7.2},{"$f":"IF($H$11=0,\" \",IF(B49=$H$11,Simulador!$T$30,+IF(B50>0,VLOOKUP(B50,Simulador!$A$32:$T$550,20,0),\" \")))","v":198.45999999999998}]
[null,34,{"$f":"IF($H$11=0,\" \",IF(B50=$H$11,\"TOTALES\",+IF(B51>0,VLOOKUP(B51,Simulador!$A$32:$T$550,3,0),\" \")))","v":"2024-12-23"},{"$f":"IF($H$11=0,\" \",IF(B50=$H$11,Simulador!$M$30,+IF(B51>0,VLOOKUP(B51,Simulador!$A$32:$T$550,13,0),\" \")))","v":102.74},{"$f":"IF($H$11=0,\" \",IF(B50=$H$11,Simulador!$N$30,+IF(B51>0,VLOOKUP(B51,Simulador!$A$32:$T$550,14,0),\" \")))","v":70.08},{"$f":"IF($H$11=0,\" \",IF(B50=$H$11,Simulador!$O$30,+IF(B51>0,VLOOKUP(B51,Simulador!$A$32:$T$550,15,0),\" \")))","v":18.440000000000001},{"$f":"IF($H$11=0,\" \",IF(B50=$H$11,Simulador!$S$30,+IF(B51>0,VLOOKUP(B51,Simulador!$A$32:$T$550,19,0),\" \")))","v":7.2},{"$f":"IF($H$11=0,\" \",IF(B50=$H$11,Simulador!$T$30,+IF(B51>0,VLOOKUP(B51,Simulador!$A$32:$T$550,20,0),\" \")))","v":198.45999999999998}]
[null,35,{"$f":"IF($H$11=0,\" \",IF(B51=$H$11,\"TOTALES\",+IF(B52>0,VLOOKUP(B52,Simulador!$A$32:$T$550,3,0),\" \")))","v":"2025-01-23"},{"$f":"IF($H$11=0,\" \",IF(B51=$H$11,Simulador!$M$30,+IF(B52>0,VLOOKUP(B52,Simulador!$A$32:$T$550,13,0),\" \")))","v":104.02},{"$f":"IF($H$11=0,\" \",IF(B51=$H$11,Simulador!$N$30,+IF(B52>0,VLOOKUP(B52,Simulador!$A$32:$T$550,14,0),\" \")))","v":68.8},{"$f":"IF($H$11=0,\" \",IF(B51=$H$11,Simulador!$O$30,+IF(B52>0,VLOOKUP(B52,Simulador!$A$32:$T$550,15,0),\" \")))","v":18.440000000000001},{"$f":"IF($H$11=0,\" \",IF(B51=$H$11,Simulador!$S$30,+IF(B52>0,VLOOKUP(B52,Simulador!$A$32:$T$550,19,0),\" \")))","v":7.2},{"$f":"IF($H$11=0,\" \",IF(B51=$H$11,Simulador!$T$30,+IF(B52>0,VLOOKUP(B52,Simulador!$A$32:$T$550,20,0),\" \")))","v":198.45999999999998}]
[null,36,{"$f":"IF($H$11=0,\" \",IF(B52=$H$11,\"TOTALES\",+IF(B53>0,VLOOKUP(B53,Simulador!$A$32:$T$550,3,0),\" \")))","v":"2025-02-23"},{"$f":"IF($H$11=0,\" \",IF(B52=$H$11,Simulador!$M$30,+IF(B53>0,VLOOKUP(B53,Simulador!$A$32:$T$550,13,0),\" \")))","v":107.71},{"$f":"IF($H$11=0,\" \",IF(B52=$H$11,Simulador!$N$30,+IF(B53>0,VLOOKUP(B53,Simulador!$A$32:$T$550,14,0),\" \")))","v":65.11},{"$f":"IF($H$11=0,\" \",IF(B52=$H$11,Simulador!$O$30,+IF(B53>0,VLOOKUP(B53,Simulador!$A$32:$T$550,15,0),\" \")))","v":18.440000000000001},{"$f":"IF($H$11=0,\" \",IF(B52=$H$11,Simulador!$S$30,+IF(B53>0,VLOOKUP(B53,Simulador!$A$32:$T$550,19,0),\" \")))","v":7.2},{"$f":"IF($H$11=0,\" \",IF(B52=$H$11,Simulador!$T$30,+IF(B53>0,VLOOKUP(B53,Simulador!$A$32:$T$550,20,0),\" \")))","v":198.45999999999998}]
[null,37,{"$f":"IF($H$11=0,\" \",IF(B53=$H$11,\"TOTALES\",+IF(B54>0,VLOOKUP(B54,Simulador!$A$32:$T$550,3,0),\" \")))","v":"2025-03-23"},{"$f":"IF($H$11=0,\" \",IF(B53=$H$11,Simulador!$M$30,+IF(B54>0,VLOOKUP(B54,Simulador!$A$32:$T$550,13,0),\" \")))","v":117.56},{"$f":"IF($H$11=0,\" \",IF(B53=$H$11,Simulador!$N$30,+IF(B54>0,VLOOKUP(B54,Simulador!$A$32:$T$550,14,0),\" \")))","v":55.26},{"$f":"IF($H$11=0,\" \",IF(B53=$H$11,Simulador!$O$30,+IF(B54>0,VLOOKUP(B54,Simulador!$A$32:$T$550,15,0),\" \")))","v":18.440000000000001},{"$f":"IF($H$11=0,\" \",IF(B53=$H$11,Simulador!$S$30,+IF(B54>0,VLOOKUP(B54,Simulador!$A$32:$T$550,19,0),\" \")))","v":7.2},{"$f":"IF($H$11=0,\" \",IF(B53=$H$11,Simulador!$T$30,+IF(B54>0,VLOOKUP(B54,Simulador!$A$32:$T$550,20,0),\" \")))","v":198.45999999999998}]
[null,38,{"$f":"IF($H$11=0,\" \",IF(B54=$H$11,\"TOTALES\",+IF(B55>0,VLOOKUP(B55,Simulador!$A$32:$T$550,3,0),\" \")))","v":"2025-04-23"},{"$f":"IF($H$11=0,\" \",IF(B54=$H$11,Simulador!$M$30,+IF(B55>0,VLOOKUP(B55,Simulador!$A$32:$T$550,13,0),\" \")))","v":115.72},{"$f":"IF($H$11=0,\" \",IF(B54=$H$11,Simulador!$N$30,+IF(B55>0,VLOOKUP(B55,Simulador!$A$32:$T$550,14,0),\" \")))","v":57.1},{"$f":"IF($H$11=0,\" \",IF(B54=$H$11,Simulador!$O$30,+IF(B55>0,VLOOKUP(B55,Simulador!$A$32:$T$550,15,0),\" \")))","v":18.440000000000001},{"$f":"IF($H$11=0,\" \",IF(B54=$H$11,Simulador!$S$30,+IF(B55>0,VLOOKUP(B55,Simulador!$A$32:$T$550,19,0),\" \")))","v":7.2},{"$f":"IF($H$11=0,\" \",IF(B54=$H$11,Simulador!$T$30,+IF(B55>0,VLOOKUP(B55,Simulador!$A$32:$T$550,20,0),\" \")))","v":198.45999999999998}]
[null,39,{"$f":"IF($H$11=0,\" \",IF(B55=$H$11,\"TOTALES\",+IF(B56>0,VLOOKUP(B56,Simulador!$A$32:$T$550,3,0),\" \")))","v":"2025-05-23"},{"$f":"IF($H$11=0,\" \",IF(B55=$H$11,Simulador!$M$30,+IF(B56>0,VLOOKUP(B56,Simulador!$A$32:$T$550,13,0),\" \")))","v":121.57},{"$f":"IF($H$11=0,\" \",IF(B55=$H$11,Simulador!$N$30,+IF(B56>0,VLOOKUP(B56,Simulador!$A$32:$T$550,14,0),\" \")))","v":51.25},{"$f":"IF($H$11=0,\" \",IF(B55=$H$11,Simulador!$O$30,+IF(B56>0,VLOOKUP(B56,Simulador!$A$32:$T$550,15,0),\" \")))","v":18.440000000000001},{"$f":"IF($H$11=0,\" \",IF(B55=$H$11,Simulador!$S$30,+IF(B56>0,VLOOKUP(B56,Simulador!$A$32:$T$550,19,0),\" \")))","v":7.2},{"$f":"IF($H$11=0,\" \",IF(B55=$H$11,Simulador!$T$30,+IF(B56>0,VLOOKUP(B56,Simulador!$A$32:$T$550,20,0),\" \")))","v":198.45999999999998}]
[null,40,{"$f":"IF($H$11=0,\" \",IF(B56=$H$11,\"TOTALES\",+IF(B57>0,VLOOKUP(B57,Simulador!$A$32:$T$550,3,0),\" \")))","v":"2025-06-23"},{"$f":"IF($H$11=0,\" \",IF(B56=$H$11,Simulador!$M$30,+IF(B57>0,VLOOKUP(B57,Simulador!$A$32:$T$550,13,0),\" \")))","v":124.14999999999999},{"$f":"IF($H$11=0,\" \",IF(B56=$H$11,Simulador!$N$30,+IF(B57>0,VLOOKUP(B57,Simulador!$A$32:$T$550,14,0),\" \")))","v":48.67},{"$f":"IF($H$11=0,\" \",IF(B56=$H$11,Simulador!$O$30,+IF(B57>0,VLOOKUP(B57,Simulador!$A$32:$T$550,15,0),\" \")))","v":18.440000000000001},{"$f":"IF($H$11=0,\" \",IF(B56=$H$11,Simulador!$S$30,+IF(B57>0,VLOOKUP(B57,Simulador!$A$32:$T$550,19,0),\" \")))","v":7.2},{"$f":"IF($H$11=0,\" \",IF(B56=$H$11,Simulador!$T$30,+IF(B57>0,VLOOKUP(B57,Simulador!$A$32:$T$550,20,0),\" \")))","v":198.45999999999998}]
[null,41,{"$f":"IF($H$11=0,\" \",IF(B57=$H$11,\"TOTALES\",+IF(B58>0,VLOOKUP(B58,Simulador!$A$32:$T$550,3,0),\" \")))","v":"2025-07-23"},{"$f":"IF($H$11=0,\" \",IF(B57=$H$11,Simulador!$M$30,+IF(B58>0,VLOOKUP(B58,Simulador!$A$32:$T$550,13,0),\" \")))","v":130.01},{"$f":"IF($H$11=0,\" \",IF(B57=$H$11,Simulador!$N$30,+IF(B58>0,VLOOKUP(B58,Simulador!$A$32:$T$550,14,0),\" \")))","v":42.81},{"$f":"IF($H$11=0,\" \",IF(B57=$H$11,Simulador!$O$30,+IF(B58>0,VLOOKUP(B58,Simulador!$A$32:$T$550,15,0),\" \")))","v":18.440000000000001},{"$f":"IF($H$11=0,\" \",IF(B57=$H$11,Simulador!$S$30,+IF(B58>0,VLOOKUP(B58,Simulador!$A$32:$T$550,19,0),\" \")))","v":7.2},{"$f":"IF($H$11=0,\" \",IF(B57=$H$11,Simulador!$T$30,+IF(B58>0,VLOOKUP(B58,Simulador!$A$32:$T$550,20,0),\" \")))","v":198.45999999999998}]
[null,42,{"$f":"IF($H$11=0,\" \",IF(B58=$H$11,\"TOTALES\",+IF(B59>0,VLOOKUP(B59,Simulador!$A$32:$T$550,3,0),\" \")))","v":"2025-08-23"},{"$f":"IF($H$11=0,\" \",IF(B58=$H$11,Simulador!$M$30,+IF(B59>0,VLOOKUP(B59,Simulador!$A$32:$T$550,13,0),\" \")))","v":133.18},{"$f":"IF($H$11=0,\" \",IF(B58=$H$11,Simulador!$N$30,+IF(B59>0,VLOOKUP(B59,Simulador!$A$32:$T$550,14,0),\" \")))","v":39.64},{"$f":"IF($H$11=0,\" \",IF(B58=$H$11,Simulador!$O$30,+IF(B59>0,VLOOKUP(B59,Simulador!$A$32:$T$550,15,0),\" \")))","v":18.440000000000001},{"$f":"IF($H$11=0,\" \",IF(B58=$H$11,Simulador!$S$30,+IF(B59>0,VLOOKUP(B59,Simulador!$A$32:$T$550,19,0),\" \")))","v":7.2},{"$f":"IF($H$11=0,\" \",IF(B58=$H$11,Simulador!$T$30,+IF(B59>0,VLOOKUP(B59,Simulador!$A$32:$T$550,20,0),\" \")))","v":198.45999999999998}]
[null,43,{"$f":"IF($H$11=0,\" \",IF(B59=$H$11,\"TOTALES\",+IF(B60>0,VLOOKUP(B60,Simulador!$A$32:$T$550,3,0),\" \")))","v":"2025-09-23"},{"$f":"IF($H$11=0,\" \",IF(B59=$H$11,Simulador!$M$30,+IF(B60>0,VLOOKUP(B60,Simulador!$A$32:$T$550,13,0),\" \")))","v":137.91},{"$f":"IF($H$11=0,\" \",IF(B59=$H$11,Simulador!$N$30,+IF(B60>0,VLOOKUP(B60,Simulador!$A$32:$T$550,14,0),\" \")))","v":34.909999999999997},{"$f":"IF($H$11=0,\" \",IF(B59=$H$11,Simulador!$O$30,+IF(B60>0,VLOOKUP(B60,Simulador!$A$32:$T$550,15,0),\" \")))","v":18.440000000000001},{"$f":"IF($H$11=0,\" \",IF(B59=$H$11,Simulador!$S$30,+IF(B60>0,VLOOKUP(B60,Simulador!$A$32:$T$550,19,0),\" \")))","v":7.2},{"$f":"IF($H$11=0,\" \",IF(B59=$H$11,Simulador!$T$30,+IF(B60>0,VLOOKUP(B60,Simulador!$A$32:$T$550,20,0),\" \")))","v":198.45999999999998}]
[null,44,{"$f":"IF($H$11=0,\" \",IF(B60=$H$11,\"TOTALES\",+IF(B61>0,VLOOKUP(B61,Simulador!$A$32:$T$550,3,0),\" \")))","v":"2025-10-23"},{"$f":"IF($H$11=0,\" \",IF(B60=$H$11,Simulador!$M$30,+IF(B61>0,VLOOKUP(B61,Simulador!$A$32:$T$550,13,0),\" \")))","v":143.79},{"$f":"IF($H$11=0,\" \",IF(B60=$H$11,Simulador!$N$30,+IF(B61>0,VLOOKUP(B61,Simulador!$A$32:$T$550,14,0),\" \")))","v":29.03},{"$f":"IF($H$11=0,\" \",IF(B60=$H$11,Simulador!$O$30,+IF(B61>0,VLOOKUP(B61,Simulador!$A$32:$T$550,15,0),\" \")))","v":18.440000000000001},{"$f":"IF($H$11=0,\" \",IF(B60=$H$11,Simulador!$S$30,+IF(B61>0,VLOOKUP(B61,Simulador!$A$32:$T$550,19,0),\" \")))","v":7.2},{"$f":"IF($H$11=0,\" \",IF(B60=$H$11,Simulador!$T$30,+IF(B61>0,VLOOKUP(B61,Simulador!$A$32:$T$550,20,0),\" \")))","v":198.45999999999998}]
[null,45,{"$f":"IF($H$11=0,\" \",IF(B61=$H$11,\"TOTALES\",+IF(B62>0,VLOOKUP(B62,Simulador!$A$32:$T$550,3,0),\" \")))","v":"2025-11-23"},{"$f":"IF($H$11=0,\" \",IF(B61=$H$11,Simulador!$M$30,+IF(B62>0,VLOOKUP(B62,Simulador!$A$32:$T$550,13,0),\" \")))","v":147.91999999999999},{"$f":"IF($H$11=0,\" \",IF(B61=$H$11,Simulador!$N$30,+IF(B62>0,VLOOKUP(B62,Simulador!$A$32:$T$550,14,0),\" \")))","v":24.9},{"$f":"IF($H$11=0,\" \",IF(B61=$H$11,Simulador!$O$30,+IF(B62>0,VLOOKUP(B62,Simulador!$A$32:$T$550,15,0),\" \")))","v":18.440000000000001},{"$f":"IF($H$11=0,\" \",IF(B61=$H$11,Simulador!$S$30,+IF(B62>0,VLOOKUP(B62,Simulador!$A$32:$T$550,19,0),\" \")))","v":7.2},{"$f":"IF($H$11=0,\" \",IF(B61=$H$11,Simulador!$T$30,+IF(B62>0,VLOOKUP(B62,Simulador!$A$32:$T$550,20,0),\" \")))","v":198.45999999999998}]
[null,46,{"$f":"IF($H$11=0,\" \",IF(B62=$H$11,\"TOTALES\",+IF(B63>0,VLOOKUP(B63,Simulador!$A$32:$T$550,3,0),\" \")))","v":"2025-12-23"},{"$f":"IF($H$11=0,\" \",IF(B62=$H$11,Simulador!$M$30,+IF(B63>0,VLOOKUP(B63,Simulador!$A$32:$T$550,13,0),\" \")))","v":153.82},{"$f":"IF($H$11=0,\" \",IF(B62=$H$11,Simulador!$N$30,+IF(B63>0,VLOOKUP(B63,Simulador!$A$32:$T$550,14,0),\" \")))","v":19},{"$f":"IF($H$11=0,\" \",IF(B62=$H$11,Simulador!$O$30,+IF(B63>0,VLOOKUP(B63,Simulador!$A$32:$T$550,15,0),\" \")))","v":18.440000000000001},{"$f":"IF($H$11=0,\" \",IF(B62=$H$11,Simulador!$S$30,+IF(B63>0,VLOOKUP(B63,Simulador!$A$32:$T$550,19,0),\" \")))","v":7.2},{"$f":"IF($H$11=0,\" \",IF(B62=$H$11,Simulador!$T$30,+IF(B63>0,VLOOKUP(B63,Simulador!$A$32:$T$550,20,0),\" \")))","v":198.45999999999998}]
[null,47,{"$f":"IF($H$11=0,\" \",IF(B63=$H$11,\"TOTALES\",+IF(B64>0,VLOOKUP(B64,Simulador!$A$32:$T$550,3,0),\" \")))","v":"2026-01-23"},{"$f":"IF($H$11=0,\" \",IF(B63=$H$11,Simulador!$M$30,+IF(B64>0,VLOOKUP(B64,Simulador!$A$32:$T$550,13,0),\" \")))","v":158.63999999999999},{"$f":"IF($H$11=0,\" \",IF(B63=$H$11,Simulador!$N$30,+IF(B64>0,VLOOKUP(B64,Simulador!$A$32:$T$550,14,0),\" \")))","v":14.18},{"$f":"IF($H$11=0,\" \",IF(B63=$H$11,Simulador!$O$30,+IF(B64>0,VLOOKUP(B64,Simulador!$A$32:$T$550,15,0),\" \")))","v":18.440000000000001},{"$f":"IF($H$11=0,\" \",IF(B63=$H$11,Simulador!$S$30,+IF(B64>0,VLOOKUP(B64,Simulador!$A$32:$T$550,19,0),\" \")))","v":7.2},{"$f":"IF($H$11=0,\" \",IF(B63=$H$11,Simulador!$T$30,+IF(B64>0,VLOOKUP(B64,Simulador!$A$32:$T$550,20,0),\" \")))","v":198.45999999999998}]
[null,48,{"$f":"IF($H$11=0,\" \",IF(B64=$H$11,\"TOTALES\",+IF(B65>0,VLOOKUP(B65,Simulador!$A$32:$T$550,3,0),\" \")))","v":"2026-02-23"},{"$f":"IF($H$11=0,\" \",IF(B64=$H$11,Simulador!$M$30,+IF(B65>0,VLOOKUP(B65,Simulador!$A$32:$T$550,13,0),\" \")))","v":240.43},{"$f":"IF($H$11=0,\" \",IF(B64=$H$11,Simulador!$N$30,+IF(B65>0,VLOOKUP(B65,Simulador!$A$32:$T$550,14,0),\" \")))","v":8.5399999999999991},{"$f":"IF($H$11=0,\" \",IF(B64=$H$11,Simulador!$O$30,+IF(B65>0,VLOOKUP(B65,Simulador!$A$32:$T$550,15,0),\" \")))","v":18.440000000000001},{"$f":"IF($H$11=0,\" \",IF(B64=$H$11,Simulador!$S$30,+IF(B65>0,VLOOKUP(B65,Simulador!$A$32:$T$550,19,0),\" \")))","v":7.2},{"$f":"IF($H$11=0,\" \",IF(B64=$H$11,Simulador!$T$30,+IF(B65>0,VLOOKUP(B65,Simulador!$A$32:$T$550,20,0),\" \")))","v":274.61}]
[null,"",{"$f":"IF($H$11=0,\" \",IF(B65=$H$11,\"TOTALES\",+IF(B66>0,VLOOKUP(B66,Simulador!$A$32:$T$550,3,0),\" \")))","v":"TOTALES"},{"$f":"IF($H$11=0,\" \",IF(B65=$H$11,Simulador!$M$30,+IF(B66>0,VLOOKUP(B66,Simulador!$A$32:$T$550,13,0),\" \")))","v":3999.9999999999991},{"$f":"IF($H$11=0,\" \",IF(B65=$H$11,Simulador!$N$30,+IF(B66>0,VLOOKUP(B66,Simulador!$A$32:$T$550,14,0),\" \")))","v":4349.9100000000008},{"$f":"IF($H$11=0,\" \",IF(B65=$H$11,Simulador!$O$30,+IF(B66>0,VLOOKUP(B66,Simulador!$A$32:$T$550,15,0),\" \")))","v":885.12000000000114},{"$f":"IF($H$11=0,\" \",IF(B65=$H$11,Simulador!$S$30,+IF(B66>0,VLOOKUP(B66,Simulador!$A$32:$T$550,19,0),\" \")))","v":367.19999999999965},{"$f":"IF($H$11=0,\" \",IF(B65=$H$11,Simulador!$T$30,+IF(B66>0,VLOOKUP(B66,Simulador!$A$32:$T$550,20,0),\" \")))","v":9602.2299999999959}]
[null,"",{"$f":"IF($H$11=0,\" \",IF(B66=$H$11,\"TOTALES\",+IF(B67>0,VLOOKUP(B67,Simulador!$A$32:$T$550,3,0),\" \")))","v":""},{"$f":"IF($H$11=0,\" \",IF(B66=$H$11,Simulador!$M$30,+IF(B67>0,VLOOKUP(B67,Simulador!$A$32:$T$550,13,0),\" \")))","v":""},{"$f":"IF($H$11=0,\" \",IF(B66=$H$11,Simulador!$N$30,+IF(B67>0,VLOOKUP(B67,Simulador!$A$32:$T$550,14,0),\" \")))","v":""},{"$f":"IF($H$11=0,\" \",IF(B66=$H$11,Simulador!$O$30,+IF(B67>0,VLOOKUP(B67,Simulador!$A$32:$T$550,15,0),\" \")))","v":""},{"$f":"IF($H$11=0,\" \",IF(B66=$H$11,Simulador!$S$30,+IF(B67>0,VLOOKUP(B67,Simulador!$A$32:$T$550,19,0),\" \")))","v":""},{"$f":"IF($H$11=0,\" \",IF(B66=$H$11,Simulador!$T$30,+IF(B67>0,VLOOKUP(B67,Simulador!$A$32:$T$550,20,0),\" \")))","v":""}]
[null,"",{"$f":"IF($H$11=0,\" \",IF(B67=$H$11,\"TOTALES\",+IF(B68>0,VLOOKUP(B68,Simulador!$A$32:$T$550,3,0),\" \")))","v":""},{"$f":"IF($H$11=0,\" \",IF(B67=$H$11,Simulador!$M$30,+IF(B68>0,VLOOKUP(B68,Simulador!$A$32:$T$550,13,0),\" \")))","v":""},{"$f":"IF($H$11=0,\" \",IF(B67=$H$11,Simulador!$N$30,+IF(B68>0,VLOOKUP(B68,Simulador!$A$32:$T$550,14,0),\" \")))","v":""},{"$f":"IF($H$11=0,\" \",IF(B67=$H$11,Simulador!$O$30,+IF(B68>0,VLOOKUP(B68,Simulador!$A$32:$T$550,15,0),\" \")))","v":""},{"$f":"IF($H$11=0,\" \",IF(B67=$H$11,Simulador!$S$30,+IF(B68>0,VLOOKUP(B68,Simulador!$A$32:$T$550,19,0),\" \")))","v":""},{"$f":"IF($H$11=0,\" \",IF(B67=$H$11,Simulador!$T$30,+IF(B68>0,VLOOKUP(B68,Simulador!$A$32:$T$550,20,0),\" \")))","v":""}]
[null,"",{"$f":"IF($H$11=0,\" \",IF(B68=$H$11,\"TOTALES\",+IF(B69>0,VLOOKUP(B69,Simulador!$A$32:$T$550,3,0),\" \")))","v":""},{"$f":"IF($H$11=0,\" \",IF(B68=$H$11,Simulador!$M$30,+IF(B69>0,VLOOKUP(B69,Simulador!$A$32:$T$550,13,0),\" \")))","v":""},{"$f":"IF($H$11=0,\" \",IF(B68=$H$11,Simulador!$N$30,+IF(B69>0,VLOOKUP(B69,Simulador!$A$32:$T$550,14,0),\" \")))","v":""},{"$f":"IF($H$11=0,\" \",IF(B68=$H$11,Simulador!$O$30,+IF(B69>0,VLOOKUP(B69,Simulador!$A$32:$T$550,15,0),\" \")))","v":""},{"$f":"IF($H$11=0,\" \",IF(B68=$H$11,Simulador!$S$30,+IF(B69>0,VLOOKUP(B69,Simulador!$A$32:$T$550,19,0),\" \")))","v":""},{"$f":"IF($H$11=0,\" \",IF(B68=$H$11,Simulador!$T$30,+IF(B69>0,VLOOKUP(B69,Simulador!$A$32:$T$550,20,0),\" \")))","v":""}]
[null,"",{"$f":"IF($H$11=0,\" \",IF(B69=$H$11,\"TOTALES\",+IF(B70>0,VLOOKUP(B70,Simulador!$A$32:$T$550,3,0),\" \")))","v":""},{"$f":"IF($H$11=0,\" \",IF(B69=$H$11,Simulador!$M$30,+IF(B70>0,VLOOKUP(B70,Simulador!$A$32:$T$550,13,0),\" \")))","v":""},{"$f":"IF($H$11=0,\" \",IF(B69=$H$11,Simulador!$N$30,+IF(B70>0,VLOOKUP(B70,Simulador!$A$32:$T$550,14,0),\" \")))","v":""},{"$f":"IF($H$11=0,\" \",IF(B69=$H$11,Simulador!$O$30,+IF(B70>0,VLOOKUP(B70,Simulador!$A$32:$T$550,15,0),\" \")))","v":""},{"$f":"IF($H$11=0,\" \",IF(B69=$H$11,Simulador!$S$30,+IF(B70>0,VLOOKUP(B70,Simulador!$A$32:$T$550,19,0),\" \")))","v":""},{"$f":"IF($H$11=0,\" \",IF(B69=$H$11,Simulador!$T$30,+IF(B70>0,VLOOKUP(B70,Simulador!$A$32:$T$550,20,0),\" \")))","v":""}]
[null,"",{"$f":"IF($H$11=0,\" \",IF(B70=$H$11,\"TOTALES\",+IF(B71>0,VLOOKUP(B71,Simulador!$A$32:$T$550,3,0),\" \")))","v":""},{"$f":"IF($H$11=0,\" \",IF(B70=$H$11,Simulador!$M$30,+IF(B71>0,VLOOKUP(B71,Simulador!$A$32:$T$550,13,0),\" \")))","v":""},{"$f":"IF($H$11=0,\" \",IF(B70=$H$11,Simulador!$N$30,+IF(B71>0,VLOOKUP(B71,Simulador!$A$32:$T$550,14,0),\" \")))","v":""},{"$f":"IF($H$11=0,\" \",IF(B70=$H$11,Simulador!$O$30,+IF(B71>0,VLOOKUP(B71,Simulador!$A$32:$T$550,15,0),\" \")))","v":""},{"$f":"IF($H$11=0,\" \",IF(B70=$H$11,Simulador!$S$30,+IF(B71>0,VLOOKUP(B71,Simulador!$A$32:$T$550,19,0),\" \")))","v":""},{"$f":"IF($H$11=0,\" \",IF(B70=$H$11,Simulador!$T$30,+IF(B71>0,VLOOKUP(B71,Simulador!$A$32:$T$550,20,0),\" \")))","v":""}]
[null,"",{"$f":"IF($H$11=0,\" \",IF(B71=$H$11,\"TOTALES\",+IF(B72>0,VLOOKUP(B72,Simulador!$A$32:$T$550,3,0),\" \")))","v":""},{"$f":"IF($H$11=0,\" \",IF(B71=$H$11,Simulador!$M$30,+IF(B72>0,VLOOKUP(B72,Simulador!$A$32:$T$550,13,0),\" \")))","v":""},{"$f":"IF($H$11=0,\" \",IF(B71=$H$11,Simulador!$N$30,+IF(B72>0,VLOOKUP(B72,Simulador!$A$32:$T$550,14,0),\" \")))","v":""},{"$f":"IF($H$11=0,\" \",IF(B71=$H$11,Simulador!$O$30,+IF(B72>0,VLOOKUP(B72,Simulador!$A$32:$T$550,15,0),\" \")))","v":""},{"$f":"IF($H$11=0,\" \",IF(B71=$H$11,Simulador!$S$30,+IF(B72>0,VLOOKUP(B72,Simulador!$A$32:$T$550,19,0),\" \")))","v":""},{"$f":"IF($H$11=0,\" \",IF(B71=$H$11,Simulador!$T$30,+IF(B72>0,VLOOKUP(B72,Simulador!$A$32:$T$550,20,0),\" \")))","v":""}]
[null,"",{"$f":"IF($H$11=0,\" \",IF(B72=$H$11,\"TOTALES\",+IF(B73>0,VLOOKUP(B73,Simulador!$A$32:$T$550,3,0),\" \")))","v":""},{"$f":"IF($H$11=0,\" \",IF(B72=$H$11,Simulador!$M$30,+IF(B73>0,VLOOKUP(B73,Simulador!$A$32:$T$550,13,0),\" \")))","v":""},{"$f":"IF($H$11=0,\" \",IF(B72=$H$11,Simulador!$N$30,+IF(B73>0,VLOOKUP(B73,Simulador!$A$32:$T$550,14,0),\" \")))","v":""},{"$f":"IF($H$11=0,\" \",IF(B72=$H$11,Simulador!$O$30,+IF(B73>0,VLOOKUP(B73,Simulador!$A$32:$T$550,15,0),\" \")))","v":""},{"$f":"IF($H$11=0,\" \",IF(B72=$H$11,Simulador!$S$30,+IF(B73>0,VLOOKUP(B73,Simulador!$A$32:$T$550,19,0),\" \")))","v":""},{"$f":"IF($H$11=0,\" \",IF(B72=$H$11,Simulador!$T$30,+IF(B73>0,VLOOKUP(B73,Simulador!$A$32:$T$550,20,0),\" \")))","v":""}]
[null,"",{"$f":"IF($H$11=0,\" \",IF(B73=$H$11,\"TOTALES\",+IF(B74>0,VLOOKUP(B74,Simulador!$A$32:$T$550,3,0),\" \")))","v":""},{"$f":"IF($H$11=0,\" \",IF(B73=$H$11,Simulador!$M$30,+IF(B74>0,VLOOKUP(B74,Simulador!$A$32:$T$550,13,0),\" \")))","v":""},{"$f":"IF($H$11=0,\" \",IF(B73=$H$11,Simulador!$N$30,+IF(B74>0,VLOOKUP(B74,Simulador!$A$32:$T$550,14,0),\" \")))","v":""},{"$f":"IF($H$11=0,\" \",IF(B73=$H$11,Simulador!$O$30,+IF(B74>0,VLOOKUP(B74,Simulador!$A$32:$T$550,15,0),\" \")))","v":""},{"$f":"IF($H$11=0,\" \",IF(B73=$H$11,Simulador!$S$30,+IF(B74>0,VLOOKUP(B74,Simulador!$A$32:$T$550,19,0),\" \")))","v":""},{"$f":"IF($H$11=0,\" \",IF(B73=$H$11,Simulador!$T$30,+IF(B74>0,VLOOKUP(B74,Simulador!$A$32:$T$550,20,0),\" \")))","v":""}]
[null,"",{"$f":"IF($H$11=0,\" \",IF(B74=$H$11,\"TOTALES\",+IF(B75>0,VLOOKUP(B75,Simulador!$A$32:$T$550,3,0),\" \")))","v":""},{"$f":"IF($H$11=0,\" \",IF(B74=$H$11,Simulador!$M$30,+IF(B75>0,VLOOKUP(B75,Simulador!$A$32:$T$550,13,0),\" \")))","v":""},{"$f":"IF($H$11=0,\" \",IF(B74=$H$11,Simulador!$N$30,+IF(B75>0,VLOOKUP(B75,Simulador!$A$32:$T$550,14,0),\" \")))","v":""},{"$f":"IF($H$11=0,\" \",IF(B74=$H$11,Simulador!$O$30,+IF(B75>0,VLOOKUP(B75,Simulador!$A$32:$T$550,15,0),\" \")))","v":""},{"$f":"IF($H$11=0,\" \",IF(B74=$H$11,Simulador!$S$30,+IF(B75>0,VLOOKUP(B75,Simulador!$A$32:$T$550,19,0),\" \")))","v":""},{"$f":"IF($H$11=0,\" \",IF(B74=$H$11,Simulador!$T$30,+IF(B75>0,VLOOKUP(B75,Simulador!$A$32:$T$550,20,0),\" \")))","v":""}]
[null,"",{"$f":"IF($H$11=0,\" \",IF(B75=$H$11,\"TOTALES\",+IF(B76>0,VLOOKUP(B76,Simulador!$A$32:$T$550,3,0),\" \")))","v":""},{"$f":"IF($H$11=0,\" \",IF(B75=$H$11,Simulador!$M$30,+IF(B76>0,VLOOKUP(B76,Simulador!$A$32:$T$550,13,0),\" \")))","v":""},{"$f":"IF($H$11=0,\" \",IF(B75=$H$11,Simulador!$N$30,+IF(B76>0,VLOOKUP(B76,Simulador!$A$32:$T$550,14,0),\" \")))","v":""},{"$f":"IF($H$11=0,\" \",IF(B75=$H$11,Simulador!$O$30,+IF(B76>0,VLOOKUP(B76,Simulador!$A$32:$T$550,15,0),\" \")))","v":""},{"$f":"IF($H$11=0,\" \",IF(B75=$H$11,Simulador!$S$30,+IF(B76>0,VLOOKUP(B76,Simulador!$A$32:$T$550,19,0),\" \")))","v":""},{"$f":"IF($H$11=0,\" \",IF(B75=$H$11,Simulador!$T$30,+IF(B76>0,VLOOKUP(B76,Simulador!$A$32:$T$550,20,0),\" \")))","v":""}]
[null,"",{"$f":"IF($H$11=0,\" \",IF(B76=$H$11,\"TOTALES\",+IF(B77>0,VLOOKUP(B77,Simulador!$A$32:$T$550,3,0),\" \")))","v":""},{"$f":"IF($H$11=0,\" \",IF(B76=$H$11,Simulador!$M$30,+IF(B77>0,VLOOKUP(B77,Simulador!$A$32:$T$550,13,0),\" \")))","v":""},{"$f":"IF($H$11=0,\" \",IF(B76=$H$11,Simulador!$N$30,+IF(B77>0,VLOOKUP(B77,Simulador!$A$32:$T$550,14,0),\" \")))","v":""},{"$f":"IF($H$11=0,\" \",IF(B76=$H$11,Simulador!$O$30,+IF(B77>0,VLOOKUP(B77,Simulador!$A$32:$T$550,15,0),\" \")))","v":""},{"$f":"IF($H$11=0,\" \",IF(B76=$H$11,Simulador!$S$30,+IF(B77>0,VLOOKUP(B77,Simulador!$A$32:$T$550,19,0),\" \")))","v":""},{"$f":"IF($H$11=0,\" \",IF(B76=$H$11,Simulador!$T$30,+IF(B77>0,VLOOKUP(B77,Simulador!$A$32:$T$550,20,0),\" \")))","v":""}]
[null,"",{"$f":"IF($H$11=0,\" \",IF(B77=$H$11,\"TOTALES\",+IF(B78>0,VLOOKUP(B78,Simulador!$A$32:$T$550,3,0),\" \")))","v":""},{"$f":"IF($H$11=0,\" \",IF(B77=$H$11,Simulador!$M$30,+IF(B78>0,VLOOKUP(B78,Simulador!$A$32:$T$550,13,0),\" \")))","v":""},{"$f":"IF($H$11=0,\" \",IF(B77=$H$11,Simulador!$N$30,+IF(B78>0,VLOOKUP(B78,Simulador!$A$32:$T$550,14,0),\" \")))","v":""},{"$f":"IF($H$11=0,\" \",IF(B77=$H$11,Simulador!$O$30,+IF(B78>0,VLOOKUP(B78,Simulador!$A$32:$T$550,15,0),\" \")))","v":""},{"$f":"IF($H$11=0,\" \",IF(B77=$H$11,Simulador!$S$30,+IF(B78>0,VLOOKUP(B78,Simulador!$A$32:$T$550,19,0),\" \")))","v":""},{"$f":"IF($H$11=0,\" \",IF(B77=$H$11,Simulador!$T$30,+IF(B78>0,VLOOKUP(B78,Simulador!$A$32:$T$550,20,0),\" \")))","v":""}]
[null,"",{"$f":"IF($H$11=0,\" \",IF(B78=$H$11,\"TOTALES\",+IF(B79>0,VLOOKUP(B79,Simulador!$A$32:$T$550,3,0),\" \")))","v":""},{"$f":"IF($H$11=0,\" \",IF(B78=$H$11,Simulador!$M$30,+IF(B79>0,VLOOKUP(B79,Simulador!$A$32:$T$550,13,0),\" \")))","v":""},{"$f":"IF($H$11=0,\" \",IF(B78=$H$11,Simulador!$N$30,+IF(B79>0,VLOOKUP(B79,Simulador!$A$32:$T$550,14,0),\" \")))","v":""},{"$f":"IF($H$11=0,\" \",IF(B78=$H$11,Simulador!$O$30,+IF(B79>0,VLOOKUP(B79,Simulador!$A$32:$T$550,15,0),\" \")))","v":""},{"$f":"IF($H$11=0,\" \",IF(B78=$H$11,Simulador!$S$30,+IF(B79>0,VLOOKUP(B79,Simulador!$A$32:$T$550,19,0),\" \")))","v":""},{"$f":"IF($H$11=0,\" \",IF(B78=$H$11,Simulador!$T$30,+IF(B79>0,VLOOKUP(B79,Simulador!$A$32:$T$550,20,0),\" \")))","v":""}]
[null,"",{"$f":"IF($H$11=0,\" \",IF(B79=$H$11,\"TOTALES\",+IF(B80>0,VLOOKUP(B80,Simulador!$A$32:$T$550,3,0),\" \")))","v":""},{"$f":"IF($H$11=0,\" \",IF(B79=$H$11,Simulador!$M$30,+IF(B80>0,VLOOKUP(B80,Simulador!$A$32:$T$550,13,0),\" \")))","v":""},{"$f":"IF($H$11=0,\" \",IF(B79=$H$11,Simulador!$N$30,+IF(B80>0,VLOOKUP(B80,Simulador!$A$32:$T$550,14,0),\" \")))","v":""},{"$f":"IF($H$11=0,\" \",IF(B79=$H$11,Simulador!$O$30,+IF(B80>0,VLOOKUP(B80,Simulador!$A$32:$T$550,15,0),\" \")))","v":""},{"$f":"IF($H$11=0,\" \",IF(B79=$H$11,Simulador!$S$30,+IF(B80>0,VLOOKUP(B80,Simulador!$A$32:$T$550,19,0),\" \")))","v":""},{"$f":"IF($H$11=0,\" \",IF(B79=$H$11,Simulador!$T$30,+IF(B80>0,VLOOKUP(B80,Simulador!$A$32:$T$550,20,0),\" \")))","v":""}]
[null,"",{"$f":"IF($H$11=0,\" \",IF(B80=$H$11,\"TOTALES\",+IF(B81>0,VLOOKUP(B81,Simulador!$A$32:$T$550,3,0),\" \")))","v":""},{"$f":"IF($H$11=0,\" \",IF(B80=$H$11,Simulador!$M$30,+IF(B81>0,VLOOKUP(B81,Simulador!$A$32:$T$550,13,0),\" \")))","v":""},{"$f":"IF($H$11=0,\" \",IF(B80=$H$11,Simulador!$N$30,+IF(B81>0,VLOOKUP(B81,Simulador!$A$32:$T$550,14,0),\" \")))","v":""},{"$f":"IF($H$11=0,\" \",IF(B80=$H$11,Simulador!$O$30,+IF(B81>0,VLOOKUP(B81,Simulador!$A$32:$T$550,15,0),\" \")))","v":""},{"$f":"IF($H$11=0,\" \",IF(B80=$H$11,Simulador!$S$30,+IF(B81>0,VLOOKUP(B81,Simulador!$A$32:$T$550,19,0),\" \")))","v":""},{"$f":"IF($H$11=0,\" \",IF(B80=$H$11,Simulador!$T$30,+IF(B81>0,VLOOKUP(B81,Simulador!$A$32:$T$550,20,0),\" \")))","v":""}]
[null,"",{"$f":"IF($H$11=0,\" \",IF(B81=$H$11,\"TOTALES\",+IF(B82>0,VLOOKUP(B82,Simulador!$A$32:$T$550,3,0),\" \")))","v":""},{"$f":"IF($H$11=0,\" \",IF(B81=$H$11,Simulador!$M$30,+IF(B82>0,VLOOKUP(B82,Simulador!$A$32:$T$550,13,0),\" \")))","v":""},{"$f":"IF($H$11=0,\" \",IF(B81=$H$11,Simulador!$N$30,+IF(B82>0,VLOOKUP(B82,Simulador!$A$32:$T$550,14,0),\" \")))","v":""},{"$f":"IF($H$11=0,\" \",IF(B81=$H$11,Simulador!$O$30,+IF(B82>0,VLOOKUP(B82,Simulador!$A$32:$T$550,15,0),\" \")))","v":""},{"$f":"IF($H$11=0,\" \",IF(B81=$H$11,Simulador!$S$30,+IF(B82>0,VLOOKUP(B82,Simulador!$A$32:$T$550,19,0),\" \")))","v":""},{"$f":"IF($H$11=0,\" \",IF(B81=$H$11,Simulador!$T$30,+IF(B82>0,VLOOKUP(B82,Simulador!$A$32:$T$550,20,0),\" \")))","v":""}]
[null,"",{"$f":"IF($H$11=0,\" \",IF(B82=$H$11,\"TOTALES\",+IF(B83>0,VLOOKUP(B83,Simulador!$A$32:$T$550,3,0),\" \")))","v":""},{"$f":"IF($H$11=0,\" \",IF(B82=$H$11,Simulador!$M$30,+IF(B83>0,VLOOKUP(B83,Simulador!$A$32:$T$550,13,0),\" \")))","v":""},{"$f":"IF($H$11=0,\" \",IF(B82=$H$11,Simulador!$N$30,+IF(B83>0,VLOOKUP(B83,Simulador!$A$32:$T$550,14,0),\" \")))","v":""},{"$f":"IF($H$11=0,\" \",IF(B82=$H$11,Simulador!$O$30,+IF(B83>0,VLOOKUP(B83,Simulador!$A$32:$T$550,15,0),\" \")))","v":""},{"$f":"IF($H$11=0,\" \",IF(B82=$H$11,Simulador!$S$30,+IF(B83>0,VLOOKUP(B83,Simulador!$A$32:$T$550,19,0),\" \")))","v":""},{"$f":"IF($H$11=0,\" \",IF(B82=$H$11,Simulador!$T$30,+IF(B83>0,VLOOKUP(B83,Simulador!$A$32:$T$550,20,0),\" \")))","v":""}]
[null,{"$f":"IF(B83=0,\" \",IF(B83>=$H$11,\"\",B83+1))","v":""},{"$f":"IF($H$11=0,\" \",IF(B83=$H$11,\"TOTALES\",+IF(B84>0,VLOOKUP(B84,Simulador!$A$32:$T$550,3,0),\" \")))","v":""},{"$f":"IF($H$11=0,\" \",IF(B83=$H$11,Simulador!$M$30,+IF(B84>0,VLOOKUP(B84,Simulador!$A$32:$T$550,13,0),\" \")))","v":""},{"$f":"IF($H$11=0,\" \",IF(B83=$H$11,Simulador!$N$30,+IF(B84>0,VLOOKUP(B84,Simulador!$A$32:$T$550,14,0),\" \")))","v":""},{"$f":"IF($H$11=0,\" \",IF(B83=$H$11,Simulador!$O$30,+IF(B84>0,VLOOKUP(B84,Simulador!$A$32:$T$550,15,0),\" \")))","v":""},{"$f":"IF($H$11=0,\" \",IF(B83=$H$11,Simulador!$S$30,+IF(B84>0,VLOOKUP(B84,Simulador!$A$32:$T$550,19,0),\" \")))","v":""},{"$f":"IF($H$11=0,\" \",IF(B83=$H$11,Simulador!$T$30,+IF(B84>0,VLOOKUP(B84,Simulador!$A$32:$T$550,20,0),\" \")))","v":""}]
[null,"",{"$f":"IF($H$11=0,\" \",IF(B84=$H$11,\"TOTALES\",+IF(B85>0,VLOOKUP(B85,Simulador!$A$32:$T$550,3,0),\" \")))","v":""},{"$f":"IF($H$11=0,\" \",IF(B84=$H$11,Simulador!$M$30,+IF(B85>0,VLOOKUP(B85,Simulador!$A$32:$T$550,13,0),\" \")))","v":""},{"$f":"IF($H$11=0,\" \",IF(B84=$H$11,Simulador!$N$30,+IF(B85>0,VLOOKUP(B85,Simulador!$A$32:$T$550,14,0),\" \")))","v":""},{"$f":"IF($H$11=0,\" \",IF(B84=$H$11,Simulador!$O$30,+IF(B85>0,VLOOKUP(B85,Simulador!$A$32:$T$550,15,0),\" \")))","v":""},{"$f":"IF($H$11=0,\" \",IF(B84=$H$11,Simulador!$S$30,+IF(B85>0,VLOOKUP(B85,Simulador!$A$32:$T$550,19,0),\" \")))","v":""},{"$f":"IF($H$11=0,\" \",IF(B84=$H$11,Simulador!$T$30,+IF(B85>0,VLOOKUP(B85,Simulador!$A$32:$T$550,20,0),\" \")))","v":""}]
[null,"",{"$f":"IF($H$11=0,\" \",IF(B85=$H$11,\"TOTALES\",+IF(B86>0,VLOOKUP(B86,Simulador!$A$32:$T$550,3,0),\" \")))","v":""},{"$f":"IF($H$11=0,\" \",IF(B85=$H$11,Simulador!$M$30,+IF(B86>0,VLOOKUP(B86,Simulador!$A$32:$T$550,13,0),\" \")))","v":""},{"$f":"IF($H$11=0,\" \",IF(B85=$H$11,Simulador!$N$30,+IF(B86>0,VLOOKUP(B86,Simulador!$A$32:$T$550,14,0),\" \")))","v":""},{"$f":"IF($H$11=0,\" \",IF(B85=$H$11,Simulador!$O$30,+IF(B86>0,VLOOKUP(B86,Simulador!$A$32:$T$550,15,0),\" \")))","v":""},{"$f":"IF($H$11=0,\" \",IF(B85=$H$11,Simulador!$S$30,+IF(B86>0,VLOOKUP(B86,Simulador!$A$32:$T$550,19,0),\" \")))","v":""},{"$f":"IF($H$11=0,\" \",IF(B85=$H$11,Simulador!$T$30,+IF(B86>0,VLOOKUP(B86,Simulador!$A$32:$T$550,20,0),\" \")))","v":""}]
[null,"",{"$f":"IF($H$11=0,\" \",IF(B86=$H$11,\"TOTALES\",+IF(B87>0,VLOOKUP(B87,Simulador!$A$32:$T$550,3,0),\" \")))","v":""},{"$f":"IF($H$11=0,\" \",IF(B86=$H$11,Simulador!$M$30,+IF(B87>0,VLOOKUP(B87,Simulador!$A$32:$T$550,13,0),\" \")))","v":""},{"$f":"IF($H$11=0,\" \",IF(B86=$H$11,Simulador!$N$30,+IF(B87>0,VLOOKUP(B87,Simulador!$A$32:$T$550,14,0),\" \")))","v":""},{"$f":"IF($H$11=0,\" \",IF(B86=$H$11,Simulador!$O$30,+IF(B87>0,VLOOKUP(B87,Simulador!$A$32:$T$550,15,0),\" \")))","v":""},{"$f":"IF($H$11=0,\" \",IF(B86=$H$11,Simulador!$S$30,+IF(B87>0,VLOOKUP(B87,Simulador!$A$32:$T$550,19,0),\" \")))","v":""},{"$f":"IF($H$11=0,\" \",IF(B86=$H$11,Simulador!$T$30,+IF(B87>0,VLOOKUP(B87,Simulador!$A$32:$T$550,20,0),\" \")))","v":""}]
[null,"",{"$f":"IF($H$11=0,\" \",IF(B87=$H$11,\"TOTALES\",+IF(B88>0,VLOOKUP(B88,Simulador!$A$32:$T$550,3,0),\" \")))","v":""},{"$f":"IF($H$11=0,\" \",IF(B87=$H$11,Simulador!$M$30,+IF(B88>0,VLOOKUP(B88,Simulador!$A$32:$T$550,13,0),\" \")))","v":""},{"$f":"IF($H$11=0,\" \",IF(B87=$H$11,Simulador!$N$30,+IF(B88>0,VLOOKUP(B88,Simulador!$A$32:$T$550,14,0),\" \")))","v":""},{"$f":"IF($H$11=0,\" \",IF(B87=$H$11,Simulador!$O$30,+IF(B88>0,VLOOKUP(B88,Simulador!$A$32:$T$550,15,0),\" \")))","v":""},{"$f":"IF($H$11=0,\" \",IF(B87=$H$11,Simulador!$S$30,+IF(B88>0,VLOOKUP(B88,Simulador!$A$32:$T$550,19,0),\" \")))","v":""},{"$f":"IF($H$11=0,\" \",IF(B87=$H$11,Simulador!$T$30,+IF(B88>0,VLOOKUP(B88,Simulador!$A$32:$T$550,20,0),\" \")))","v":""}]
[null,"",{"$f":"IF($H$11=0,\" \",IF(B88=$H$11,\"TOTALES\",+IF(B89>0,VLOOKUP(B89,Simulador!$A$32:$T$550,3,0),\" \")))","v":""},{"$f":"IF($H$11=0,\" \",IF(B88=$H$11,Simulador!$M$30,+IF(B89>0,VLOOKUP(B89,Simulador!$A$32:$T$550,13,0),\" \")))","v":""},{"$f":"IF($H$11=0,\" \",IF(B88=$H$11,Simulador!$N$30,+IF(B89>0,VLOOKUP(B89,Simulador!$A$32:$T$550,14,0),\" \")))","v":""},{"$f":"IF($H$11=0,\" \",IF(B88=$H$11,Simulador!$O$30,+IF(B89>0,VLOOKUP(B89,Simulador!$A$32:$T$550,15,0),\" \")))","v":""},{"$f":"IF($H$11=0,\" \",IF(B88=$H$11,Simulador!$S$30,+IF(B89>0,VLOOKUP(B89,Simulador!$A$32:$T$550,19,0),\" \")))","v":""},{"$f":"IF($H$11=0,\" \",IF(B88=$H$11,Simulador!$T$30,+IF(B89>0,VLOOKUP(B89,Simulador!$A$32:$T$550,20,0),\" \")))","v":""}]
[null,"",{"$f":"IF($H$11=0,\" \",IF(B89=$H$11,\"TOTALES\",+IF(B90>0,VLOOKUP(B90,Simulador!$A$32:$T$550,3,0),\" \")))","v":""},{"$f":"IF($H$11=0,\" \",IF(B89=$H$11,Simulador!$M$30,+IF(B90>0,VLOOKUP(B90,Simulador!$A$32:$T$550,13,0),\" \")))","v":""},{"$f":"IF($H$11=0,\" \",IF(B89=$H$11,Simulador!$N$30,+IF(B90>0,VLOOKUP(B90,Simulador!$A$32:$T$550,14,0),\" \")))","v":""},{"$f":"IF($H$11=0,\" \",IF(B89=$H$11,Simulador!$O$30,+IF(B90>0,VLOOKUP(B90,Simulador!$A$32:$T$550,15,0),\" \")))","v":""},{"$f":"IF($H$11=0,\" \",IF(B89=$H$11,Simulador!$S$30,+IF(B90>0,VLOOKUP(B90,Simulador!$A$32:$T$550,19,0),\" \")))","v":""},{"$f":"IF($H$11=0,\" \",IF(B89=$H$11,Simulador!$T$30,+IF(B90>0,VLOOKUP(B90,Simulador!$A$32:$T$550,20,0),\" \")))","v":""}]
[null,"",{"$f":"IF($H$11=0,\" \",IF(B90=$H$11,\"TOTALES\",+IF(B91>0,VLOOKUP(B91,Simulador!$A$32:$T$550,3,0),\" \")))","v":""},{"$f":"IF($H$11=0,\" \",IF(B90=$H$11,Simulador!$M$30,+IF(B91>0,VLOOKUP(B91,Simulador!$A$32:$T$550,13,0),\" \")))","v":""},{"$f":"IF($H$11=0,\" \",IF(B90=$H$11,Simulador!$N$30,+IF(B91>0,VLOOKUP(B91,Simulador!$A$32:$T$550,14,0),\" \")))","v":""},{"$f":"IF($H$11=0,\" \",IF(B90=$H$11,Simulador!$O$30,+IF(B91>0,VLOOKUP(B91,Simulador!$A$32:$T$550,15,0),\" \")))","v":""},{"$f":"IF($H$11=0,\" \",IF(B90=$H$11,Simulador!$S$30,+IF(B91>0,VLOOKUP(B91,Simulador!$A$32:$T$550,19,0),\" \")))","v":""},{"$f":"IF($H$11=0,\" \",IF(B90=$H$11,Simulador!$T$30,+IF(B91>0,VLOOKUP(B91,Simulador!$A$32:$T$550,20,0),\" \")))","v":""}]
[null,"",{"$f":"IF($H$11=0,\" \",IF(B91=$H$11,\"TOTALES\",+IF(B92>0,VLOOKUP(B92,Simulador!$A$32:$T$550,3,0),\" \")))","v":""},{"$f":"IF($H$11=0,\" \",IF(B91=$H$11,Simulador!$M$30,+IF(B92>0,VLOOKUP(B92,Simulador!$A$32:$T$550,13,0),\" \")))","v":""},{"$f":"IF($H$11=0,\" \",IF(B91=$H$11,Simulador!$N$30,+IF(B92>0,VLOOKUP(B92,Simulador!$A$32:$T$550,14,0),\" \")))","v":""},{"$f":"IF($H$11=0,\" \",IF(B91=$H$11,Simulador!$O$30,+IF(B92>0,VLOOKUP(B92,Simulador!$A$32:$T$550,15,0),\" \")))","v":""},{"$f":"IF($H$11=0,\" \",IF(B91=$H$11,Simulador!$S$30,+IF(B92>0,VLOOKUP(B92,Simulador!$A$32:$T$550,19,0),\" \")))","v":""},{"$f":"IF($H$11=0,\" \",IF(B91=$H$11,Simulador!$T$30,+IF(B92>0,VLOOKUP(B92,Simulador!$A$32:$T$550,20,0),\" \")))","v":""}]
[null,"",{"$f":"IF($H$11=0,\" \",IF(B92=$H$11,\"TOTALES\",+IF(B93>0,VLOOKUP(B93,Simulador!$A$32:$T$550,3,0),\" \")))","v":""},{"$f":"IF($H$11=0,\" \",IF(B92=$H$11,Simulador!$M$30,+IF(B93>0,VLOOKUP(B93,Simulador!$A$32:$T$550,13,0),\" \")))","v":""},{"$f":"IF($H$11=0,\" \",IF(B92=$H$11,Simulador!$N$30,+IF(B93>0,VLOOKUP(B93,Simulador!$A$32:$T$550,14,0),\" \")))","v":""},{"$f":"IF($H$11=0,\" \",IF(B92=$H$11,Simulador!$O$30,+IF(B93>0,VLOOKUP(B93,Simulador!$A$32:$T$550,15,0),\" \")))","v":""},{"$f":"IF($H$11=0,\" \",IF(B92=$H$11,Simulador!$S$30,+IF(B93>0,VLOOKUP(B93,Simulador!$A$32:$T$550,19,0),\" \")))","v":""},{"$f":"IF($H$11=0,\" \",IF(B92=$H$11,Simulador!$T$30,+IF(B93>0,VLOOKUP(B93,Simulador!$A$32:$T$550,20,0),\" \")))","v":""}]