{"text_format":"1","workbook":"xlsx","n_sheets":5,"sheets":["Calculos","Simulador_Cliente","Cronograma_Referencial","Simulador_v2","Cronograma_Referencial (2)"],"not_rendered":{"charts":0,"images":2,"macros":1,"external_links":1,"defined_names":0,"comments":1,"pivot_tables":0},"unopened":[],"bounds":{"document_bytes":16777216,"sheet_cells":100000,"rows_first":2000,"rows_last":500,"rows_between":2000,"halvings":0,"cell_chars":16384,"cell_head_chars":4096},"cells_cut":0,"cells_raw":0,"read":"whole","date_system":"1900"}

{"sheet":"Calculos","index":0,"n_rows":386,"n_cols":7,"rows_kept":386,"cut":false,"hidden":true,"merged":[[0,0,0,6]]}
["Factores utilizados en Meses de No Pago para cálculo del valor cuota"]
[]
["N° de Cuota","Equivalente","Fecha","Mes","Marca Cuota No Pago","Factor (10)","Acumulado"]
[1,{"$f":"IF(E4<>\"C\",IF(ISERROR(1+B3)=TRUE,1,1+B3),IF(ISNUMBER(B3),B3,1))","v":1},{"$f":"+#REF!","v":{"$error":"#REF!"}},{"$f":"MONTH(C4)","v":{"$error":"#REF!"}},{"$f":"IF(ISERROR(MATCH(D4,#REF!,0))=FALSE,\"C\",IF(ISERROR(MATCH(D4,#REF!,0))=FALSE,\"D\",\"\"))","v":""},{"$f":"IF(E4=\"C\",0,IF(E4 =\"D\",ROUND(1/((1+#REF!)^A4),9) * 2,ROUND(1/((1+#REF!)^A4),9)))","v":{"$error":"#REF!"}},{"$f":"ROUND(F4,9)","v":{"$error":"#REF!"}}]
[{"$f":"A4+1","v":2},{"$f":"IF(E5<>\"C\",IF(ISERROR(1+B4)=TRUE,1,1+B4),IF(ISNUMBER(B4),B4,1))","v":2},{"$f":"DATE(YEAR(C4) + 1/12,MONTH(C4)+1,DAY(C4))","v":{"$error":"#REF!"}},{"$error":"#REF!"},{"$f":"IF(ISERROR(MATCH(D5,#REF!,0))=FALSE,\"C\",IF(ISERROR(MATCH(D5,#REF!,0))=FALSE,\"D\",\"\"))","v":""},{"$f":"IF(E5=\"C\",0,IF(E5 =\"D\",ROUND(1/((1+#REF!)^A5),9) * 2,ROUND(1/((1+#REF!)^A5),9)))","v":{"$error":"#REF!"}},{"$f":"G4+ROUND(F5,9)","v":{"$error":"#REF!"}}]
[3,3,{"$error":"#REF!"},{"$error":"#REF!"},{"$f":"IF(ISERROR(MATCH(D6,#REF!,0))=FALSE,\"C\",IF(ISERROR(MATCH(D6,#REF!,0))=FALSE,\"D\",\"\"))","v":""},{"$f":"IF(E6=\"C\",0,IF(E6 =\"D\",ROUND(1/((1+#REF!)^A6),9) * 2,ROUND(1/((1+#REF!)^A6),9)))","v":{"$error":"#REF!"}},{"$f":"G5+ROUND(F6,9)","v":{"$error":"#REF!"}}]
[4,4,{"$error":"#REF!"},{"$error":"#REF!"},{"$f":"IF(ISERROR(MATCH(D7,#REF!,0))=FALSE,\"C\",IF(ISERROR(MATCH(D7,#REF!,0))=FALSE,\"D\",\"\"))","v":""},{"$f":"IF(E7=\"C\",0,IF(E7 =\"D\",ROUND(1/((1+#REF!)^A7),9) * 2,ROUND(1/((1+#REF!)^A7),9)))","v":{"$error":"#REF!"}},{"$error":"#REF!"}]
[5,5,{"$error":"#REF!"},{"$error":"#REF!"},{"$f":"IF(ISERROR(MATCH(D8,#REF!,0))=FALSE,\"C\",IF(ISERROR(MATCH(D8,#REF!,0))=FALSE,\"D\",\"\"))","v":""},{"$f":"IF(E8=\"C\",0,IF(E8 =\"D\",ROUND(1/((1+#REF!)^A8),9) * 2,ROUND(1/((1+#REF!)^A8),9)))","v":{"$error":"#REF!"}},{"$error":"#REF!"}]
[6,6,{"$error":"#REF!"},{"$error":"#REF!"},{"$f":"IF(ISERROR(MATCH(D9,#REF!,0))=FALSE,\"C\",IF(ISERROR(MATCH(D9,#REF!,0))=FALSE,\"D\",\"\"))","v":""},{"$f":"IF(E9=\"C\",0,IF(E9 =\"D\",ROUND(1/((1+#REF!)^A9),9) * 2,ROUND(1/((1+#REF!)^A9),9)))","v":{"$error":"#REF!"}},{"$error":"#REF!"}]
[7,7,{"$error":"#REF!"},{"$error":"#REF!"},{"$f":"IF(ISERROR(MATCH(D10,#REF!,0))=FALSE,\"C\",IF(ISERROR(MATCH(D10,#REF!,0))=FALSE,\"D\",\"\"))","v":""},{"$f":"IF(E10=\"C\",0,IF(E10 =\"D\",ROUND(1/((1+#REF!)^A10),9) * 2,ROUND(1/((1+#REF!)^A10),9)))","v":{"$error":"#REF!"}},{"$error":"#REF!"}]
[8,8,{"$error":"#REF!"},{"$error":"#REF!"},{"$f":"IF(ISERROR(MATCH(D11,#REF!,0))=FALSE,\"C\",IF(ISERROR(MATCH(D11,#REF!,0))=FALSE,\"D\",\"\"))","v":""},{"$f":"IF(E11=\"C\",0,IF(E11 =\"D\",ROUND(1/((1+#REF!)^A11),9) * 2,ROUND(1/((1+#REF!)^A11),9)))","v":{"$error":"#REF!"}},{"$error":"#REF!"}]
[9,9,{"$error":"#REF!"},{"$error":"#REF!"},{"$f":"IF(ISERROR(MATCH(D12,#REF!,0))=FALSE,\"C\",IF(ISERROR(MATCH(D12,#REF!,0))=FALSE,\"D\",\"\"))","v":""},{"$f":"IF(E12=\"C\",0,IF(E12 =\"D\",ROUND(1/((1+#REF!)^A12),9) * 2,ROUND(1/((1+#REF!)^A12),9)))","v":{"$error":"#REF!"}},{"$error":"#REF!"}]
[10,10,{"$error":"#REF!"},{"$error":"#REF!"},{"$f":"IF(ISERROR(MATCH(D13,#REF!,0))=FALSE,\"C\",IF(ISERROR(MATCH(D13,#REF!,0))=FALSE,\"D\",\"\"))","v":""},{"$f":"IF(E13=\"C\",0,IF(E13 =\"D\",ROUND(1/((1+#REF!)^A13),9) * 2,ROUND(1/((1+#REF!)^A13),9)))","v":{"$error":"#REF!"}},{"$error":"#REF!"}]
[11,11,{"$error":"#REF!"},{"$error":"#REF!"},{"$f":"IF(ISERROR(MATCH(D14,#REF!,0))=FALSE,\"C\",IF(ISERROR(MATCH(D14,#REF!,0))=FALSE,\"D\",\"\"))","v":""},{"$f":"IF(E14=\"C\",0,IF(E14 =\"D\",ROUND(1/((1+#REF!)^A14),9) * 2,ROUND(1/((1+#REF!)^A14),9)))","v":{"$error":"#REF!"}},{"$error":"#REF!"}]
[12,12,{"$error":"#REF!"},{"$error":"#REF!"},{"$f":"IF(ISERROR(MATCH(D15,#REF!,0))=FALSE,\"C\",IF(ISERROR(MATCH(D15,#REF!,0))=FALSE,\"D\",\"\"))","v":""},{"$f":"IF(E15=\"C\",0,IF(E15 =\"D\",ROUND(1/((1+#REF!)^A15),9) * 2,ROUND(1/((1+#REF!)^A15),9)))","v":{"$error":"#REF!"}},{"$error":"#REF!"}]
[13,13,{"$error":"#REF!"},{"$error":"#REF!"},{"$f":"IF(ISERROR(MATCH(D16,#REF!,0))=FALSE,\"C\",IF(ISERROR(MATCH(D16,#REF!,0))=FALSE,\"D\",\"\"))","v":""},{"$f":"IF(E16=\"C\",0,IF(E16 =\"D\",ROUND(1/((1+#REF!)^A16),9) * 2,ROUND(1/((1+#REF!)^A16),9)))","v":{"$error":"#REF!"}},{"$error":"#REF!"}]
[14,14,{"$error":"#REF!"},{"$error":"#REF!"},{"$f":"IF(ISERROR(MATCH(D17,#REF!,0))=FALSE,\"C\",IF(ISERROR(MATCH(D17,#REF!,0))=FALSE,\"D\",\"\"))","v":""},{"$f":"IF(E17=\"C\",0,IF(E17 =\"D\",ROUND(1/((1+#REF!)^A17),9) * 2,ROUND(1/((1+#REF!)^A17),9)))","v":{"$error":"#REF!"}},{"$error":"#REF!"}]
[15,15,{"$error":"#REF!"},{"$error":"#REF!"},{"$f":"IF(ISERROR(MATCH(D18,#REF!,0))=FALSE,\"C\",IF(ISERROR(MATCH(D18,#REF!,0))=FALSE,\"D\",\"\"))","v":""},{"$f":"IF(E18=\"C\",0,IF(E18 =\"D\",ROUND(1/((1+#REF!)^A18),9) * 2,ROUND(1/((1+#REF!)^A18),9)))","v":{"$error":"#REF!"}},{"$error":"#REF!"}]
[16,16,{"$error":"#REF!"},{"$error":"#REF!"},{"$f":"IF(ISERROR(MATCH(D19,#REF!,0))=FALSE,\"C\",IF(ISERROR(MATCH(D19,#REF!,0))=FALSE,\"D\",\"\"))","v":""},{"$f":"IF(E19=\"C\",0,IF(E19 =\"D\",ROUND(1/((1+#REF!)^A19),9) * 2,ROUND(1/((1+#REF!)^A19),9)))","v":{"$error":"#REF!"}},{"$error":"#REF!"}]
[17,17,{"$error":"#REF!"},{"$error":"#REF!"},{"$f":"IF(ISERROR(MATCH(D20,#REF!,0))=FALSE,\"C\",IF(ISERROR(MATCH(D20,#REF!,0))=FALSE,\"D\",\"\"))","v":""},{"$f":"IF(E20=\"C\",0,IF(E20 =\"D\",ROUND(1/((1+#REF!)^A20),9) * 2,ROUND(1/((1+#REF!)^A20),9)))","v":{"$error":"#REF!"}},{"$error":"#REF!"}]
[18,18,{"$error":"#REF!"},{"$error":"#REF!"},{"$f":"IF(ISERROR(MATCH(D21,#REF!,0))=FALSE,\"C\",IF(ISERROR(MATCH(D21,#REF!,0))=FALSE,\"D\",\"\"))","v":""},{"$f":"IF(E21=\"C\",0,IF(E21 =\"D\",ROUND(1/((1+#REF!)^A21),9) * 2,ROUND(1/((1+#REF!)^A21),9)))","v":{"$error":"#REF!"}},{"$error":"#REF!"}]
[19,19,{"$error":"#REF!"},{"$error":"#REF!"},{"$f":"IF(ISERROR(MATCH(D22,#REF!,0))=FALSE,\"C\",IF(ISERROR(MATCH(D22,#REF!,0))=FALSE,\"D\",\"\"))","v":""},{"$f":"IF(E22=\"C\",0,IF(E22 =\"D\",ROUND(1/((1+#REF!)^A22),9) * 2,ROUND(1/((1+#REF!)^A22),9)))","v":{"$error":"#REF!"}},{"$error":"#REF!"}]
[20,20,{"$error":"#REF!"},{"$error":"#REF!"},{"$f":"IF(ISERROR(MATCH(D23,#REF!,0))=FALSE,\"C\",IF(ISERROR(MATCH(D23,#REF!,0))=FALSE,\"D\",\"\"))","v":""},{"$f":"IF(E23=\"C\",0,IF(E23 =\"D\",ROUND(1/((1+#REF!)^A23),9) * 2,ROUND(1/((1+#REF!)^A23),9)))","v":{"$error":"#REF!"}},{"$error":"#REF!"}]
[21,21,{"$error":"#REF!"},{"$error":"#REF!"},{"$f":"IF(ISERROR(MATCH(D24,#REF!,0))=FALSE,\"C\",IF(ISERROR(MATCH(D24,#REF!,0))=FALSE,\"D\",\"\"))","v":""},{"$f":"IF(E24=\"C\",0,IF(E24 =\"D\",ROUND(1/((1+#REF!)^A24),9) * 2,ROUND(1/((1+#REF!)^A24),9)))","v":{"$error":"#REF!"}},{"$error":"#REF!"}]
[22,22,{"$error":"#REF!"},{"$error":"#REF!"},{"$f":"IF(ISERROR(MATCH(D25,#REF!,0))=FALSE,\"C\",IF(ISERROR(MATCH(D25,#REF!,0))=FALSE,\"D\",\"\"))","v":""},{"$f":"IF(E25=\"C\",0,IF(E25 =\"D\",ROUND(1/((1+#REF!)^A25),9) * 2,ROUND(1/((1+#REF!)^A25),9)))","v":{"$error":"#REF!"}},{"$error":"#REF!"}]
[23,23,{"$error":"#REF!"},{"$error":"#REF!"},{"$f":"IF(ISERROR(MATCH(D26,#REF!,0))=FALSE,\"C\",IF(ISERROR(MATCH(D26,#REF!,0))=FALSE,\"D\",\"\"))","v":""},{"$f":"IF(E26=\"C\",0,IF(E26 =\"D\",ROUND(1/((1+#REF!)^A26),9) * 2,ROUND(1/((1+#REF!)^A26),9)))","v":{"$error":"#REF!"}},{"$error":"#REF!"}]
[24,24,{"$error":"#REF!"},{"$error":"#REF!"},{"$f":"IF(ISERROR(MATCH(D27,#REF!,0))=FALSE,\"C\",IF(ISERROR(MATCH(D27,#REF!,0))=FALSE,\"D\",\"\"))","v":""},{"$f":"IF(E27=\"C\",0,IF(E27 =\"D\",ROUND(1/((1+#REF!)^A27),9) * 2,ROUND(1/((1+#REF!)^A27),9)))","v":{"$error":"#REF!"}},{"$error":"#REF!"}]
[25,25,{"$error":"#REF!"},{"$error":"#REF!"},{"$f":"IF(ISERROR(MATCH(D28,#REF!,0))=FALSE,\"C\",IF(ISERROR(MATCH(D28,#REF!,0))=FALSE,\"D\",\"\"))","v":""},{"$f":"IF(E28=\"C\",0,IF(E28 =\"D\",ROUND(1/((1+#REF!)^A28),9) * 2,ROUND(1/((1+#REF!)^A28),9)))","v":{"$error":"#REF!"}},{"$error":"#REF!"}]
[26,26,{"$error":"#REF!"},{"$error":"#REF!"},{"$f":"IF(ISERROR(MATCH(D29,#REF!,0))=FALSE,\"C\",IF(ISERROR(MATCH(D29,#REF!,0))=FALSE,\"D\",\"\"))","v":""},{"$f":"IF(E29=\"C\",0,IF(E29 =\"D\",ROUND(1/((1+#REF!)^A29),9) * 2,ROUND(1/((1+#REF!)^A29),9)))","v":{"$error":"#REF!"}},{"$error":"#REF!"}]
[27,27,{"$error":"#REF!"},{"$error":"#REF!"},{"$f":"IF(ISERROR(MATCH(D30,#REF!,0))=FALSE,\"C\",IF(ISERROR(MATCH(D30,#REF!,0))=FALSE,\"D\",\"\"))","v":""},{"$f":"IF(E30=\"C\",0,IF(E30 =\"D\",ROUND(1/((1+#REF!)^A30),9) * 2,ROUND(1/((1+#REF!)^A30),9)))","v":{"$error":"#REF!"}},{"$error":"#REF!"}]
[28,28,{"$error":"#REF!"},{"$error":"#REF!"},{"$f":"IF(ISERROR(MATCH(D31,#REF!,0))=FALSE,\"C\",IF(ISERROR(MATCH(D31,#REF!,0))=FALSE,\"D\",\"\"))","v":""},{"$f":"IF(E31=\"C\",0,IF(E31 =\"D\",ROUND(1/((1+#REF!)^A31),9) * 2,ROUND(1/((1+#REF!)^A31),9)))","v":{"$error":"#REF!"}},{"$error":"#REF!"}]
[29,29,{"$error":"#REF!"},{"$error":"#REF!"},{"$f":"IF(ISERROR(MATCH(D32,#REF!,0))=FALSE,\"C\",IF(ISERROR(MATCH(D32,#REF!,0))=FALSE,\"D\",\"\"))","v":""},{"$f":"IF(E32=\"C\",0,IF(E32 =\"D\",ROUND(1/((1+#REF!)^A32),9) * 2,ROUND(1/((1+#REF!)^A32),9)))","v":{"$error":"#REF!"}},{"$error":"#REF!"}]
[30,30,{"$error":"#REF!"},{"$error":"#REF!"},{"$f":"IF(ISERROR(MATCH(D33,#REF!,0))=FALSE,\"C\",IF(ISERROR(MATCH(D33,#REF!,0))=FALSE,\"D\",\"\"))","v":""},{"$f":"IF(E33=\"C\",0,IF(E33 =\"D\",ROUND(1/((1+#REF!)^A33),9) * 2,ROUND(1/((1+#REF!)^A33),9)))","v":{"$error":"#REF!"}},{"$error":"#REF!"}]
[31,31,{"$error":"#REF!"},{"$error":"#REF!"},{"$f":"IF(ISERROR(MATCH(D34,#REF!,0))=FALSE,\"C\",IF(ISERROR(MATCH(D34,#REF!,0))=FALSE,\"D\",\"\"))","v":""},{"$f":"IF(E34=\"C\",0,IF(E34 =\"D\",ROUND(1/((1+#REF!)^A34),9) * 2,ROUND(1/((1+#REF!)^A34),9)))","v":{"$error":"#REF!"}},{"$error":"#REF!"}]
[32,32,{"$error":"#REF!"},{"$error":"#REF!"},{"$f":"IF(ISERROR(MATCH(D35,#REF!,0))=FALSE,\"C\",IF(ISERROR(MATCH(D35,#REF!,0))=FALSE,\"D\",\"\"))","v":""},{"$f":"IF(E35=\"C\",0,IF(E35 =\"D\",ROUND(1/((1+#REF!)^A35),9) * 2,ROUND(1/((1+#REF!)^A35),9)))","v":{"$error":"#REF!"}},{"$error":"#REF!"}]
[33,33,{"$error":"#REF!"},{"$error":"#REF!"},{"$f":"IF(ISERROR(MATCH(D36,#REF!,0))=FALSE,\"C\",IF(ISERROR(MATCH(D36,#REF!,0))=FALSE,\"D\",\"\"))","v":""},{"$f":"IF(E36=\"C\",0,IF(E36 =\"D\",ROUND(1/((1+#REF!)^A36),9) * 2,ROUND(1/((1+#REF!)^A36),9)))","v":{"$error":"#REF!"}},{"$error":"#REF!"}]
[34,34,{"$error":"#REF!"},{"$error":"#REF!"},{"$f":"IF(ISERROR(MATCH(D37,#REF!,0))=FALSE,\"C\",IF(ISERROR(MATCH(D37,#REF!,0))=FALSE,\"D\",\"\"))","v":""},{"$f":"IF(E37=\"C\",0,IF(E37 =\"D\",ROUND(1/((1+#REF!)^A37),9) * 2,ROUND(1/((1+#REF!)^A37),9)))","v":{"$error":"#REF!"}},{"$error":"#REF!"}]
[35,35,{"$error":"#REF!"},{"$error":"#REF!"},{"$f":"IF(ISERROR(MATCH(D38,#REF!,0))=FALSE,\"C\",IF(ISERROR(MATCH(D38,#REF!,0))=FALSE,\"D\",\"\"))","v":""},{"$f":"IF(E38=\"C\",0,IF(E38 =\"D\",ROUND(1/((1+#REF!)^A38),9) * 2,ROUND(1/((1+#REF!)^A38),9)))","v":{"$error":"#REF!"}},{"$error":"#REF!"}]
[36,36,{"$error":"#REF!"},{"$error":"#REF!"},{"$f":"IF(ISERROR(MATCH(D39,#REF!,0))=FALSE,\"C\",IF(ISERROR(MATCH(D39,#REF!,0))=FALSE,\"D\",\"\"))","v":""},{"$f":"IF(E39=\"C\",0,IF(E39 =\"D\",ROUND(1/((1+#REF!)^A39),9) * 2,ROUND(1/((1+#REF!)^A39),9)))","v":{"$error":"#REF!"}},{"$error":"#REF!"}]
[37,37,{"$error":"#REF!"},{"$error":"#REF!"},{"$f":"IF(ISERROR(MATCH(D40,#REF!,0))=FALSE,\"C\",IF(ISERROR(MATCH(D40,#REF!,0))=FALSE,\"D\",\"\"))","v":""},{"$f":"IF(E40=\"C\",0,IF(E40 =\"D\",ROUND(1/((1+#REF!)^A40),9) * 2,ROUND(1/((1+#REF!)^A40),9)))","v":{"$error":"#REF!"}},{"$error":"#REF!"}]
[38,38,{"$error":"#REF!"},{"$error":"#REF!"},{"$f":"IF(ISERROR(MATCH(D41,#REF!,0))=FALSE,\"C\",IF(ISERROR(MATCH(D41,#REF!,0))=FALSE,\"D\",\"\"))","v":""},{"$f":"IF(E41=\"C\",0,IF(E41 =\"D\",ROUND(1/((1+#REF!)^A41),9) * 2,ROUND(1/((1+#REF!)^A41),9)))","v":{"$error":"#REF!"}},{"$error":"#REF!"}]
[39,39,{"$error":"#REF!"},{"$error":"#REF!"},{"$f":"IF(ISERROR(MATCH(D42,#REF!,0))=FALSE,\"C\",IF(ISERROR(MATCH(D42,#REF!,0))=FALSE,\"D\",\"\"))","v":""},{"$f":"IF(E42=\"C\",0,IF(E42 =\"D\",ROUND(1/((1+#REF!)^A42),9) * 2,ROUND(1/((1+#REF!)^A42),9)))","v":{"$error":"#REF!"}},{"$error":"#REF!"}]
[40,40,{"$error":"#REF!"},{"$error":"#REF!"},{"$f":"IF(ISERROR(MATCH(D43,#REF!,0))=FALSE,\"C\",IF(ISERROR(MATCH(D43,#REF!,0))=FALSE,\"D\",\"\"))","v":""},{"$f":"IF(E43=\"C\",0,IF(E43 =\"D\",ROUND(1/((1+#REF!)^A43),9) * 2,ROUND(1/((1+#REF!)^A43),9)))","v":{"$error":"#REF!"}},{"$error":"#REF!"}]
[41,41,{"$error":"#REF!"},{"$error":"#REF!"},{"$f":"IF(ISERROR(MATCH(D44,#REF!,0))=FALSE,\"C\",IF(ISERROR(MATCH(D44,#REF!,0))=FALSE,\"D\",\"\"))","v":""},{"$f":"IF(E44=\"C\",0,IF(E44 =\"D\",ROUND(1/((1+#REF!)^A44),9) * 2,ROUND(1/((1+#REF!)^A44),9)))","v":{"$error":"#REF!"}},{"$error":"#REF!"}]
[42,42,{"$error":"#REF!"},{"$error":"#REF!"},{"$f":"IF(ISERROR(MATCH(D45,#REF!,0))=FALSE,\"C\",IF(ISERROR(MATCH(D45,#REF!,0))=FALSE,\"D\",\"\"))","v":""},{"$f":"IF(E45=\"C\",0,IF(E45 =\"D\",ROUND(1/((1+#REF!)^A45),9) * 2,ROUND(1/((1+#REF!)^A45),9)))","v":{"$error":"#REF!"}},{"$error":"#REF!"}]
[43,43,{"$error":"#REF!"},{"$error":"#REF!"},{"$f":"IF(ISERROR(MATCH(D46,#REF!,0))=FALSE,\"C\",IF(ISERROR(MATCH(D46,#REF!,0))=FALSE,\"D\",\"\"))","v":""},{"$f":"IF(E46=\"C\",0,IF(E46 =\"D\",ROUND(1/((1+#REF!)^A46),9) * 2,ROUND(1/((1+#REF!)^A46),9)))","v":{"$error":"#REF!"}},{"$error":"#REF!"}]
[44,44,{"$error":"#REF!"},{"$error":"#REF!"},{"$f":"IF(ISERROR(MATCH(D47,#REF!,0))=FALSE,\"C\",IF(ISERROR(MATCH(D47,#REF!,0))=FALSE,\"D\",\"\"))","v":""},{"$f":"IF(E47=\"C\",0,IF(E47 =\"D\",ROUND(1/((1+#REF!)^A47),9) * 2,ROUND(1/((1+#REF!)^A47),9)))","v":{"$error":"#REF!"}},{"$error":"#REF!"}]
[45,45,{"$error":"#REF!"},{"$error":"#REF!"},{"$f":"IF(ISERROR(MATCH(D48,#REF!,0))=FALSE,\"C\",IF(ISERROR(MATCH(D48,#REF!,0))=FALSE,\"D\",\"\"))","v":""},{"$f":"IF(E48=\"C\",0,IF(E48 =\"D\",ROUND(1/((1+#REF!)^A48),9) * 2,ROUND(1/((1+#REF!)^A48),9)))","v":{"$error":"#REF!"}},{"$error":"#REF!"}]
[46,46,{"$error":"#REF!"},{"$error":"#REF!"},{"$f":"IF(ISERROR(MATCH(D49,#REF!,0))=FALSE,\"C\",IF(ISERROR(MATCH(D49,#REF!,0))=FALSE,\"D\",\"\"))","v":""},{"$f":"IF(E49=\"C\",0,IF(E49 =\"D\",ROUND(1/((1+#REF!)^A49),9) * 2,ROUND(1/((1+#REF!)^A49),9)))","v":{"$error":"#REF!"}},{"$error":"#REF!"}]
[47,47,{"$error":"#REF!"},{"$error":"#REF!"},{"$f":"IF(ISERROR(MATCH(D50,#REF!,0))=FALSE,\"C\",IF(ISERROR(MATCH(D50,#REF!,0))=FALSE,\"D\",\"\"))","v":""},{"$f":"IF(E50=\"C\",0,IF(E50 =\"D\",ROUND(1/((1+#REF!)^A50),9) * 2,ROUND(1/((1+#REF!)^A50),9)))","v":{"$error":"#REF!"}},{"$error":"#REF!"}]
[48,48,{"$error":"#REF!"},{"$error":"#REF!"},{"$f":"IF(ISERROR(MATCH(D51,#REF!,0))=FALSE,\"C\",IF(ISERROR(MATCH(D51,#REF!,0))=FALSE,\"D\",\"\"))","v":""},{"$f":"IF(E51=\"C\",0,IF(E51 =\"D\",ROUND(1/((1+#REF!)^A51),9) * 2,ROUND(1/((1+#REF!)^A51),9)))","v":{"$error":"#REF!"}},{"$error":"#REF!"}]
[49,49,{"$error":"#REF!"},{"$error":"#REF!"},{"$f":"IF(ISERROR(MATCH(D52,#REF!,0))=FALSE,\"C\",IF(ISERROR(MATCH(D52,#REF!,0))=FALSE,\"D\",\"\"))","v":""},{"$f":"IF(E52=\"C\",0,IF(E52 =\"D\",ROUND(1/((1+#REF!)^A52),9) * 2,ROUND(1/((1+#REF!)^A52),9)))","v":{"$error":"#REF!"}},{"$error":"#REF!"}]
[50,50,{"$error":"#REF!"},{"$error":"#REF!"},{"$f":"IF(ISERROR(MATCH(D53,#REF!,0))=FALSE,\"C\",IF(ISERROR(MATCH(D53,#REF!,0))=FALSE,\"D\",\"\"))","v":""},{"$f":"IF(E53=\"C\",0,IF(E53 =\"D\",ROUND(1/((1+#REF!)^A53),9) * 2,ROUND(1/((1+#REF!)^A53),9)))","v":{"$error":"#REF!"}},{"$error":"#REF!"}]
[51,51,{"$error":"#REF!"},{"$error":"#REF!"},{"$f":"IF(ISERROR(MATCH(D54,#REF!,0))=FALSE,\"C\",IF(ISERROR(MATCH(D54,#REF!,0))=FALSE,\"D\",\"\"))","v":""},{"$f":"IF(E54=\"C\",0,IF(E54 =\"D\",ROUND(1/((1+#REF!)^A54),9) * 2,ROUND(1/((1+#REF!)^A54),9)))","v":{"$error":"#REF!"}},{"$error":"#REF!"}]
[52,52,{"$error":"#REF!"},{"$error":"#REF!"},{"$f":"IF(ISERROR(MATCH(D55,#REF!,0))=FALSE,\"C\",IF(ISERROR(MATCH(D55,#REF!,0))=FALSE,\"D\",\"\"))","v":""},{"$f":"IF(E55=\"C\",0,IF(E55 =\"D\",ROUND(1/((1+#REF!)^A55),9) * 2,ROUND(1/((1+#REF!)^A55),9)))","v":{"$error":"#REF!"}},{"$error":"#REF!"}]
[53,53,{"$error":"#REF!"},{"$error":"#REF!"},{"$f":"IF(ISERROR(MATCH(D56,#REF!,0))=FALSE,\"C\",IF(ISERROR(MATCH(D56,#REF!,0))=FALSE,\"D\",\"\"))","v":""},{"$f":"IF(E56=\"C\",0,IF(E56 =\"D\",ROUND(1/((1+#REF!)^A56),9) * 2,ROUND(1/((1+#REF!)^A56),9)))","v":{"$error":"#REF!"}},{"$error":"#REF!"}]
[54,54,{"$error":"#REF!"},{"$error":"#REF!"},{"$f":"IF(ISERROR(MATCH(D57,#REF!,0))=FALSE,\"C\",IF(ISERROR(MATCH(D57,#REF!,0))=FALSE,\"D\",\"\"))","v":""},{"$f":"IF(E57=\"C\",0,IF(E57 =\"D\",ROUND(1/((1+#REF!)^A57),9) * 2,ROUND(1/((1+#REF!)^A57),9)))","v":{"$error":"#REF!"}},{"$error":"#REF!"}]
[55,55,{"$error":"#REF!"},{"$error":"#REF!"},{"$f":"IF(ISERROR(MATCH(D58,#REF!,0))=FALSE,\"C\",IF(ISERROR(MATCH(D58,#REF!,0))=FALSE,\"D\",\"\"))","v":""},{"$f":"IF(E58=\"C\",0,IF(E58 =\"D\",ROUND(1/((1+#REF!)^A58),9) * 2,ROUND(1/((1+#REF!)^A58),9)))","v":{"$error":"#REF!"}},{"$error":"#REF!"}]
[56,56,{"$error":"#REF!"},{"$error":"#REF!"},{"$f":"IF(ISERROR(MATCH(D59,#REF!,0))=FALSE,\"C\",IF(ISERROR(MATCH(D59,#REF!,0))=FALSE,\"D\",\"\"))","v":""},{"$f":"IF(E59=\"C\",0,IF(E59 =\"D\",ROUND(1/((1+#REF!)^A59),9) * 2,ROUND(1/((1+#REF!)^A59),9)))","v":{"$error":"#REF!"}},{"$error":"#REF!"}]
[57,57,{"$error":"#REF!"},{"$error":"#REF!"},{"$f":"IF(ISERROR(MATCH(D60,#REF!,0))=FALSE,\"C\",IF(ISERROR(MATCH(D60,#REF!,0))=FALSE,\"D\",\"\"))","v":""},{"$f":"IF(E60=\"C\",0,IF(E60 =\"D\",ROUND(1/((1+#REF!)^A60),9) * 2,ROUND(1/((1+#REF!)^A60),9)))","v":{"$error":"#REF!"}},{"$error":"#REF!"}]
[58,58,{"$error":"#REF!"},{"$error":"#REF!"},{"$f":"IF(ISERROR(MATCH(D61,#REF!,0))=FALSE,\"C\",IF(ISERROR(MATCH(D61,#REF!,0))=FALSE,\"D\",\"\"))","v":""},{"$f":"IF(E61=\"C\",0,IF(E61 =\"D\",ROUND(1/((1+#REF!)^A61),9) * 2,ROUND(1/((1+#REF!)^A61),9)))","v":{"$error":"#REF!"}},{"$error":"#REF!"}]
[59,59,{"$error":"#REF!"},{"$error":"#REF!"},{"$f":"IF(ISERROR(MATCH(D62,#REF!,0))=FALSE,\"C\",IF(ISERROR(MATCH(D62,#REF!,0))=FALSE,\"D\",\"\"))","v":""},{"$f":"IF(E62=\"C\",0,IF(E62 =\"D\",ROUND(1/((1+#REF!)^A62),9) * 2,ROUND(1/((1+#REF!)^A62),9)))","v":{"$error":"#REF!"}},{"$error":"#REF!"}]
[60,60,{"$error":"#REF!"},{"$error":"#REF!"},{"$f":"IF(ISERROR(MATCH(D63,#REF!,0))=FALSE,\"C\",IF(ISERROR(MATCH(D63,#REF!,0))=FALSE,\"D\",\"\"))","v":""},{"$f":"IF(E63=\"C\",0,IF(E63 =\"D\",ROUND(1/((1+#REF!)^A63),9) * 2,ROUND(1/((1+#REF!)^A63),9)))","v":{"$error":"#REF!"}},{"$error":"#REF!"}]
[61,61,{"$error":"#REF!"},{"$error":"#REF!"},{"$f":"IF(ISERROR(MATCH(D64,#REF!,0))=FALSE,\"C\",IF(ISERROR(MATCH(D64,#REF!,0))=FALSE,\"D\",\"\"))","v":""},{"$f":"IF(E64=\"C\",0,IF(E64 =\"D\",ROUND(1/((1+#REF!)^A64),9) * 2,ROUND(1/((1+#REF!)^A64),9)))","v":{"$error":"#REF!"}},{"$error":"#REF!"}]
[62,62,{"$error":"#REF!"},{"$error":"#REF!"},{"$f":"IF(ISERROR(MATCH(D65,#REF!,0))=FALSE,\"C\",IF(ISERROR(MATCH(D65,#REF!,0))=FALSE,\"D\",\"\"))","v":""},{"$f":"IF(E65=\"C\",0,IF(E65 =\"D\",ROUND(1/((1+#REF!)^A65),9) * 2,ROUND(1/((1+#REF!)^A65),9)))","v":{"$error":"#REF!"}},{"$error":"#REF!"}]
[63,63,{"$error":"#REF!"},{"$error":"#REF!"},{"$f":"IF(ISERROR(MATCH(D66,#REF!,0))=FALSE,\"C\",IF(ISERROR(MATCH(D66,#REF!,0))=FALSE,\"D\",\"\"))","v":""},{"$f":"IF(E66=\"C\",0,IF(E66 =\"D\",ROUND(1/((1+#REF!)^A66),9) * 2,ROUND(1/((1+#REF!)^A66),9)))","v":{"$error":"#REF!"}},{"$error":"#REF!"}]
[64,64,{"$error":"#REF!"},{"$error":"#REF!"},{"$f":"IF(ISERROR(MATCH(D67,#REF!,0))=FALSE,\"C\",IF(ISERROR(MATCH(D67,#REF!,0))=FALSE,\"D\",\"\"))","v":""},{"$f":"IF(E67=\"C\",0,IF(E67 =\"D\",ROUND(1/((1+#REF!)^A67),9) * 2,ROUND(1/((1+#REF!)^A67),9)))","v":{"$error":"#REF!"}},{"$error":"#REF!"}]
[65,65,{"$error":"#REF!"},{"$f":"MONTH(C68)","v":{"$error":"#REF!"}},{"$f":"IF(ISERROR(MATCH(D68,#REF!,0))=FALSE,\"C\",IF(ISERROR(MATCH(D68,#REF!,0))=FALSE,\"D\",\"\"))","v":""},{"$f":"IF(E68=\"C\",0,IF(E68 =\"D\",ROUND(1/((1+#REF!)^A68),9) * 2,ROUND(1/((1+#REF!)^A68),9)))","v":{"$error":"#REF!"}},{"$error":"#REF!"}]
[{"$f":"A68+1","v":66},{"$f":"IF(E69<>\"C\",IF(ISERROR(1+B68)=TRUE,1,1+B68),IF(ISNUMBER(B68),B68,1))","v":66},{"$f":"DATE(YEAR(C68) + 1/12,MONTH(C68)+1,DAY(C68))","v":{"$error":"#REF!"}},{"$error":"#REF!"},{"$f":"IF(ISERROR(MATCH(D69,#REF!,0))=FALSE,\"C\",IF(ISERROR(MATCH(D69,#REF!,0))=FALSE,\"D\",\"\"))","v":""},{"$f":"IF(E69=\"C\",0,IF(E69 =\"D\",ROUND(1/((1+#REF!)^A69),9) * 2,ROUND(1/((1+#REF!)^A69),9)))","v":{"$error":"#REF!"}},{"$error":"#REF!"}]
[67,67,{"$error":"#REF!"},{"$error":"#REF!"},{"$f":"IF(ISERROR(MATCH(D70,#REF!,0))=FALSE,\"C\",IF(ISERROR(MATCH(D70,#REF!,0))=FALSE,\"D\",\"\"))","v":""},{"$f":"IF(E70=\"C\",0,IF(E70 =\"D\",ROUND(1/((1+#REF!)^A70),9) * 2,ROUND(1/((1+#REF!)^A70),9)))","v":{"$error":"#REF!"}},{"$f":"G69+ROUND(F70,9)","v":{"$error":"#REF!"}}]
[68,68,{"$error":"#REF!"},{"$error":"#REF!"},{"$f":"IF(ISERROR(MATCH(D71,#REF!,0))=FALSE,\"C\",IF(ISERROR(MATCH(D71,#REF!,0))=FALSE,\"D\",\"\"))","v":""},{"$f":"IF(E71=\"C\",0,IF(E71 =\"D\",ROUND(1/((1+#REF!)^A71),9) * 2,ROUND(1/((1+#REF!)^A71),9)))","v":{"$error":"#REF!"}},{"$error":"#REF!"}]
[69,69,{"$error":"#REF!"},{"$error":"#REF!"},{"$f":"IF(ISERROR(MATCH(D72,#REF!,0))=FALSE,\"C\",IF(ISERROR(MATCH(D72,#REF!,0))=FALSE,\"D\",\"\"))","v":""},{"$f":"IF(E72=\"C\",0,IF(E72 =\"D\",ROUND(1/((1+#REF!)^A72),9) * 2,ROUND(1/((1+#REF!)^A72),9)))","v":{"$error":"#REF!"}},{"$error":"#REF!"}]
[70,70,{"$error":"#REF!"},{"$error":"#REF!"},{"$f":"IF(ISERROR(MATCH(D73,#REF!,0))=FALSE,\"C\",IF(ISERROR(MATCH(D73,#REF!,0))=FALSE,\"D\",\"\"))","v":""},{"$f":"IF(E73=\"C\",0,IF(E73 =\"D\",ROUND(1/((1+#REF!)^A73),9) * 2,ROUND(1/((1+#REF!)^A73),9)))","v":{"$error":"#REF!"}},{"$error":"#REF!"}]
[71,71,{"$error":"#REF!"},{"$error":"#REF!"},{"$f":"IF(ISERROR(MATCH(D74,#REF!,0))=FALSE,\"C\",IF(ISERROR(MATCH(D74,#REF!,0))=FALSE,\"D\",\"\"))","v":""},{"$f":"IF(E74=\"C\",0,IF(E74 =\"D\",ROUND(1/((1+#REF!)^A74),9) * 2,ROUND(1/((1+#REF!)^A74),9)))","v":{"$error":"#REF!"}},{"$error":"#REF!"}]
[72,72,{"$error":"#REF!"},{"$error":"#REF!"},{"$f":"IF(ISERROR(MATCH(D75,#REF!,0))=FALSE,\"C\",IF(ISERROR(MATCH(D75,#REF!,0))=FALSE,\"D\",\"\"))","v":""},{"$f":"IF(E75=\"C\",0,IF(E75 =\"D\",ROUND(1/((1+#REF!)^A75),9) * 2,ROUND(1/((1+#REF!)^A75),9)))","v":{"$error":"#REF!"}},{"$error":"#REF!"}]
[73,73,{"$error":"#REF!"},{"$error":"#REF!"},{"$f":"IF(ISERROR(MATCH(D76,#REF!,0))=FALSE,\"C\",IF(ISERROR(MATCH(D76,#REF!,0))=FALSE,\"D\",\"\"))","v":""},{"$f":"IF(E76=\"C\",0,IF(E76 =\"D\",ROUND(1/((1+#REF!)^A76),9) * 2,ROUND(1/((1+#REF!)^A76),9)))","v":{"$error":"#REF!"}},{"$error":"#REF!"}]
[74,74,{"$error":"#REF!"},{"$error":"#REF!"},{"$f":"IF(ISERROR(MATCH(D77,#REF!,0))=FALSE,\"C\",IF(ISERROR(MATCH(D77,#REF!,0))=FALSE,\"D\",\"\"))","v":""},{"$f":"IF(E77=\"C\",0,IF(E77 =\"D\",ROUND(1/((1+#REF!)^A77),9) * 2,ROUND(1/((1+#REF!)^A77),9)))","v":{"$error":"#REF!"}},{"$error":"#REF!"}]
[75,75,{"$error":"#REF!"},{"$error":"#REF!"},{"$f":"IF(ISERROR(MATCH(D78,#REF!,0))=FALSE,\"C\",IF(ISERROR(MATCH(D78,#REF!,0))=FALSE,\"D\",\"\"))","v":""},{"$f":"IF(E78=\"C\",0,IF(E78 =\"D\",ROUND(1/((1+#REF!)^A78),9) * 2,ROUND(1/((1+#REF!)^A78),9)))","v":{"$error":"#REF!"}},{"$error":"#REF!"}]
[76,76,{"$error":"#REF!"},{"$error":"#REF!"},{"$f":"IF(ISERROR(MATCH(D79,#REF!,0))=FALSE,\"C\",IF(ISERROR(MATCH(D79,#REF!,0))=FALSE,\"D\",\"\"))","v":""},{"$f":"IF(E79=\"C\",0,IF(E79 =\"D\",ROUND(1/((1+#REF!)^A79),9) * 2,ROUND(1/((1+#REF!)^A79),9)))","v":{"$error":"#REF!"}},{"$error":"#REF!"}]
[77,77,{"$error":"#REF!"},{"$error":"#REF!"},{"$f":"IF(ISERROR(MATCH(D80,#REF!,0))=FALSE,\"C\",IF(ISERROR(MATCH(D80,#REF!,0))=FALSE,\"D\",\"\"))","v":""},{"$f":"IF(E80=\"C\",0,IF(E80 =\"D\",ROUND(1/((1+#REF!)^A80),9) * 2,ROUND(1/((1+#REF!)^A80),9)))","v":{"$error":"#REF!"}},{"$error":"#REF!"}]
[78,78,{"$error":"#REF!"},{"$error":"#REF!"},{"$f":"IF(ISERROR(MATCH(D81,#REF!,0))=FALSE,\"C\",IF(ISERROR(MATCH(D81,#REF!,0))=FALSE,\"D\",\"\"))","v":""},{"$f":"IF(E81=\"C\",0,IF(E81 =\"D\",ROUND(1/((1+#REF!)^A81),9) * 2,ROUND(1/((1+#REF!)^A81),9)))","v":{"$error":"#REF!"}},{"$error":"#REF!"}]
[79,79,{"$error":"#REF!"},{"$error":"#REF!"},{"$f":"IF(ISERROR(MATCH(D82,#REF!,0))=FALSE,\"C\",IF(ISERROR(MATCH(D82,#REF!,0))=FALSE,\"D\",\"\"))","v":""},{"$f":"IF(E82=\"C\",0,IF(E82 =\"D\",ROUND(1/((1+#REF!)^A82),9) * 2,ROUND(1/((1+#REF!)^A82),9)))","v":{"$error":"#REF!"}},{"$error":"#REF!"}]
[80,80,{"$error":"#REF!"},{"$error":"#REF!"},{"$f":"IF(ISERROR(MATCH(D83,#REF!,0))=FALSE,\"C\",IF(ISERROR(MATCH(D83,#REF!,0))=FALSE,\"D\",\"\"))","v":""},{"$f":"IF(E83=\"C\",0,IF(E83 =\"D\",ROUND(1/((1+#REF!)^A83),9) * 2,ROUND(1/((1+#REF!)^A83),9)))","v":{"$error":"#REF!"}},{"$error":"#REF!"}]
[81,81,{"$error":"#REF!"},{"$error":"#REF!"},{"$f":"IF(ISERROR(MATCH(D84,#REF!,0))=FALSE,\"C\",IF(ISERROR(MATCH(D84,#REF!,0))=FALSE,\"D\",\"\"))","v":""},{"$f":"IF(E84=\"C\",0,IF(E84 =\"D\",ROUND(1/((1+#REF!)^A84),9) * 2,ROUND(1/((1+#REF!)^A84),9)))","v":{"$error":"#REF!"}},{"$error":"#REF!"}]
[82,82,{"$error":"#REF!"},{"$error":"#REF!"},{"$f":"IF(ISERROR(MATCH(D85,#REF!,0))=FALSE,\"C\",IF(ISERROR(MATCH(D85,#REF!,0))=FALSE,\"D\",\"\"))","v":""},{"$f":"IF(E85=\"C\",0,IF(E85 =\"D\",ROUND(1/((1+#REF!)^A85),9) * 2,ROUND(1/((1+#REF!)^A85),9)))","v":{"$error":"#REF!"}},{"$error":"#REF!"}]
[83,83,{"$error":"#REF!"},{"$error":"#REF!"},{"$f":"IF(ISERROR(MATCH(D86,#REF!,0))=FALSE,\"C\",IF(ISERROR(MATCH(D86,#REF!,0))=FALSE,\"D\",\"\"))","v":""},{"$f":"IF(E86=\"C\",0,IF(E86 =\"D\",ROUND(1/((1+#REF!)^A86),9) * 2,ROUND(1/((1+#REF!)^A86),9)))","v":{"$error":"#REF!"}},{"$error":"#REF!"}]
[84,84,{"$error":"#REF!"},{"$error":"#REF!"},{"$f":"IF(ISERROR(MATCH(D87,#REF!,0))=FALSE,\"C\",IF(ISERROR(MATCH(D87,#REF!,0))=FALSE,\"D\",\"\"))","v":""},{"$f":"IF(E87=\"C\",0,IF(E87 =\"D\",ROUND(1/((1+#REF!)^A87),9) * 2,ROUND(1/((1+#REF!)^A87),9)))","v":{"$error":"#REF!"}},{"$error":"#REF!"}]
[85,85,{"$error":"#REF!"},{"$error":"#REF!"},{"$f":"IF(ISERROR(MATCH(D88,#REF!,0))=FALSE,\"C\",IF(ISERROR(MATCH(D88,#REF!,0))=FALSE,\"D\",\"\"))","v":""},{"$f":"IF(E88=\"C\",0,IF(E88 =\"D\",ROUND(1/((1+#REF!)^A88),9) * 2,ROUND(1/((1+#REF!)^A88),9)))","v":{"$error":"#REF!"}},{"$error":"#REF!"}]
[86,86,{"$error":"#REF!"},{"$error":"#REF!"},{"$f":"IF(ISERROR(MATCH(D89,#REF!,0))=FALSE,\"C\",IF(ISERROR(MATCH(D89,#REF!,0))=FALSE,\"D\",\"\"))","v":""},{"$f":"IF(E89=\"C\",0,IF(E89 =\"D\",ROUND(1/((1+#REF!)^A89),9) * 2,ROUND(1/((1+#REF!)^A89),9)))","v":{"$error":"#REF!"}},{"$error":"#REF!"}]
[87,87,{"$error":"#REF!"},{"$error":"#REF!"},{"$f":"IF(ISERROR(MATCH(D90,#REF!,0))=FALSE,\"C\",IF(ISERROR(MATCH(D90,#REF!,0))=FALSE,\"D\",\"\"))","v":""},{"$f":"IF(E90=\"C\",0,IF(E90 =\"D\",ROUND(1/((1+#REF!)^A90),9) * 2,ROUND(1/((1+#REF!)^A90),9)))","v":{"$error":"#REF!"}},{"$error":"#REF!"}]
[88,88,{"$error":"#REF!"},{"$error":"#REF!"},{"$f":"IF(ISERROR(MATCH(D91,#REF!,0))=FALSE,\"C\",IF(ISERROR(MATCH(D91,#REF!,0))=FALSE,\"D\",\"\"))","v":""},{"$f":"IF(E91=\"C\",0,IF(E91 =\"D\",ROUND(1/((1+#REF!)^A91),9) * 2,ROUND(1/((1+#REF!)^A91),9)))","v":{"$error":"#REF!"}},{"$error":"#REF!"}]
[89,89,{"$error":"#REF!"},{"$error":"#REF!"},{"$f":"IF(ISERROR(MATCH(D92,#REF!,0))=FALSE,\"C\",IF(ISERROR(MATCH(D92,#REF!,0))=FALSE,\"D\",\"\"))","v":""},{"$f":"IF(E92=\"C\",0,IF(E92 =\"D\",ROUND(1/((1+#REF!)^A92),9) * 2,ROUND(1/((1+#REF!)^A92),9)))","v":{"$error":"#REF!"}},{"$error":"#REF!"}]
[90,90,{"$error":"#REF!"},{"$error":"#REF!"},{"$f":"IF(ISERROR(MATCH(D93,#REF!,0))=FALSE,\"C\",IF(ISERROR(MATCH(D93,#REF!,0))=FALSE,\"D\",\"\"))","v":""},{"$f":"IF(E93=\"C\",0,IF(E93 =\"D\",ROUND(1/((1+#REF!)^A93),9) * 2,ROUND(1/((1+#REF!)^A93),9)))","v":{"$error":"#REF!"}},{"$error":"#REF!"}]
[91,91,{"$error":"#REF!"},{"$error":"#REF!"},{"$f":"IF(ISERROR(MATCH(D94,#REF!,0))=FALSE,\"C\",IF(ISERROR(MATCH(D94,#REF!,0))=FALSE,\"D\",\"\"))","v":""},{"$f":"IF(E94=\"C\",0,IF(E94 =\"D\",ROUND(1/((1+#REF!)^A94),9) * 2,ROUND(1/((1+#REF!)^A94),9)))","v":{"$error":"#REF!"}},{"$error":"#REF!"}]
[92,92,{"$error":"#REF!"},{"$error":"#REF!"},{"$f":"IF(ISERROR(MATCH(D95,#REF!,0))=FALSE,\"C\",IF(ISERROR(MATCH(D95,#REF!,0))=FALSE,\"D\",\"\"))","v":""},{"$f":"IF(E95=\"C\",0,IF(E95 =\"D\",ROUND(1/((1+#REF!)^A95),9) * 2,ROUND(1/((1+#REF!)^A95),9)))","v":{"$error":"#REF!"}},{"$error":"#REF!"}]
[93,93,{"$error":"#REF!"},{"$error":"#REF!"},{"$f":"IF(ISERROR(MATCH(D96,#REF!,0))=FALSE,\"C\",IF(ISERROR(MATCH(D96,#REF!,0))=FALSE,\"D\",\"\"))","v":""},{"$f":"IF(E96=\"C\",0,IF(E96 =\"D\",ROUND(1/((1+#REF!)^A96),9) * 2,ROUND(1/((1+#REF!)^A96),9)))","v":{"$error":"#REF!"}},{"$error":"#REF!"}]
[94,94,{"$error":"#REF!"},{"$error":"#REF!"},{"$f":"IF(ISERROR(MATCH(D97,#REF!,0))=FALSE,\"C\",IF(ISERROR(MATCH(D97,#REF!,0))=FALSE,\"D\",\"\"))","v":""},{"$f":"IF(E97=\"C\",0,IF(E97 =\"D\",ROUND(1/((1+#REF!)^A97),9) * 2,ROUND(1/((1+#REF!)^A97),9)))","v":{"$error":"#REF!"}},{"$error":"#REF!"}]
[95,95,{"$error":"#REF!"},{"$error":"#REF!"},{"$f":"IF(ISERROR(MATCH(D98,#REF!,0))=FALSE,\"C\",IF(ISERROR(MATCH(D98,#REF!,0))=FALSE,\"D\",\"\"))","v":""},{"$f":"IF(E98=\"C\",0,IF(E98 =\"D\",ROUND(1/((1+#REF!)^A98),9) * 2,ROUND(1/((1+#REF!)^A98),9)))","v":{"$error":"#REF!"}},{"$error":"#REF!"}]
[96,96,{"$error":"#REF!"},{"$error":"#REF!"},{"$f":"IF(ISERROR(MATCH(D99,#REF!,0))=FALSE,\"C\",IF(ISERROR(MATCH(D99,#REF!,0))=FALSE,\"D\",\"\"))","v":""},{"$f":"IF(E99=\"C\",0,IF(E99 =\"D\",ROUND(1/((1+#REF!)^A99),9) * 2,ROUND(1/((1+#REF!)^A99),9)))","v":{"$error":"#REF!"}},{"$error":"#REF!"}]
[97,{"$f":"IF(E100<>\"C\",IF(ISERROR(1+B99)=TRUE,1,1+B99),IF(ISNUMBER(B99),B99,1))","v":97},{"$error":"#REF!"},{"$f":"MONTH(C100)","v":{"$error":"#REF!"}},{"$f":"IF(ISERROR(MATCH(D100,#REF!,0))=FALSE,\"C\",IF(ISERROR(MATCH(D100,#REF!,0))=FALSE,\"D\",\"\"))","v":""},{"$f":"IF(E100=\"C\",0,IF(E100 =\"D\",ROUND(1/((1+#REF!)^A100),9) * 2,ROUND(1/((1+#REF!)^A100),9)))","v":{"$error":"#REF!"}},{"$f":"G99+ROUND(F100,9)","v":{"$error":"#REF!"}}]
[98,98,{"$error":"#REF!"},{"$error":"#REF!"},{"$f":"IF(ISERROR(MATCH(D101,#REF!,0))=FALSE,\"C\",IF(ISERROR(MATCH(D101,#REF!,0))=FALSE,\"D\",\"\"))","v":""},{"$f":"IF(E101=\"C\",0,IF(E101 =\"D\",ROUND(1/((1+#REF!)^A101),9) * 2,ROUND(1/((1+#REF!)^A101),9)))","v":{"$error":"#REF!"}},{"$error":"#REF!"}]
[99,99,{"$error":"#REF!"},{"$error":"#REF!"},{"$f":"IF(ISERROR(MATCH(D102,#REF!,0))=FALSE,\"C\",IF(ISERROR(MATCH(D102,#REF!,0))=FALSE,\"D\",\"\"))","v":""},{"$f":"IF(E102=\"C\",0,IF(E102 =\"D\",ROUND(1/((1+#REF!)^A102),9) * 2,ROUND(1/((1+#REF!)^A102),9)))","v":{"$error":"#REF!"}},{"$error":"#REF!"}]
[100,100,{"$error":"#REF!"},{"$error":"#REF!"},{"$f":"IF(ISERROR(MATCH(D103,#REF!,0))=FALSE,\"C\",IF(ISERROR(MATCH(D103,#REF!,0))=FALSE,\"D\",\"\"))","v":""},{"$f":"IF(E103=\"C\",0,IF(E103 =\"D\",ROUND(1/((1+#REF!)^A103),9) * 2,ROUND(1/((1+#REF!)^A103),9)))","v":{"$error":"#REF!"}},{"$error":"#REF!"}]
[101,101,{"$error":"#REF!"},{"$error":"#REF!"},{"$f":"IF(ISERROR(MATCH(D104,#REF!,0))=FALSE,\"C\",IF(ISERROR(MATCH(D104,#REF!,0))=FALSE,\"D\",\"\"))","v":""},{"$f":"IF(E104=\"C\",0,IF(E104 =\"D\",ROUND(1/((1+#REF!)^A104),9) * 2,ROUND(1/((1+#REF!)^A104),9)))","v":{"$error":"#REF!"}},{"$error":"#REF!"}]
[102,102,{"$error":"#REF!"},{"$error":"#REF!"},{"$f":"IF(ISERROR(MATCH(D105,#REF!,0))=FALSE,\"C\",IF(ISERROR(MATCH(D105,#REF!,0))=FALSE,\"D\",\"\"))","v":""},{"$f":"IF(E105=\"C\",0,IF(E105 =\"D\",ROUND(1/((1+#REF!)^A105),9) * 2,ROUND(1/((1+#REF!)^A105),9)))","v":{"$error":"#REF!"}},{"$error":"#REF!"}]
[103,103,{"$error":"#REF!"},{"$error":"#REF!"},{"$f":"IF(ISERROR(MATCH(D106,#REF!,0))=FALSE,\"C\",IF(ISERROR(MATCH(D106,#REF!,0))=FALSE,\"D\",\"\"))","v":""},{"$f":"IF(E106=\"C\",0,IF(E106 =\"D\",ROUND(1/((1+#REF!)^A106),9) * 2,ROUND(1/((1+#REF!)^A106),9)))","v":{"$error":"#REF!"}},{"$error":"#REF!"}]
[104,104,{"$error":"#REF!"},{"$error":"#REF!"},{"$f":"IF(ISERROR(MATCH(D107,#REF!,0))=FALSE,\"C\",IF(ISERROR(MATCH(D107,#REF!,0))=FALSE,\"D\",\"\"))","v":""},{"$f":"IF(E107=\"C\",0,IF(E107 =\"D\",ROUND(1/((1+#REF!)^A107),9) * 2,ROUND(1/((1+#REF!)^A107),9)))","v":{"$error":"#REF!"}},{"$error":"#REF!"}]
[105,105,{"$error":"#REF!"},{"$error":"#REF!"},{"$f":"IF(ISERROR(MATCH(D108,#REF!,0))=FALSE,\"C\",IF(ISERROR(MATCH(D108,#REF!,0))=FALSE,\"D\",\"\"))","v":""},{"$f":"IF(E108=\"C\",0,IF(E108 =\"D\",ROUND(1/((1+#REF!)^A108),9) * 2,ROUND(1/((1+#REF!)^A108),9)))","v":{"$error":"#REF!"}},{"$error":"#REF!"}]
[106,106,{"$error":"#REF!"},{"$error":"#REF!"},{"$f":"IF(ISERROR(MATCH(D109,#REF!,0))=FALSE,\"C\",IF(ISERROR(MATCH(D109,#REF!,0))=FALSE,\"D\",\"\"))","v":""},{"$f":"IF(E109=\"C\",0,IF(E109 =\"D\",ROUND(1/((1+#REF!)^A109),9) * 2,ROUND(1/((1+#REF!)^A109),9)))","v":{"$error":"#REF!"}},{"$error":"#REF!"}]
[107,107,{"$error":"#REF!"},{"$error":"#REF!"},{"$f":"IF(ISERROR(MATCH(D110,#REF!,0))=FALSE,\"C\",IF(ISERROR(MATCH(D110,#REF!,0))=FALSE,\"D\",\"\"))","v":""},{"$f":"IF(E110=\"C\",0,IF(E110 =\"D\",ROUND(1/((1+#REF!)^A110),9) * 2,ROUND(1/((1+#REF!)^A110),9)))","v":{"$error":"#REF!"}},{"$error":"#REF!"}]
[108,108,{"$error":"#REF!"},{"$error":"#REF!"},{"$f":"IF(ISERROR(MATCH(D111,#REF!,0))=FALSE,\"C\",IF(ISERROR(MATCH(D111,#REF!,0))=FALSE,\"D\",\"\"))","v":""},{"$f":"IF(E111=\"C\",0,IF(E111 =\"D\",ROUND(1/((1+#REF!)^A111),9) * 2,ROUND(1/((1+#REF!)^A111),9)))","v":{"$error":"#REF!"}},{"$error":"#REF!"}]
[109,109,{"$error":"#REF!"},{"$error":"#REF!"},{"$f":"IF(ISERROR(MATCH(D112,#REF!,0))=FALSE,\"C\",IF(ISERROR(MATCH(D112,#REF!,0))=FALSE,\"D\",\"\"))","v":""},{"$f":"IF(E112=\"C\",0,IF(E112 =\"D\",ROUND(1/((1+#REF!)^A112),9) * 2,ROUND(1/((1+#REF!)^A112),9)))","v":{"$error":"#REF!"}},{"$error":"#REF!"}]
[110,110,{"$error":"#REF!"},{"$error":"#REF!"},{"$f":"IF(ISERROR(MATCH(D113,#REF!,0))=FALSE,\"C\",IF(ISERROR(MATCH(D113,#REF!,0))=FALSE,\"D\",\"\"))","v":""},{"$f":"IF(E113=\"C\",0,IF(E113 =\"D\",ROUND(1/((1+#REF!)^A113),9) * 2,ROUND(1/((1+#REF!)^A113),9)))","v":{"$error":"#REF!"}},{"$error":"#REF!"}]
[111,111,{"$error":"#REF!"},{"$error":"#REF!"},{"$f":"IF(ISERROR(MATCH(D114,#REF!,0))=FALSE,\"C\",IF(ISERROR(MATCH(D114,#REF!,0))=FALSE,\"D\",\"\"))","v":""},{"$f":"IF(E114=\"C\",0,IF(E114 =\"D\",ROUND(1/((1+#REF!)^A114),9) * 2,ROUND(1/((1+#REF!)^A114),9)))","v":{"$error":"#REF!"}},{"$error":"#REF!"}]
[112,112,{"$error":"#REF!"},{"$error":"#REF!"},{"$f":"IF(ISERROR(MATCH(D115,#REF!,0))=FALSE,\"C\",IF(ISERROR(MATCH(D115,#REF!,0))=FALSE,\"D\",\"\"))","v":""},{"$f":"IF(E115=\"C\",0,IF(E115 =\"D\",ROUND(1/((1+#REF!)^A115),9) * 2,ROUND(1/((1+#REF!)^A115),9)))","v":{"$error":"#REF!"}},{"$error":"#REF!"}]
[113,113,{"$error":"#REF!"},{"$error":"#REF!"},{"$f":"IF(ISERROR(MATCH(D116,#REF!,0))=FALSE,\"C\",IF(ISERROR(MATCH(D116,#REF!,0))=FALSE,\"D\",\"\"))","v":""},{"$f":"IF(E116=\"C\",0,IF(E116 =\"D\",ROUND(1/((1+#REF!)^A116),9) * 2,ROUND(1/((1+#REF!)^A116),9)))","v":{"$error":"#REF!"}},{"$error":"#REF!"}]
[114,114,{"$error":"#REF!"},{"$error":"#REF!"},{"$f":"IF(ISERROR(MATCH(D117,#REF!,0))=FALSE,\"C\",IF(ISERROR(MATCH(D117,#REF!,0))=FALSE,\"D\",\"\"))","v":""},{"$f":"IF(E117=\"C\",0,IF(E117 =\"D\",ROUND(1/((1+#REF!)^A117),9) * 2,ROUND(1/((1+#REF!)^A117),9)))","v":{"$error":"#REF!"}},{"$error":"#REF!"}]
[115,115,{"$error":"#REF!"},{"$error":"#REF!"},{"$f":"IF(ISERROR(MATCH(D118,#REF!,0))=FALSE,\"C\",IF(ISERROR(MATCH(D118,#REF!,0))=FALSE,\"D\",\"\"))","v":""},{"$f":"IF(E118=\"C\",0,IF(E118 =\"D\",ROUND(1/((1+#REF!)^A118),9) * 2,ROUND(1/((1+#REF!)^A118),9)))","v":{"$error":"#REF!"}},{"$error":"#REF!"}]
[116,116,{"$error":"#REF!"},{"$error":"#REF!"},{"$f":"IF(ISERROR(MATCH(D119,#REF!,0))=FALSE,\"C\",IF(ISERROR(MATCH(D119,#REF!,0))=FALSE,\"D\",\"\"))","v":""},{"$f":"IF(E119=\"C\",0,IF(E119 =\"D\",ROUND(1/((1+#REF!)^A119),9) * 2,ROUND(1/((1+#REF!)^A119),9)))","v":{"$error":"#REF!"}},{"$error":"#REF!"}]
[117,117,{"$error":"#REF!"},{"$error":"#REF!"},{"$f":"IF(ISERROR(MATCH(D120,#REF!,0))=FALSE,\"C\",IF(ISERROR(MATCH(D120,#REF!,0))=FALSE,\"D\",\"\"))","v":""},{"$f":"IF(E120=\"C\",0,IF(E120 =\"D\",ROUND(1/((1+#REF!)^A120),9) * 2,ROUND(1/((1+#REF!)^A120),9)))","v":{"$error":"#REF!"}},{"$error":"#REF!"}]
[118,118,{"$error":"#REF!"},{"$error":"#REF!"},{"$f":"IF(ISERROR(MATCH(D121,#REF!,0))=FALSE,\"C\",IF(ISERROR(MATCH(D121,#REF!,0))=FALSE,\"D\",\"\"))","v":""},{"$f":"IF(E121=\"C\",0,IF(E121 =\"D\",ROUND(1/((1+#REF!)^A121),9) * 2,ROUND(1/((1+#REF!)^A121),9)))","v":{"$error":"#REF!"}},{"$error":"#REF!"}]
[119,119,{"$error":"#REF!"},{"$error":"#REF!"},{"$f":"IF(ISERROR(MATCH(D122,#REF!,0))=FALSE,\"C\",IF(ISERROR(MATCH(D122,#REF!,0))=FALSE,\"D\",\"\"))","v":""},{"$f":"IF(E122=\"C\",0,IF(E122 =\"D\",ROUND(1/((1+#REF!)^A122),9) * 2,ROUND(1/((1+#REF!)^A122),9)))","v":{"$error":"#REF!"}},{"$error":"#REF!"}]
[120,120,{"$error":"#REF!"},{"$error":"#REF!"},{"$f":"IF(ISERROR(MATCH(D123,#REF!,0))=FALSE,\"C\",IF(ISERROR(MATCH(D123,#REF!,0))=FALSE,\"D\",\"\"))","v":""},{"$f":"IF(E123=\"C\",0,IF(E123 =\"D\",ROUND(1/((1+#REF!)^A123),9) * 2,ROUND(1/((1+#REF!)^A123),9)))","v":{"$error":"#REF!"}},{"$error":"#REF!"}]
[121,121,{"$error":"#REF!"},{"$error":"#REF!"},{"$f":"IF(ISERROR(MATCH(D124,#REF!,0))=FALSE,\"C\",IF(ISERROR(MATCH(D124,#REF!,0))=FALSE,\"D\",\"\"))","v":""},{"$f":"IF(E124=\"C\",0,IF(E124 =\"D\",ROUND(1/((1+#REF!)^A124),9) * 2,ROUND(1/((1+#REF!)^A124),9)))","v":{"$error":"#REF!"}},{"$error":"#REF!"}]
[122,122,{"$error":"#REF!"},{"$error":"#REF!"},{"$f":"IF(ISERROR(MATCH(D125,#REF!,0))=FALSE,\"C\",IF(ISERROR(MATCH(D125,#REF!,0))=FALSE,\"D\",\"\"))","v":""},{"$f":"IF(E125=\"C\",0,IF(E125 =\"D\",ROUND(1/((1+#REF!)^A125),9) * 2,ROUND(1/((1+#REF!)^A125),9)))","v":{"$error":"#REF!"}},{"$error":"#REF!"}]
[123,123,{"$error":"#REF!"},{"$error":"#REF!"},{"$f":"IF(ISERROR(MATCH(D126,#REF!,0))=FALSE,\"C\",IF(ISERROR(MATCH(D126,#REF!,0))=FALSE,\"D\",\"\"))","v":""},{"$f":"IF(E126=\"C\",0,IF(E126 =\"D\",ROUND(1/((1+#REF!)^A126),9) * 2,ROUND(1/((1+#REF!)^A126),9)))","v":{"$error":"#REF!"}},{"$error":"#REF!"}]
[124,124,{"$error":"#REF!"},{"$error":"#REF!"},{"$f":"IF(ISERROR(MATCH(D127,#REF!,0))=FALSE,\"C\",IF(ISERROR(MATCH(D127,#REF!,0))=FALSE,\"D\",\"\"))","v":""},{"$f":"IF(E127=\"C\",0,IF(E127 =\"D\",ROUND(1/((1+#REF!)^A127),9) * 2,ROUND(1/((1+#REF!)^A127),9)))","v":{"$error":"#REF!"}},{"$error":"#REF!"}]
[125,125,{"$error":"#REF!"},{"$error":"#REF!"},{"$f":"IF(ISERROR(MATCH(D128,#REF!,0))=FALSE,\"C\",IF(ISERROR(MATCH(D128,#REF!,0))=FALSE,\"D\",\"\"))","v":""},{"$f":"IF(E128=\"C\",0,IF(E128 =\"D\",ROUND(1/((1+#REF!)^A128),9) * 2,ROUND(1/((1+#REF!)^A128),9)))","v":{"$error":"#REF!"}},{"$error":"#REF!"}]
[126,126,{"$error":"#REF!"},{"$error":"#REF!"},{"$f":"IF(ISERROR(MATCH(D129,#REF!,0))=FALSE,\"C\",IF(ISERROR(MATCH(D129,#REF!,0))=FALSE,\"D\",\"\"))","v":""},{"$f":"IF(E129=\"C\",0,IF(E129 =\"D\",ROUND(1/((1+#REF!)^A129),9) * 2,ROUND(1/((1+#REF!)^A129),9)))","v":{"$error":"#REF!"}},{"$error":"#REF!"}]
[127,127,{"$error":"#REF!"},{"$error":"#REF!"},{"$f":"IF(ISERROR(MATCH(D130,#REF!,0))=FALSE,\"C\",IF(ISERROR(MATCH(D130,#REF!,0))=FALSE,\"D\",\"\"))","v":""},{"$f":"IF(E130=\"C\",0,IF(E130 =\"D\",ROUND(1/((1+#REF!)^A130),9) * 2,ROUND(1/((1+#REF!)^A130),9)))","v":{"$error":"#REF!"}},{"$error":"#REF!"}]
[128,128,{"$error":"#REF!"},{"$error":"#REF!"},{"$f":"IF(ISERROR(MATCH(D131,#REF!,0))=FALSE,\"C\",IF(ISERROR(MATCH(D131,#REF!,0))=FALSE,\"D\",\"\"))","v":""},{"$f":"IF(E131=\"C\",0,IF(E131 =\"D\",ROUND(1/((1+#REF!)^A131),9) * 2,ROUND(1/((1+#REF!)^A131),9)))","v":{"$error":"#REF!"}},{"$error":"#REF!"}]
[129,129,{"$error":"#REF!"},{"$error":"#REF!"},{"$f":"IF(ISERROR(MATCH(D132,#REF!,0))=FALSE,\"C\",IF(ISERROR(MATCH(D132,#REF!,0))=FALSE,\"D\",\"\"))","v":""},{"$f":"IF(E132=\"C\",0,IF(E132 =\"D\",ROUND(1/((1+#REF!)^A132),9) * 2,ROUND(1/((1+#REF!)^A132),9)))","v":{"$error":"#REF!"}},{"$error":"#REF!"}]
[{"$f":"A132+1","v":130},130,{"$f":"DATE(YEAR(C132) + 1/12,MONTH(C132)+1,DAY(C132))","v":{"$error":"#REF!"}},{"$error":"#REF!"},{"$f":"IF(ISERROR(MATCH(D133,#REF!,0))=FALSE,\"C\",IF(ISERROR(MATCH(D133,#REF!,0))=FALSE,\"D\",\"\"))","v":""},{"$f":"IF(E133=\"C\",0,IF(E133 =\"D\",ROUND(1/((1+#REF!)^A133),9) * 2,ROUND(1/((1+#REF!)^A133),9)))","v":{"$error":"#REF!"}},{"$error":"#REF!"}]
[131,131,{"$error":"#REF!"},{"$error":"#REF!"},{"$f":"IF(ISERROR(MATCH(D134,#REF!,0))=FALSE,\"C\",IF(ISERROR(MATCH(D134,#REF!,0))=FALSE,\"D\",\"\"))","v":""},{"$f":"IF(E134=\"C\",0,IF(E134 =\"D\",ROUND(1/((1+#REF!)^A134),9) * 2,ROUND(1/((1+#REF!)^A134),9)))","v":{"$error":"#REF!"}},{"$error":"#REF!"}]
[132,132,{"$error":"#REF!"},{"$error":"#REF!"},{"$f":"IF(ISERROR(MATCH(D135,#REF!,0))=FALSE,\"C\",IF(ISERROR(MATCH(D135,#REF!,0))=FALSE,\"D\",\"\"))","v":""},{"$f":"IF(E135=\"C\",0,IF(E135 =\"D\",ROUND(1/((1+#REF!)^A135),9) * 2,ROUND(1/((1+#REF!)^A135),9)))","v":{"$error":"#REF!"}},{"$error":"#REF!"}]
[133,133,{"$error":"#REF!"},{"$error":"#REF!"},{"$f":"IF(ISERROR(MATCH(D136,#REF!,0))=FALSE,\"C\",IF(ISERROR(MATCH(D136,#REF!,0))=FALSE,\"D\",\"\"))","v":""},{"$f":"IF(E136=\"C\",0,IF(E136 =\"D\",ROUND(1/((1+#REF!)^A136),9) * 2,ROUND(1/((1+#REF!)^A136),9)))","v":{"$error":"#REF!"}},{"$error":"#REF!"}]
[134,134,{"$error":"#REF!"},{"$error":"#REF!"},{"$f":"IF(ISERROR(MATCH(D137,#REF!,0))=FALSE,\"C\",IF(ISERROR(MATCH(D137,#REF!,0))=FALSE,\"D\",\"\"))","v":""},{"$f":"IF(E137=\"C\",0,IF(E137 =\"D\",ROUND(1/((1+#REF!)^A137),9) * 2,ROUND(1/((1+#REF!)^A137),9)))","v":{"$error":"#REF!"}},{"$error":"#REF!"}]
[135,135,{"$error":"#REF!"},{"$error":"#REF!"},{"$f":"IF(ISERROR(MATCH(D138,#REF!,0))=FALSE,\"C\",IF(ISERROR(MATCH(D138,#REF!,0))=FALSE,\"D\",\"\"))","v":""},{"$f":"IF(E138=\"C\",0,IF(E138 =\"D\",ROUND(1/((1+#REF!)^A138),9) * 2,ROUND(1/((1+#REF!)^A138),9)))","v":{"$error":"#REF!"}},{"$error":"#REF!"}]
[136,136,{"$error":"#REF!"},{"$error":"#REF!"},{"$f":"IF(ISERROR(MATCH(D139,#REF!,0))=FALSE,\"C\",IF(ISERROR(MATCH(D139,#REF!,0))=FALSE,\"D\",\"\"))","v":""},{"$f":"IF(E139=\"C\",0,IF(E139 =\"D\",ROUND(1/((1+#REF!)^A139),9) * 2,ROUND(1/((1+#REF!)^A139),9)))","v":{"$error":"#REF!"}},{"$error":"#REF!"}]
[137,137,{"$error":"#REF!"},{"$error":"#REF!"},{"$f":"IF(ISERROR(MATCH(D140,#REF!,0))=FALSE,\"C\",IF(ISERROR(MATCH(D140,#REF!,0))=FALSE,\"D\",\"\"))","v":""},{"$f":"IF(E140=\"C\",0,IF(E140 =\"D\",ROUND(1/((1+#REF!)^A140),9) * 2,ROUND(1/((1+#REF!)^A140),9)))","v":{"$error":"#REF!"}},{"$error":"#REF!"}]
[138,138,{"$error":"#REF!"},{"$error":"#REF!"},{"$f":"IF(ISERROR(MATCH(D141,#REF!,0))=FALSE,\"C\",IF(ISERROR(MATCH(D141,#REF!,0))=FALSE,\"D\",\"\"))","v":""},{"$f":"IF(E141=\"C\",0,IF(E141 =\"D\",ROUND(1/((1+#REF!)^A141),9) * 2,ROUND(1/((1+#REF!)^A141),9)))","v":{"$error":"#REF!"}},{"$error":"#REF!"}]
[139,139,{"$error":"#REF!"},{"$error":"#REF!"},{"$f":"IF(ISERROR(MATCH(D142,#REF!,0))=FALSE,\"C\",IF(ISERROR(MATCH(D142,#REF!,0))=FALSE,\"D\",\"\"))","v":""},{"$f":"IF(E142=\"C\",0,IF(E142 =\"D\",ROUND(1/((1+#REF!)^A142),9) * 2,ROUND(1/((1+#REF!)^A142),9)))","v":{"$error":"#REF!"}},{"$error":"#REF!"}]
[140,140,{"$error":"#REF!"},{"$error":"#REF!"},{"$f":"IF(ISERROR(MATCH(D143,#REF!,0))=FALSE,\"C\",IF(ISERROR(MATCH(D143,#REF!,0))=FALSE,\"D\",\"\"))","v":""},{"$f":"IF(E143=\"C\",0,IF(E143 =\"D\",ROUND(1/((1+#REF!)^A143),9) * 2,ROUND(1/((1+#REF!)^A143),9)))","v":{"$error":"#REF!"}},{"$error":"#REF!"}]
[141,141,{"$error":"#REF!"},{"$error":"#REF!"},{"$f":"IF(ISERROR(MATCH(D144,#REF!,0))=FALSE,\"C\",IF(ISERROR(MATCH(D144,#REF!,0))=FALSE,\"D\",\"\"))","v":""},{"$f":"IF(E144=\"C\",0,IF(E144 =\"D\",ROUND(1/((1+#REF!)^A144),9) * 2,ROUND(1/((1+#REF!)^A144),9)))","v":{"$error":"#REF!"}},{"$error":"#REF!"}]
[142,142,{"$error":"#REF!"},{"$error":"#REF!"},{"$f":"IF(ISERROR(MATCH(D145,#REF!,0))=FALSE,\"C\",IF(ISERROR(MATCH(D145,#REF!,0))=FALSE,\"D\",\"\"))","v":""},{"$f":"IF(E145=\"C\",0,IF(E145 =\"D\",ROUND(1/((1+#REF!)^A145),9) * 2,ROUND(1/((1+#REF!)^A145),9)))","v":{"$error":"#REF!"}},{"$error":"#REF!"}]
[143,143,{"$error":"#REF!"},{"$error":"#REF!"},{"$f":"IF(ISERROR(MATCH(D146,#REF!,0))=FALSE,\"C\",IF(ISERROR(MATCH(D146,#REF!,0))=FALSE,\"D\",\"\"))","v":""},{"$f":"IF(E146=\"C\",0,IF(E146 =\"D\",ROUND(1/((1+#REF!)^A146),9) * 2,ROUND(1/((1+#REF!)^A146),9)))","v":{"$error":"#REF!"}},{"$error":"#REF!"}]
[144,144,{"$error":"#REF!"},{"$error":"#REF!"},{"$f":"IF(ISERROR(MATCH(D147,#REF!,0))=FALSE,\"C\",IF(ISERROR(MATCH(D147,#REF!,0))=FALSE,\"D\",\"\"))","v":""},{"$f":"IF(E147=\"C\",0,IF(E147 =\"D\",ROUND(1/((1+#REF!)^A147),9) * 2,ROUND(1/((1+#REF!)^A147),9)))","v":{"$error":"#REF!"}},{"$error":"#REF!"}]
[145,145,{"$error":"#REF!"},{"$error":"#REF!"},{"$f":"IF(ISERROR(MATCH(D148,#REF!,0))=FALSE,\"C\",IF(ISERROR(MATCH(D148,#REF!,0))=FALSE,\"D\",\"\"))","v":""},{"$f":"IF(E148=\"C\",0,IF(E148 =\"D\",ROUND(1/((1+#REF!)^A148),9) * 2,ROUND(1/((1+#REF!)^A148),9)))","v":{"$error":"#REF!"}},{"$error":"#REF!"}]
[146,146,{"$error":"#REF!"},{"$error":"#REF!"},{"$f":"IF(ISERROR(MATCH(D149,#REF!,0))=FALSE,\"C\",IF(ISERROR(MATCH(D149,#REF!,0))=FALSE,\"D\",\"\"))","v":""},{"$f":"IF(E149=\"C\",0,IF(E149 =\"D\",ROUND(1/((1+#REF!)^A149),9) * 2,ROUND(1/((1+#REF!)^A149),9)))","v":{"$error":"#REF!"}},{"$error":"#REF!"}]
[147,147,{"$error":"#REF!"},{"$error":"#REF!"},{"$f":"IF(ISERROR(MATCH(D150,#REF!,0))=FALSE,\"C\",IF(ISERROR(MATCH(D150,#REF!,0))=FALSE,\"D\",\"\"))","v":""},{"$f":"IF(E150=\"C\",0,IF(E150 =\"D\",ROUND(1/((1+#REF!)^A150),9) * 2,ROUND(1/((1+#REF!)^A150),9)))","v":{"$error":"#REF!"}},{"$error":"#REF!"}]
[148,148,{"$error":"#REF!"},{"$error":"#REF!"},{"$f":"IF(ISERROR(MATCH(D151,#REF!,0))=FALSE,\"C\",IF(ISERROR(MATCH(D151,#REF!,0))=FALSE,\"D\",\"\"))","v":""},{"$f":"IF(E151=\"C\",0,IF(E151 =\"D\",ROUND(1/((1+#REF!)^A151),9) * 2,ROUND(1/((1+#REF!)^A151),9)))","v":{"$error":"#REF!"}},{"$error":"#REF!"}]
[149,149,{"$error":"#REF!"},{"$error":"#REF!"},{"$f":"IF(ISERROR(MATCH(D152,#REF!,0))=FALSE,\"C\",IF(ISERROR(MATCH(D152,#REF!,0))=FALSE,\"D\",\"\"))","v":""},{"$f":"IF(E152=\"C\",0,IF(E152 =\"D\",ROUND(1/((1+#REF!)^A152),9) * 2,ROUND(1/((1+#REF!)^A152),9)))","v":{"$error":"#REF!"}},{"$error":"#REF!"}]
[150,150,{"$error":"#REF!"},{"$error":"#REF!"},{"$f":"IF(ISERROR(MATCH(D153,#REF!,0))=FALSE,\"C\",IF(ISERROR(MATCH(D153,#REF!,0))=FALSE,\"D\",\"\"))","v":""},{"$f":"IF(E153=\"C\",0,IF(E153 =\"D\",ROUND(1/((1+#REF!)^A153),9) * 2,ROUND(1/((1+#REF!)^A153),9)))","v":{"$error":"#REF!"}},{"$error":"#REF!"}]
[151,151,{"$error":"#REF!"},{"$error":"#REF!"},{"$f":"IF(ISERROR(MATCH(D154,#REF!,0))=FALSE,\"C\",IF(ISERROR(MATCH(D154,#REF!,0))=FALSE,\"D\",\"\"))","v":""},{"$f":"IF(E154=\"C\",0,IF(E154 =\"D\",ROUND(1/((1+#REF!)^A154),9) * 2,ROUND(1/((1+#REF!)^A154),9)))","v":{"$error":"#REF!"}},{"$error":"#REF!"}]
[152,152,{"$error":"#REF!"},{"$error":"#REF!"},{"$f":"IF(ISERROR(MATCH(D155,#REF!,0))=FALSE,\"C\",IF(ISERROR(MATCH(D155,#REF!,0))=FALSE,\"D\",\"\"))","v":""},{"$f":"IF(E155=\"C\",0,IF(E155 =\"D\",ROUND(1/((1+#REF!)^A155),9) * 2,ROUND(1/((1+#REF!)^A155),9)))","v":{"$error":"#REF!"}},{"$error":"#REF!"}]
[153,153,{"$error":"#REF!"},{"$error":"#REF!"},{"$f":"IF(ISERROR(MATCH(D156,#REF!,0))=FALSE,\"C\",IF(ISERROR(MATCH(D156,#REF!,0))=FALSE,\"D\",\"\"))","v":""},{"$f":"IF(E156=\"C\",0,IF(E156 =\"D\",ROUND(1/((1+#REF!)^A156),9) * 2,ROUND(1/((1+#REF!)^A156),9)))","v":{"$error":"#REF!"}},{"$error":"#REF!"}]
[154,154,{"$error":"#REF!"},{"$error":"#REF!"},{"$f":"IF(ISERROR(MATCH(D157,#REF!,0))=FALSE,\"C\",IF(ISERROR(MATCH(D157,#REF!,0))=FALSE,\"D\",\"\"))","v":""},{"$f":"IF(E157=\"C\",0,IF(E157 =\"D\",ROUND(1/((1+#REF!)^A157),9) * 2,ROUND(1/((1+#REF!)^A157),9)))","v":{"$error":"#REF!"}},{"$error":"#REF!"}]
[155,155,{"$error":"#REF!"},{"$error":"#REF!"},{"$f":"IF(ISERROR(MATCH(D158,#REF!,0))=FALSE,\"C\",IF(ISERROR(MATCH(D158,#REF!,0))=FALSE,\"D\",\"\"))","v":""},{"$f":"IF(E158=\"C\",0,IF(E158 =\"D\",ROUND(1/((1+#REF!)^A158),9) * 2,ROUND(1/((1+#REF!)^A158),9)))","v":{"$error":"#REF!"}},{"$error":"#REF!"}]
[156,156,{"$error":"#REF!"},{"$error":"#REF!"},{"$f":"IF(ISERROR(MATCH(D159,#REF!,0))=FALSE,\"C\",IF(ISERROR(MATCH(D159,#REF!,0))=FALSE,\"D\",\"\"))","v":""},{"$f":"IF(E159=\"C\",0,IF(E159 =\"D\",ROUND(1/((1+#REF!)^A159),9) * 2,ROUND(1/((1+#REF!)^A159),9)))","v":{"$error":"#REF!"}},{"$error":"#REF!"}]
[157,157,{"$error":"#REF!"},{"$error":"#REF!"},{"$f":"IF(ISERROR(MATCH(D160,#REF!,0))=FALSE,\"C\",IF(ISERROR(MATCH(D160,#REF!,0))=FALSE,\"D\",\"\"))","v":""},{"$f":"IF(E160=\"C\",0,IF(E160 =\"D\",ROUND(1/((1+#REF!)^A160),9) * 2,ROUND(1/((1+#REF!)^A160),9)))","v":{"$error":"#REF!"}},{"$error":"#REF!"}]
[158,158,{"$error":"#REF!"},{"$error":"#REF!"},{"$f":"IF(ISERROR(MATCH(D161,#REF!,0))=FALSE,\"C\",IF(ISERROR(MATCH(D161,#REF!,0))=FALSE,\"D\",\"\"))","v":""},{"$f":"IF(E161=\"C\",0,IF(E161 =\"D\",ROUND(1/((1+#REF!)^A161),9) * 2,ROUND(1/((1+#REF!)^A161),9)))","v":{"$error":"#REF!"}},{"$error":"#REF!"}]
[159,159,{"$error":"#REF!"},{"$error":"#REF!"},{"$f":"IF(ISERROR(MATCH(D162,#REF!,0))=FALSE,\"C\",IF(ISERROR(MATCH(D162,#REF!,0))=FALSE,\"D\",\"\"))","v":""},{"$f":"IF(E162=\"C\",0,IF(E162 =\"D\",ROUND(1/((1+#REF!)^A162),9) * 2,ROUND(1/((1+#REF!)^A162),9)))","v":{"$error":"#REF!"}},{"$error":"#REF!"}]
[160,160,{"$error":"#REF!"},{"$error":"#REF!"},{"$f":"IF(ISERROR(MATCH(D163,#REF!,0))=FALSE,\"C\",IF(ISERROR(MATCH(D163,#REF!,0))=FALSE,\"D\",\"\"))","v":""},{"$f":"IF(E163=\"C\",0,IF(E163 =\"D\",ROUND(1/((1+#REF!)^A163),9) * 2,ROUND(1/((1+#REF!)^A163),9)))","v":{"$error":"#REF!"}},{"$error":"#REF!"}]
[161,{"$f":"IF(E164<>\"C\",IF(ISERROR(1+B163)=TRUE,1,1+B163),IF(ISNUMBER(B163),B163,1))","v":161},{"$error":"#REF!"},{"$f":"MONTH(C164)","v":{"$error":"#REF!"}},{"$f":"IF(ISERROR(MATCH(D164,#REF!,0))=FALSE,\"C\",IF(ISERROR(MATCH(D164,#REF!,0))=FALSE,\"D\",\"\"))","v":""},{"$f":"IF(E164=\"C\",0,IF(E164 =\"D\",ROUND(1/((1+#REF!)^A164),9) * 2,ROUND(1/((1+#REF!)^A164),9)))","v":{"$error":"#REF!"}},{"$f":"G163+ROUND(F164,9)","v":{"$error":"#REF!"}}]
[162,162,{"$error":"#REF!"},{"$error":"#REF!"},{"$f":"IF(ISERROR(MATCH(D165,#REF!,0))=FALSE,\"C\",IF(ISERROR(MATCH(D165,#REF!,0))=FALSE,\"D\",\"\"))","v":""},{"$f":"IF(E165=\"C\",0,IF(E165 =\"D\",ROUND(1/((1+#REF!)^A165),9) * 2,ROUND(1/((1+#REF!)^A165),9)))","v":{"$error":"#REF!"}},{"$error":"#REF!"}]
[163,163,{"$error":"#REF!"},{"$error":"#REF!"},{"$f":"IF(ISERROR(MATCH(D166,#REF!,0))=FALSE,\"C\",IF(ISERROR(MATCH(D166,#REF!,0))=FALSE,\"D\",\"\"))","v":""},{"$f":"IF(E166=\"C\",0,IF(E166 =\"D\",ROUND(1/((1+#REF!)^A166),9) * 2,ROUND(1/((1+#REF!)^A166),9)))","v":{"$error":"#REF!"}},{"$error":"#REF!"}]
[164,164,{"$error":"#REF!"},{"$error":"#REF!"},{"$f":"IF(ISERROR(MATCH(D167,#REF!,0))=FALSE,\"C\",IF(ISERROR(MATCH(D167,#REF!,0))=FALSE,\"D\",\"\"))","v":""},{"$f":"IF(E167=\"C\",0,IF(E167 =\"D\",ROUND(1/((1+#REF!)^A167),9) * 2,ROUND(1/((1+#REF!)^A167),9)))","v":{"$error":"#REF!"}},{"$error":"#REF!"}]
[165,165,{"$error":"#REF!"},{"$error":"#REF!"},{"$f":"IF(ISERROR(MATCH(D168,#REF!,0))=FALSE,\"C\",IF(ISERROR(MATCH(D168,#REF!,0))=FALSE,\"D\",\"\"))","v":""},{"$f":"IF(E168=\"C\",0,IF(E168 =\"D\",ROUND(1/((1+#REF!)^A168),9) * 2,ROUND(1/((1+#REF!)^A168),9)))","v":{"$error":"#REF!"}},{"$error":"#REF!"}]
[166,166,{"$error":"#REF!"},{"$error":"#REF!"},{"$f":"IF(ISERROR(MATCH(D169,#REF!,0))=FALSE,\"C\",IF(ISERROR(MATCH(D169,#REF!,0))=FALSE,\"D\",\"\"))","v":""},{"$f":"IF(E169=\"C\",0,IF(E169 =\"D\",ROUND(1/((1+#REF!)^A169),9) * 2,ROUND(1/((1+#REF!)^A169),9)))","v":{"$error":"#REF!"}},{"$error":"#REF!"}]
[167,167,{"$error":"#REF!"},{"$error":"#REF!"},{"$f":"IF(ISERROR(MATCH(D170,#REF!,0))=FALSE,\"C\",IF(ISERROR(MATCH(D170,#REF!,0))=FALSE,\"D\",\"\"))","v":""},{"$f":"IF(E170=\"C\",0,IF(E170 =\"D\",ROUND(1/((1+#REF!)^A170),9) * 2,ROUND(1/((1+#REF!)^A170),9)))","v":{"$error":"#REF!"}},{"$error":"#REF!"}]
[168,168,{"$error":"#REF!"},{"$error":"#REF!"},{"$f":"IF(ISERROR(MATCH(D171,#REF!,0))=FALSE,\"C\",IF(ISERROR(MATCH(D171,#REF!,0))=FALSE,\"D\",\"\"))","v":""},{"$f":"IF(E171=\"C\",0,IF(E171 =\"D\",ROUND(1/((1+#REF!)^A171),9) * 2,ROUND(1/((1+#REF!)^A171),9)))","v":{"$error":"#REF!"}},{"$error":"#REF!"}]
[169,169,{"$error":"#REF!"},{"$error":"#REF!"},{"$f":"IF(ISERROR(MATCH(D172,#REF!,0))=FALSE,\"C\",IF(ISERROR(MATCH(D172,#REF!,0))=FALSE,\"D\",\"\"))","v":""},{"$f":"IF(E172=\"C\",0,IF(E172 =\"D\",ROUND(1/((1+#REF!)^A172),9) * 2,ROUND(1/((1+#REF!)^A172),9)))","v":{"$error":"#REF!"}},{"$error":"#REF!"}]
[170,170,{"$error":"#REF!"},{"$error":"#REF!"},{"$f":"IF(ISERROR(MATCH(D173,#REF!,0))=FALSE,\"C\",IF(ISERROR(MATCH(D173,#REF!,0))=FALSE,\"D\",\"\"))","v":""},{"$f":"IF(E173=\"C\",0,IF(E173 =\"D\",ROUND(1/((1+#REF!)^A173),9) * 2,ROUND(1/((1+#REF!)^A173),9)))","v":{"$error":"#REF!"}},{"$error":"#REF!"}]
[171,171,{"$error":"#REF!"},{"$error":"#REF!"},{"$f":"IF(ISERROR(MATCH(D174,#REF!,0))=FALSE,\"C\",IF(ISERROR(MATCH(D174,#REF!,0))=FALSE,\"D\",\"\"))","v":""},{"$f":"IF(E174=\"C\",0,IF(E174 =\"D\",ROUND(1/((1+#REF!)^A174),9) * 2,ROUND(1/((1+#REF!)^A174),9)))","v":{"$error":"#REF!"}},{"$error":"#REF!"}]
[172,172,{"$error":"#REF!"},{"$error":"#REF!"},{"$f":"IF(ISERROR(MATCH(D175,#REF!,0))=FALSE,\"C\",IF(ISERROR(MATCH(D175,#REF!,0))=FALSE,\"D\",\"\"))","v":""},{"$f":"IF(E175=\"C\",0,IF(E175 =\"D\",ROUND(1/((1+#REF!)^A175),9) * 2,ROUND(1/((1+#REF!)^A175),9)))","v":{"$error":"#REF!"}},{"$error":"#REF!"}]
[173,173,{"$error":"#REF!"},{"$error":"#REF!"},{"$f":"IF(ISERROR(MATCH(D176,#REF!,0))=FALSE,\"C\",IF(ISERROR(MATCH(D176,#REF!,0))=FALSE,\"D\",\"\"))","v":""},{"$f":"IF(E176=\"C\",0,IF(E176 =\"D\",ROUND(1/((1+#REF!)^A176),9) * 2,ROUND(1/((1+#REF!)^A176),9)))","v":{"$error":"#REF!"}},{"$error":"#REF!"}]
[174,174,{"$error":"#REF!"},{"$error":"#REF!"},{"$f":"IF(ISERROR(MATCH(D177,#REF!,0))=FALSE,\"C\",IF(ISERROR(MATCH(D177,#REF!,0))=FALSE,\"D\",\"\"))","v":""},{"$f":"IF(E177=\"C\",0,IF(E177 =\"D\",ROUND(1/((1+#REF!)^A177),9) * 2,ROUND(1/((1+#REF!)^A177),9)))","v":{"$error":"#REF!"}},{"$error":"#REF!"}]
[175,175,{"$error":"#REF!"},{"$error":"#REF!"},{"$f":"IF(ISERROR(MATCH(D178,#REF!,0))=FALSE,\"C\",IF(ISERROR(MATCH(D178,#REF!,0))=FALSE,\"D\",\"\"))","v":""},{"$f":"IF(E178=\"C\",0,IF(E178 =\"D\",ROUND(1/((1+#REF!)^A178),9) * 2,ROUND(1/((1+#REF!)^A178),9)))","v":{"$error":"#REF!"}},{"$error":"#REF!"}]
[176,176,{"$error":"#REF!"},{"$error":"#REF!"},{"$f":"IF(ISERROR(MATCH(D179,#REF!,0))=FALSE,\"C\",IF(ISERROR(MATCH(D179,#REF!,0))=FALSE,\"D\",\"\"))","v":""},{"$f":"IF(E179=\"C\",0,IF(E179 =\"D\",ROUND(1/((1+#REF!)^A179),9) * 2,ROUND(1/((1+#REF!)^A179),9)))","v":{"$error":"#REF!"}},{"$error":"#REF!"}]
[177,177,{"$error":"#REF!"},{"$error":"#REF!"},{"$f":"IF(ISERROR(MATCH(D180,#REF!,0))=FALSE,\"C\",IF(ISERROR(MATCH(D180,#REF!,0))=FALSE,\"D\",\"\"))","v":""},{"$f":"IF(E180=\"C\",0,IF(E180 =\"D\",ROUND(1/((1+#REF!)^A180),9) * 2,ROUND(1/((1+#REF!)^A180),9)))","v":{"$error":"#REF!"}},{"$error":"#REF!"}]
[178,178,{"$error":"#REF!"},{"$error":"#REF!"},{"$f":"IF(ISERROR(MATCH(D181,#REF!,0))=FALSE,\"C\",IF(ISERROR(MATCH(D181,#REF!,0))=FALSE,\"D\",\"\"))","v":""},{"$f":"IF(E181=\"C\",0,IF(E181 =\"D\",ROUND(1/((1+#REF!)^A181),9) * 2,ROUND(1/((1+#REF!)^A181),9)))","v":{"$error":"#REF!"}},{"$error":"#REF!"}]
[179,179,{"$error":"#REF!"},{"$error":"#REF!"},{"$f":"IF(ISERROR(MATCH(D182,#REF!,0))=FALSE,\"C\",IF(ISERROR(MATCH(D182,#REF!,0))=FALSE,\"D\",\"\"))","v":""},{"$f":"IF(E182=\"C\",0,IF(E182 =\"D\",ROUND(1/((1+#REF!)^A182),9) * 2,ROUND(1/((1+#REF!)^A182),9)))","v":{"$error":"#REF!"}},{"$error":"#REF!"}]
[180,180,{"$error":"#REF!"},{"$error":"#REF!"},{"$f":"IF(ISERROR(MATCH(D183,#REF!,0))=FALSE,\"C\",IF(ISERROR(MATCH(D183,#REF!,0))=FALSE,\"D\",\"\"))","v":""},{"$f":"IF(E183=\"C\",0,IF(E183 =\"D\",ROUND(1/((1+#REF!)^A183),9) * 2,ROUND(1/((1+#REF!)^A183),9)))","v":{"$error":"#REF!"}},{"$error":"#REF!"}]
[181,181,{"$error":"#REF!"},{"$error":"#REF!"},{"$f":"IF(ISERROR(MATCH(D184,#REF!,0))=FALSE,\"C\",IF(ISERROR(MATCH(D184,#REF!,0))=FALSE,\"D\",\"\"))","v":""},{"$f":"IF(E184=\"C\",0,IF(E184 =\"D\",ROUND(1/((1+#REF!)^A184),9) * 2,ROUND(1/((1+#REF!)^A184),9)))","v":{"$error":"#REF!"}},{"$error":"#REF!"}]
[182,182,{"$error":"#REF!"},{"$error":"#REF!"},{"$f":"IF(ISERROR(MATCH(D185,#REF!,0))=FALSE,\"C\",IF(ISERROR(MATCH(D185,#REF!,0))=FALSE,\"D\",\"\"))","v":""},{"$f":"IF(E185=\"C\",0,IF(E185 =\"D\",ROUND(1/((1+#REF!)^A185),9) * 2,ROUND(1/((1+#REF!)^A185),9)))","v":{"$error":"#REF!"}},{"$error":"#REF!"}]
[183,183,{"$error":"#REF!"},{"$error":"#REF!"},{"$f":"IF(ISERROR(MATCH(D186,#REF!,0))=FALSE,\"C\",IF(ISERROR(MATCH(D186,#REF!,0))=FALSE,\"D\",\"\"))","v":""},{"$f":"IF(E186=\"C\",0,IF(E186 =\"D\",ROUND(1/((1+#REF!)^A186),9) * 2,ROUND(1/((1+#REF!)^A186),9)))","v":{"$error":"#REF!"}},{"$error":"#REF!"}]
[184,184,{"$error":"#REF!"},{"$error":"#REF!"},{"$f":"IF(ISERROR(MATCH(D187,#REF!,0))=FALSE,\"C\",IF(ISERROR(MATCH(D187,#REF!,0))=FALSE,\"D\",\"\"))","v":""},{"$f":"IF(E187=\"C\",0,IF(E187 =\"D\",ROUND(1/((1+#REF!)^A187),9) * 2,ROUND(1/((1+#REF!)^A187),9)))","v":{"$error":"#REF!"}},{"$error":"#REF!"}]
[185,185,{"$error":"#REF!"},{"$error":"#REF!"},{"$f":"IF(ISERROR(MATCH(D188,#REF!,0))=FALSE,\"C\",IF(ISERROR(MATCH(D188,#REF!,0))=FALSE,\"D\",\"\"))","v":""},{"$f":"IF(E188=\"C\",0,IF(E188 =\"D\",ROUND(1/((1+#REF!)^A188),9) * 2,ROUND(1/((1+#REF!)^A188),9)))","v":{"$error":"#REF!"}},{"$error":"#REF!"}]
[186,186,{"$error":"#REF!"},{"$error":"#REF!"},{"$f":"IF(ISERROR(MATCH(D189,#REF!,0))=FALSE,\"C\",IF(ISERROR(MATCH(D189,#REF!,0))=FALSE,\"D\",\"\"))","v":""},{"$f":"IF(E189=\"C\",0,IF(E189 =\"D\",ROUND(1/((1+#REF!)^A189),9) * 2,ROUND(1/((1+#REF!)^A189),9)))","v":{"$error":"#REF!"}},{"$error":"#REF!"}]
[187,187,{"$error":"#REF!"},{"$error":"#REF!"},{"$f":"IF(ISERROR(MATCH(D190,#REF!,0))=FALSE,\"C\",IF(ISERROR(MATCH(D190,#REF!,0))=FALSE,\"D\",\"\"))","v":""},{"$f":"IF(E190=\"C\",0,IF(E190 =\"D\",ROUND(1/((1+#REF!)^A190),9) * 2,ROUND(1/((1+#REF!)^A190),9)))","v":{"$error":"#REF!"}},{"$error":"#REF!"}]
[188,188,{"$error":"#REF!"},{"$error":"#REF!"},{"$f":"IF(ISERROR(MATCH(D191,#REF!,0))=FALSE,\"C\",IF(ISERROR(MATCH(D191,#REF!,0))=FALSE,\"D\",\"\"))","v":""},{"$f":"IF(E191=\"C\",0,IF(E191 =\"D\",ROUND(1/((1+#REF!)^A191),9) * 2,ROUND(1/((1+#REF!)^A191),9)))","v":{"$error":"#REF!"}},{"$error":"#REF!"}]
[189,189,{"$error":"#REF!"},{"$error":"#REF!"},{"$f":"IF(ISERROR(MATCH(D192,#REF!,0))=FALSE,\"C\",IF(ISERROR(MATCH(D192,#REF!,0))=FALSE,\"D\",\"\"))","v":""},{"$f":"IF(E192=\"C\",0,IF(E192 =\"D\",ROUND(1/((1+#REF!)^A192),9) * 2,ROUND(1/((1+#REF!)^A192),9)))","v":{"$error":"#REF!"}},{"$error":"#REF!"}]
[190,190,{"$error":"#REF!"},{"$error":"#REF!"},{"$f":"IF(ISERROR(MATCH(D193,#REF!,0))=FALSE,\"C\",IF(ISERROR(MATCH(D193,#REF!,0))=FALSE,\"D\",\"\"))","v":""},{"$f":"IF(E193=\"C\",0,IF(E193 =\"D\",ROUND(1/((1+#REF!)^A193),9) * 2,ROUND(1/((1+#REF!)^A193),9)))","v":{"$error":"#REF!"}},{"$error":"#REF!"}]
[191,191,{"$error":"#REF!"},{"$error":"#REF!"},{"$f":"IF(ISERROR(MATCH(D194,#REF!,0))=FALSE,\"C\",IF(ISERROR(MATCH(D194,#REF!,0))=FALSE,\"D\",\"\"))","v":""},{"$f":"IF(E194=\"C\",0,IF(E194 =\"D\",ROUND(1/((1+#REF!)^A194),9) * 2,ROUND(1/((1+#REF!)^A194),9)))","v":{"$error":"#REF!"}},{"$error":"#REF!"}]
[192,192,{"$error":"#REF!"},{"$error":"#REF!"},{"$f":"IF(ISERROR(MATCH(D195,#REF!,0))=FALSE,\"C\",IF(ISERROR(MATCH(D195,#REF!,0))=FALSE,\"D\",\"\"))","v":""},{"$f":"IF(E195=\"C\",0,IF(E195 =\"D\",ROUND(1/((1+#REF!)^A195),9) * 2,ROUND(1/((1+#REF!)^A195),9)))","v":{"$error":"#REF!"}},{"$error":"#REF!"}]
[193,193,{"$error":"#REF!"},{"$error":"#REF!"},{"$f":"IF(ISERROR(MATCH(D196,#REF!,0))=FALSE,\"C\",IF(ISERROR(MATCH(D196,#REF!,0))=FALSE,\"D\",\"\"))","v":""},{"$f":"IF(E196=\"C\",0,IF(E196 =\"D\",ROUND(1/((1+#REF!)^A196),9) * 2,ROUND(1/((1+#REF!)^A196),9)))","v":{"$error":"#REF!"}},{"$error":"#REF!"}]
[{"$f":"A196+1","v":194},194,{"$f":"DATE(YEAR(C196) + 1/12,MONTH(C196)+1,DAY(C196))","v":{"$error":"#REF!"}},{"$error":"#REF!"},{"$f":"IF(ISERROR(MATCH(D197,#REF!,0))=FALSE,\"C\",IF(ISERROR(MATCH(D197,#REF!,0))=FALSE,\"D\",\"\"))","v":""},{"$f":"IF(E197=\"C\",0,IF(E197 =\"D\",ROUND(1/((1+#REF!)^A197),9) * 2,ROUND(1/((1+#REF!)^A197),9)))","v":{"$error":"#REF!"}},{"$error":"#REF!"}]
[195,195,{"$error":"#REF!"},{"$error":"#REF!"},{"$f":"IF(ISERROR(MATCH(D198,#REF!,0))=FALSE,\"C\",IF(ISERROR(MATCH(D198,#REF!,0))=FALSE,\"D\",\"\"))","v":""},{"$f":"IF(E198=\"C\",0,IF(E198 =\"D\",ROUND(1/((1+#REF!)^A198),9) * 2,ROUND(1/((1+#REF!)^A198),9)))","v":{"$error":"#REF!"}},{"$error":"#REF!"}]
[196,196,{"$error":"#REF!"},{"$error":"#REF!"},{"$f":"IF(ISERROR(MATCH(D199,#REF!,0))=FALSE,\"C\",IF(ISERROR(MATCH(D199,#REF!,0))=FALSE,\"D\",\"\"))","v":""},{"$f":"IF(E199=\"C\",0,IF(E199 =\"D\",ROUND(1/((1+#REF!)^A199),9) * 2,ROUND(1/((1+#REF!)^A199),9)))","v":{"$error":"#REF!"}},{"$error":"#REF!"}]
[197,197,{"$error":"#REF!"},{"$error":"#REF!"},{"$f":"IF(ISERROR(MATCH(D200,#REF!,0))=FALSE,\"C\",IF(ISERROR(MATCH(D200,#REF!,0))=FALSE,\"D\",\"\"))","v":""},{"$f":"IF(E200=\"C\",0,IF(E200 =\"D\",ROUND(1/((1+#REF!)^A200),9) * 2,ROUND(1/((1+#REF!)^A200),9)))","v":{"$error":"#REF!"}},{"$error":"#REF!"}]
[198,198,{"$error":"#REF!"},{"$error":"#REF!"},{"$f":"IF(ISERROR(MATCH(D201,#REF!,0))=FALSE,\"C\",IF(ISERROR(MATCH(D201,#REF!,0))=FALSE,\"D\",\"\"))","v":""},{"$f":"IF(E201=\"C\",0,IF(E201 =\"D\",ROUND(1/((1+#REF!)^A201),9) * 2,ROUND(1/((1+#REF!)^A201),9)))","v":{"$error":"#REF!"}},{"$error":"#REF!"}]
[199,199,{"$error":"#REF!"},{"$error":"#REF!"},{"$f":"IF(ISERROR(MATCH(D202,#REF!,0))=FALSE,\"C\",IF(ISERROR(MATCH(D202,#REF!,0))=FALSE,\"D\",\"\"))","v":""},{"$f":"IF(E202=\"C\",0,IF(E202 =\"D\",ROUND(1/((1+#REF!)^A202),9) * 2,ROUND(1/((1+#REF!)^A202),9)))","v":{"$error":"#REF!"}},{"$error":"#REF!"}]
[200,200,{"$error":"#REF!"},{"$error":"#REF!"},{"$f":"IF(ISERROR(MATCH(D203,#REF!,0))=FALSE,\"C\",IF(ISERROR(MATCH(D203,#REF!,0))=FALSE,\"D\",\"\"))","v":""},{"$f":"IF(E203=\"C\",0,IF(E203 =\"D\",ROUND(1/((1+#REF!)^A203),9) * 2,ROUND(1/((1+#REF!)^A203),9)))","v":{"$error":"#REF!"}},{"$error":"#REF!"}]
[201,201,{"$error":"#REF!"},{"$error":"#REF!"},{"$f":"IF(ISERROR(MATCH(D204,#REF!,0))=FALSE,\"C\",IF(ISERROR(MATCH(D204,#REF!,0))=FALSE,\"D\",\"\"))","v":""},{"$f":"IF(E204=\"C\",0,IF(E204 =\"D\",ROUND(1/((1+#REF!)^A204),9) * 2,ROUND(1/((1+#REF!)^A204),9)))","v":{"$error":"#REF!"}},{"$error":"#REF!"}]
[202,202,{"$error":"#REF!"},{"$error":"#REF!"},{"$f":"IF(ISERROR(MATCH(D205,#REF!,0))=FALSE,\"C\",IF(ISERROR(MATCH(D205,#REF!,0))=FALSE,\"D\",\"\"))","v":""},{"$f":"IF(E205=\"C\",0,IF(E205 =\"D\",ROUND(1/((1+#REF!)^A205),9) * 2,ROUND(1/((1+#REF!)^A205),9)))","v":{"$error":"#REF!"}},{"$error":"#REF!"}]
[203,203,{"$error":"#REF!"},{"$error":"#REF!"},{"$f":"IF(ISERROR(MATCH(D206,#REF!,0))=FALSE,\"C\",IF(ISERROR(MATCH(D206,#REF!,0))=FALSE,\"D\",\"\"))","v":""},{"$f":"IF(E206=\"C\",0,IF(E206 =\"D\",ROUND(1/((1+#REF!)^A206),9) * 2,ROUND(1/((1+#REF!)^A206),9)))","v":{"$error":"#REF!"}},{"$error":"#REF!"}]
[204,204,{"$error":"#REF!"},{"$error":"#REF!"},{"$f":"IF(ISERROR(MATCH(D207,#REF!,0))=FALSE,\"C\",IF(ISERROR(MATCH(D207,#REF!,0))=FALSE,\"D\",\"\"))","v":""},{"$f":"IF(E207=\"C\",0,IF(E207 =\"D\",ROUND(1/((1+#REF!)^A207),9) * 2,ROUND(1/((1+#REF!)^A207),9)))","v":{"$error":"#REF!"}},{"$error":"#REF!"}]
[205,205,{"$error":"#REF!"},{"$error":"#REF!"},{"$f":"IF(ISERROR(MATCH(D208,#REF!,0))=FALSE,\"C\",IF(ISERROR(MATCH(D208,#REF!,0))=FALSE,\"D\",\"\"))","v":""},{"$f":"IF(E208=\"C\",0,IF(E208 =\"D\",ROUND(1/((1+#REF!)^A208),9) * 2,ROUND(1/((1+#REF!)^A208),9)))","v":{"$error":"#REF!"}},{"$error":"#REF!"}]
[206,206,{"$error":"#REF!"},{"$error":"#REF!"},{"$f":"IF(ISERROR(MATCH(D209,#REF!,0))=FALSE,\"C\",IF(ISERROR(MATCH(D209,#REF!,0))=FALSE,\"D\",\"\"))","v":""},{"$f":"IF(E209=\"C\",0,IF(E209 =\"D\",ROUND(1/((1+#REF!)^A209),9) * 2,ROUND(1/((1+#REF!)^A209),9)))","v":{"$error":"#REF!"}},{"$error":"#REF!"}]
[207,207,{"$error":"#REF!"},{"$error":"#REF!"},{"$f":"IF(ISERROR(MATCH(D210,#REF!,0))=FALSE,\"C\",IF(ISERROR(MATCH(D210,#REF!,0))=FALSE,\"D\",\"\"))","v":""},{"$f":"IF(E210=\"C\",0,IF(E210 =\"D\",ROUND(1/((1+#REF!)^A210),9) * 2,ROUND(1/((1+#REF!)^A210),9)))","v":{"$error":"#REF!"}},{"$error":"#REF!"}]
[208,208,{"$error":"#REF!"},{"$error":"#REF!"},{"$f":"IF(ISERROR(MATCH(D211,#REF!,0))=FALSE,\"C\",IF(ISERROR(MATCH(D211,#REF!,0))=FALSE,\"D\",\"\"))","v":""},{"$f":"IF(E211=\"C\",0,IF(E211 =\"D\",ROUND(1/((1+#REF!)^A211),9) * 2,ROUND(1/((1+#REF!)^A211),9)))","v":{"$error":"#REF!"}},{"$error":"#REF!"}]
[209,209,{"$error":"#REF!"},{"$error":"#REF!"},{"$f":"IF(ISERROR(MATCH(D212,#REF!,0))=FALSE,\"C\",IF(ISERROR(MATCH(D212,#REF!,0))=FALSE,\"D\",\"\"))","v":""},{"$f":"IF(E212=\"C\",0,IF(E212 =\"D\",ROUND(1/((1+#REF!)^A212),9) * 2,ROUND(1/((1+#REF!)^A212),9)))","v":{"$error":"#REF!"}},{"$error":"#REF!"}]
[210,210,{"$error":"#REF!"},{"$error":"#REF!"},{"$f":"IF(ISERROR(MATCH(D213,#REF!,0))=FALSE,\"C\",IF(ISERROR(MATCH(D213,#REF!,0))=FALSE,\"D\",\"\"))","v":""},{"$f":"IF(E213=\"C\",0,IF(E213 =\"D\",ROUND(1/((1+#REF!)^A213),9) * 2,ROUND(1/((1+#REF!)^A213),9)))","v":{"$error":"#REF!"}},{"$error":"#REF!"}]
[211,211,{"$error":"#REF!"},{"$error":"#REF!"},{"$f":"IF(ISERROR(MATCH(D214,#REF!,0))=FALSE,\"C\",IF(ISERROR(MATCH(D214,#REF!,0))=FALSE,\"D\",\"\"))","v":""},{"$f":"IF(E214=\"C\",0,IF(E214 =\"D\",ROUND(1/((1+#REF!)^A214),9) * 2,ROUND(1/((1+#REF!)^A214),9)))","v":{"$error":"#REF!"}},{"$error":"#REF!"}]
[212,212,{"$error":"#REF!"},{"$error":"#REF!"},{"$f":"IF(ISERROR(MATCH(D215,#REF!,0))=FALSE,\"C\",IF(ISERROR(MATCH(D215,#REF!,0))=FALSE,\"D\",\"\"))","v":""},{"$f":"IF(E215=\"C\",0,IF(E215 =\"D\",ROUND(1/((1+#REF!)^A215),9) * 2,ROUND(1/((1+#REF!)^A215),9)))","v":{"$error":"#REF!"}},{"$error":"#REF!"}]
[213,213,{"$error":"#REF!"},{"$error":"#REF!"},{"$f":"IF(ISERROR(MATCH(D216,#REF!,0))=FALSE,\"C\",IF(ISERROR(MATCH(D216,#REF!,0))=FALSE,\"D\",\"\"))","v":""},{"$f":"IF(E216=\"C\",0,IF(E216 =\"D\",ROUND(1/((1+#REF!)^A216),9) * 2,ROUND(1/((1+#REF!)^A216),9)))","v":{"$error":"#REF!"}},{"$error":"#REF!"}]
[214,214,{"$error":"#REF!"},{"$error":"#REF!"},{"$f":"IF(ISERROR(MATCH(D217,#REF!,0))=FALSE,\"C\",IF(ISERROR(MATCH(D217,#REF!,0))=FALSE,\"D\",\"\"))","v":""},{"$f":"IF(E217=\"C\",0,IF(E217 =\"D\",ROUND(1/((1+#REF!)^A217),9) * 2,ROUND(1/((1+#REF!)^A217),9)))","v":{"$error":"#REF!"}},{"$error":"#REF!"}]
[215,215,{"$error":"#REF!"},{"$error":"#REF!"},{"$f":"IF(ISERROR(MATCH(D218,#REF!,0))=FALSE,\"C\",IF(ISERROR(MATCH(D218,#REF!,0))=FALSE,\"D\",\"\"))","v":""},{"$f":"IF(E218=\"C\",0,IF(E218 =\"D\",ROUND(1/((1+#REF!)^A218),9) * 2,ROUND(1/((1+#REF!)^A218),9)))","v":{"$error":"#REF!"}},{"$error":"#REF!"}]
[216,216,{"$error":"#REF!"},{"$error":"#REF!"},{"$f":"IF(ISERROR(MATCH(D219,#REF!,0))=FALSE,\"C\",IF(ISERROR(MATCH(D219,#REF!,0))=FALSE,\"D\",\"\"))","v":""},{"$f":"IF(E219=\"C\",0,IF(E219 =\"D\",ROUND(1/((1+#REF!)^A219),9) * 2,ROUND(1/((1+#REF!)^A219),9)))","v":{"$error":"#REF!"}},{"$error":"#REF!"}]
[217,217,{"$error":"#REF!"},{"$error":"#REF!"},{"$f":"IF(ISERROR(MATCH(D220,#REF!,0))=FALSE,\"C\",IF(ISERROR(MATCH(D220,#REF!,0))=FALSE,\"D\",\"\"))","v":""},{"$f":"IF(E220=\"C\",0,IF(E220 =\"D\",ROUND(1/((1+#REF!)^A220),9) * 2,ROUND(1/((1+#REF!)^A220),9)))","v":{"$error":"#REF!"}},{"$error":"#REF!"}]
[218,218,{"$error":"#REF!"},{"$error":"#REF!"},{"$f":"IF(ISERROR(MATCH(D221,#REF!,0))=FALSE,\"C\",IF(ISERROR(MATCH(D221,#REF!,0))=FALSE,\"D\",\"\"))","v":""},{"$f":"IF(E221=\"C\",0,IF(E221 =\"D\",ROUND(1/((1+#REF!)^A221),9) * 2,ROUND(1/((1+#REF!)^A221),9)))","v":{"$error":"#REF!"}},{"$error":"#REF!"}]
[219,219,{"$error":"#REF!"},{"$error":"#REF!"},{"$f":"IF(ISERROR(MATCH(D222,#REF!,0))=FALSE,\"C\",IF(ISERROR(MATCH(D222,#REF!,0))=FALSE,\"D\",\"\"))","v":""},{"$f":"IF(E222=\"C\",0,IF(E222 =\"D\",ROUND(1/((1+#REF!)^A222),9) * 2,ROUND(1/((1+#REF!)^A222),9)))","v":{"$error":"#REF!"}},{"$error":"#REF!"}]
[220,220,{"$error":"#REF!"},{"$error":"#REF!"},{"$f":"IF(ISERROR(MATCH(D223,#REF!,0))=FALSE,\"C\",IF(ISERROR(MATCH(D223,#REF!,0))=FALSE,\"D\",\"\"))","v":""},{"$f":"IF(E223=\"C\",0,IF(E223 =\"D\",ROUND(1/((1+#REF!)^A223),9) * 2,ROUND(1/((1+#REF!)^A223),9)))","v":{"$error":"#REF!"}},{"$error":"#REF!"}]
[221,221,{"$error":"#REF!"},{"$error":"#REF!"},{"$f":"IF(ISERROR(MATCH(D224,#REF!,0))=FALSE,\"C\",IF(ISERROR(MATCH(D224,#REF!,0))=FALSE,\"D\",\"\"))","v":""},{"$f":"IF(E224=\"C\",0,IF(E224 =\"D\",ROUND(1/((1+#REF!)^A224),9) * 2,ROUND(1/((1+#REF!)^A224),9)))","v":{"$error":"#REF!"}},{"$error":"#REF!"}]
[222,222,{"$error":"#REF!"},{"$error":"#REF!"},{"$f":"IF(ISERROR(MATCH(D225,#REF!,0))=FALSE,\"C\",IF(ISERROR(MATCH(D225,#REF!,0))=FALSE,\"D\",\"\"))","v":""},{"$f":"IF(E225=\"C\",0,IF(E225 =\"D\",ROUND(1/((1+#REF!)^A225),9) * 2,ROUND(1/((1+#REF!)^A225),9)))","v":{"$error":"#REF!"}},{"$error":"#REF!"}]
[223,223,{"$error":"#REF!"},{"$error":"#REF!"},{"$f":"IF(ISERROR(MATCH(D226,#REF!,0))=FALSE,\"C\",IF(ISERROR(MATCH(D226,#REF!,0))=FALSE,\"D\",\"\"))","v":""},{"$f":"IF(E226=\"C\",0,IF(E226 =\"D\",ROUND(1/((1+#REF!)^A226),9) * 2,ROUND(1/((1+#REF!)^A226),9)))","v":{"$error":"#REF!"}},{"$error":"#REF!"}]
[224,224,{"$error":"#REF!"},{"$error":"#REF!"},{"$f":"IF(ISERROR(MATCH(D227,#REF!,0))=FALSE,\"C\",IF(ISERROR(MATCH(D227,#REF!,0))=FALSE,\"D\",\"\"))","v":""},{"$f":"IF(E227=\"C\",0,IF(E227 =\"D\",ROUND(1/((1+#REF!)^A227),9) * 2,ROUND(1/((1+#REF!)^A227),9)))","v":{"$error":"#REF!"}},{"$error":"#REF!"}]
[225,{"$f":"IF(E228<>\"C\",IF(ISERROR(1+B227)=TRUE,1,1+B227),IF(ISNUMBER(B227),B227,1))","v":225},{"$error":"#REF!"},{"$f":"MONTH(C228)","v":{"$error":"#REF!"}},{"$f":"IF(ISERROR(MATCH(D228,#REF!,0))=FALSE,\"C\",IF(ISERROR(MATCH(D228,#REF!,0))=FALSE,\"D\",\"\"))","v":""},{"$f":"IF(E228=\"C\",0,IF(E228 =\"D\",ROUND(1/((1+#REF!)^A228),9) * 2,ROUND(1/((1+#REF!)^A228),9)))","v":{"$error":"#REF!"}},{"$f":"G227+ROUND(F228,9)","v":{"$error":"#REF!"}}]
[226,226,{"$error":"#REF!"},{"$error":"#REF!"},{"$f":"IF(ISERROR(MATCH(D229,#REF!,0))=FALSE,\"C\",IF(ISERROR(MATCH(D229,#REF!,0))=FALSE,\"D\",\"\"))","v":""},{"$f":"IF(E229=\"C\",0,IF(E229 =\"D\",ROUND(1/((1+#REF!)^A229),9) * 2,ROUND(1/((1+#REF!)^A229),9)))","v":{"$error":"#REF!"}},{"$error":"#REF!"}]
[227,227,{"$error":"#REF!"},{"$error":"#REF!"},{"$f":"IF(ISERROR(MATCH(D230,#REF!,0))=FALSE,\"C\",IF(ISERROR(MATCH(D230,#REF!,0))=FALSE,\"D\",\"\"))","v":""},{"$f":"IF(E230=\"C\",0,IF(E230 =\"D\",ROUND(1/((1+#REF!)^A230),9) * 2,ROUND(1/((1+#REF!)^A230),9)))","v":{"$error":"#REF!"}},{"$error":"#REF!"}]
[228,228,{"$error":"#REF!"},{"$error":"#REF!"},{"$f":"IF(ISERROR(MATCH(D231,#REF!,0))=FALSE,\"C\",IF(ISERROR(MATCH(D231,#REF!,0))=FALSE,\"D\",\"\"))","v":""},{"$f":"IF(E231=\"C\",0,IF(E231 =\"D\",ROUND(1/((1+#REF!)^A231),9) * 2,ROUND(1/((1+#REF!)^A231),9)))","v":{"$error":"#REF!"}},{"$error":"#REF!"}]
[229,229,{"$error":"#REF!"},{"$error":"#REF!"},{"$f":"IF(ISERROR(MATCH(D232,#REF!,0))=FALSE,\"C\",IF(ISERROR(MATCH(D232,#REF!,0))=FALSE,\"D\",\"\"))","v":""},{"$f":"IF(E232=\"C\",0,IF(E232 =\"D\",ROUND(1/((1+#REF!)^A232),9) * 2,ROUND(1/((1+#REF!)^A232),9)))","v":{"$error":"#REF!"}},{"$error":"#REF!"}]
[230,230,{"$error":"#REF!"},{"$error":"#REF!"},{"$f":"IF(ISERROR(MATCH(D233,#REF!,0))=FALSE,\"C\",IF(ISERROR(MATCH(D233,#REF!,0))=FALSE,\"D\",\"\"))","v":""},{"$f":"IF(E233=\"C\",0,IF(E233 =\"D\",ROUND(1/((1+#REF!)^A233),9) * 2,ROUND(1/((1+#REF!)^A233),9)))","v":{"$error":"#REF!"}},{"$error":"#REF!"}]
[231,231,{"$error":"#REF!"},{"$error":"#REF!"},{"$f":"IF(ISERROR(MATCH(D234,#REF!,0))=FALSE,\"C\",IF(ISERROR(MATCH(D234,#REF!,0))=FALSE,\"D\",\"\"))","v":""},{"$f":"IF(E234=\"C\",0,IF(E234 =\"D\",ROUND(1/((1+#REF!)^A234),9) * 2,ROUND(1/((1+#REF!)^A234),9)))","v":{"$error":"#REF!"}},{"$error":"#REF!"}]
[232,232,{"$error":"#REF!"},{"$error":"#REF!"},{"$f":"IF(ISERROR(MATCH(D235,#REF!,0))=FALSE,\"C\",IF(ISERROR(MATCH(D235,#REF!,0))=FALSE,\"D\",\"\"))","v":""},{"$f":"IF(E235=\"C\",0,IF(E235 =\"D\",ROUND(1/((1+#REF!)^A235),9) * 2,ROUND(1/((1+#REF!)^A235),9)))","v":{"$error":"#REF!"}},{"$error":"#REF!"}]
[233,233,{"$error":"#REF!"},{"$error":"#REF!"},{"$f":"IF(ISERROR(MATCH(D236,#REF!,0))=FALSE,\"C\",IF(ISERROR(MATCH(D236,#REF!,0))=FALSE,\"D\",\"\"))","v":""},{"$f":"IF(E236=\"C\",0,IF(E236 =\"D\",ROUND(1/((1+#REF!)^A236),9) * 2,ROUND(1/((1+#REF!)^A236),9)))","v":{"$error":"#REF!"}},{"$error":"#REF!"}]
[234,234,{"$error":"#REF!"},{"$error":"#REF!"},{"$f":"IF(ISERROR(MATCH(D237,#REF!,0))=FALSE,\"C\",IF(ISERROR(MATCH(D237,#REF!,0))=FALSE,\"D\",\"\"))","v":""},{"$f":"IF(E237=\"C\",0,IF(E237 =\"D\",ROUND(1/((1+#REF!)^A237),9) * 2,ROUND(1/((1+#REF!)^A237),9)))","v":{"$error":"#REF!"}},{"$error":"#REF!"}]
[235,235,{"$error":"#REF!"},{"$error":"#REF!"},{"$f":"IF(ISERROR(MATCH(D238,#REF!,0))=FALSE,\"C\",IF(ISERROR(MATCH(D238,#REF!,0))=FALSE,\"D\",\"\"))","v":""},{"$f":"IF(E238=\"C\",0,IF(E238 =\"D\",ROUND(1/((1+#REF!)^A238),9) * 2,ROUND(1/((1+#REF!)^A238),9)))","v":{"$error":"#REF!"}},{"$error":"#REF!"}]
[236,236,{"$error":"#REF!"},{"$error":"#REF!"},{"$f":"IF(ISERROR(MATCH(D239,#REF!,0))=FALSE,\"C\",IF(ISERROR(MATCH(D239,#REF!,0))=FALSE,\"D\",\"\"))","v":""},{"$f":"IF(E239=\"C\",0,IF(E239 =\"D\",ROUND(1/((1+#REF!)^A239),9) * 2,ROUND(1/((1+#REF!)^A239),9)))","v":{"$error":"#REF!"}},{"$error":"#REF!"}]
[237,237,{"$error":"#REF!"},{"$error":"#REF!"},{"$f":"IF(ISERROR(MATCH(D240,#REF!,0))=FALSE,\"C\",IF(ISERROR(MATCH(D240,#REF!,0))=FALSE,\"D\",\"\"))","v":""},{"$f":"IF(E240=\"C\",0,IF(E240 =\"D\",ROUND(1/((1+#REF!)^A240),9) * 2,ROUND(1/((1+#REF!)^A240),9)))","v":{"$error":"#REF!"}},{"$error":"#REF!"}]
[238,238,{"$error":"#REF!"},{"$error":"#REF!"},{"$f":"IF(ISERROR(MATCH(D241,#REF!,0))=FALSE,\"C\",IF(ISERROR(MATCH(D241,#REF!,0))=FALSE,\"D\",\"\"))","v":""},{"$f":"IF(E241=\"C\",0,IF(E241 =\"D\",ROUND(1/((1+#REF!)^A241),9) * 2,ROUND(1/((1+#REF!)^A241),9)))","v":{"$error":"#REF!"}},{"$error":"#REF!"}]
[239,239,{"$error":"#REF!"},{"$error":"#REF!"},{"$f":"IF(ISERROR(MATCH(D242,#REF!,0))=FALSE,\"C\",IF(ISERROR(MATCH(D242,#REF!,0))=FALSE,\"D\",\"\"))","v":""},{"$f":"IF(E242=\"C\",0,IF(E242 =\"D\",ROUND(1/((1+#REF!)^A242),9) * 2,ROUND(1/((1+#REF!)^A242),9)))","v":{"$error":"#REF!"}},{"$error":"#REF!"}]
[240,240,{"$error":"#REF!"},{"$error":"#REF!"},{"$f":"IF(ISERROR(MATCH(D243,#REF!,0))=FALSE,\"C\",IF(ISERROR(MATCH(D243,#REF!,0))=FALSE,\"D\",\"\"))","v":""},{"$f":"IF(E243=\"C\",0,IF(E243 =\"D\",ROUND(1/((1+#REF!)^A243),9) * 2,ROUND(1/((1+#REF!)^A243),9)))","v":{"$error":"#REF!"}},{"$error":"#REF!"}]
[241,241,{"$error":"#REF!"},{"$error":"#REF!"},{"$f":"IF(ISERROR(MATCH(D244,#REF!,0))=FALSE,\"C\",IF(ISERROR(MATCH(D244,#REF!,0))=FALSE,\"D\",\"\"))","v":""},{"$f":"IF(E244=\"C\",0,IF(E244 =\"D\",ROUND(1/((1+#REF!)^A244),9) * 2,ROUND(1/((1+#REF!)^A244),9)))","v":{"$error":"#REF!"}},{"$error":"#REF!"}]
[242,242,{"$error":"#REF!"},{"$error":"#REF!"},{"$f":"IF(ISERROR(MATCH(D245,#REF!,0))=FALSE,\"C\",IF(ISERROR(MATCH(D245,#REF!,0))=FALSE,\"D\",\"\"))","v":""},{"$f":"IF(E245=\"C\",0,IF(E245 =\"D\",ROUND(1/((1+#REF!)^A245),9) * 2,ROUND(1/((1+#REF!)^A245),9)))","v":{"$error":"#REF!"}},{"$error":"#REF!"}]
[243,243,{"$error":"#REF!"},{"$error":"#REF!"},{"$f":"IF(ISERROR(MATCH(D246,#REF!,0))=FALSE,\"C\",IF(ISERROR(MATCH(D246,#REF!,0))=FALSE,\"D\",\"\"))","v":""},{"$f":"IF(E246=\"C\",0,IF(E246 =\"D\",ROUND(1/((1+#REF!)^A246),9) * 2,ROUND(1/((1+#REF!)^A246),9)))","v":{"$error":"#REF!"}},{"$error":"#REF!"}]
[244,244,{"$error":"#REF!"},{"$error":"#REF!"},{"$f":"IF(ISERROR(MATCH(D247,#REF!,0))=FALSE,\"C\",IF(ISERROR(MATCH(D247,#REF!,0))=FALSE,\"D\",\"\"))","v":""},{"$f":"IF(E247=\"C\",0,IF(E247 =\"D\",ROUND(1/((1+#REF!)^A247),9) * 2,ROUND(1/((1+#REF!)^A247),9)))","v":{"$error":"#REF!"}},{"$error":"#REF!"}]
[245,245,{"$error":"#REF!"},{"$error":"#REF!"},{"$f":"IF(ISERROR(MATCH(D248,#REF!,0))=FALSE,\"C\",IF(ISERROR(MATCH(D248,#REF!,0))=FALSE,\"D\",\"\"))","v":""},{"$f":"IF(E248=\"C\",0,IF(E248 =\"D\",ROUND(1/((1+#REF!)^A248),9) * 2,ROUND(1/((1+#REF!)^A248),9)))","v":{"$error":"#REF!"}},{"$error":"#REF!"}]
[246,246,{"$error":"#REF!"},{"$error":"#REF!"},{"$f":"IF(ISERROR(MATCH(D249,#REF!,0))=FALSE,\"C\",IF(ISERROR(MATCH(D249,#REF!,0))=FALSE,\"D\",\"\"))","v":""},{"$f":"IF(E249=\"C\",0,IF(E249 =\"D\",ROUND(1/((1+#REF!)^A249),9) * 2,ROUND(1/((1+#REF!)^A249),9)))","v":{"$error":"#REF!"}},{"$error":"#REF!"}]
[247,247,{"$error":"#REF!"},{"$error":"#REF!"},{"$f":"IF(ISERROR(MATCH(D250,#REF!,0))=FALSE,\"C\",IF(ISERROR(MATCH(D250,#REF!,0))=FALSE,\"D\",\"\"))","v":""},{"$f":"IF(E250=\"C\",0,IF(E250 =\"D\",ROUND(1/((1+#REF!)^A250),9) * 2,ROUND(1/((1+#REF!)^A250),9)))","v":{"$error":"#REF!"}},{"$error":"#REF!"}]
[248,248,{"$error":"#REF!"},{"$error":"#REF!"},{"$f":"IF(ISERROR(MATCH(D251,#REF!,0))=FALSE,\"C\",IF(ISERROR(MATCH(D251,#REF!,0))=FALSE,\"D\",\"\"))","v":""},{"$f":"IF(E251=\"C\",0,IF(E251 =\"D\",ROUND(1/((1+#REF!)^A251),9) * 2,ROUND(1/((1+#REF!)^A251),9)))","v":{"$error":"#REF!"}},{"$error":"#REF!"}]
[249,249,{"$error":"#REF!"},{"$error":"#REF!"},{"$f":"IF(ISERROR(MATCH(D252,#REF!,0))=FALSE,\"C\",IF(ISERROR(MATCH(D252,#REF!,0))=FALSE,\"D\",\"\"))","v":""},{"$f":"IF(E252=\"C\",0,IF(E252 =\"D\",ROUND(1/((1+#REF!)^A252),9) * 2,ROUND(1/((1+#REF!)^A252),9)))","v":{"$error":"#REF!"}},{"$error":"#REF!"}]
[250,250,{"$error":"#REF!"},{"$error":"#REF!"},{"$f":"IF(ISERROR(MATCH(D253,#REF!,0))=FALSE,\"C\",IF(ISERROR(MATCH(D253,#REF!,0))=FALSE,\"D\",\"\"))","v":""},{"$f":"IF(E253=\"C\",0,IF(E253 =\"D\",ROUND(1/((1+#REF!)^A253),9) * 2,ROUND(1/((1+#REF!)^A253),9)))","v":{"$error":"#REF!"}},{"$error":"#REF!"}]
[251,251,{"$error":"#REF!"},{"$error":"#REF!"},{"$f":"IF(ISERROR(MATCH(D254,#REF!,0))=FALSE,\"C\",IF(ISERROR(MATCH(D254,#REF!,0))=FALSE,\"D\",\"\"))","v":""},{"$f":"IF(E254=\"C\",0,IF(E254 =\"D\",ROUND(1/((1+#REF!)^A254),9) * 2,ROUND(1/((1+#REF!)^A254),9)))","v":{"$error":"#REF!"}},{"$error":"#REF!"}]
[252,252,{"$error":"#REF!"},{"$error":"#REF!"},{"$f":"IF(ISERROR(MATCH(D255,#REF!,0))=FALSE,\"C\",IF(ISERROR(MATCH(D255,#REF!,0))=FALSE,\"D\",\"\"))","v":""},{"$f":"IF(E255=\"C\",0,IF(E255 =\"D\",ROUND(1/((1+#REF!)^A255),9) * 2,ROUND(1/((1+#REF!)^A255),9)))","v":{"$error":"#REF!"}},{"$error":"#REF!"}]
[253,253,{"$error":"#REF!"},{"$error":"#REF!"},{"$f":"IF(ISERROR(MATCH(D256,#REF!,0))=FALSE,\"C\",IF(ISERROR(MATCH(D256,#REF!,0))=FALSE,\"D\",\"\"))","v":""},{"$f":"IF(E256=\"C\",0,IF(E256 =\"D\",ROUND(1/((1+#REF!)^A256),9) * 2,ROUND(1/((1+#REF!)^A256),9)))","v":{"$error":"#REF!"}},{"$error":"#REF!"}]
[254,254,{"$error":"#REF!"},{"$error":"#REF!"},{"$f":"IF(ISERROR(MATCH(D257,#REF!,0))=FALSE,\"C\",IF(ISERROR(MATCH(D257,#REF!,0))=FALSE,\"D\",\"\"))","v":""},{"$f":"IF(E257=\"C\",0,IF(E257 =\"D\",ROUND(1/((1+#REF!)^A257),9) * 2,ROUND(1/((1+#REF!)^A257),9)))","v":{"$error":"#REF!"}},{"$error":"#REF!"}]
[255,255,{"$error":"#REF!"},{"$error":"#REF!"},{"$f":"IF(ISERROR(MATCH(D258,#REF!,0))=FALSE,\"C\",IF(ISERROR(MATCH(D258,#REF!,0))=FALSE,\"D\",\"\"))","v":""},{"$f":"IF(E258=\"C\",0,IF(E258 =\"D\",ROUND(1/((1+#REF!)^A258),9) * 2,ROUND(1/((1+#REF!)^A258),9)))","v":{"$error":"#REF!"}},{"$error":"#REF!"}]
[256,256,{"$error":"#REF!"},{"$error":"#REF!"},{"$f":"IF(ISERROR(MATCH(D259,#REF!,0))=FALSE,\"C\",IF(ISERROR(MATCH(D259,#REF!,0))=FALSE,\"D\",\"\"))","v":""},{"$f":"IF(E259=\"C\",0,IF(E259 =\"D\",ROUND(1/((1+#REF!)^A259),9) * 2,ROUND(1/((1+#REF!)^A259),9)))","v":{"$error":"#REF!"}},{"$error":"#REF!"}]
[257,257,{"$error":"#REF!"},{"$error":"#REF!"},{"$f":"IF(ISERROR(MATCH(D260,#REF!,0))=FALSE,\"C\",IF(ISERROR(MATCH(D260,#REF!,0))=FALSE,\"D\",\"\"))","v":""},{"$f":"IF(E260=\"C\",0,IF(E260 =\"D\",ROUND(1/((1+#REF!)^A260),9) * 2,ROUND(1/((1+#REF!)^A260),9)))","v":{"$error":"#REF!"}},{"$error":"#REF!"}]
[{"$f":"A260+1","v":258},258,{"$f":"DATE(YEAR(C260) + 1/12,MONTH(C260)+1,DAY(C260))","v":{"$error":"#REF!"}},{"$error":"#REF!"},{"$f":"IF(ISERROR(MATCH(D261,#REF!,0))=FALSE,\"C\",IF(ISERROR(MATCH(D261,#REF!,0))=FALSE,\"D\",\"\"))","v":""},{"$f":"IF(E261=\"C\",0,IF(E261 =\"D\",ROUND(1/((1+#REF!)^A261),9) * 2,ROUND(1/((1+#REF!)^A261),9)))","v":{"$error":"#REF!"}},{"$error":"#REF!"}]
[259,259,{"$error":"#REF!"},{"$error":"#REF!"},{"$f":"IF(ISERROR(MATCH(D262,#REF!,0))=FALSE,\"C\",IF(ISERROR(MATCH(D262,#REF!,0))=FALSE,\"D\",\"\"))","v":""},{"$f":"IF(E262=\"C\",0,IF(E262 =\"D\",ROUND(1/((1+#REF!)^A262),9) * 2,ROUND(1/((1+#REF!)^A262),9)))","v":{"$error":"#REF!"}},{"$error":"#REF!"}]
[260,260,{"$error":"#REF!"},{"$error":"#REF!"},{"$f":"IF(ISERROR(MATCH(D263,#REF!,0))=FALSE,\"C\",IF(ISERROR(MATCH(D263,#REF!,0))=FALSE,\"D\",\"\"))","v":""},{"$f":"IF(E263=\"C\",0,IF(E263 =\"D\",ROUND(1/((1+#REF!)^A263),9) * 2,ROUND(1/((1+#REF!)^A263),9)))","v":{"$error":"#REF!"}},{"$error":"#REF!"}]
[261,261,{"$error":"#REF!"},{"$error":"#REF!"},{"$f":"IF(ISERROR(MATCH(D264,#REF!,0))=FALSE,\"C\",IF(ISERROR(MATCH(D264,#REF!,0))=FALSE,\"D\",\"\"))","v":""},{"$f":"IF(E264=\"C\",0,IF(E264 =\"D\",ROUND(1/((1+#REF!)^A264),9) * 2,ROUND(1/((1+#REF!)^A264),9)))","v":{"$error":"#REF!"}},{"$error":"#REF!"}]
[262,262,{"$error":"#REF!"},{"$error":"#REF!"},{"$f":"IF(ISERROR(MATCH(D265,#REF!,0))=FALSE,\"C\",IF(ISERROR(MATCH(D265,#REF!,0))=FALSE,\"D\",\"\"))","v":""},{"$f":"IF(E265=\"C\",0,IF(E265 =\"D\",ROUND(1/((1+#REF!)^A265),9) * 2,ROUND(1/((1+#REF!)^A265),9)))","v":{"$error":"#REF!"}},{"$error":"#REF!"}]
[263,263,{"$error":"#REF!"},{"$error":"#REF!"},{"$f":"IF(ISERROR(MATCH(D266,#REF!,0))=FALSE,\"C\",IF(ISERROR(MATCH(D266,#REF!,0))=FALSE,\"D\",\"\"))","v":""},{"$f":"IF(E266=\"C\",0,IF(E266 =\"D\",ROUND(1/((1+#REF!)^A266),9) * 2,ROUND(1/((1+#REF!)^A266),9)))","v":{"$error":"#REF!"}},{"$error":"#REF!"}]
[264,264,{"$error":"#REF!"},{"$error":"#REF!"},{"$f":"IF(ISERROR(MATCH(D267,#REF!,0))=FALSE,\"C\",IF(ISERROR(MATCH(D267,#REF!,0))=FALSE,\"D\",\"\"))","v":""},{"$f":"IF(E267=\"C\",0,IF(E267 =\"D\",ROUND(1/((1+#REF!)^A267),9) * 2,ROUND(1/((1+#REF!)^A267),9)))","v":{"$error":"#REF!"}},{"$error":"#REF!"}]
[265,265,{"$error":"#REF!"},{"$error":"#REF!"},{"$f":"IF(ISERROR(MATCH(D268,#REF!,0))=FALSE,\"C\",IF(ISERROR(MATCH(D268,#REF!,0))=FALSE,\"D\",\"\"))","v":""},{"$f":"IF(E268=\"C\",0,IF(E268 =\"D\",ROUND(1/((1+#REF!)^A268),9) * 2,ROUND(1/((1+#REF!)^A268),9)))","v":{"$error":"#REF!"}},{"$error":"#REF!"}]
[266,266,{"$error":"#REF!"},{"$error":"#REF!"},{"$f":"IF(ISERROR(MATCH(D269,#REF!,0))=FALSE,\"C\",IF(ISERROR(MATCH(D269,#REF!,0))=FALSE,\"D\",\"\"))","v":""},{"$f":"IF(E269=\"C\",0,IF(E269 =\"D\",ROUND(1/((1+#REF!)^A269),9) * 2,ROUND(1/((1+#REF!)^A269),9)))","v":{"$error":"#REF!"}},{"$error":"#REF!"}]
[267,267,{"$error":"#REF!"},{"$error":"#REF!"},{"$f":"IF(ISERROR(MATCH(D270,#REF!,0))=FALSE,\"C\",IF(ISERROR(MATCH(D270,#REF!,0))=FALSE,\"D\",\"\"))","v":""},{"$f":"IF(E270=\"C\",0,IF(E270 =\"D\",ROUND(1/((1+#REF!)^A270),9) * 2,ROUND(1/((1+#REF!)^A270),9)))","v":{"$error":"#REF!"}},{"$error":"#REF!"}]
[268,268,{"$error":"#REF!"},{"$error":"#REF!"},{"$f":"IF(ISERROR(MATCH(D271,#REF!,0))=FALSE,\"C\",IF(ISERROR(MATCH(D271,#REF!,0))=FALSE,\"D\",\"\"))","v":""},{"$f":"IF(E271=\"C\",0,IF(E271 =\"D\",ROUND(1/((1+#REF!)^A271),9) * 2,ROUND(1/((1+#REF!)^A271),9)))","v":{"$error":"#REF!"}},{"$error":"#REF!"}]
[269,269,{"$error":"#REF!"},{"$error":"#REF!"},{"$f":"IF(ISERROR(MATCH(D272,#REF!,0))=FALSE,\"C\",IF(ISERROR(MATCH(D272,#REF!,0))=FALSE,\"D\",\"\"))","v":""},{"$f":"IF(E272=\"C\",0,IF(E272 =\"D\",ROUND(1/((1+#REF!)^A272),9) * 2,ROUND(1/((1+#REF!)^A272),9)))","v":{"$error":"#REF!"}},{"$error":"#REF!"}]
[270,270,{"$error":"#REF!"},{"$error":"#REF!"},{"$f":"IF(ISERROR(MATCH(D273,#REF!,0))=FALSE,\"C\",IF(ISERROR(MATCH(D273,#REF!,0))=FALSE,\"D\",\"\"))","v":""},{"$f":"IF(E273=\"C\",0,IF(E273 =\"D\",ROUND(1/((1+#REF!)^A273),9) * 2,ROUND(1/((1+#REF!)^A273),9)))","v":{"$error":"#REF!"}},{"$error":"#REF!"}]
[271,271,{"$error":"#REF!"},{"$error":"#REF!"},{"$f":"IF(ISERROR(MATCH(D274,#REF!,0))=FALSE,\"C\",IF(ISERROR(MATCH(D274,#REF!,0))=FALSE,\"D\",\"\"))","v":""},{"$f":"IF(E274=\"C\",0,IF(E274 =\"D\",ROUND(1/((1+#REF!)^A274),9) * 2,ROUND(1/((1+#REF!)^A274),9)))","v":{"$error":"#REF!"}},{"$error":"#REF!"}]
[272,272,{"$error":"#REF!"},{"$error":"#REF!"},{"$f":"IF(ISERROR(MATCH(D275,#REF!,0))=FALSE,\"C\",IF(ISERROR(MATCH(D275,#REF!,0))=FALSE,\"D\",\"\"))","v":""},{"$f":"IF(E275=\"C\",0,IF(E275 =\"D\",ROUND(1/((1+#REF!)^A275),9) * 2,ROUND(1/((1+#REF!)^A275),9)))","v":{"$error":"#REF!"}},{"$error":"#REF!"}]
[273,273,{"$error":"#REF!"},{"$error":"#REF!"},{"$f":"IF(ISERROR(MATCH(D276,#REF!,0))=FALSE,\"C\",IF(ISERROR(MATCH(D276,#REF!,0))=FALSE,\"D\",\"\"))","v":""},{"$f":"IF(E276=\"C\",0,IF(E276 =\"D\",ROUND(1/((1+#REF!)^A276),9) * 2,ROUND(1/((1+#REF!)^A276),9)))","v":{"$error":"#REF!"}},{"$error":"#REF!"}]
[274,274,{"$error":"#REF!"},{"$error":"#REF!"},{"$f":"IF(ISERROR(MATCH(D277,#REF!,0))=FALSE,\"C\",IF(ISERROR(MATCH(D277,#REF!,0))=FALSE,\"D\",\"\"))","v":""},{"$f":"IF(E277=\"C\",0,IF(E277 =\"D\",ROUND(1/((1+#REF!)^A277),9) * 2,ROUND(1/((1+#REF!)^A277),9)))","v":{"$error":"#REF!"}},{"$error":"#REF!"}]
[275,275,{"$error":"#REF!"},{"$error":"#REF!"},{"$f":"IF(ISERROR(MATCH(D278,#REF!,0))=FALSE,\"C\",IF(ISERROR(MATCH(D278,#REF!,0))=FALSE,\"D\",\"\"))","v":""},{"$f":"IF(E278=\"C\",0,IF(E278 =\"D\",ROUND(1/((1+#REF!)^A278),9) * 2,ROUND(1/((1+#REF!)^A278),9)))","v":{"$error":"#REF!"}},{"$error":"#REF!"}]
[276,276,{"$error":"#REF!"},{"$error":"#REF!"},{"$f":"IF(ISERROR(MATCH(D279,#REF!,0))=FALSE,\"C\",IF(ISERROR(MATCH(D279,#REF!,0))=FALSE,\"D\",\"\"))","v":""},{"$f":"IF(E279=\"C\",0,IF(E279 =\"D\",ROUND(1/((1+#REF!)^A279),9) * 2,ROUND(1/((1+#REF!)^A279),9)))","v":{"$error":"#REF!"}},{"$error":"#REF!"}]
[277,277,{"$error":"#REF!"},{"$error":"#REF!"},{"$f":"IF(ISERROR(MATCH(D280,#REF!,0))=FALSE,\"C\",IF(ISERROR(MATCH(D280,#REF!,0))=FALSE,\"D\",\"\"))","v":""},{"$f":"IF(E280=\"C\",0,IF(E280 =\"D\",ROUND(1/((1+#REF!)^A280),9) * 2,ROUND(1/((1+#REF!)^A280),9)))","v":{"$error":"#REF!"}},{"$error":"#REF!"}]
[278,278,{"$error":"#REF!"},{"$error":"#REF!"},{"$f":"IF(ISERROR(MATCH(D281,#REF!,0))=FALSE,\"C\",IF(ISERROR(MATCH(D281,#REF!,0))=FALSE,\"D\",\"\"))","v":""},{"$f":"IF(E281=\"C\",0,IF(E281 =\"D\",ROUND(1/((1+#REF!)^A281),9) * 2,ROUND(1/((1+#REF!)^A281),9)))","v":{"$error":"#REF!"}},{"$error":"#REF!"}]
[279,279,{"$error":"#REF!"},{"$error":"#REF!"},{"$f":"IF(ISERROR(MATCH(D282,#REF!,0))=FALSE,\"C\",IF(ISERROR(MATCH(D282,#REF!,0))=FALSE,\"D\",\"\"))","v":""},{"$f":"IF(E282=\"C\",0,IF(E282 =\"D\",ROUND(1/((1+#REF!)^A282),9) * 2,ROUND(1/((1+#REF!)^A282),9)))","v":{"$error":"#REF!"}},{"$error":"#REF!"}]
[280,280,{"$error":"#REF!"},{"$error":"#REF!"},{"$f":"IF(ISERROR(MATCH(D283,#REF!,0))=FALSE,\"C\",IF(ISERROR(MATCH(D283,#REF!,0))=FALSE,\"D\",\"\"))","v":""},{"$f":"IF(E283=\"C\",0,IF(E283 =\"D\",ROUND(1/((1+#REF!)^A283),9) * 2,ROUND(1/((1+#REF!)^A283),9)))","v":{"$error":"#REF!"}},{"$error":"#REF!"}]
[281,281,{"$error":"#REF!"},{"$error":"#REF!"},{"$f":"IF(ISERROR(MATCH(D284,#REF!,0))=FALSE,\"C\",IF(ISERROR(MATCH(D284,#REF!,0))=FALSE,\"D\",\"\"))","v":""},{"$f":"IF(E284=\"C\",0,IF(E284 =\"D\",ROUND(1/((1+#REF!)^A284),9) * 2,ROUND(1/((1+#REF!)^A284),9)))","v":{"$error":"#REF!"}},{"$error":"#REF!"}]
[282,282,{"$error":"#REF!"},{"$error":"#REF!"},{"$f":"IF(ISERROR(MATCH(D285,#REF!,0))=FALSE,\"C\",IF(ISERROR(MATCH(D285,#REF!,0))=FALSE,\"D\",\"\"))","v":""},{"$f":"IF(E285=\"C\",0,IF(E285 =\"D\",ROUND(1/((1+#REF!)^A285),9) * 2,ROUND(1/((1+#REF!)^A285),9)))","v":{"$error":"#REF!"}},{"$error":"#REF!"}]
[283,283,{"$error":"#REF!"},{"$error":"#REF!"},{"$f":"IF(ISERROR(MATCH(D286,#REF!,0))=FALSE,\"C\",IF(ISERROR(MATCH(D286,#REF!,0))=FALSE,\"D\",\"\"))","v":""},{"$f":"IF(E286=\"C\",0,IF(E286 =\"D\",ROUND(1/((1+#REF!)^A286),9) * 2,ROUND(1/((1+#REF!)^A286),9)))","v":{"$error":"#REF!"}},{"$error":"#REF!"}]
[284,284,{"$error":"#REF!"},{"$error":"#REF!"},{"$f":"IF(ISERROR(MATCH(D287,#REF!,0))=FALSE,\"C\",IF(ISERROR(MATCH(D287,#REF!,0))=FALSE,\"D\",\"\"))","v":""},{"$f":"IF(E287=\"C\",0,IF(E287 =\"D\",ROUND(1/((1+#REF!)^A287),9) * 2,ROUND(1/((1+#REF!)^A287),9)))","v":{"$error":"#REF!"}},{"$error":"#REF!"}]
[285,285,{"$error":"#REF!"},{"$error":"#REF!"},{"$f":"IF(ISERROR(MATCH(D288,#REF!,0))=FALSE,\"C\",IF(ISERROR(MATCH(D288,#REF!,0))=FALSE,\"D\",\"\"))","v":""},{"$f":"IF(E288=\"C\",0,IF(E288 =\"D\",ROUND(1/((1+#REF!)^A288),9) * 2,ROUND(1/((1+#REF!)^A288),9)))","v":{"$error":"#REF!"}},{"$error":"#REF!"}]
[286,286,{"$error":"#REF!"},{"$error":"#REF!"},{"$f":"IF(ISERROR(MATCH(D289,#REF!,0))=FALSE,\"C\",IF(ISERROR(MATCH(D289,#REF!,0))=FALSE,\"D\",\"\"))","v":""},{"$f":"IF(E289=\"C\",0,IF(E289 =\"D\",ROUND(1/((1+#REF!)^A289),9) * 2,ROUND(1/((1+#REF!)^A289),9)))","v":{"$error":"#REF!"}},{"$error":"#REF!"}]
[287,287,{"$error":"#REF!"},{"$error":"#REF!"},{"$f":"IF(ISERROR(MATCH(D290,#REF!,0))=FALSE,\"C\",IF(ISERROR(MATCH(D290,#REF!,0))=FALSE,\"D\",\"\"))","v":""},{"$f":"IF(E290=\"C\",0,IF(E290 =\"D\",ROUND(1/((1+#REF!)^A290),9) * 2,ROUND(1/((1+#REF!)^A290),9)))","v":{"$error":"#REF!"}},{"$error":"#REF!"}]
[288,288,{"$error":"#REF!"},{"$error":"#REF!"},{"$f":"IF(ISERROR(MATCH(D291,#REF!,0))=FALSE,\"C\",IF(ISERROR(MATCH(D291,#REF!,0))=FALSE,\"D\",\"\"))","v":""},{"$f":"IF(E291=\"C\",0,IF(E291 =\"D\",ROUND(1/((1+#REF!)^A291),9) * 2,ROUND(1/((1+#REF!)^A291),9)))","v":{"$error":"#REF!"}},{"$error":"#REF!"}]
[289,{"$f":"IF(E292<>\"C\",IF(ISERROR(1+B291)=TRUE,1,1+B291),IF(ISNUMBER(B291),B291,1))","v":289},{"$error":"#REF!"},{"$f":"MONTH(C292)","v":{"$error":"#REF!"}},{"$f":"IF(ISERROR(MATCH(D292,#REF!,0))=FALSE,\"C\",IF(ISERROR(MATCH(D292,#REF!,0))=FALSE,\"D\",\"\"))","v":""},{"$f":"IF(E292=\"C\",0,IF(E292 =\"D\",ROUND(1/((1+#REF!)^A292),9) * 2,ROUND(1/((1+#REF!)^A292),9)))","v":{"$error":"#REF!"}},{"$f":"G291+ROUND(F292,9)","v":{"$error":"#REF!"}}]
[290,290,{"$error":"#REF!"},{"$error":"#REF!"},{"$f":"IF(ISERROR(MATCH(D293,#REF!,0))=FALSE,\"C\",IF(ISERROR(MATCH(D293,#REF!,0))=FALSE,\"D\",\"\"))","v":""},{"$f":"IF(E293=\"C\",0,IF(E293 =\"D\",ROUND(1/((1+#REF!)^A293),9) * 2,ROUND(1/((1+#REF!)^A293),9)))","v":{"$error":"#REF!"}},{"$error":"#REF!"}]
[291,291,{"$error":"#REF!"},{"$error":"#REF!"},{"$f":"IF(ISERROR(MATCH(D294,#REF!,0))=FALSE,\"C\",IF(ISERROR(MATCH(D294,#REF!,0))=FALSE,\"D\",\"\"))","v":""},{"$f":"IF(E294=\"C\",0,IF(E294 =\"D\",ROUND(1/((1+#REF!)^A294),9) * 2,ROUND(1/((1+#REF!)^A294),9)))","v":{"$error":"#REF!"}},{"$error":"#REF!"}]
[292,292,{"$error":"#REF!"},{"$error":"#REF!"},{"$f":"IF(ISERROR(MATCH(D295,#REF!,0))=FALSE,\"C\",IF(ISERROR(MATCH(D295,#REF!,0))=FALSE,\"D\",\"\"))","v":""},{"$f":"IF(E295=\"C\",0,IF(E295 =\"D\",ROUND(1/((1+#REF!)^A295),9) * 2,ROUND(1/((1+#REF!)^A295),9)))","v":{"$error":"#REF!"}},{"$error":"#REF!"}]
[293,293,{"$error":"#REF!"},{"$error":"#REF!"},{"$f":"IF(ISERROR(MATCH(D296,#REF!,0))=FALSE,\"C\",IF(ISERROR(MATCH(D296,#REF!,0))=FALSE,\"D\",\"\"))","v":""},{"$f":"IF(E296=\"C\",0,IF(E296 =\"D\",ROUND(1/((1+#REF!)^A296),9) * 2,ROUND(1/((1+#REF!)^A296),9)))","v":{"$error":"#REF!"}},{"$error":"#REF!"}]
[294,294,{"$error":"#REF!"},{"$error":"#REF!"},{"$f":"IF(ISERROR(MATCH(D297,#REF!,0))=FALSE,\"C\",IF(ISERROR(MATCH(D297,#REF!,0))=FALSE,\"D\",\"\"))","v":""},{"$f":"IF(E297=\"C\",0,IF(E297 =\"D\",ROUND(1/((1+#REF!)^A297),9) * 2,ROUND(1/((1+#REF!)^A297),9)))","v":{"$error":"#REF!"}},{"$error":"#REF!"}]
[295,295,{"$error":"#REF!"},{"$error":"#REF!"},{"$f":"IF(ISERROR(MATCH(D298,#REF!,0))=FALSE,\"C\",IF(ISERROR(MATCH(D298,#REF!,0))=FALSE,\"D\",\"\"))","v":""},{"$f":"IF(E298=\"C\",0,IF(E298 =\"D\",ROUND(1/((1+#REF!)^A298),9) * 2,ROUND(1/((1+#REF!)^A298),9)))","v":{"$error":"#REF!"}},{"$error":"#REF!"}]
[296,296,{"$error":"#REF!"},{"$error":"#REF!"},{"$f":"IF(ISERROR(MATCH(D299,#REF!,0))=FALSE,\"C\",IF(ISERROR(MATCH(D299,#REF!,0))=FALSE,\"D\",\"\"))","v":""},{"$f":"IF(E299=\"C\",0,IF(E299 =\"D\",ROUND(1/((1+#REF!)^A299),9) * 2,ROUND(1/((1+#REF!)^A299),9)))","v":{"$error":"#REF!"}},{"$error":"#REF!"}]
[297,297,{"$error":"#REF!"},{"$error":"#REF!"},{"$f":"IF(ISERROR(MATCH(D300,#REF!,0))=FALSE,\"C\",IF(ISERROR(MATCH(D300,#REF!,0))=FALSE,\"D\",\"\"))","v":""},{"$f":"IF(E300=\"C\",0,IF(E300 =\"D\",ROUND(1/((1+#REF!)^A300),9) * 2,ROUND(1/((1+#REF!)^A300),9)))","v":{"$error":"#REF!"}},{"$error":"#REF!"}]
[298,298,{"$error":"#REF!"},{"$error":"#REF!"},{"$f":"IF(ISERROR(MATCH(D301,#REF!,0))=FALSE,\"C\",IF(ISERROR(MATCH(D301,#REF!,0))=FALSE,\"D\",\"\"))","v":""},{"$f":"IF(E301=\"C\",0,IF(E301 =\"D\",ROUND(1/((1+#REF!)^A301),9) * 2,ROUND(1/((1+#REF!)^A301),9)))","v":{"$error":"#REF!"}},{"$error":"#REF!"}]
[299,299,{"$error":"#REF!"},{"$error":"#REF!"},{"$f":"IF(ISERROR(MATCH(D302,#REF!,0))=FALSE,\"C\",IF(ISERROR(MATCH(D302,#REF!,0))=FALSE,\"D\",\"\"))","v":""},{"$f":"IF(E302=\"C\",0,IF(E302 =\"D\",ROUND(1/((1+#REF!)^A302),9) * 2,ROUND(1/((1+#REF!)^A302),9)))","v":{"$error":"#REF!"}},{"$error":"#REF!"}]
[300,300,{"$error":"#REF!"},{"$error":"#REF!"},{"$f":"IF(ISERROR(MATCH(D303,#REF!,0))=FALSE,\"C\",IF(ISERROR(MATCH(D303,#REF!,0))=FALSE,\"D\",\"\"))","v":""},{"$f":"IF(E303=\"C\",0,IF(E303 =\"D\",ROUND(1/((1+#REF!)^A303),9) * 2,ROUND(1/((1+#REF!)^A303),9)))","v":{"$error":"#REF!"}},{"$error":"#REF!"}]
[301,301,{"$error":"#REF!"},{"$error":"#REF!"},{"$f":"IF(ISERROR(MATCH(D304,#REF!,0))=FALSE,\"C\",IF(ISERROR(MATCH(D304,#REF!,0))=FALSE,\"D\",\"\"))","v":""},{"$f":"IF(E304=\"C\",0,IF(E304 =\"D\",ROUND(1/((1+#REF!)^A304),9) * 2,ROUND(1/((1+#REF!)^A304),9)))","v":{"$error":"#REF!"}},{"$error":"#REF!"}]
[302,302,{"$error":"#REF!"},{"$error":"#REF!"},{"$f":"IF(ISERROR(MATCH(D305,#REF!,0))=FALSE,\"C\",IF(ISERROR(MATCH(D305,#REF!,0))=FALSE,\"D\",\"\"))","v":""},{"$f":"IF(E305=\"C\",0,IF(E305 =\"D\",ROUND(1/((1+#REF!)^A305),9) * 2,ROUND(1/((1+#REF!)^A305),9)))","v":{"$error":"#REF!"}},{"$error":"#REF!"}]
[303,303,{"$error":"#REF!"},{"$error":"#REF!"},{"$f":"IF(ISERROR(MATCH(D306,#REF!,0))=FALSE,\"C\",IF(ISERROR(MATCH(D306,#REF!,0))=FALSE,\"D\",\"\"))","v":""},{"$f":"IF(E306=\"C\",0,IF(E306 =\"D\",ROUND(1/((1+#REF!)^A306),9) * 2,ROUND(1/((1+#REF!)^A306),9)))","v":{"$error":"#REF!"}},{"$error":"#REF!"}]
[304,304,{"$error":"#REF!"},{"$error":"#REF!"},{"$f":"IF(ISERROR(MATCH(D307,#REF!,0))=FALSE,\"C\",IF(ISERROR(MATCH(D307,#REF!,0))=FALSE,\"D\",\"\"))","v":""},{"$f":"IF(E307=\"C\",0,IF(E307 =\"D\",ROUND(1/((1+#REF!)^A307),9) * 2,ROUND(1/((1+#REF!)^A307),9)))","v":{"$error":"#REF!"}},{"$error":"#REF!"}]
[305,305,{"$error":"#REF!"},{"$error":"#REF!"},{"$f":"IF(ISERROR(MATCH(D308,#REF!,0))=FALSE,\"C\",IF(ISERROR(MATCH(D308,#REF!,0))=FALSE,\"D\",\"\"))","v":""},{"$f":"IF(E308=\"C\",0,IF(E308 =\"D\",ROUND(1/((1+#REF!)^A308),9) * 2,ROUND(1/((1+#REF!)^A308),9)))","v":{"$error":"#REF!"}},{"$error":"#REF!"}]
[306,306,{"$error":"#REF!"},{"$error":"#REF!"},{"$f":"IF(ISERROR(MATCH(D309,#REF!,0))=FALSE,\"C\",IF(ISERROR(MATCH(D309,#REF!,0))=FALSE,\"D\",\"\"))","v":""},{"$f":"IF(E309=\"C\",0,IF(E309 =\"D\",ROUND(1/((1+#REF!)^A309),9) * 2,ROUND(1/((1+#REF!)^A309),9)))","v":{"$error":"#REF!"}},{"$error":"#REF!"}]
[307,307,{"$error":"#REF!"},{"$error":"#REF!"},{"$f":"IF(ISERROR(MATCH(D310,#REF!,0))=FALSE,\"C\",IF(ISERROR(MATCH(D310,#REF!,0))=FALSE,\"D\",\"\"))","v":""},{"$f":"IF(E310=\"C\",0,IF(E310 =\"D\",ROUND(1/((1+#REF!)^A310),9) * 2,ROUND(1/((1+#REF!)^A310),9)))","v":{"$error":"#REF!"}},{"$error":"#REF!"}]
[308,308,{"$error":"#REF!"},{"$error":"#REF!"},{"$f":"IF(ISERROR(MATCH(D311,#REF!,0))=FALSE,\"C\",IF(ISERROR(MATCH(D311,#REF!,0))=FALSE,\"D\",\"\"))","v":""},{"$f":"IF(E311=\"C\",0,IF(E311 =\"D\",ROUND(1/((1+#REF!)^A311),9) * 2,ROUND(1/((1+#REF!)^A311),9)))","v":{"$error":"#REF!"}},{"$error":"#REF!"}]
[309,309,{"$error":"#REF!"},{"$error":"#REF!"},{"$f":"IF(ISERROR(MATCH(D312,#REF!,0))=FALSE,\"C\",IF(ISERROR(MATCH(D312,#REF!,0))=FALSE,\"D\",\"\"))","v":""},{"$f":"IF(E312=\"C\",0,IF(E312 =\"D\",ROUND(1/((1+#REF!)^A312),9) * 2,ROUND(1/((1+#REF!)^A312),9)))","v":{"$error":"#REF!"}},{"$error":"#REF!"}]
[310,310,{"$error":"#REF!"},{"$error":"#REF!"},{"$f":"IF(ISERROR(MATCH(D313,#REF!,0))=FALSE,\"C\",IF(ISERROR(MATCH(D313,#REF!,0))=FALSE,\"D\",\"\"))","v":""},{"$f":"IF(E313=\"C\",0,IF(E313 =\"D\",ROUND(1/((1+#REF!)^A313),9) * 2,ROUND(1/((1+#REF!)^A313),9)))","v":{"$error":"#REF!"}},{"$error":"#REF!"}]
[311,311,{"$error":"#REF!"},{"$error":"#REF!"},{"$f":"IF(ISERROR(MATCH(D314,#REF!,0))=FALSE,\"C\",IF(ISERROR(MATCH(D314,#REF!,0))=FALSE,\"D\",\"\"))","v":""},{"$f":"IF(E314=\"C\",0,IF(E314 =\"D\",ROUND(1/((1+#REF!)^A314),9) * 2,ROUND(1/((1+#REF!)^A314),9)))","v":{"$error":"#REF!"}},{"$error":"#REF!"}]
[312,312,{"$error":"#REF!"},{"$error":"#REF!"},{"$f":"IF(ISERROR(MATCH(D315,#REF!,0))=FALSE,\"C\",IF(ISERROR(MATCH(D315,#REF!,0))=FALSE,\"D\",\"\"))","v":""},{"$f":"IF(E315=\"C\",0,IF(E315 =\"D\",ROUND(1/((1+#REF!)^A315),9) * 2,ROUND(1/((1+#REF!)^A315),9)))","v":{"$error":"#REF!"}},{"$error":"#REF!"}]
[313,313,{"$error":"#REF!"},{"$error":"#REF!"},{"$f":"IF(ISERROR(MATCH(D316,#REF!,0))=FALSE,\"C\",IF(ISERROR(MATCH(D316,#REF!,0))=FALSE,\"D\",\"\"))","v":""},{"$f":"IF(E316=\"C\",0,IF(E316 =\"D\",ROUND(1/((1+#REF!)^A316),9) * 2,ROUND(1/((1+#REF!)^A316),9)))","v":{"$error":"#REF!"}},{"$error":"#REF!"}]
[314,314,{"$error":"#REF!"},{"$error":"#REF!"},{"$f":"IF(ISERROR(MATCH(D317,#REF!,0))=FALSE,\"C\",IF(ISERROR(MATCH(D317,#REF!,0))=FALSE,\"D\",\"\"))","v":""},{"$f":"IF(E317=\"C\",0,IF(E317 =\"D\",ROUND(1/((1+#REF!)^A317),9) * 2,ROUND(1/((1+#REF!)^A317),9)))","v":{"$error":"#REF!"}},{"$error":"#REF!"}]
[315,315,{"$error":"#REF!"},{"$error":"#REF!"},{"$f":"IF(ISERROR(MATCH(D318,#REF!,0))=FALSE,\"C\",IF(ISERROR(MATCH(D318,#REF!,0))=FALSE,\"D\",\"\"))","v":""},{"$f":"IF(E318=\"C\",0,IF(E318 =\"D\",ROUND(1/((1+#REF!)^A318),9) * 2,ROUND(1/((1+#REF!)^A318),9)))","v":{"$error":"#REF!"}},{"$error":"#REF!"}]
[316,316,{"$error":"#REF!"},{"$error":"#REF!"},{"$f":"IF(ISERROR(MATCH(D319,#REF!,0))=FALSE,\"C\",IF(ISERROR(MATCH(D319,#REF!,0))=FALSE,\"D\",\"\"))","v":""},{"$f":"IF(E319=\"C\",0,IF(E319 =\"D\",ROUND(1/((1+#REF!)^A319),9) * 2,ROUND(1/((1+#REF!)^A319),9)))","v":{"$error":"#REF!"}},{"$error":"#REF!"}]
[317,317,{"$error":"#REF!"},{"$error":"#REF!"},{"$f":"IF(ISERROR(MATCH(D320,#REF!,0))=FALSE,\"C\",IF(ISERROR(MATCH(D320,#REF!,0))=FALSE,\"D\",\"\"))","v":""},{"$f":"IF(E320=\"C\",0,IF(E320 =\"D\",ROUND(1/((1+#REF!)^A320),9) * 2,ROUND(1/((1+#REF!)^A320),9)))","v":{"$error":"#REF!"}},{"$error":"#REF!"}]
[318,318,{"$error":"#REF!"},{"$error":"#REF!"},{"$f":"IF(ISERROR(MATCH(D321,#REF!,0))=FALSE,\"C\",IF(ISERROR(MATCH(D321,#REF!,0))=FALSE,\"D\",\"\"))","v":""},{"$f":"IF(E321=\"C\",0,IF(E321 =\"D\",ROUND(1/((1+#REF!)^A321),9) * 2,ROUND(1/((1+#REF!)^A321),9)))","v":{"$error":"#REF!"}},{"$error":"#REF!"}]
[319,319,{"$error":"#REF!"},{"$error":"#REF!"},{"$f":"IF(ISERROR(MATCH(D322,#REF!,0))=FALSE,\"C\",IF(ISERROR(MATCH(D322,#REF!,0))=FALSE,\"D\",\"\"))","v":""},{"$f":"IF(E322=\"C\",0,IF(E322 =\"D\",ROUND(1/((1+#REF!)^A322),9) * 2,ROUND(1/((1+#REF!)^A322),9)))","v":{"$error":"#REF!"}},{"$error":"#REF!"}]
[320,320,{"$error":"#REF!"},{"$error":"#REF!"},{"$f":"IF(ISERROR(MATCH(D323,#REF!,0))=FALSE,\"C\",IF(ISERROR(MATCH(D323,#REF!,0))=FALSE,\"D\",\"\"))","v":""},{"$f":"IF(E323=\"C\",0,IF(E323 =\"D\",ROUND(1/((1+#REF!)^A323),9) * 2,ROUND(1/((1+#REF!)^A323),9)))","v":{"$error":"#REF!"}},{"$error":"#REF!"}]
[321,321,{"$error":"#REF!"},{"$error":"#REF!"},{"$f":"IF(ISERROR(MATCH(D324,#REF!,0))=FALSE,\"C\",IF(ISERROR(MATCH(D324,#REF!,0))=FALSE,\"D\",\"\"))","v":""},{"$f":"IF(E324=\"C\",0,IF(E324 =\"D\",ROUND(1/((1+#REF!)^A324),9) * 2,ROUND(1/((1+#REF!)^A324),9)))","v":{"$error":"#REF!"}},{"$error":"#REF!"}]
[{"$f":"A324+1","v":322},322,{"$f":"DATE(YEAR(C324) + 1/12,MONTH(C324)+1,DAY(C324))","v":{"$error":"#REF!"}},{"$error":"#REF!"},{"$f":"IF(ISERROR(MATCH(D325,#REF!,0))=FALSE,\"C\",IF(ISERROR(MATCH(D325,#REF!,0))=FALSE,\"D\",\"\"))","v":""},{"$f":"IF(E325=\"C\",0,IF(E325 =\"D\",ROUND(1/((1+#REF!)^A325),9) * 2,ROUND(1/((1+#REF!)^A325),9)))","v":{"$error":"#REF!"}},{"$error":"#REF!"}]
[323,323,{"$error":"#REF!"},{"$error":"#REF!"},{"$f":"IF(ISERROR(MATCH(D326,#REF!,0))=FALSE,\"C\",IF(ISERROR(MATCH(D326,#REF!,0))=FALSE,\"D\",\"\"))","v":""},{"$f":"IF(E326=\"C\",0,IF(E326 =\"D\",ROUND(1/((1+#REF!)^A326),9) * 2,ROUND(1/((1+#REF!)^A326),9)))","v":{"$error":"#REF!"}},{"$error":"#REF!"}]
[324,324,{"$error":"#REF!"},{"$error":"#REF!"},{"$f":"IF(ISERROR(MATCH(D327,#REF!,0))=FALSE,\"C\",IF(ISERROR(MATCH(D327,#REF!,0))=FALSE,\"D\",\"\"))","v":""},{"$f":"IF(E327=\"C\",0,IF(E327 =\"D\",ROUND(1/((1+#REF!)^A327),9) * 2,ROUND(1/((1+#REF!)^A327),9)))","v":{"$error":"#REF!"}},{"$error":"#REF!"}]
[325,325,{"$error":"#REF!"},{"$error":"#REF!"},{"$f":"IF(ISERROR(MATCH(D328,#REF!,0))=FALSE,\"C\",IF(ISERROR(MATCH(D328,#REF!,0))=FALSE,\"D\",\"\"))","v":""},{"$f":"IF(E328=\"C\",0,IF(E328 =\"D\",ROUND(1/((1+#REF!)^A328),9) * 2,ROUND(1/((1+#REF!)^A328),9)))","v":{"$error":"#REF!"}},{"$error":"#REF!"}]
[326,326,{"$error":"#REF!"},{"$error":"#REF!"},{"$f":"IF(ISERROR(MATCH(D329,#REF!,0))=FALSE,\"C\",IF(ISERROR(MATCH(D329,#REF!,0))=FALSE,\"D\",\"\"))","v":""},{"$f":"IF(E329=\"C\",0,IF(E329 =\"D\",ROUND(1/((1+#REF!)^A329),9) * 2,ROUND(1/((1+#REF!)^A329),9)))","v":{"$error":"#REF!"}},{"$error":"#REF!"}]
[327,327,{"$error":"#REF!"},{"$error":"#REF!"},{"$f":"IF(ISERROR(MATCH(D330,#REF!,0))=FALSE,\"C\",IF(ISERROR(MATCH(D330,#REF!,0))=FALSE,\"D\",\"\"))","v":""},{"$f":"IF(E330=\"C\",0,IF(E330 =\"D\",ROUND(1/((1+#REF!)^A330),9) * 2,ROUND(1/((1+#REF!)^A330),9)))","v":{"$error":"#REF!"}},{"$error":"#REF!"}]
[328,328,{"$error":"#REF!"},{"$error":"#REF!"},{"$f":"IF(ISERROR(MATCH(D331,#REF!,0))=FALSE,\"C\",IF(ISERROR(MATCH(D331,#REF!,0))=FALSE,\"D\",\"\"))","v":""},{"$f":"IF(E331=\"C\",0,IF(E331 =\"D\",ROUND(1/((1+#REF!)^A331),9) * 2,ROUND(1/((1+#REF!)^A331),9)))","v":{"$error":"#REF!"}},{"$error":"#REF!"}]
[329,329,{"$error":"#REF!"},{"$error":"#REF!"},{"$f":"IF(ISERROR(MATCH(D332,#REF!,0))=FALSE,\"C\",IF(ISERROR(MATCH(D332,#REF!,0))=FALSE,\"D\",\"\"))","v":""},{"$f":"IF(E332=\"C\",0,IF(E332 =\"D\",ROUND(1/((1+#REF!)^A332),9) * 2,ROUND(1/((1+#REF!)^A332),9)))","v":{"$error":"#REF!"}},{"$error":"#REF!"}]
[330,330,{"$error":"#REF!"},{"$error":"#REF!"},{"$f":"IF(ISERROR(MATCH(D333,#REF!,0))=FALSE,\"C\",IF(ISERROR(MATCH(D333,#REF!,0))=FALSE,\"D\",\"\"))","v":""},{"$f":"IF(E333=\"C\",0,IF(E333 =\"D\",ROUND(1/((1+#REF!)^A333),9) * 2,ROUND(1/((1+#REF!)^A333),9)))","v":{"$error":"#REF!"}},{"$error":"#REF!"}]
[331,331,{"$error":"#REF!"},{"$error":"#REF!"},{"$f":"IF(ISERROR(MATCH(D334,#REF!,0))=FALSE,\"C\",IF(ISERROR(MATCH(D334,#REF!,0))=FALSE,\"D\",\"\"))","v":""},{"$f":"IF(E334=\"C\",0,IF(E334 =\"D\",ROUND(1/((1+#REF!)^A334),9) * 2,ROUND(1/((1+#REF!)^A334),9)))","v":{"$error":"#REF!"}},{"$error":"#REF!"}]
[332,332,{"$error":"#REF!"},{"$error":"#REF!"},{"$f":"IF(ISERROR(MATCH(D335,#REF!,0))=FALSE,\"C\",IF(ISERROR(MATCH(D335,#REF!,0))=FALSE,\"D\",\"\"))","v":""},{"$f":"IF(E335=\"C\",0,IF(E335 =\"D\",ROUND(1/((1+#REF!)^A335),9) * 2,ROUND(1/((1+#REF!)^A335),9)))","v":{"$error":"#REF!"}},{"$error":"#REF!"}]
[333,333,{"$error":"#REF!"},{"$error":"#REF!"},{"$f":"IF(ISERROR(MATCH(D336,#REF!,0))=FALSE,\"C\",IF(ISERROR(MATCH(D336,#REF!,0))=FALSE,\"D\",\"\"))","v":""},{"$f":"IF(E336=\"C\",0,IF(E336 =\"D\",ROUND(1/((1+#REF!)^A336),9) * 2,ROUND(1/((1+#REF!)^A336),9)))","v":{"$error":"#REF!"}},{"$error":"#REF!"}]
[334,334,{"$error":"#REF!"},{"$error":"#REF!"},{"$f":"IF(ISERROR(MATCH(D337,#REF!,0))=FALSE,\"C\",IF(ISERROR(MATCH(D337,#REF!,0))=FALSE,\"D\",\"\"))","v":""},{"$f":"IF(E337=\"C\",0,IF(E337 =\"D\",ROUND(1/((1+#REF!)^A337),9) * 2,ROUND(1/((1+#REF!)^A337),9)))","v":{"$error":"#REF!"}},{"$error":"#REF!"}]
[335,335,{"$error":"#REF!"},{"$error":"#REF!"},{"$f":"IF(ISERROR(MATCH(D338,#REF!,0))=FALSE,\"C\",IF(ISERROR(MATCH(D338,#REF!,0))=FALSE,\"D\",\"\"))","v":""},{"$f":"IF(E338=\"C\",0,IF(E338 =\"D\",ROUND(1/((1+#REF!)^A338),9) * 2,ROUND(1/((1+#REF!)^A338),9)))","v":{"$error":"#REF!"}},{"$error":"#REF!"}]
[336,336,{"$error":"#REF!"},{"$error":"#REF!"},{"$f":"IF(ISERROR(MATCH(D339,#REF!,0))=FALSE,\"C\",IF(ISERROR(MATCH(D339,#REF!,0))=FALSE,\"D\",\"\"))","v":""},{"$f":"IF(E339=\"C\",0,IF(E339 =\"D\",ROUND(1/((1+#REF!)^A339),9) * 2,ROUND(1/((1+#REF!)^A339),9)))","v":{"$error":"#REF!"}},{"$error":"#REF!"}]
[337,337,{"$error":"#REF!"},{"$error":"#REF!"},{"$f":"IF(ISERROR(MATCH(D340,#REF!,0))=FALSE,\"C\",IF(ISERROR(MATCH(D340,#REF!,0))=FALSE,\"D\",\"\"))","v":""},{"$f":"IF(E340=\"C\",0,IF(E340 =\"D\",ROUND(1/((1+#REF!)^A340),9) * 2,ROUND(1/((1+#REF!)^A340),9)))","v":{"$error":"#REF!"}},{"$error":"#REF!"}]
[338,338,{"$error":"#REF!"},{"$error":"#REF!"},{"$f":"IF(ISERROR(MATCH(D341,#REF!,0))=FALSE,\"C\",IF(ISERROR(MATCH(D341,#REF!,0))=FALSE,\"D\",\"\"))","v":""},{"$f":"IF(E341=\"C\",0,IF(E341 =\"D\",ROUND(1/((1+#REF!)^A341),9) * 2,ROUND(1/((1+#REF!)^A341),9)))","v":{"$error":"#REF!"}},{"$error":"#REF!"}]
[339,339,{"$error":"#REF!"},{"$error":"#REF!"},{"$f":"IF(ISERROR(MATCH(D342,#REF!,0))=FALSE,\"C\",IF(ISERROR(MATCH(D342,#REF!,0))=FALSE,\"D\",\"\"))","v":""},{"$f":"IF(E342=\"C\",0,IF(E342 =\"D\",ROUND(1/((1+#REF!)^A342),9) * 2,ROUND(1/((1+#REF!)^A342),9)))","v":{"$error":"#REF!"}},{"$error":"#REF!"}]
[340,340,{"$error":"#REF!"},{"$error":"#REF!"},{"$f":"IF(ISERROR(MATCH(D343,#REF!,0))=FALSE,\"C\",IF(ISERROR(MATCH(D343,#REF!,0))=FALSE,\"D\",\"\"))","v":""},{"$f":"IF(E343=\"C\",0,IF(E343 =\"D\",ROUND(1/((1+#REF!)^A343),9) * 2,ROUND(1/((1+#REF!)^A343),9)))","v":{"$error":"#REF!"}},{"$error":"#REF!"}]
[341,341,{"$error":"#REF!"},{"$error":"#REF!"},{"$f":"IF(ISERROR(MATCH(D344,#REF!,0))=FALSE,\"C\",IF(ISERROR(MATCH(D344,#REF!,0))=FALSE,\"D\",\"\"))","v":""},{"$f":"IF(E344=\"C\",0,IF(E344 =\"D\",ROUND(1/((1+#REF!)^A344),9) * 2,ROUND(1/((1+#REF!)^A344),9)))","v":{"$error":"#REF!"}},{"$error":"#REF!"}]
[342,342,{"$error":"#REF!"},{"$error":"#REF!"},{"$f":"IF(ISERROR(MATCH(D345,#REF!,0))=FALSE,\"C\",IF(ISERROR(MATCH(D345,#REF!,0))=FALSE,\"D\",\"\"))","v":""},{"$f":"IF(E345=\"C\",0,IF(E345 =\"D\",ROUND(1/((1+#REF!)^A345),9) * 2,ROUND(1/((1+#REF!)^A345),9)))","v":{"$error":"#REF!"}},{"$error":"#REF!"}]
[343,343,{"$error":"#REF!"},{"$error":"#REF!"},{"$f":"IF(ISERROR(MATCH(D346,#REF!,0))=FALSE,\"C\",IF(ISERROR(MATCH(D346,#REF!,0))=FALSE,\"D\",\"\"))","v":""},{"$f":"IF(E346=\"C\",0,IF(E346 =\"D\",ROUND(1/((1+#REF!)^A346),9) * 2,ROUND(1/((1+#REF!)^A346),9)))","v":{"$error":"#REF!"}},{"$error":"#REF!"}]
[344,344,{"$error":"#REF!"},{"$error":"#REF!"},{"$f":"IF(ISERROR(MATCH(D347,#REF!,0))=FALSE,\"C\",IF(ISERROR(MATCH(D347,#REF!,0))=FALSE,\"D\",\"\"))","v":""},{"$f":"IF(E347=\"C\",0,IF(E347 =\"D\",ROUND(1/((1+#REF!)^A347),9) * 2,ROUND(1/((1+#REF!)^A347),9)))","v":{"$error":"#REF!"}},{"$error":"#REF!"}]
[345,345,{"$error":"#REF!"},{"$error":"#REF!"},{"$f":"IF(ISERROR(MATCH(D348,#REF!,0))=FALSE,\"C\",IF(ISERROR(MATCH(D348,#REF!,0))=FALSE,\"D\",\"\"))","v":""},{"$f":"IF(E348=\"C\",0,IF(E348 =\"D\",ROUND(1/((1+#REF!)^A348),9) * 2,ROUND(1/((1+#REF!)^A348),9)))","v":{"$error":"#REF!"}},{"$error":"#REF!"}]
[346,346,{"$error":"#REF!"},{"$error":"#REF!"},{"$f":"IF(ISERROR(MATCH(D349,#REF!,0))=FALSE,\"C\",IF(ISERROR(MATCH(D349,#REF!,0))=FALSE,\"D\",\"\"))","v":""},{"$f":"IF(E349=\"C\",0,IF(E349 =\"D\",ROUND(1/((1+#REF!)^A349),9) * 2,ROUND(1/((1+#REF!)^A349),9)))","v":{"$error":"#REF!"}},{"$error":"#REF!"}]
[347,347,{"$error":"#REF!"},{"$error":"#REF!"},{"$f":"IF(ISERROR(MATCH(D350,#REF!,0))=FALSE,\"C\",IF(ISERROR(MATCH(D350,#REF!,0))=FALSE,\"D\",\"\"))","v":""},{"$f":"IF(E350=\"C\",0,IF(E350 =\"D\",ROUND(1/((1+#REF!)^A350),9) * 2,ROUND(1/((1+#REF!)^A350),9)))","v":{"$error":"#REF!"}},{"$error":"#REF!"}]
[348,348,{"$error":"#REF!"},{"$error":"#REF!"},{"$f":"IF(ISERROR(MATCH(D351,#REF!,0))=FALSE,\"C\",IF(ISERROR(MATCH(D351,#REF!,0))=FALSE,\"D\",\"\"))","v":""},{"$f":"IF(E351=\"C\",0,IF(E351 =\"D\",ROUND(1/((1+#REF!)^A351),9) * 2,ROUND(1/((1+#REF!)^A351),9)))","v":{"$error":"#REF!"}},{"$error":"#REF!"}]
[349,349,{"$error":"#REF!"},{"$error":"#REF!"},{"$f":"IF(ISERROR(MATCH(D352,#REF!,0))=FALSE,\"C\",IF(ISERROR(MATCH(D352,#REF!,0))=FALSE,\"D\",\"\"))","v":""},{"$f":"IF(E352=\"C\",0,IF(E352 =\"D\",ROUND(1/((1+#REF!)^A352),9) * 2,ROUND(1/((1+#REF!)^A352),9)))","v":{"$error":"#REF!"}},{"$error":"#REF!"}]
[350,350,{"$error":"#REF!"},{"$error":"#REF!"},{"$f":"IF(ISERROR(MATCH(D353,#REF!,0))=FALSE,\"C\",IF(ISERROR(MATCH(D353,#REF!,0))=FALSE,\"D\",\"\"))","v":""},{"$f":"IF(E353=\"C\",0,IF(E353 =\"D\",ROUND(1/((1+#REF!)^A353),9) * 2,ROUND(1/((1+#REF!)^A353),9)))","v":{"$error":"#REF!"}},{"$error":"#REF!"}]
[351,351,{"$error":"#REF!"},{"$error":"#REF!"},{"$f":"IF(ISERROR(MATCH(D354,#REF!,0))=FALSE,\"C\",IF(ISERROR(MATCH(D354,#REF!,0))=FALSE,\"D\",\"\"))","v":""},{"$f":"IF(E354=\"C\",0,IF(E354 =\"D\",ROUND(1/((1+#REF!)^A354),9) * 2,ROUND(1/((1+#REF!)^A354),9)))","v":{"$error":"#REF!"}},{"$error":"#REF!"}]
[352,352,{"$error":"#REF!"},{"$error":"#REF!"},{"$f":"IF(ISERROR(MATCH(D355,#REF!,0))=FALSE,\"C\",IF(ISERROR(MATCH(D355,#REF!,0))=FALSE,\"D\",\"\"))","v":""},{"$f":"IF(E355=\"C\",0,IF(E355 =\"D\",ROUND(1/((1+#REF!)^A355),9) * 2,ROUND(1/((1+#REF!)^A355),9)))","v":{"$error":"#REF!"}},{"$error":"#REF!"}]
[353,{"$f":"IF(E356<>\"C\",IF(ISERROR(1+B355)=TRUE,1,1+B355),IF(ISNUMBER(B355),B355,1))","v":353},{"$error":"#REF!"},{"$f":"MONTH(C356)","v":{"$error":"#REF!"}},{"$f":"IF(ISERROR(MATCH(D356,#REF!,0))=FALSE,\"C\",IF(ISERROR(MATCH(D356,#REF!,0))=FALSE,\"D\",\"\"))","v":""},{"$f":"IF(E356=\"C\",0,IF(E356 =\"D\",ROUND(1/((1+#REF!)^A356),9) * 2,ROUND(1/((1+#REF!)^A356),9)))","v":{"$error":"#REF!"}},{"$f":"G355+ROUND(F356,9)","v":{"$error":"#REF!"}}]
[354,354,{"$error":"#REF!"},{"$error":"#REF!"},{"$f":"IF(ISERROR(MATCH(D357,#REF!,0))=FALSE,\"C\",IF(ISERROR(MATCH(D357,#REF!,0))=FALSE,\"D\",\"\"))","v":""},{"$f":"IF(E357=\"C\",0,IF(E357 =\"D\",ROUND(1/((1+#REF!)^A357),9) * 2,ROUND(1/((1+#REF!)^A357),9)))","v":{"$error":"#REF!"}},{"$error":"#REF!"}]
[355,355,{"$error":"#REF!"},{"$error":"#REF!"},{"$f":"IF(ISERROR(MATCH(D358,#REF!,0))=FALSE,\"C\",IF(ISERROR(MATCH(D358,#REF!,0))=FALSE,\"D\",\"\"))","v":""},{"$f":"IF(E358=\"C\",0,IF(E358 =\"D\",ROUND(1/((1+#REF!)^A358),9) * 2,ROUND(1/((1+#REF!)^A358),9)))","v":{"$error":"#REF!"}},{"$error":"#REF!"}]
[356,356,{"$error":"#REF!"},{"$error":"#REF!"},{"$f":"IF(ISERROR(MATCH(D359,#REF!,0))=FALSE,\"C\",IF(ISERROR(MATCH(D359,#REF!,0))=FALSE,\"D\",\"\"))","v":""},{"$f":"IF(E359=\"C\",0,IF(E359 =\"D\",ROUND(1/((1+#REF!)^A359),9) * 2,ROUND(1/((1+#REF!)^A359),9)))","v":{"$error":"#REF!"}},{"$error":"#REF!"}]
[357,357,{"$error":"#REF!"},{"$error":"#REF!"},{"$f":"IF(ISERROR(MATCH(D360,#REF!,0))=FALSE,\"C\",IF(ISERROR(MATCH(D360,#REF!,0))=FALSE,\"D\",\"\"))","v":""},{"$f":"IF(E360=\"C\",0,IF(E360 =\"D\",ROUND(1/((1+#REF!)^A360),9) * 2,ROUND(1/((1+#REF!)^A360),9)))","v":{"$error":"#REF!"}},{"$error":"#REF!"}]
[358,358,{"$error":"#REF!"},{"$error":"#REF!"},{"$f":"IF(ISERROR(MATCH(D361,#REF!,0))=FALSE,\"C\",IF(ISERROR(MATCH(D361,#REF!,0))=FALSE,\"D\",\"\"))","v":""},{"$f":"IF(E361=\"C\",0,IF(E361 =\"D\",ROUND(1/((1+#REF!)^A361),9) * 2,ROUND(1/((1+#REF!)^A361),9)))","v":{"$error":"#REF!"}},{"$error":"#REF!"}]
[359,359,{"$error":"#REF!"},{"$error":"#REF!"},{"$f":"IF(ISERROR(MATCH(D362,#REF!,0))=FALSE,\"C\",IF(ISERROR(MATCH(D362,#REF!,0))=FALSE,\"D\",\"\"))","v":""},{"$f":"IF(E362=\"C\",0,IF(E362 =\"D\",ROUND(1/((1+#REF!)^A362),9) * 2,ROUND(1/((1+#REF!)^A362),9)))","v":{"$error":"#REF!"}},{"$error":"#REF!"}]
[360,360,{"$error":"#REF!"},{"$error":"#REF!"},{"$f":"IF(ISERROR(MATCH(D363,#REF!,0))=FALSE,\"C\",IF(ISERROR(MATCH(D363,#REF!,0))=FALSE,\"D\",\"\"))","v":""},{"$f":"IF(E363=\"C\",0,IF(E363 =\"D\",ROUND(1/((1+#REF!)^A363),9) * 2,ROUND(1/((1+#REF!)^A363),9)))","v":{"$error":"#REF!"}},{"$error":"#REF!"}]
[361,361,{"$error":"#REF!"},{"$error":"#REF!"},{"$f":"IF(ISERROR(MATCH(D364,#REF!,0))=FALSE,\"C\",IF(ISERROR(MATCH(D364,#REF!,0))=FALSE,\"D\",\"\"))","v":""},{"$f":"IF(E364=\"C\",0,IF(E364 =\"D\",ROUND(1/((1+#REF!)^A364),9) * 2,ROUND(1/((1+#REF!)^A364),9)))","v":{"$error":"#REF!"}},{"$error":"#REF!"}]
[362,362,{"$error":"#REF!"},{"$error":"#REF!"},{"$f":"IF(ISERROR(MATCH(D365,#REF!,0))=FALSE,\"C\",IF(ISERROR(MATCH(D365,#REF!,0))=FALSE,\"D\",\"\"))","v":""},{"$f":"IF(E365=\"C\",0,IF(E365 =\"D\",ROUND(1/((1+#REF!)^A365),9) * 2,ROUND(1/((1+#REF!)^A365),9)))","v":{"$error":"#REF!"}},{"$error":"#REF!"}]
[363,363,{"$error":"#REF!"},{"$error":"#REF!"},{"$f":"IF(ISERROR(MATCH(D366,#REF!,0))=FALSE,\"C\",IF(ISERROR(MATCH(D366,#REF!,0))=FALSE,\"D\",\"\"))","v":""},{"$f":"IF(E366=\"C\",0,IF(E366 =\"D\",ROUND(1/((1+#REF!)^A366),9) * 2,ROUND(1/((1+#REF!)^A366),9)))","v":{"$error":"#REF!"}},{"$error":"#REF!"}]
[364,364,{"$error":"#REF!"},{"$error":"#REF!"},{"$f":"IF(ISERROR(MATCH(D367,#REF!,0))=FALSE,\"C\",IF(ISERROR(MATCH(D367,#REF!,0))=FALSE,\"D\",\"\"))","v":""},{"$f":"IF(E367=\"C\",0,IF(E367 =\"D\",ROUND(1/((1+#REF!)^A367),9) * 2,ROUND(1/((1+#REF!)^A367),9)))","v":{"$error":"#REF!"}},{"$error":"#REF!"}]
[365,365,{"$error":"#REF!"},{"$error":"#REF!"},{"$f":"IF(ISERROR(MATCH(D368,#REF!,0))=FALSE,\"C\",IF(ISERROR(MATCH(D368,#REF!,0))=FALSE,\"D\",\"\"))","v":""},{"$f":"IF(E368=\"C\",0,IF(E368 =\"D\",ROUND(1/((1+#REF!)^A368),9) * 2,ROUND(1/((1+#REF!)^A368),9)))","v":{"$error":"#REF!"}},{"$error":"#REF!"}]
[366,366,{"$error":"#REF!"},{"$error":"#REF!"},{"$f":"IF(ISERROR(MATCH(D369,#REF!,0))=FALSE,\"C\",IF(ISERROR(MATCH(D369,#REF!,0))=FALSE,\"D\",\"\"))","v":""},{"$f":"IF(E369=\"C\",0,IF(E369 =\"D\",ROUND(1/((1+#REF!)^A369),9) * 2,ROUND(1/((1+#REF!)^A369),9)))","v":{"$error":"#REF!"}},{"$error":"#REF!"}]
[367,367,{"$error":"#REF!"},{"$error":"#REF!"},{"$f":"IF(ISERROR(MATCH(D370,#REF!,0))=FALSE,\"C\",IF(ISERROR(MATCH(D370,#REF!,0))=FALSE,\"D\",\"\"))","v":""},{"$f":"IF(E370=\"C\",0,IF(E370 =\"D\",ROUND(1/((1+#REF!)^A370),9) * 2,ROUND(1/((1+#REF!)^A370),9)))","v":{"$error":"#REF!"}},{"$error":"#REF!"}]
[368,368,{"$error":"#REF!"},{"$error":"#REF!"},{"$f":"IF(ISERROR(MATCH(D371,#REF!,0))=FALSE,\"C\",IF(ISERROR(MATCH(D371,#REF!,0))=FALSE,\"D\",\"\"))","v":""},{"$f":"IF(E371=\"C\",0,IF(E371 =\"D\",ROUND(1/((1+#REF!)^A371),9) * 2,ROUND(1/((1+#REF!)^A371),9)))","v":{"$error":"#REF!"}},{"$error":"#REF!"}]
[369,369,{"$error":"#REF!"},{"$error":"#REF!"},{"$f":"IF(ISERROR(MATCH(D372,#REF!,0))=FALSE,\"C\",IF(ISERROR(MATCH(D372,#REF!,0))=FALSE,\"D\",\"\"))","v":""},{"$f":"IF(E372=\"C\",0,IF(E372 =\"D\",ROUND(1/((1+#REF!)^A372),9) * 2,ROUND(1/((1+#REF!)^A372),9)))","v":{"$error":"#REF!"}},{"$error":"#REF!"}]
[370,370,{"$error":"#REF!"},{"$error":"#REF!"},{"$f":"IF(ISERROR(MATCH(D373,#REF!,0))=FALSE,\"C\",IF(ISERROR(MATCH(D373,#REF!,0))=FALSE,\"D\",\"\"))","v":""},{"$f":"IF(E373=\"C\",0,IF(E373 =\"D\",ROUND(1/((1+#REF!)^A373),9) * 2,ROUND(1/((1+#REF!)^A373),9)))","v":{"$error":"#REF!"}},{"$error":"#REF!"}]
[371,371,{"$error":"#REF!"},{"$error":"#REF!"},{"$f":"IF(ISERROR(MATCH(D374,#REF!,0))=FALSE,\"C\",IF(ISERROR(MATCH(D374,#REF!,0))=FALSE,\"D\",\"\"))","v":""},{"$f":"IF(E374=\"C\",0,IF(E374 =\"D\",ROUND(1/((1+#REF!)^A374),9) * 2,ROUND(1/((1+#REF!)^A374),9)))","v":{"$error":"#REF!"}},{"$error":"#REF!"}]
[372,372,{"$error":"#REF!"},{"$error":"#REF!"},{"$f":"IF(ISERROR(MATCH(D375,#REF!,0))=FALSE,\"C\",IF(ISERROR(MATCH(D375,#REF!,0))=FALSE,\"D\",\"\"))","v":""},{"$f":"IF(E375=\"C\",0,IF(E375 =\"D\",ROUND(1/((1+#REF!)^A375),9) * 2,ROUND(1/((1+#REF!)^A375),9)))","v":{"$error":"#REF!"}},{"$error":"#REF!"}]
[373,373,{"$error":"#REF!"},{"$error":"#REF!"},{"$f":"IF(ISERROR(MATCH(D376,#REF!,0))=FALSE,\"C\",IF(ISERROR(MATCH(D376,#REF!,0))=FALSE,\"D\",\"\"))","v":""},{"$f":"IF(E376=\"C\",0,IF(E376 =\"D\",ROUND(1/((1+#REF!)^A376),9) * 2,ROUND(1/((1+#REF!)^A376),9)))","v":{"$error":"#REF!"}},{"$error":"#REF!"}]
[374,374,{"$error":"#REF!"},{"$error":"#REF!"},{"$f":"IF(ISERROR(MATCH(D377,#REF!,0))=FALSE,\"C\",IF(ISERROR(MATCH(D377,#REF!,0))=FALSE,\"D\",\"\"))","v":""},{"$f":"IF(E377=\"C\",0,IF(E377 =\"D\",ROUND(1/((1+#REF!)^A377),9) * 2,ROUND(1/((1+#REF!)^A377),9)))","v":{"$error":"#REF!"}},{"$error":"#REF!"}]
[375,375,{"$error":"#REF!"},{"$error":"#REF!"},{"$f":"IF(ISERROR(MATCH(D378,#REF!,0))=FALSE,\"C\",IF(ISERROR(MATCH(D378,#REF!,0))=FALSE,\"D\",\"\"))","v":""},{"$f":"IF(E378=\"C\",0,IF(E378 =\"D\",ROUND(1/((1+#REF!)^A378),9) * 2,ROUND(1/((1+#REF!)^A378),9)))","v":{"$error":"#REF!"}},{"$error":"#REF!"}]
[376,376,{"$error":"#REF!"},{"$error":"#REF!"},{"$f":"IF(ISERROR(MATCH(D379,#REF!,0))=FALSE,\"C\",IF(ISERROR(MATCH(D379,#REF!,0))=FALSE,\"D\",\"\"))","v":""},{"$f":"IF(E379=\"C\",0,IF(E379 =\"D\",ROUND(1/((1+#REF!)^A379),9) * 2,ROUND(1/((1+#REF!)^A379),9)))","v":{"$error":"#REF!"}},{"$error":"#REF!"}]
[377,377,{"$error":"#REF!"},{"$error":"#REF!"},{"$f":"IF(ISERROR(MATCH(D380,#REF!,0))=FALSE,\"C\",IF(ISERROR(MATCH(D380,#REF!,0))=FALSE,\"D\",\"\"))","v":""},{"$f":"IF(E380=\"C\",0,IF(E380 =\"D\",ROUND(1/((1+#REF!)^A380),9) * 2,ROUND(1/((1+#REF!)^A380),9)))","v":{"$error":"#REF!"}},{"$error":"#REF!"}]
[378,378,{"$error":"#REF!"},{"$error":"#REF!"},{"$f":"IF(ISERROR(MATCH(D381,#REF!,0))=FALSE,\"C\",IF(ISERROR(MATCH(D381,#REF!,0))=FALSE,\"D\",\"\"))","v":""},{"$f":"IF(E381=\"C\",0,IF(E381 =\"D\",ROUND(1/((1+#REF!)^A381),9) * 2,ROUND(1/((1+#REF!)^A381),9)))","v":{"$error":"#REF!"}},{"$error":"#REF!"}]
[379,379,{"$error":"#REF!"},{"$error":"#REF!"},{"$f":"IF(ISERROR(MATCH(D382,#REF!,0))=FALSE,\"C\",IF(ISERROR(MATCH(D382,#REF!,0))=FALSE,\"D\",\"\"))","v":""},{"$f":"IF(E382=\"C\",0,IF(E382 =\"D\",ROUND(1/((1+#REF!)^A382),9) * 2,ROUND(1/((1+#REF!)^A382),9)))","v":{"$error":"#REF!"}},{"$error":"#REF!"}]
[380,380,{"$error":"#REF!"},{"$error":"#REF!"},{"$f":"IF(ISERROR(MATCH(D383,#REF!,0))=FALSE,\"C\",IF(ISERROR(MATCH(D383,#REF!,0))=FALSE,\"D\",\"\"))","v":""},{"$f":"IF(E383=\"C\",0,IF(E383 =\"D\",ROUND(1/((1+#REF!)^A383),9) * 2,ROUND(1/((1+#REF!)^A383),9)))","v":{"$error":"#REF!"}},{"$error":"#REF!"}]
[381,381,{"$error":"#REF!"},{"$error":"#REF!"},{"$f":"IF(ISERROR(MATCH(D384,#REF!,0))=FALSE,\"C\",IF(ISERROR(MATCH(D384,#REF!,0))=FALSE,\"D\",\"\"))","v":""},{"$f":"IF(E384=\"C\",0,IF(E384 =\"D\",ROUND(1/((1+#REF!)^A384),9) * 2,ROUND(1/((1+#REF!)^A384),9)))","v":{"$error":"#REF!"}},{"$error":"#REF!"}]
[382,382,{"$error":"#REF!"},{"$error":"#REF!"},{"$f":"IF(ISERROR(MATCH(D385,#REF!,0))=FALSE,\"C\",IF(ISERROR(MATCH(D385,#REF!,0))=FALSE,\"D\",\"\"))","v":""},{"$f":"IF(E385=\"C\",0,IF(E385 =\"D\",ROUND(1/((1+#REF!)^A385),9) * 2,ROUND(1/((1+#REF!)^A385),9)))","v":{"$error":"#REF!"}},{"$error":"#REF!"}]
[383,383,{"$error":"#REF!"},{"$error":"#REF!"},{"$f":"IF(ISERROR(MATCH(D386,#REF!,0))=FALSE,\"C\",IF(ISERROR(MATCH(D386,#REF!,0))=FALSE,\"D\",\"\"))","v":""},{"$f":"IF(E386=\"C\",0,IF(E386 =\"D\",ROUND(1/((1+#REF!)^A386),9) * 2,ROUND(1/((1+#REF!)^A386),9)))","v":{"$error":"#REF!"}},{"$error":"#REF!"}]

{"sheet":"Simulador_Cliente","index":1,"n_rows":21,"n_cols":38,"rows_kept":21,"cut":false,"hidden":false,"merged":[[2,2,3,4],[18,0,18,1]]}
[]
[]
[null,null,"SIMULADOR PRÉSTAMO \nBANCA EMPRENDEDORA PYME",null,null,null,null,null,null,null,null,null,null,"Soles"]
[null,null,null,null,null,null,null,null,null,null,null,null,null,"Dólares"]
[]
[null,null,null,null,null,null,null,null,null,null,null,null,null,"No"]
[null,"Moneda","Soles",null,null,null,null,null,null,null,null,null,null,"Julio"]
[null,"Producto","Capital de Trabajo PYME",null,null,null,null,null,null,null,null,null,null,"Diciembre"]
[null,"Monto del Préstamo",1000000]
[null,"Fecha de Desembolso","2022-07-17",null,null,null,null,null,null,null,null,null,null,null,null,null,null,null,null,0]
[null,"Plazo",84,null,null,null,null,null,null,null,null,null,null,"Con Retorno",null,null,null,null,null,30,null,{"$f":"+IF(C14=\"Con Retorno\",\"0.299%\",IF(C14=\"Endosado\",0,\"0.07%\"))","v":"0.299%"},null,null,{"$f":"IF(C8=N20,C11<=18,IF(C8=N17,C11<=24,C11<=36))","v":false},"O(C11=\" \";Y(C11>=1;C11<=60))"]
[null,"TEA",20.100000000000001,null,null,null,null,null,null,null,null,null,null,"Sin Retorno",null,null,null,null,null,60]
[null,"Días de Gracia",35,null,null,null,null,null,null,null,null,null,null,"Endosado",null,null,null,null,null,90]
[null,"Seguro Desgravamen","Con Retorno",null,null,null,null,null,null,null,null,null,null,"Sí",null,null,null,null,null,180]
[null,"Tasa Seguro Desgravamen",{"$f":"+V11","v":"0.299%"},null,null,null,null,null,null,null,null,null,null,"No"]
[null,"Seguro Multiriesgo","Sí"]
[null,"Seguro Todo Riesgo","Sí",null,null,null,null,null,null,null,null,null,null,"Capital de Trabajo PYME",null,null,null,null,null,null,null,null,null,null,null,24,null,null,8.3000000000000007,null,20.100000000000001,null,null,null,null,null,null,{"$f":"OR(C18=\" \",C18>C9)","v":false}]
[null,{"$f":"+IF(C17=\"Sí\",\"Valor del Bien a asegurar\",\"\")","v":"Valor del Bien a asegurar"},602716,null,null,null,null,null,null,null,null,null,null,"Activo Fijo PYME",null,null,null,null,null,null,null,180,null,null,null,84,null,null,7.9,null,19.600000000000001]
[null,null,null,null,null,null,null,null,null,null,null,null,null,"Vivienda"]
[null,null,null,null,null,null,null,null,null,null,null,null,null,"Consumo"]
[null,null,null,null,null,null,null,null,null,null,null,null,null,null,{"$f":"IF(C8=N17,C11<=24,IF(C8=N18,C11<=84,C11<=84))","v":false},null,{"$f":"IF(C8=N18,AND(C12>=7.9,C12<=19.6),OR(IF(C8=N17,AND(C12>=8.3,C12<=20.1))))","v":true},null,{"$f":"+C13<=90","v":true}]

{"sheet":"Cronograma_Referencial","index":2,"n_rows":190,"n_cols":10,"rows_kept":190,"cut":false,"hidden":false,"merged":[[13,5,13,6],[12,1,12,2],[12,5,12,6],[4,1,4,9],[5,1,5,9],[8,1,8,2],[9,1,9,2],[10,1,10,2],[8,5,8,6],[9,5,9,6],[11,1,11,2],[10,5,10,6],[11,5,11,6]]}
[]
[]
[]
[]
[null,"(SIMULACIÓN)"]
[null,"CRONOGRAMA DE PAGOS"]
[]
[]
[null,"Moneda                                                  :",null,{"$f":"+Simulador_Cliente!C7","v":"Soles"},null,"Monto del Préstamo                                                  :",null,{"$f":"+Simulador_Cliente!C9","v":1000000}]
[null,"Producto                                                :",null,{"$f":"+Simulador_Cliente!C8","v":"Capital de Trabajo PYME"},null,"Tasa Efectiva Anual                                                  :",null,{"$f":"+Simulador_Cliente!C12&\"%\"","v":"20.1%"}]
[null,"Fecha de desembolso                          :",null,{"$f":"+Simulador_Cliente!C10","v":"2022-07-17"},null,"Tasa de Costo Efectiva Anual                                   :",null,{"$f":"+((1+I11)^12)-1","v":0.24414146303301654},{"$f":"+RATE(D12,J18,-H9-I12)","v":1.8370507985977575E-2}]
[null,"Plazo (en meses)                                                          :",null,{"$f":"+Simulador_Cliente!C11","v":84},null,"Tasa Seguro de Desgravamen Mensual                   :",null,{"$f":"+Simulador_Cliente!C15","v":"0.299%"},{"$f":"+Simulador_v2!Q16","v":17966.175999999999}]
[null,"Periodo de gracia                                 :",null,{"$f":"+Simulador_Cliente!C13&\" \"& \"días\"","v":"35 días"},null,"Tasa Seguro de Seguro Multiriesgo                         :",null,{"$f":"+IF(Simulador_Cliente!C16=\"No\",0,0.07%)","v":7.000000000000001E-4}]
[null,null,null,null,null,"Tasa Seguro Todo Riesgo                                        :",null,{"$f":"+IF(Simulador_Cliente!C17=\"No\",0,0.0292%)","v":2.92E-4}]
[]
[]
[null,"N°","Fecha Vencimiento","Capital","Interes","Interes de Gracia","Seguro Desgravamen","Seguro Multiriesgos","Seguro Todo Riesgo","Total Cuota"]
[null,1,{"$f":"IFERROR(+IF(B18>0,VLOOKUP(B18,Simulador_v2!$A$33:$AJ$273,3,0),\" \"),\" \")","v":"2022-10-22"},{"$f":"IFERROR(+IF(B18>0,VLOOKUP(B18,Simulador_v2!$A$33:$AJ$273,11,0),\" \"),\" \")","v":-92.654999999997273},{"$f":"IFERROR(+IF(B18>0,VLOOKUP(B18,Simulador_v2!$A$33:$AJ$273,12,0),\" \"),\" \")","v":15379.95},{"$f":"IFERROR(+IF(B18>0,VLOOKUP(B18,Simulador_v2!$A$33:$AJ$273,13,0),\" \"),\" \")","v":213.88300000000001},{"$f":"IFERROR(+IF(B18>0,VLOOKUP(B18,Simulador_v2!$A$33:$AJ$273,20,0),\" \"),\" \")","v":6478.33},{"$f":"IFERROR(+IF(B18>0,VLOOKUP(B18,Simulador_v2!$A$33:$AJ$273,26,0),\" \"),\" \")","v":1516.6599999999999},{"$f":"IFERROR(+IF(B18>0,VLOOKUP(B18,Simulador_v2!$A$33:$AJ$273,23,0),\" \"),\" \")","v":378.7},{"$f":"IFERROR(+IF(B18>0,VLOOKUP(B18,Simulador_v2!$A$33:$AJ$273,36,0),\" \"),\" \")","v":23874.868000000006}]
[null,{"$f":"IF(B18=0,\" \",IF(B18>=$D$12,\"\",B18+1))","v":2},{"$f":"IF($D$12=0,\" \",IF(B18=$D$12,\"TOTALES\",+IF(B19>0,VLOOKUP(B19,Simulador_v2!$A$33:$AJ$273,3,0),\" \")))","v":"2022-11-22"},{"$f":"IF($D$12=0,\" \",IF(B18=$D$12,Simulador_v2!$K$32,+IF(B19>0,VLOOKUP(B19,Simulador_v2!$A$33:$AJ$273,11,0),\" \")))","v":3798.1050000000041},{"$f":"IF($D$12=0,\" \",IF(B18=$D$12,Simulador_v2!$L$32,+IF(B19>0,VLOOKUP(B19,Simulador_v2!$A$33:$AJ$273,12,0),\" \")))","v":15898.14},{"$f":"IF($D$12=0,\" \",IF(B18=$D$12,Simulador_v2!$M$32,+IF(B19>0,VLOOKUP(B19,Simulador_v2!$A$33:$AJ$273,13,0),\" \")))","v":213.88300000000001},{"$f":"IF($D$12=0,\" \",IF(B18=$D$12,Simulador_v2!$T$32,+IF(B19>0,VLOOKUP(B19,Simulador_v2!$A$33:$AJ$273,20,0),\" \")))","v":3089.95},{"$f":"IF($D$12=0,\" \",IF(B18=$D$12,Simulador_v2!$Z$32,+IF(B19>0,VLOOKUP(B19,Simulador_v2!$A$33:$AJ$273,26,0),\" \")))","v":700},{"$f":"IF($D$12=0,\" \",IF(B18=$D$12,Simulador_v2!$W$32,+IF(B19>0,VLOOKUP(B19,Simulador_v2!$A$33:$AJ$273,23,0),\" \")))","v":174.79},{"$f":"IF($D$12=0,\" \",IF(B18=$D$12,Simulador_v2!$AJ$32,+IF(B19>0,VLOOKUP(B19,Simulador_v2!$A$33:$AJ$273,36,0),\" \")))","v":23874.868000000006}]
[null,3,{"$f":"IF($D$12=0,\" \",IF(B19=$D$12,\"TOTALES\",+IF(B20>0,VLOOKUP(B20,Simulador_v2!$A$33:$AJ$273,3,0),\" \")))","v":"2022-12-22"},{"$f":"IF($D$12=0,\" \",IF(B19=$D$12,Simulador_v2!$K$32,+IF(B20>0,VLOOKUP(B20,Simulador_v2!$A$33:$AJ$273,11,0),\" \")))","v":4484.3150000000041},{"$f":"IF($D$12=0,\" \",IF(B19=$D$12,Simulador_v2!$L$32,+IF(B20>0,VLOOKUP(B20,Simulador_v2!$A$33:$AJ$273,12,0),\" \")))","v":15322.96},{"$f":"IF($D$12=0,\" \",IF(B19=$D$12,Simulador_v2!$M$32,+IF(B20>0,VLOOKUP(B20,Simulador_v2!$A$33:$AJ$273,13,0),\" \")))","v":213.88300000000001},{"$f":"IF($D$12=0,\" \",IF(B19=$D$12,Simulador_v2!$T$32,+IF(B20>0,VLOOKUP(B20,Simulador_v2!$A$33:$AJ$273,20,0),\" \")))","v":2978.92},{"$f":"IF($D$12=0,\" \",IF(B19=$D$12,Simulador_v2!$Z$32,+IF(B20>0,VLOOKUP(B20,Simulador_v2!$A$33:$AJ$273,26,0),\" \")))","v":700},{"$f":"IF($D$12=0,\" \",IF(B19=$D$12,Simulador_v2!$W$32,+IF(B20>0,VLOOKUP(B20,Simulador_v2!$A$33:$AJ$273,23,0),\" \")))","v":174.79},{"$f":"IF($D$12=0,\" \",IF(B19=$D$12,Simulador_v2!$AJ$32,+IF(B20>0,VLOOKUP(B20,Simulador_v2!$A$33:$AJ$273,36,0),\" \")))","v":23874.868000000002}]
[null,4,{"$f":"IF($D$12=0,\" \",IF(B20=$D$12,\"TOTALES\",+IF(B21>0,VLOOKUP(B21,Simulador_v2!$A$33:$AJ$273,3,0),\" \")))","v":"2023-01-22"},{"$f":"IF($D$12=0,\" \",IF(B20=$D$12,Simulador_v2!$K$32,+IF(B21>0,VLOOKUP(B21,Simulador_v2!$A$33:$AJ$273,11,0),\" \")))","v":3955.3550000000037},{"$f":"IF($D$12=0,\" \",IF(B20=$D$12,Simulador_v2!$L$32,+IF(B21>0,VLOOKUP(B21,Simulador_v2!$A$33:$AJ$273,12,0),\" \")))","v":15766.48},{"$f":"IF($D$12=0,\" \",IF(B20=$D$12,Simulador_v2!$M$32,+IF(B21>0,VLOOKUP(B21,Simulador_v2!$A$33:$AJ$273,13,0),\" \")))","v":213.88300000000001},{"$f":"IF($D$12=0,\" \",IF(B20=$D$12,Simulador_v2!$T$32,+IF(B21>0,VLOOKUP(B21,Simulador_v2!$A$33:$AJ$273,20,0),\" \")))","v":3064.36},{"$f":"IF($D$12=0,\" \",IF(B20=$D$12,Simulador_v2!$Z$32,+IF(B21>0,VLOOKUP(B21,Simulador_v2!$A$33:$AJ$273,26,0),\" \")))","v":700},{"$f":"IF($D$12=0,\" \",IF(B20=$D$12,Simulador_v2!$W$32,+IF(B21>0,VLOOKUP(B21,Simulador_v2!$A$33:$AJ$273,23,0),\" \")))","v":174.79},{"$f":"IF($D$12=0,\" \",IF(B20=$D$12,Simulador_v2!$AJ$32,+IF(B21>0,VLOOKUP(B21,Simulador_v2!$A$33:$AJ$273,36,0),\" \")))","v":23874.868000000006}]
[null,5,{"$f":"IF($D$12=0,\" \",IF(B21=$D$12,\"TOTALES\",+IF(B22>0,VLOOKUP(B22,Simulador_v2!$A$33:$AJ$273,3,0),\" \")))","v":"2023-02-22"},{"$f":"IF($D$12=0,\" \",IF(B21=$D$12,Simulador_v2!$K$32,+IF(B22>0,VLOOKUP(B22,Simulador_v2!$A$33:$AJ$273,11,0),\" \")))","v":4030.4550000000031},{"$f":"IF($D$12=0,\" \",IF(B21=$D$12,Simulador_v2!$L$32,+IF(B22>0,VLOOKUP(B22,Simulador_v2!$A$33:$AJ$273,12,0),\" \")))","v":15703.6},{"$f":"IF($D$12=0,\" \",IF(B21=$D$12,Simulador_v2!$M$32,+IF(B22>0,VLOOKUP(B22,Simulador_v2!$A$33:$AJ$273,13,0),\" \")))","v":213.88300000000001},{"$f":"IF($D$12=0,\" \",IF(B21=$D$12,Simulador_v2!$T$32,+IF(B22>0,VLOOKUP(B22,Simulador_v2!$A$33:$AJ$273,20,0),\" \")))","v":3052.14},{"$f":"IF($D$12=0,\" \",IF(B21=$D$12,Simulador_v2!$Z$32,+IF(B22>0,VLOOKUP(B22,Simulador_v2!$A$33:$AJ$273,26,0),\" \")))","v":700},{"$f":"IF($D$12=0,\" \",IF(B21=$D$12,Simulador_v2!$W$32,+IF(B22>0,VLOOKUP(B22,Simulador_v2!$A$33:$AJ$273,23,0),\" \")))","v":174.79},{"$f":"IF($D$12=0,\" \",IF(B21=$D$12,Simulador_v2!$AJ$32,+IF(B22>0,VLOOKUP(B22,Simulador_v2!$A$33:$AJ$273,36,0),\" \")))","v":23874.868000000006}]
[null,6,{"$f":"IF($D$12=0,\" \",IF(B22=$D$12,\"TOTALES\",+IF(B23>0,VLOOKUP(B23,Simulador_v2!$A$33:$AJ$273,3,0),\" \")))","v":"2023-03-22"},{"$f":"IF($D$12=0,\" \",IF(B22=$D$12,Simulador_v2!$K$32,+IF(B23>0,VLOOKUP(B23,Simulador_v2!$A$33:$AJ$273,11,0),\" \")))","v":5925.4350000000031},{"$f":"IF($D$12=0,\" \",IF(B22=$D$12,Simulador_v2!$L$32,+IF(B23>0,VLOOKUP(B23,Simulador_v2!$A$33:$AJ$273,12,0),\" \")))","v":14115.23},{"$f":"IF($D$12=0,\" \",IF(B22=$D$12,Simulador_v2!$M$32,+IF(B23>0,VLOOKUP(B23,Simulador_v2!$A$33:$AJ$273,13,0),\" \")))","v":213.88300000000001},{"$f":"IF($D$12=0,\" \",IF(B22=$D$12,Simulador_v2!$T$32,+IF(B23>0,VLOOKUP(B23,Simulador_v2!$A$33:$AJ$273,20,0),\" \")))","v":2745.53},{"$f":"IF($D$12=0,\" \",IF(B22=$D$12,Simulador_v2!$Z$32,+IF(B23>0,VLOOKUP(B23,Simulador_v2!$A$33:$AJ$273,26,0),\" \")))","v":700},{"$f":"IF($D$12=0,\" \",IF(B22=$D$12,Simulador_v2!$W$32,+IF(B23>0,VLOOKUP(B23,Simulador_v2!$A$33:$AJ$273,23,0),\" \")))","v":174.79},{"$f":"IF($D$12=0,\" \",IF(B22=$D$12,Simulador_v2!$AJ$32,+IF(B23>0,VLOOKUP(B23,Simulador_v2!$A$33:$AJ$273,36,0),\" \")))","v":23874.868000000002}]
[null,7,{"$f":"IF($D$12=0,\" \",IF(B23=$D$12,\"TOTALES\",+IF(B24>0,VLOOKUP(B24,Simulador_v2!$A$33:$AJ$273,3,0),\" \")))","v":"2023-04-22"},{"$f":"IF($D$12=0,\" \",IF(B23=$D$12,Simulador_v2!$K$32,+IF(B24>0,VLOOKUP(B24,Simulador_v2!$A$33:$AJ$273,11,0),\" \")))","v":4219.4750000000031},{"$f":"IF($D$12=0,\" \",IF(B23=$D$12,Simulador_v2!$L$32,+IF(B24>0,VLOOKUP(B24,Simulador_v2!$A$33:$AJ$273,12,0),\" \")))","v":15545.34},{"$f":"IF($D$12=0,\" \",IF(B23=$D$12,Simulador_v2!$M$32,+IF(B24>0,VLOOKUP(B24,Simulador_v2!$A$33:$AJ$273,13,0),\" \")))","v":213.88300000000001},{"$f":"IF($D$12=0,\" \",IF(B23=$D$12,Simulador_v2!$T$32,+IF(B24>0,VLOOKUP(B24,Simulador_v2!$A$33:$AJ$273,20,0),\" \")))","v":3021.38},{"$f":"IF($D$12=0,\" \",IF(B23=$D$12,Simulador_v2!$Z$32,+IF(B24>0,VLOOKUP(B24,Simulador_v2!$A$33:$AJ$273,26,0),\" \")))","v":700},{"$f":"IF($D$12=0,\" \",IF(B23=$D$12,Simulador_v2!$W$32,+IF(B24>0,VLOOKUP(B24,Simulador_v2!$A$33:$AJ$273,23,0),\" \")))","v":174.79},{"$f":"IF($D$12=0,\" \",IF(B23=$D$12,Simulador_v2!$AJ$32,+IF(B24>0,VLOOKUP(B24,Simulador_v2!$A$33:$AJ$273,36,0),\" \")))","v":23874.868000000006}]
[null,8,{"$f":"IF($D$12=0,\" \",IF(B24=$D$12,\"TOTALES\",+IF(B25>0,VLOOKUP(B25,Simulador_v2!$A$33:$AJ$273,3,0),\" \")))","v":"2023-05-22"},{"$f":"IF($D$12=0,\" \",IF(B24=$D$12,Simulador_v2!$K$32,+IF(B25>0,VLOOKUP(B25,Simulador_v2!$A$33:$AJ$273,11,0),\" \")))","v":4899.7550000000037},{"$f":"IF($D$12=0,\" \",IF(B24=$D$12,Simulador_v2!$L$32,+IF(B25>0,VLOOKUP(B25,Simulador_v2!$A$33:$AJ$273,12,0),\" \")))","v":14975.14},{"$f":"IF($D$12=0,\" \",IF(B24=$D$12,Simulador_v2!$M$32,+IF(B25>0,VLOOKUP(B25,Simulador_v2!$A$33:$AJ$273,13,0),\" \")))","v":213.88300000000001},{"$f":"IF($D$12=0,\" \",IF(B24=$D$12,Simulador_v2!$T$32,+IF(B25>0,VLOOKUP(B25,Simulador_v2!$A$33:$AJ$273,20,0),\" \")))","v":2911.3},{"$f":"IF($D$12=0,\" \",IF(B24=$D$12,Simulador_v2!$Z$32,+IF(B25>0,VLOOKUP(B25,Simulador_v2!$A$33:$AJ$273,26,0),\" \")))","v":700},{"$f":"IF($D$12=0,\" \",IF(B24=$D$12,Simulador_v2!$W$32,+IF(B25>0,VLOOKUP(B25,Simulador_v2!$A$33:$AJ$273,23,0),\" \")))","v":174.79},{"$f":"IF($D$12=0,\" \",IF(B24=$D$12,Simulador_v2!$AJ$32,+IF(B25>0,VLOOKUP(B25,Simulador_v2!$A$33:$AJ$273,36,0),\" \")))","v":23874.868000000006}]
[null,9,{"$f":"IF($D$12=0,\" \",IF(B25=$D$12,\"TOTALES\",+IF(B26>0,VLOOKUP(B26,Simulador_v2!$A$33:$AJ$273,3,0),\" \")))","v":"2023-06-22"},{"$f":"IF($D$12=0,\" \",IF(B25=$D$12,Simulador_v2!$K$32,+IF(B26>0,VLOOKUP(B26,Simulador_v2!$A$33:$AJ$273,11,0),\" \")))","v":4392.6150000000025},{"$f":"IF($D$12=0,\" \",IF(B25=$D$12,Simulador_v2!$L$32,+IF(B26>0,VLOOKUP(B26,Simulador_v2!$A$33:$AJ$273,12,0),\" \")))","v":15400.37},{"$f":"IF($D$12=0,\" \",IF(B25=$D$12,Simulador_v2!$M$32,+IF(B26>0,VLOOKUP(B26,Simulador_v2!$A$33:$AJ$273,13,0),\" \")))","v":213.88300000000001},{"$f":"IF($D$12=0,\" \",IF(B25=$D$12,Simulador_v2!$T$32,+IF(B26>0,VLOOKUP(B26,Simulador_v2!$A$33:$AJ$273,20,0),\" \")))","v":2993.21},{"$f":"IF($D$12=0,\" \",IF(B25=$D$12,Simulador_v2!$Z$32,+IF(B26>0,VLOOKUP(B26,Simulador_v2!$A$33:$AJ$273,26,0),\" \")))","v":700},{"$f":"IF($D$12=0,\" \",IF(B25=$D$12,Simulador_v2!$W$32,+IF(B26>0,VLOOKUP(B26,Simulador_v2!$A$33:$AJ$273,23,0),\" \")))","v":174.79},{"$f":"IF($D$12=0,\" \",IF(B25=$D$12,Simulador_v2!$AJ$32,+IF(B26>0,VLOOKUP(B26,Simulador_v2!$A$33:$AJ$273,36,0),\" \")))","v":23874.868000000006}]
[null,10,{"$f":"IF($D$12=0,\" \",IF(B26=$D$12,\"TOTALES\",+IF(B27>0,VLOOKUP(B27,Simulador_v2!$A$33:$AJ$273,3,0),\" \")))","v":"2023-07-22"},{"$f":"IF($D$12=0,\" \",IF(B26=$D$12,Simulador_v2!$K$32,+IF(B27>0,VLOOKUP(B27,Simulador_v2!$A$33:$AJ$273,11,0),\" \")))","v":5070.4450000000033},{"$f":"IF($D$12=0,\" \",IF(B26=$D$12,Simulador_v2!$L$32,+IF(B27>0,VLOOKUP(B27,Simulador_v2!$A$33:$AJ$273,12,0),\" \")))","v":14832.23},{"$f":"IF($D$12=0,\" \",IF(B26=$D$12,Simulador_v2!$M$32,+IF(B27>0,VLOOKUP(B27,Simulador_v2!$A$33:$AJ$273,13,0),\" \")))","v":213.88300000000001},{"$f":"IF($D$12=0,\" \",IF(B26=$D$12,Simulador_v2!$T$32,+IF(B27>0,VLOOKUP(B27,Simulador_v2!$A$33:$AJ$273,20,0),\" \")))","v":2883.52},{"$f":"IF($D$12=0,\" \",IF(B26=$D$12,Simulador_v2!$Z$32,+IF(B27>0,VLOOKUP(B27,Simulador_v2!$A$33:$AJ$273,26,0),\" \")))","v":700},{"$f":"IF($D$12=0,\" \",IF(B26=$D$12,Simulador_v2!$W$32,+IF(B27>0,VLOOKUP(B27,Simulador_v2!$A$33:$AJ$273,23,0),\" \")))","v":174.79},{"$f":"IF($D$12=0,\" \",IF(B26=$D$12,Simulador_v2!$AJ$32,+IF(B27>0,VLOOKUP(B27,Simulador_v2!$A$33:$AJ$273,36,0),\" \")))","v":23874.868000000006}]
[null,11,{"$f":"IF($D$12=0,\" \",IF(B27=$D$12,\"TOTALES\",+IF(B28>0,VLOOKUP(B28,Simulador_v2!$A$33:$AJ$273,3,0),\" \")))","v":"2023-08-22"},{"$f":"IF($D$12=0,\" \",IF(B27=$D$12,Simulador_v2!$K$32,+IF(B28>0,VLOOKUP(B28,Simulador_v2!$A$33:$AJ$273,11,0),\" \")))","v":4572.2850000000035},{"$f":"IF($D$12=0,\" \",IF(B27=$D$12,Simulador_v2!$L$32,+IF(B28>0,VLOOKUP(B28,Simulador_v2!$A$33:$AJ$273,12,0),\" \")))","v":15249.94},{"$f":"IF($D$12=0,\" \",IF(B27=$D$12,Simulador_v2!$M$32,+IF(B28>0,VLOOKUP(B28,Simulador_v2!$A$33:$AJ$273,13,0),\" \")))","v":213.88300000000001},{"$f":"IF($D$12=0,\" \",IF(B27=$D$12,Simulador_v2!$T$32,+IF(B28>0,VLOOKUP(B28,Simulador_v2!$A$33:$AJ$273,20,0),\" \")))","v":2963.97},{"$f":"IF($D$12=0,\" \",IF(B27=$D$12,Simulador_v2!$Z$32,+IF(B28>0,VLOOKUP(B28,Simulador_v2!$A$33:$AJ$273,26,0),\" \")))","v":700},{"$f":"IF($D$12=0,\" \",IF(B27=$D$12,Simulador_v2!$W$32,+IF(B28>0,VLOOKUP(B28,Simulador_v2!$A$33:$AJ$273,23,0),\" \")))","v":174.79},{"$f":"IF($D$12=0,\" \",IF(B27=$D$12,Simulador_v2!$AJ$32,+IF(B28>0,VLOOKUP(B28,Simulador_v2!$A$33:$AJ$273,36,0),\" \")))","v":23874.868000000009}]
[null,12,{"$f":"IF($D$12=0,\" \",IF(B28=$D$12,\"TOTALES\",+IF(B29>0,VLOOKUP(B29,Simulador_v2!$A$33:$AJ$273,3,0),\" \")))","v":"2023-09-22"},{"$f":"IF($D$12=0,\" \",IF(B28=$D$12,Simulador_v2!$K$32,+IF(B29>0,VLOOKUP(B29,Simulador_v2!$A$33:$AJ$273,11,0),\" \")))","v":4659.095000000003},{"$f":"IF($D$12=0,\" \",IF(B28=$D$12,Simulador_v2!$L$32,+IF(B29>0,VLOOKUP(B29,Simulador_v2!$A$33:$AJ$273,12,0),\" \")))","v":15177.26},{"$f":"IF($D$12=0,\" \",IF(B28=$D$12,Simulador_v2!$M$32,+IF(B29>0,VLOOKUP(B29,Simulador_v2!$A$33:$AJ$273,13,0),\" \")))","v":213.88300000000001},{"$f":"IF($D$12=0,\" \",IF(B28=$D$12,Simulador_v2!$T$32,+IF(B29>0,VLOOKUP(B29,Simulador_v2!$A$33:$AJ$273,20,0),\" \")))","v":2949.84},{"$f":"IF($D$12=0,\" \",IF(B28=$D$12,Simulador_v2!$Z$32,+IF(B29>0,VLOOKUP(B29,Simulador_v2!$A$33:$AJ$273,26,0),\" \")))","v":700},{"$f":"IF($D$12=0,\" \",IF(B28=$D$12,Simulador_v2!$W$32,+IF(B29>0,VLOOKUP(B29,Simulador_v2!$A$33:$AJ$273,23,0),\" \")))","v":174.79},{"$f":"IF($D$12=0,\" \",IF(B28=$D$12,Simulador_v2!$AJ$32,+IF(B29>0,VLOOKUP(B29,Simulador_v2!$A$33:$AJ$273,36,0),\" \")))","v":23874.868000000006}]
[null,13,{"$f":"IF($D$12=0,\" \",IF(B29=$D$12,\"TOTALES\",+IF(B30>0,VLOOKUP(B30,Simulador_v2!$A$33:$AJ$273,3,0),\" \")))","v":"2023-10-22"},{"$f":"IF($D$12=0,\" \",IF(B29=$D$12,Simulador_v2!$K$32,+IF(B30>0,VLOOKUP(B30,Simulador_v2!$A$33:$AJ$273,11,0),\" \")))","v":5333.1650000000027},{"$f":"IF($D$12=0,\" \",IF(B29=$D$12,Simulador_v2!$L$32,+IF(B30>0,VLOOKUP(B30,Simulador_v2!$A$33:$AJ$273,12,0),\" \")))","v":14612.27},{"$f":"IF($D$12=0,\" \",IF(B29=$D$12,Simulador_v2!$M$32,+IF(B30>0,VLOOKUP(B30,Simulador_v2!$A$33:$AJ$273,13,0),\" \")))","v":213.88300000000001},{"$f":"IF($D$12=0,\" \",IF(B29=$D$12,Simulador_v2!$T$32,+IF(B30>0,VLOOKUP(B30,Simulador_v2!$A$33:$AJ$273,20,0),\" \")))","v":2840.76},{"$f":"IF($D$12=0,\" \",IF(B29=$D$12,Simulador_v2!$Z$32,+IF(B30>0,VLOOKUP(B30,Simulador_v2!$A$33:$AJ$273,26,0),\" \")))","v":700},{"$f":"IF($D$12=0,\" \",IF(B29=$D$12,Simulador_v2!$W$32,+IF(B30>0,VLOOKUP(B30,Simulador_v2!$A$33:$AJ$273,23,0),\" \")))","v":174.79},{"$f":"IF($D$12=0,\" \",IF(B29=$D$12,Simulador_v2!$AJ$32,+IF(B30>0,VLOOKUP(B30,Simulador_v2!$A$33:$AJ$273,36,0),\" \")))","v":23874.868000000009}]
[null,14,{"$f":"IF($D$12=0,\" \",IF(B30=$D$12,\"TOTALES\",+IF(B31>0,VLOOKUP(B31,Simulador_v2!$A$33:$AJ$273,3,0),\" \")))","v":"2023-11-22"},{"$f":"IF($D$12=0,\" \",IF(B30=$D$12,Simulador_v2!$K$32,+IF(B31>0,VLOOKUP(B31,Simulador_v2!$A$33:$AJ$273,11,0),\" \")))","v":4848.8150000000041},{"$f":"IF($D$12=0,\" \",IF(B30=$D$12,Simulador_v2!$L$32,+IF(B31>0,VLOOKUP(B31,Simulador_v2!$A$33:$AJ$273,12,0),\" \")))","v":15018.41},{"$f":"IF($D$12=0,\" \",IF(B30=$D$12,Simulador_v2!$M$32,+IF(B31>0,VLOOKUP(B31,Simulador_v2!$A$33:$AJ$273,13,0),\" \")))","v":213.88300000000001},{"$f":"IF($D$12=0,\" \",IF(B30=$D$12,Simulador_v2!$T$32,+IF(B31>0,VLOOKUP(B31,Simulador_v2!$A$33:$AJ$273,20,0),\" \")))","v":2918.97},{"$f":"IF($D$12=0,\" \",IF(B30=$D$12,Simulador_v2!$Z$32,+IF(B31>0,VLOOKUP(B31,Simulador_v2!$A$33:$AJ$273,26,0),\" \")))","v":700},{"$f":"IF($D$12=0,\" \",IF(B30=$D$12,Simulador_v2!$W$32,+IF(B31>0,VLOOKUP(B31,Simulador_v2!$A$33:$AJ$273,23,0),\" \")))","v":174.79},{"$f":"IF($D$12=0,\" \",IF(B30=$D$12,Simulador_v2!$AJ$32,+IF(B31>0,VLOOKUP(B31,Simulador_v2!$A$33:$AJ$273,36,0),\" \")))","v":23874.868000000009}]
[null,15,{"$f":"IF($D$12=0,\" \",IF(B31=$D$12,\"TOTALES\",+IF(B32>0,VLOOKUP(B32,Simulador_v2!$A$33:$AJ$273,3,0),\" \")))","v":"2023-12-22"},{"$f":"IF($D$12=0,\" \",IF(B31=$D$12,Simulador_v2!$K$32,+IF(B32>0,VLOOKUP(B32,Simulador_v2!$A$33:$AJ$273,11,0),\" \")))","v":5520.2150000000038},{"$f":"IF($D$12=0,\" \",IF(B31=$D$12,Simulador_v2!$L$32,+IF(B32>0,VLOOKUP(B32,Simulador_v2!$A$33:$AJ$273,12,0),\" \")))","v":14455.67},{"$f":"IF($D$12=0,\" \",IF(B31=$D$12,Simulador_v2!$M$32,+IF(B32>0,VLOOKUP(B32,Simulador_v2!$A$33:$AJ$273,13,0),\" \")))","v":213.88300000000001},{"$f":"IF($D$12=0,\" \",IF(B31=$D$12,Simulador_v2!$T$32,+IF(B32>0,VLOOKUP(B32,Simulador_v2!$A$33:$AJ$273,20,0),\" \")))","v":2810.31},{"$f":"IF($D$12=0,\" \",IF(B31=$D$12,Simulador_v2!$Z$32,+IF(B32>0,VLOOKUP(B32,Simulador_v2!$A$33:$AJ$273,26,0),\" \")))","v":700},{"$f":"IF($D$12=0,\" \",IF(B31=$D$12,Simulador_v2!$W$32,+IF(B32>0,VLOOKUP(B32,Simulador_v2!$A$33:$AJ$273,23,0),\" \")))","v":174.79},{"$f":"IF($D$12=0,\" \",IF(B31=$D$12,Simulador_v2!$AJ$32,+IF(B32>0,VLOOKUP(B32,Simulador_v2!$A$33:$AJ$273,36,0),\" \")))","v":23874.868000000006}]
[null,16,{"$f":"IF($D$12=0,\" \",IF(B32=$D$12,\"TOTALES\",+IF(B33>0,VLOOKUP(B33,Simulador_v2!$A$33:$AJ$273,3,0),\" \")))","v":"2024-01-22"},{"$f":"IF($D$12=0,\" \",IF(B32=$D$12,Simulador_v2!$K$32,+IF(B33>0,VLOOKUP(B33,Simulador_v2!$A$33:$AJ$273,11,0),\" \")))","v":5045.6850000000031},{"$f":"IF($D$12=0,\" \",IF(B32=$D$12,Simulador_v2!$L$32,+IF(B33>0,VLOOKUP(B33,Simulador_v2!$A$33:$AJ$273,12,0),\" \")))","v":14853.58},{"$f":"IF($D$12=0,\" \",IF(B32=$D$12,Simulador_v2!$M$32,+IF(B33>0,VLOOKUP(B33,Simulador_v2!$A$33:$AJ$273,13,0),\" \")))","v":213.88300000000001},{"$f":"IF($D$12=0,\" \",IF(B32=$D$12,Simulador_v2!$T$32,+IF(B33>0,VLOOKUP(B33,Simulador_v2!$A$33:$AJ$273,20,0),\" \")))","v":2886.93},{"$f":"IF($D$12=0,\" \",IF(B32=$D$12,Simulador_v2!$Z$32,+IF(B33>0,VLOOKUP(B33,Simulador_v2!$A$33:$AJ$273,26,0),\" \")))","v":700},{"$f":"IF($D$12=0,\" \",IF(B32=$D$12,Simulador_v2!$W$32,+IF(B33>0,VLOOKUP(B33,Simulador_v2!$A$33:$AJ$273,23,0),\" \")))","v":174.79},{"$f":"IF($D$12=0,\" \",IF(B32=$D$12,Simulador_v2!$AJ$32,+IF(B33>0,VLOOKUP(B33,Simulador_v2!$A$33:$AJ$273,36,0),\" \")))","v":23874.868000000006}]
[null,17,{"$f":"IF($D$12=0,\" \",IF(B33=$D$12,\"TOTALES\",+IF(B34>0,VLOOKUP(B34,Simulador_v2!$A$33:$AJ$273,3,0),\" \")))","v":"2024-02-22"},{"$f":"IF($D$12=0,\" \",IF(B33=$D$12,Simulador_v2!$K$32,+IF(B34>0,VLOOKUP(B34,Simulador_v2!$A$33:$AJ$273,11,0),\" \")))","v":5141.4850000000024},{"$f":"IF($D$12=0,\" \",IF(B33=$D$12,Simulador_v2!$L$32,+IF(B34>0,VLOOKUP(B34,Simulador_v2!$A$33:$AJ$273,12,0),\" \")))","v":14773.37},{"$f":"IF($D$12=0,\" \",IF(B33=$D$12,Simulador_v2!$M$32,+IF(B34>0,VLOOKUP(B34,Simulador_v2!$A$33:$AJ$273,13,0),\" \")))","v":213.88300000000001},{"$f":"IF($D$12=0,\" \",IF(B33=$D$12,Simulador_v2!$T$32,+IF(B34>0,VLOOKUP(B34,Simulador_v2!$A$33:$AJ$273,20,0),\" \")))","v":2871.34},{"$f":"IF($D$12=0,\" \",IF(B33=$D$12,Simulador_v2!$Z$32,+IF(B34>0,VLOOKUP(B34,Simulador_v2!$A$33:$AJ$273,26,0),\" \")))","v":700},{"$f":"IF($D$12=0,\" \",IF(B33=$D$12,Simulador_v2!$W$32,+IF(B34>0,VLOOKUP(B34,Simulador_v2!$A$33:$AJ$273,23,0),\" \")))","v":174.79},{"$f":"IF($D$12=0,\" \",IF(B33=$D$12,Simulador_v2!$AJ$32,+IF(B34>0,VLOOKUP(B34,Simulador_v2!$A$33:$AJ$273,36,0),\" \")))","v":23874.868000000006}]
[null,18,{"$f":"IF($D$12=0,\" \",IF(B34=$D$12,\"TOTALES\",+IF(B35>0,VLOOKUP(B35,Simulador_v2!$A$33:$AJ$273,3,0),\" \")))","v":"2024-03-22"},{"$f":"IF($D$12=0,\" \",IF(B34=$D$12,Simulador_v2!$K$32,+IF(B35>0,VLOOKUP(B35,Simulador_v2!$A$33:$AJ$273,11,0),\" \")))","v":6378.1850000000031},{"$f":"IF($D$12=0,\" \",IF(B34=$D$12,Simulador_v2!$L$32,+IF(B35>0,VLOOKUP(B35,Simulador_v2!$A$33:$AJ$273,12,0),\" \")))","v":13736.78},{"$f":"IF($D$12=0,\" \",IF(B34=$D$12,Simulador_v2!$M$32,+IF(B35>0,VLOOKUP(B35,Simulador_v2!$A$33:$AJ$273,13,0),\" \")))","v":213.88300000000001},{"$f":"IF($D$12=0,\" \",IF(B34=$D$12,Simulador_v2!$T$32,+IF(B35>0,VLOOKUP(B35,Simulador_v2!$A$33:$AJ$273,20,0),\" \")))","v":2671.23},{"$f":"IF($D$12=0,\" \",IF(B34=$D$12,Simulador_v2!$Z$32,+IF(B35>0,VLOOKUP(B35,Simulador_v2!$A$33:$AJ$273,26,0),\" \")))","v":700},{"$f":"IF($D$12=0,\" \",IF(B34=$D$12,Simulador_v2!$W$32,+IF(B35>0,VLOOKUP(B35,Simulador_v2!$A$33:$AJ$273,23,0),\" \")))","v":174.79},{"$f":"IF($D$12=0,\" \",IF(B34=$D$12,Simulador_v2!$AJ$32,+IF(B35>0,VLOOKUP(B35,Simulador_v2!$A$33:$AJ$273,36,0),\" \")))","v":23874.868000000006}]
[null,19,{"$f":"IF($D$12=0,\" \",IF(B35=$D$12,\"TOTALES\",+IF(B36>0,VLOOKUP(B36,Simulador_v2!$A$33:$AJ$273,3,0),\" \")))","v":"2024-04-22"},{"$f":"IF($D$12=0,\" \",IF(B35=$D$12,Simulador_v2!$K$32,+IF(B36>0,VLOOKUP(B36,Simulador_v2!$A$33:$AJ$273,11,0),\" \")))","v":5360.1950000000033},{"$f":"IF($D$12=0,\" \",IF(B35=$D$12,Simulador_v2!$L$32,+IF(B36>0,VLOOKUP(B36,Simulador_v2!$A$33:$AJ$273,12,0),\" \")))","v":14590.25},{"$f":"IF($D$12=0,\" \",IF(B35=$D$12,Simulador_v2!$M$32,+IF(B36>0,VLOOKUP(B36,Simulador_v2!$A$33:$AJ$273,13,0),\" \")))","v":213.88300000000001},{"$f":"IF($D$12=0,\" \",IF(B35=$D$12,Simulador_v2!$T$32,+IF(B36>0,VLOOKUP(B36,Simulador_v2!$A$33:$AJ$273,20,0),\" \")))","v":2835.75},{"$f":"IF($D$12=0,\" \",IF(B35=$D$12,Simulador_v2!$Z$32,+IF(B36>0,VLOOKUP(B36,Simulador_v2!$A$33:$AJ$273,26,0),\" \")))","v":700},{"$f":"IF($D$12=0,\" \",IF(B35=$D$12,Simulador_v2!$W$32,+IF(B36>0,VLOOKUP(B36,Simulador_v2!$A$33:$AJ$273,23,0),\" \")))","v":174.79},{"$f":"IF($D$12=0,\" \",IF(B35=$D$12,Simulador_v2!$AJ$32,+IF(B36>0,VLOOKUP(B36,Simulador_v2!$A$33:$AJ$273,36,0),\" \")))","v":23874.868000000006}]
[null,20,{"$f":"IF($D$12=0,\" \",IF(B36=$D$12,\"TOTALES\",+IF(B37>0,VLOOKUP(B37,Simulador_v2!$A$33:$AJ$273,3,0),\" \")))","v":"2024-05-22"},{"$f":"IF($D$12=0,\" \",IF(B36=$D$12,Simulador_v2!$K$32,+IF(B37>0,VLOOKUP(B37,Simulador_v2!$A$33:$AJ$273,11,0),\" \")))","v":6024.3950000000041},{"$f":"IF($D$12=0,\" \",IF(B36=$D$12,Simulador_v2!$L$32,+IF(B37>0,VLOOKUP(B37,Simulador_v2!$A$33:$AJ$273,12,0),\" \")))","v":14033.55},{"$f":"IF($D$12=0,\" \",IF(B36=$D$12,Simulador_v2!$M$32,+IF(B37>0,VLOOKUP(B37,Simulador_v2!$A$33:$AJ$273,13,0),\" \")))","v":213.88300000000001},{"$f":"IF($D$12=0,\" \",IF(B36=$D$12,Simulador_v2!$T$32,+IF(B37>0,VLOOKUP(B37,Simulador_v2!$A$33:$AJ$273,20,0),\" \")))","v":2728.25},{"$f":"IF($D$12=0,\" \",IF(B36=$D$12,Simulador_v2!$Z$32,+IF(B37>0,VLOOKUP(B37,Simulador_v2!$A$33:$AJ$273,26,0),\" \")))","v":700},{"$f":"IF($D$12=0,\" \",IF(B36=$D$12,Simulador_v2!$W$32,+IF(B37>0,VLOOKUP(B37,Simulador_v2!$A$33:$AJ$273,23,0),\" \")))","v":174.79},{"$f":"IF($D$12=0,\" \",IF(B36=$D$12,Simulador_v2!$AJ$32,+IF(B37>0,VLOOKUP(B37,Simulador_v2!$A$33:$AJ$273,36,0),\" \")))","v":23874.868000000006}]
[null,21,{"$f":"IF($D$12=0,\" \",IF(B37=$D$12,\"TOTALES\",+IF(B38>0,VLOOKUP(B38,Simulador_v2!$A$33:$AJ$273,3,0),\" \")))","v":"2024-06-22"},{"$f":"IF($D$12=0,\" \",IF(B37=$D$12,Simulador_v2!$K$32,+IF(B38>0,VLOOKUP(B38,Simulador_v2!$A$33:$AJ$273,11,0),\" \")))","v":5576.345000000003},{"$f":"IF($D$12=0,\" \",IF(B37=$D$12,Simulador_v2!$L$32,+IF(B38>0,VLOOKUP(B38,Simulador_v2!$A$33:$AJ$273,12,0),\" \")))","v":14409.27},{"$f":"IF($D$12=0,\" \",IF(B37=$D$12,Simulador_v2!$M$32,+IF(B38>0,VLOOKUP(B38,Simulador_v2!$A$33:$AJ$273,13,0),\" \")))","v":213.88300000000001},{"$f":"IF($D$12=0,\" \",IF(B37=$D$12,Simulador_v2!$T$32,+IF(B38>0,VLOOKUP(B38,Simulador_v2!$A$33:$AJ$273,20,0),\" \")))","v":2800.58},{"$f":"IF($D$12=0,\" \",IF(B37=$D$12,Simulador_v2!$Z$32,+IF(B38>0,VLOOKUP(B38,Simulador_v2!$A$33:$AJ$273,26,0),\" \")))","v":700},{"$f":"IF($D$12=0,\" \",IF(B37=$D$12,Simulador_v2!$W$32,+IF(B38>0,VLOOKUP(B38,Simulador_v2!$A$33:$AJ$273,23,0),\" \")))","v":174.79},{"$f":"IF($D$12=0,\" \",IF(B37=$D$12,Simulador_v2!$AJ$32,+IF(B38>0,VLOOKUP(B38,Simulador_v2!$A$33:$AJ$273,36,0),\" \")))","v":23874.868000000009}]
[null,22,{"$f":"IF($D$12=0,\" \",IF(B38=$D$12,\"TOTALES\",+IF(B39>0,VLOOKUP(B39,Simulador_v2!$A$33:$AJ$273,3,0),\" \")))","v":"2024-07-22"},{"$f":"IF($D$12=0,\" \",IF(B38=$D$12,Simulador_v2!$K$32,+IF(B39>0,VLOOKUP(B39,Simulador_v2!$A$33:$AJ$273,11,0),\" \")))","v":6237.4950000000044},{"$f":"IF($D$12=0,\" \",IF(B38=$D$12,Simulador_v2!$L$32,+IF(B39>0,VLOOKUP(B39,Simulador_v2!$A$33:$AJ$273,12,0),\" \")))","v":13855.14},{"$f":"IF($D$12=0,\" \",IF(B38=$D$12,Simulador_v2!$M$32,+IF(B39>0,VLOOKUP(B39,Simulador_v2!$A$33:$AJ$273,13,0),\" \")))","v":213.88300000000001},{"$f":"IF($D$12=0,\" \",IF(B38=$D$12,Simulador_v2!$T$32,+IF(B39>0,VLOOKUP(B39,Simulador_v2!$A$33:$AJ$273,20,0),\" \")))","v":2693.56},{"$f":"IF($D$12=0,\" \",IF(B38=$D$12,Simulador_v2!$Z$32,+IF(B39>0,VLOOKUP(B39,Simulador_v2!$A$33:$AJ$273,26,0),\" \")))","v":700},{"$f":"IF($D$12=0,\" \",IF(B38=$D$12,Simulador_v2!$W$32,+IF(B39>0,VLOOKUP(B39,Simulador_v2!$A$33:$AJ$273,23,0),\" \")))","v":174.79},{"$f":"IF($D$12=0,\" \",IF(B38=$D$12,Simulador_v2!$AJ$32,+IF(B39>0,VLOOKUP(B39,Simulador_v2!$A$33:$AJ$273,36,0),\" \")))","v":23874.868000000006}]
[null,23,{"$f":"IF($D$12=0,\" \",IF(B39=$D$12,\"TOTALES\",+IF(B40>0,VLOOKUP(B40,Simulador_v2!$A$33:$AJ$273,3,0),\" \")))","v":"2024-08-22"},{"$f":"IF($D$12=0,\" \",IF(B39=$D$12,Simulador_v2!$K$32,+IF(B40>0,VLOOKUP(B40,Simulador_v2!$A$33:$AJ$273,11,0),\" \")))","v":5800.6450000000041},{"$f":"IF($D$12=0,\" \",IF(B39=$D$12,Simulador_v2!$L$32,+IF(B40>0,VLOOKUP(B40,Simulador_v2!$A$33:$AJ$273,12,0),\" \")))","v":14221.47},{"$f":"IF($D$12=0,\" \",IF(B39=$D$12,Simulador_v2!$M$32,+IF(B40>0,VLOOKUP(B40,Simulador_v2!$A$33:$AJ$273,13,0),\" \")))","v":213.88300000000001},{"$f":"IF($D$12=0,\" \",IF(B39=$D$12,Simulador_v2!$T$32,+IF(B40>0,VLOOKUP(B40,Simulador_v2!$A$33:$AJ$273,20,0),\" \")))","v":2764.08},{"$f":"IF($D$12=0,\" \",IF(B39=$D$12,Simulador_v2!$Z$32,+IF(B40>0,VLOOKUP(B40,Simulador_v2!$A$33:$AJ$273,26,0),\" \")))","v":700},{"$f":"IF($D$12=0,\" \",IF(B39=$D$12,Simulador_v2!$W$32,+IF(B40>0,VLOOKUP(B40,Simulador_v2!$A$33:$AJ$273,23,0),\" \")))","v":174.79},{"$f":"IF($D$12=0,\" \",IF(B39=$D$12,Simulador_v2!$AJ$32,+IF(B40>0,VLOOKUP(B40,Simulador_v2!$A$33:$AJ$273,36,0),\" \")))","v":23874.868000000009}]
[null,24,{"$f":"IF($D$12=0,\" \",IF(B40=$D$12,\"TOTALES\",+IF(B41>0,VLOOKUP(B41,Simulador_v2!$A$33:$AJ$273,3,0),\" \")))","v":"2024-09-22"},{"$f":"IF($D$12=0,\" \",IF(B40=$D$12,Simulador_v2!$K$32,+IF(B41>0,VLOOKUP(B41,Simulador_v2!$A$33:$AJ$273,11,0),\" \")))","v":5910.7850000000035},{"$f":"IF($D$12=0,\" \",IF(B40=$D$12,Simulador_v2!$L$32,+IF(B41>0,VLOOKUP(B41,Simulador_v2!$A$33:$AJ$273,12,0),\" \")))","v":14129.26},{"$f":"IF($D$12=0,\" \",IF(B40=$D$12,Simulador_v2!$M$32,+IF(B41>0,VLOOKUP(B41,Simulador_v2!$A$33:$AJ$273,13,0),\" \")))","v":213.88300000000001},{"$f":"IF($D$12=0,\" \",IF(B40=$D$12,Simulador_v2!$T$32,+IF(B41>0,VLOOKUP(B41,Simulador_v2!$A$33:$AJ$273,20,0),\" \")))","v":2746.15},{"$f":"IF($D$12=0,\" \",IF(B40=$D$12,Simulador_v2!$Z$32,+IF(B41>0,VLOOKUP(B41,Simulador_v2!$A$33:$AJ$273,26,0),\" \")))","v":700},{"$f":"IF($D$12=0,\" \",IF(B40=$D$12,Simulador_v2!$W$32,+IF(B41>0,VLOOKUP(B41,Simulador_v2!$A$33:$AJ$273,23,0),\" \")))","v":174.79},{"$f":"IF($D$12=0,\" \",IF(B40=$D$12,Simulador_v2!$AJ$32,+IF(B41>0,VLOOKUP(B41,Simulador_v2!$A$33:$AJ$273,36,0),\" \")))","v":23874.868000000009}]
[null,25,{"$f":"IF($D$12=0,\" \",IF(B41=$D$12,\"TOTALES\",+IF(B42>0,VLOOKUP(B42,Simulador_v2!$A$33:$AJ$273,3,0),\" \")))","v":"2024-10-22"},{"$f":"IF($D$12=0,\" \",IF(B41=$D$12,Simulador_v2!$K$32,+IF(B42>0,VLOOKUP(B42,Simulador_v2!$A$33:$AJ$273,11,0),\" \")))","v":6567.2150000000038},{"$f":"IF($D$12=0,\" \",IF(B41=$D$12,Simulador_v2!$L$32,+IF(B42>0,VLOOKUP(B42,Simulador_v2!$A$33:$AJ$273,12,0),\" \")))","v":13579.08},{"$f":"IF($D$12=0,\" \",IF(B41=$D$12,Simulador_v2!$M$32,+IF(B42>0,VLOOKUP(B42,Simulador_v2!$A$33:$AJ$273,13,0),\" \")))","v":213.88300000000001},{"$f":"IF($D$12=0,\" \",IF(B41=$D$12,Simulador_v2!$T$32,+IF(B42>0,VLOOKUP(B42,Simulador_v2!$A$33:$AJ$273,20,0),\" \")))","v":2639.9},{"$f":"IF($D$12=0,\" \",IF(B41=$D$12,Simulador_v2!$Z$32,+IF(B42>0,VLOOKUP(B42,Simulador_v2!$A$33:$AJ$273,26,0),\" \")))","v":700},{"$f":"IF($D$12=0,\" \",IF(B41=$D$12,Simulador_v2!$W$32,+IF(B42>0,VLOOKUP(B42,Simulador_v2!$A$33:$AJ$273,23,0),\" \")))","v":174.79},{"$f":"IF($D$12=0,\" \",IF(B41=$D$12,Simulador_v2!$AJ$32,+IF(B42>0,VLOOKUP(B42,Simulador_v2!$A$33:$AJ$273,36,0),\" \")))","v":23874.868000000009}]
[null,26,{"$f":"IF($D$12=0,\" \",IF(B42=$D$12,\"TOTALES\",+IF(B43>0,VLOOKUP(B43,Simulador_v2!$A$33:$AJ$273,3,0),\" \")))","v":"2024-11-22"},{"$f":"IF($D$12=0,\" \",IF(B42=$D$12,Simulador_v2!$K$32,+IF(B43>0,VLOOKUP(B43,Simulador_v2!$A$33:$AJ$273,11,0),\" \")))","v":6147.6950000000033},{"$f":"IF($D$12=0,\" \",IF(B42=$D$12,Simulador_v2!$L$32,+IF(B43>0,VLOOKUP(B43,Simulador_v2!$A$33:$AJ$273,12,0),\" \")))","v":13930.9},{"$f":"IF($D$12=0,\" \",IF(B42=$D$12,Simulador_v2!$M$32,+IF(B43>0,VLOOKUP(B43,Simulador_v2!$A$33:$AJ$273,13,0),\" \")))","v":213.88300000000001},{"$f":"IF($D$12=0,\" \",IF(B42=$D$12,Simulador_v2!$T$32,+IF(B43>0,VLOOKUP(B43,Simulador_v2!$A$33:$AJ$273,20,0),\" \")))","v":2707.6},{"$f":"IF($D$12=0,\" \",IF(B42=$D$12,Simulador_v2!$Z$32,+IF(B43>0,VLOOKUP(B43,Simulador_v2!$A$33:$AJ$273,26,0),\" \")))","v":700},{"$f":"IF($D$12=0,\" \",IF(B42=$D$12,Simulador_v2!$W$32,+IF(B43>0,VLOOKUP(B43,Simulador_v2!$A$33:$AJ$273,23,0),\" \")))","v":174.79},{"$f":"IF($D$12=0,\" \",IF(B42=$D$12,Simulador_v2!$AJ$32,+IF(B43>0,VLOOKUP(B43,Simulador_v2!$A$33:$AJ$273,36,0),\" \")))","v":23874.868000000002}]
[null,27,{"$f":"IF($D$12=0,\" \",IF(B43=$D$12,\"TOTALES\",+IF(B44>0,VLOOKUP(B44,Simulador_v2!$A$33:$AJ$273,3,0),\" \")))","v":"2024-12-22"},{"$f":"IF($D$12=0,\" \",IF(B43=$D$12,Simulador_v2!$K$32,+IF(B44>0,VLOOKUP(B44,Simulador_v2!$A$33:$AJ$273,11,0),\" \")))","v":6800.7850000000026},{"$f":"IF($D$12=0,\" \",IF(B43=$D$12,Simulador_v2!$L$32,+IF(B44>0,VLOOKUP(B44,Simulador_v2!$A$33:$AJ$273,12,0),\" \")))","v":13383.53},{"$f":"IF($D$12=0,\" \",IF(B43=$D$12,Simulador_v2!$M$32,+IF(B44>0,VLOOKUP(B44,Simulador_v2!$A$33:$AJ$273,13,0),\" \")))","v":213.88300000000001},{"$f":"IF($D$12=0,\" \",IF(B43=$D$12,Simulador_v2!$T$32,+IF(B44>0,VLOOKUP(B44,Simulador_v2!$A$33:$AJ$273,20,0),\" \")))","v":2601.88},{"$f":"IF($D$12=0,\" \",IF(B43=$D$12,Simulador_v2!$Z$32,+IF(B44>0,VLOOKUP(B44,Simulador_v2!$A$33:$AJ$273,26,0),\" \")))","v":700},{"$f":"IF($D$12=0,\" \",IF(B43=$D$12,Simulador_v2!$W$32,+IF(B44>0,VLOOKUP(B44,Simulador_v2!$A$33:$AJ$273,23,0),\" \")))","v":174.79},{"$f":"IF($D$12=0,\" \",IF(B43=$D$12,Simulador_v2!$AJ$32,+IF(B44>0,VLOOKUP(B44,Simulador_v2!$A$33:$AJ$273,36,0),\" \")))","v":23874.868000000006}]
[null,28,{"$f":"IF($D$12=0,\" \",IF(B44=$D$12,\"TOTALES\",+IF(B45>0,VLOOKUP(B45,Simulador_v2!$A$33:$AJ$273,3,0),\" \")))","v":"2025-01-22"},{"$f":"IF($D$12=0,\" \",IF(B44=$D$12,Simulador_v2!$K$32,+IF(B45>0,VLOOKUP(B45,Simulador_v2!$A$33:$AJ$273,11,0),\" \")))","v":6393.5450000000037},{"$f":"IF($D$12=0,\" \",IF(B44=$D$12,Simulador_v2!$L$32,+IF(B45>0,VLOOKUP(B45,Simulador_v2!$A$33:$AJ$273,12,0),\" \")))","v":13725.06},{"$f":"IF($D$12=0,\" \",IF(B44=$D$12,Simulador_v2!$M$32,+IF(B45>0,VLOOKUP(B45,Simulador_v2!$A$33:$AJ$273,13,0),\" \")))","v":213.88300000000001},{"$f":"IF($D$12=0,\" \",IF(B44=$D$12,Simulador_v2!$T$32,+IF(B45>0,VLOOKUP(B45,Simulador_v2!$A$33:$AJ$273,20,0),\" \")))","v":2667.59},{"$f":"IF($D$12=0,\" \",IF(B44=$D$12,Simulador_v2!$Z$32,+IF(B45>0,VLOOKUP(B45,Simulador_v2!$A$33:$AJ$273,26,0),\" \")))","v":700},{"$f":"IF($D$12=0,\" \",IF(B44=$D$12,Simulador_v2!$W$32,+IF(B45>0,VLOOKUP(B45,Simulador_v2!$A$33:$AJ$273,23,0),\" \")))","v":174.79},{"$f":"IF($D$12=0,\" \",IF(B44=$D$12,Simulador_v2!$AJ$32,+IF(B45>0,VLOOKUP(B45,Simulador_v2!$A$33:$AJ$273,36,0),\" \")))","v":23874.868000000006}]
[null,29,{"$f":"IF($D$12=0,\" \",IF(B45=$D$12,\"TOTALES\",+IF(B46>0,VLOOKUP(B46,Simulador_v2!$A$33:$AJ$273,3,0),\" \")))","v":"2025-02-22"},{"$f":"IF($D$12=0,\" \",IF(B45=$D$12,Simulador_v2!$K$32,+IF(B46>0,VLOOKUP(B46,Simulador_v2!$A$33:$AJ$273,11,0),\" \")))","v":6514.9250000000029},{"$f":"IF($D$12=0,\" \",IF(B45=$D$12,Simulador_v2!$L$32,+IF(B46>0,VLOOKUP(B46,Simulador_v2!$A$33:$AJ$273,12,0),\" \")))","v":13623.43},{"$f":"IF($D$12=0,\" \",IF(B45=$D$12,Simulador_v2!$M$32,+IF(B46>0,VLOOKUP(B46,Simulador_v2!$A$33:$AJ$273,13,0),\" \")))","v":213.88300000000001},{"$f":"IF($D$12=0,\" \",IF(B45=$D$12,Simulador_v2!$T$32,+IF(B46>0,VLOOKUP(B46,Simulador_v2!$A$33:$AJ$273,20,0),\" \")))","v":2647.84},{"$f":"IF($D$12=0,\" \",IF(B45=$D$12,Simulador_v2!$Z$32,+IF(B46>0,VLOOKUP(B46,Simulador_v2!$A$33:$AJ$273,26,0),\" \")))","v":700},{"$f":"IF($D$12=0,\" \",IF(B45=$D$12,Simulador_v2!$W$32,+IF(B46>0,VLOOKUP(B46,Simulador_v2!$A$33:$AJ$273,23,0),\" \")))","v":174.79},{"$f":"IF($D$12=0,\" \",IF(B45=$D$12,Simulador_v2!$AJ$32,+IF(B46>0,VLOOKUP(B46,Simulador_v2!$A$33:$AJ$273,36,0),\" \")))","v":23874.868000000006}]
[null,30,{"$f":"IF($D$12=0,\" \",IF(B46=$D$12,\"TOTALES\",+IF(B47>0,VLOOKUP(B47,Simulador_v2!$A$33:$AJ$273,3,0),\" \")))","v":"2025-03-22"},{"$f":"IF($D$12=0,\" \",IF(B46=$D$12,Simulador_v2!$K$32,+IF(B47>0,VLOOKUP(B47,Simulador_v2!$A$33:$AJ$273,11,0),\" \")))","v":8210.6250000000036},{"$f":"IF($D$12=0,\" \",IF(B46=$D$12,Simulador_v2!$L$32,+IF(B47>0,VLOOKUP(B47,Simulador_v2!$A$33:$AJ$273,12,0),\" \")))","v":12202.15},{"$f":"IF($D$12=0,\" \",IF(B46=$D$12,Simulador_v2!$M$32,+IF(B47>0,VLOOKUP(B47,Simulador_v2!$A$33:$AJ$273,13,0),\" \")))","v":213.88300000000001},{"$f":"IF($D$12=0,\" \",IF(B46=$D$12,Simulador_v2!$T$32,+IF(B47>0,VLOOKUP(B47,Simulador_v2!$A$33:$AJ$273,20,0),\" \")))","v":2373.42},{"$f":"IF($D$12=0,\" \",IF(B46=$D$12,Simulador_v2!$Z$32,+IF(B47>0,VLOOKUP(B47,Simulador_v2!$A$33:$AJ$273,26,0),\" \")))","v":700},{"$f":"IF($D$12=0,\" \",IF(B46=$D$12,Simulador_v2!$W$32,+IF(B47>0,VLOOKUP(B47,Simulador_v2!$A$33:$AJ$273,23,0),\" \")))","v":174.79},{"$f":"IF($D$12=0,\" \",IF(B46=$D$12,Simulador_v2!$AJ$32,+IF(B47>0,VLOOKUP(B47,Simulador_v2!$A$33:$AJ$273,36,0),\" \")))","v":23874.868000000002}]
[null,31,{"$f":"IF($D$12=0,\" \",IF(B47=$D$12,\"TOTALES\",+IF(B48>0,VLOOKUP(B48,Simulador_v2!$A$33:$AJ$273,3,0),\" \")))","v":"2025-04-22"},{"$f":"IF($D$12=0,\" \",IF(B47=$D$12,Simulador_v2!$K$32,+IF(B48>0,VLOOKUP(B48,Simulador_v2!$A$33:$AJ$273,11,0),\" \")))","v":6794.5150000000031},{"$f":"IF($D$12=0,\" \",IF(B47=$D$12,Simulador_v2!$L$32,+IF(B48>0,VLOOKUP(B48,Simulador_v2!$A$33:$AJ$273,12,0),\" \")))","v":13389.34},{"$f":"IF($D$12=0,\" \",IF(B47=$D$12,Simulador_v2!$M$32,+IF(B48>0,VLOOKUP(B48,Simulador_v2!$A$33:$AJ$273,13,0),\" \")))","v":213.88300000000001},{"$f":"IF($D$12=0,\" \",IF(B47=$D$12,Simulador_v2!$T$32,+IF(B48>0,VLOOKUP(B48,Simulador_v2!$A$33:$AJ$273,20,0),\" \")))","v":2602.34},{"$f":"IF($D$12=0,\" \",IF(B47=$D$12,Simulador_v2!$Z$32,+IF(B48>0,VLOOKUP(B48,Simulador_v2!$A$33:$AJ$273,26,0),\" \")))","v":700},{"$f":"IF($D$12=0,\" \",IF(B47=$D$12,Simulador_v2!$W$32,+IF(B48>0,VLOOKUP(B48,Simulador_v2!$A$33:$AJ$273,23,0),\" \")))","v":174.79},{"$f":"IF($D$12=0,\" \",IF(B47=$D$12,Simulador_v2!$AJ$32,+IF(B48>0,VLOOKUP(B48,Simulador_v2!$A$33:$AJ$273,36,0),\" \")))","v":23874.868000000006}]
[null,32,{"$f":"IF($D$12=0,\" \",IF(B48=$D$12,\"TOTALES\",+IF(B49>0,VLOOKUP(B49,Simulador_v2!$A$33:$AJ$273,3,0),\" \")))","v":"2025-05-22"},{"$f":"IF($D$12=0,\" \",IF(B48=$D$12,Simulador_v2!$K$32,+IF(B49>0,VLOOKUP(B49,Simulador_v2!$A$33:$AJ$273,11,0),\" \")))","v":7438.4950000000026},{"$f":"IF($D$12=0,\" \",IF(B48=$D$12,Simulador_v2!$L$32,+IF(B49>0,VLOOKUP(B49,Simulador_v2!$A$33:$AJ$273,12,0),\" \")))","v":12849.62},{"$f":"IF($D$12=0,\" \",IF(B48=$D$12,Simulador_v2!$M$32,+IF(B49>0,VLOOKUP(B49,Simulador_v2!$A$33:$AJ$273,13,0),\" \")))","v":213.88300000000001},{"$f":"IF($D$12=0,\" \",IF(B48=$D$12,Simulador_v2!$T$32,+IF(B49>0,VLOOKUP(B49,Simulador_v2!$A$33:$AJ$273,20,0),\" \")))","v":2498.08},{"$f":"IF($D$12=0,\" \",IF(B48=$D$12,Simulador_v2!$Z$32,+IF(B49>0,VLOOKUP(B49,Simulador_v2!$A$33:$AJ$273,26,0),\" \")))","v":700},{"$f":"IF($D$12=0,\" \",IF(B48=$D$12,Simulador_v2!$W$32,+IF(B49>0,VLOOKUP(B49,Simulador_v2!$A$33:$AJ$273,23,0),\" \")))","v":174.79},{"$f":"IF($D$12=0,\" \",IF(B48=$D$12,Simulador_v2!$AJ$32,+IF(B49>0,VLOOKUP(B49,Simulador_v2!$A$33:$AJ$273,36,0),\" \")))","v":23874.868000000009}]
[null,33,{"$f":"IF($D$12=0,\" \",IF(B49=$D$12,\"TOTALES\",+IF(B50>0,VLOOKUP(B50,Simulador_v2!$A$33:$AJ$273,3,0),\" \")))","v":"2025-06-22"},{"$f":"IF($D$12=0,\" \",IF(B49=$D$12,Simulador_v2!$K$32,+IF(B50>0,VLOOKUP(B50,Simulador_v2!$A$33:$AJ$273,11,0),\" \")))","v":7064.7450000000035},{"$f":"IF($D$12=0,\" \",IF(B49=$D$12,Simulador_v2!$L$32,+IF(B50>0,VLOOKUP(B50,Simulador_v2!$A$33:$AJ$273,12,0),\" \")))","v":13163.08},{"$f":"IF($D$12=0,\" \",IF(B49=$D$12,Simulador_v2!$M$32,+IF(B50>0,VLOOKUP(B50,Simulador_v2!$A$33:$AJ$273,13,0),\" \")))","v":213.88300000000001},{"$f":"IF($D$12=0,\" \",IF(B49=$D$12,Simulador_v2!$T$32,+IF(B50>0,VLOOKUP(B50,Simulador_v2!$A$33:$AJ$273,20,0),\" \")))","v":2558.37},{"$f":"IF($D$12=0,\" \",IF(B49=$D$12,Simulador_v2!$Z$32,+IF(B50>0,VLOOKUP(B50,Simulador_v2!$A$33:$AJ$273,26,0),\" \")))","v":700},{"$f":"IF($D$12=0,\" \",IF(B49=$D$12,Simulador_v2!$W$32,+IF(B50>0,VLOOKUP(B50,Simulador_v2!$A$33:$AJ$273,23,0),\" \")))","v":174.79},{"$f":"IF($D$12=0,\" \",IF(B49=$D$12,Simulador_v2!$AJ$32,+IF(B50>0,VLOOKUP(B50,Simulador_v2!$A$33:$AJ$273,36,0),\" \")))","v":23874.868000000006}]
[null,{"$f":"IF(B50=0,\" \",IF(B50>=$D$12,\"\",B50+1))","v":34},{"$f":"IF($D$12=0,\" \",IF(B50=$D$12,\"TOTALES\",+IF(B51>0,VLOOKUP(B51,Simulador_v2!$A$33:$AJ$273,3,0),\" \")))","v":"2025-07-22"},{"$f":"IF($D$12=0,\" \",IF(B50=$D$12,Simulador_v2!$K$32,+IF(B51>0,VLOOKUP(B51,Simulador_v2!$A$33:$AJ$273,11,0),\" \")))","v":7704.9150000000045},{"$f":"IF($D$12=0,\" \",IF(B50=$D$12,Simulador_v2!$L$32,+IF(B51>0,VLOOKUP(B51,Simulador_v2!$A$33:$AJ$273,12,0),\" \")))","v":12626.56},{"$f":"IF($D$12=0,\" \",IF(B50=$D$12,Simulador_v2!$M$32,+IF(B51>0,VLOOKUP(B51,Simulador_v2!$A$33:$AJ$273,13,0),\" \")))","v":213.88300000000001},{"$f":"IF($D$12=0,\" \",IF(B50=$D$12,Simulador_v2!$T$32,+IF(B51>0,VLOOKUP(B51,Simulador_v2!$A$33:$AJ$273,20,0),\" \")))","v":2454.7199999999998},{"$f":"IF($D$12=0,\" \",IF(B50=$D$12,Simulador_v2!$Z$32,+IF(B51>0,VLOOKUP(B51,Simulador_v2!$A$33:$AJ$273,26,0),\" \")))","v":700},{"$f":"IF($D$12=0,\" \",IF(B50=$D$12,Simulador_v2!$W$32,+IF(B51>0,VLOOKUP(B51,Simulador_v2!$A$33:$AJ$273,23,0),\" \")))","v":174.79},{"$f":"IF($D$12=0,\" \",IF(B50=$D$12,Simulador_v2!$AJ$32,+IF(B51>0,VLOOKUP(B51,Simulador_v2!$A$33:$AJ$273,36,0),\" \")))","v":23874.868000000009}]
[null,35,{"$f":"IF($D$12=0,\" \",IF(B51=$D$12,\"TOTALES\",+IF(B52>0,VLOOKUP(B52,Simulador_v2!$A$33:$AJ$273,3,0),\" \")))","v":"2025-08-22"},{"$f":"IF($D$12=0,\" \",IF(B51=$D$12,Simulador_v2!$K$32,+IF(B52>0,VLOOKUP(B52,Simulador_v2!$A$33:$AJ$273,11,0),\" \")))","v":7345.1650000000027},{"$f":"IF($D$12=0,\" \",IF(B51=$D$12,Simulador_v2!$L$32,+IF(B52>0,VLOOKUP(B52,Simulador_v2!$A$33:$AJ$273,12,0),\" \")))","v":12928.29},{"$f":"IF($D$12=0,\" \",IF(B51=$D$12,Simulador_v2!$M$32,+IF(B52>0,VLOOKUP(B52,Simulador_v2!$A$33:$AJ$273,13,0),\" \")))","v":213.88300000000001},{"$f":"IF($D$12=0,\" \",IF(B51=$D$12,Simulador_v2!$T$32,+IF(B52>0,VLOOKUP(B52,Simulador_v2!$A$33:$AJ$273,20,0),\" \")))","v":2512.7399999999998},{"$f":"IF($D$12=0,\" \",IF(B51=$D$12,Simulador_v2!$Z$32,+IF(B52>0,VLOOKUP(B52,Simulador_v2!$A$33:$AJ$273,26,0),\" \")))","v":700},{"$f":"IF($D$12=0,\" \",IF(B51=$D$12,Simulador_v2!$W$32,+IF(B52>0,VLOOKUP(B52,Simulador_v2!$A$33:$AJ$273,23,0),\" \")))","v":174.79},{"$f":"IF($D$12=0,\" \",IF(B51=$D$12,Simulador_v2!$AJ$32,+IF(B52>0,VLOOKUP(B52,Simulador_v2!$A$33:$AJ$273,36,0),\" \")))","v":23874.868000000002}]
[null,36,{"$f":"IF($D$12=0,\" \",IF(B52=$D$12,\"TOTALES\",+IF(B53>0,VLOOKUP(B53,Simulador_v2!$A$33:$AJ$273,3,0),\" \")))","v":"2025-09-22"},{"$f":"IF($D$12=0,\" \",IF(B52=$D$12,Simulador_v2!$K$32,+IF(B53>0,VLOOKUP(B53,Simulador_v2!$A$33:$AJ$273,11,0),\" \")))","v":7484.6250000000027},{"$f":"IF($D$12=0,\" \",IF(B52=$D$12,Simulador_v2!$L$32,+IF(B53>0,VLOOKUP(B53,Simulador_v2!$A$33:$AJ$273,12,0),\" \")))","v":12811.53},{"$f":"IF($D$12=0,\" \",IF(B52=$D$12,Simulador_v2!$M$32,+IF(B53>0,VLOOKUP(B53,Simulador_v2!$A$33:$AJ$273,13,0),\" \")))","v":213.88300000000001},{"$f":"IF($D$12=0,\" \",IF(B52=$D$12,Simulador_v2!$T$32,+IF(B53>0,VLOOKUP(B53,Simulador_v2!$A$33:$AJ$273,20,0),\" \")))","v":2490.04},{"$f":"IF($D$12=0,\" \",IF(B52=$D$12,Simulador_v2!$Z$32,+IF(B53>0,VLOOKUP(B53,Simulador_v2!$A$33:$AJ$273,26,0),\" \")))","v":700},{"$f":"IF($D$12=0,\" \",IF(B52=$D$12,Simulador_v2!$W$32,+IF(B53>0,VLOOKUP(B53,Simulador_v2!$A$33:$AJ$273,23,0),\" \")))","v":174.79},{"$f":"IF($D$12=0,\" \",IF(B52=$D$12,Simulador_v2!$AJ$32,+IF(B53>0,VLOOKUP(B53,Simulador_v2!$A$33:$AJ$273,36,0),\" \")))","v":23874.868000000006}]
[null,37,{"$f":"IF($D$12=0,\" \",IF(B53=$D$12,\"TOTALES\",+IF(B54>0,VLOOKUP(B54,Simulador_v2!$A$33:$AJ$273,3,0),\" \")))","v":"2025-10-22"},{"$f":"IF($D$12=0,\" \",IF(B53=$D$12,Simulador_v2!$K$32,+IF(B54>0,VLOOKUP(B54,Simulador_v2!$A$33:$AJ$273,11,0),\" \")))","v":8118.8750000000036},{"$f":"IF($D$12=0,\" \",IF(B53=$D$12,Simulador_v2!$L$32,+IF(B54>0,VLOOKUP(B54,Simulador_v2!$A$33:$AJ$273,12,0),\" \")))","v":12279.98},{"$f":"IF($D$12=0,\" \",IF(B53=$D$12,Simulador_v2!$M$32,+IF(B54>0,VLOOKUP(B54,Simulador_v2!$A$33:$AJ$273,13,0),\" \")))","v":213.88300000000001},{"$f":"IF($D$12=0,\" \",IF(B53=$D$12,Simulador_v2!$T$32,+IF(B54>0,VLOOKUP(B54,Simulador_v2!$A$33:$AJ$273,20,0),\" \")))","v":2387.34},{"$f":"IF($D$12=0,\" \",IF(B53=$D$12,Simulador_v2!$Z$32,+IF(B54>0,VLOOKUP(B54,Simulador_v2!$A$33:$AJ$273,26,0),\" \")))","v":700},{"$f":"IF($D$12=0,\" \",IF(B53=$D$12,Simulador_v2!$W$32,+IF(B54>0,VLOOKUP(B54,Simulador_v2!$A$33:$AJ$273,23,0),\" \")))","v":174.79},{"$f":"IF($D$12=0,\" \",IF(B53=$D$12,Simulador_v2!$AJ$32,+IF(B54>0,VLOOKUP(B54,Simulador_v2!$A$33:$AJ$273,36,0),\" \")))","v":23874.868000000006}]
[null,38,{"$f":"IF($D$12=0,\" \",IF(B54=$D$12,\"TOTALES\",+IF(B55>0,VLOOKUP(B55,Simulador_v2!$A$33:$AJ$273,3,0),\" \")))","v":"2025-11-22"},{"$f":"IF($D$12=0,\" \",IF(B54=$D$12,Simulador_v2!$K$32,+IF(B55>0,VLOOKUP(B55,Simulador_v2!$A$33:$AJ$273,11,0),\" \")))","v":7780.8750000000036},{"$f":"IF($D$12=0,\" \",IF(B54=$D$12,Simulador_v2!$L$32,+IF(B55>0,VLOOKUP(B55,Simulador_v2!$A$33:$AJ$273,12,0),\" \")))","v":12563.49},{"$f":"IF($D$12=0,\" \",IF(B54=$D$12,Simulador_v2!$M$32,+IF(B55>0,VLOOKUP(B55,Simulador_v2!$A$33:$AJ$273,13,0),\" \")))","v":213.88300000000001},{"$f":"IF($D$12=0,\" \",IF(B54=$D$12,Simulador_v2!$T$32,+IF(B55>0,VLOOKUP(B55,Simulador_v2!$A$33:$AJ$273,20,0),\" \")))","v":2441.83},{"$f":"IF($D$12=0,\" \",IF(B54=$D$12,Simulador_v2!$Z$32,+IF(B55>0,VLOOKUP(B55,Simulador_v2!$A$33:$AJ$273,26,0),\" \")))","v":700},{"$f":"IF($D$12=0,\" \",IF(B54=$D$12,Simulador_v2!$W$32,+IF(B55>0,VLOOKUP(B55,Simulador_v2!$A$33:$AJ$273,23,0),\" \")))","v":174.79},{"$f":"IF($D$12=0,\" \",IF(B54=$D$12,Simulador_v2!$AJ$32,+IF(B55>0,VLOOKUP(B55,Simulador_v2!$A$33:$AJ$273,36,0),\" \")))","v":23874.868000000009}]
[null,39,{"$f":"IF($D$12=0,\" \",IF(B55=$D$12,\"TOTALES\",+IF(B56>0,VLOOKUP(B56,Simulador_v2!$A$33:$AJ$273,3,0),\" \")))","v":"2025-12-22"},{"$f":"IF($D$12=0,\" \",IF(B55=$D$12,Simulador_v2!$K$32,+IF(B56>0,VLOOKUP(B56,Simulador_v2!$A$33:$AJ$273,11,0),\" \")))","v":8410.9550000000017},{"$f":"IF($D$12=0,\" \",IF(B55=$D$12,Simulador_v2!$L$32,+IF(B56>0,VLOOKUP(B56,Simulador_v2!$A$33:$AJ$273,12,0),\" \")))","v":12035.44},{"$f":"IF($D$12=0,\" \",IF(B55=$D$12,Simulador_v2!$M$32,+IF(B56>0,VLOOKUP(B56,Simulador_v2!$A$33:$AJ$273,13,0),\" \")))","v":213.88300000000001},{"$f":"IF($D$12=0,\" \",IF(B55=$D$12,Simulador_v2!$T$32,+IF(B56>0,VLOOKUP(B56,Simulador_v2!$A$33:$AJ$273,20,0),\" \")))","v":2339.8000000000002},{"$f":"IF($D$12=0,\" \",IF(B55=$D$12,Simulador_v2!$Z$32,+IF(B56>0,VLOOKUP(B56,Simulador_v2!$A$33:$AJ$273,26,0),\" \")))","v":700},{"$f":"IF($D$12=0,\" \",IF(B55=$D$12,Simulador_v2!$W$32,+IF(B56>0,VLOOKUP(B56,Simulador_v2!$A$33:$AJ$273,23,0),\" \")))","v":174.79},{"$f":"IF($D$12=0,\" \",IF(B55=$D$12,Simulador_v2!$AJ$32,+IF(B56>0,VLOOKUP(B56,Simulador_v2!$A$33:$AJ$273,36,0),\" \")))","v":23874.868000000006}]
[null,40,{"$f":"IF($D$12=0,\" \",IF(B56=$D$12,\"TOTALES\",+IF(B57>0,VLOOKUP(B57,Simulador_v2!$A$33:$AJ$273,3,0),\" \")))","v":"2026-01-22"},{"$f":"IF($D$12=0,\" \",IF(B56=$D$12,Simulador_v2!$K$32,+IF(B57>0,VLOOKUP(B57,Simulador_v2!$A$33:$AJ$273,11,0),\" \")))","v":8088.305000000003},{"$f":"IF($D$12=0,\" \",IF(B56=$D$12,Simulador_v2!$L$32,+IF(B57>0,VLOOKUP(B57,Simulador_v2!$A$33:$AJ$273,12,0),\" \")))","v":12306.09},{"$f":"IF($D$12=0,\" \",IF(B56=$D$12,Simulador_v2!$M$32,+IF(B57>0,VLOOKUP(B57,Simulador_v2!$A$33:$AJ$273,13,0),\" \")))","v":213.88300000000001},{"$f":"IF($D$12=0,\" \",IF(B56=$D$12,Simulador_v2!$T$32,+IF(B57>0,VLOOKUP(B57,Simulador_v2!$A$33:$AJ$273,20,0),\" \")))","v":2391.8000000000002},{"$f":"IF($D$12=0,\" \",IF(B56=$D$12,Simulador_v2!$Z$32,+IF(B57>0,VLOOKUP(B57,Simulador_v2!$A$33:$AJ$273,26,0),\" \")))","v":700},{"$f":"IF($D$12=0,\" \",IF(B56=$D$12,Simulador_v2!$W$32,+IF(B57>0,VLOOKUP(B57,Simulador_v2!$A$33:$AJ$273,23,0),\" \")))","v":174.79},{"$f":"IF($D$12=0,\" \",IF(B56=$D$12,Simulador_v2!$AJ$32,+IF(B57>0,VLOOKUP(B57,Simulador_v2!$A$33:$AJ$273,36,0),\" \")))","v":23874.868000000006}]
[null,41,{"$f":"IF($D$12=0,\" \",IF(B57=$D$12,\"TOTALES\",+IF(B58>0,VLOOKUP(B58,Simulador_v2!$A$33:$AJ$273,3,0),\" \")))","v":"2026-02-22"},{"$f":"IF($D$12=0,\" \",IF(B57=$D$12,Simulador_v2!$K$32,+IF(B58>0,VLOOKUP(B58,Simulador_v2!$A$33:$AJ$273,11,0),\" \")))","v":8241.8750000000036},{"$f":"IF($D$12=0,\" \",IF(B57=$D$12,Simulador_v2!$L$32,+IF(B58>0,VLOOKUP(B58,Simulador_v2!$A$33:$AJ$273,12,0),\" \")))","v":12177.51},{"$f":"IF($D$12=0,\" \",IF(B57=$D$12,Simulador_v2!$M$32,+IF(B58>0,VLOOKUP(B58,Simulador_v2!$A$33:$AJ$273,13,0),\" \")))","v":213.88300000000001},{"$f":"IF($D$12=0,\" \",IF(B57=$D$12,Simulador_v2!$T$32,+IF(B58>0,VLOOKUP(B58,Simulador_v2!$A$33:$AJ$273,20,0),\" \")))","v":2366.81},{"$f":"IF($D$12=0,\" \",IF(B57=$D$12,Simulador_v2!$Z$32,+IF(B58>0,VLOOKUP(B58,Simulador_v2!$A$33:$AJ$273,26,0),\" \")))","v":700},{"$f":"IF($D$12=0,\" \",IF(B57=$D$12,Simulador_v2!$W$32,+IF(B58>0,VLOOKUP(B58,Simulador_v2!$A$33:$AJ$273,23,0),\" \")))","v":174.79},{"$f":"IF($D$12=0,\" \",IF(B57=$D$12,Simulador_v2!$AJ$32,+IF(B58>0,VLOOKUP(B58,Simulador_v2!$A$33:$AJ$273,36,0),\" \")))","v":23874.868000000006}]
[null,42,{"$f":"IF($D$12=0,\" \",IF(B58=$D$12,\"TOTALES\",+IF(B59>0,VLOOKUP(B59,Simulador_v2!$A$33:$AJ$273,3,0),\" \")))","v":"2026-03-22"},{"$f":"IF($D$12=0,\" \",IF(B58=$D$12,Simulador_v2!$K$32,+IF(B59>0,VLOOKUP(B59,Simulador_v2!$A$33:$AJ$273,11,0),\" \")))","v":9799.0350000000035},{"$f":"IF($D$12=0,\" \",IF(B58=$D$12,Simulador_v2!$L$32,+IF(B59>0,VLOOKUP(B59,Simulador_v2!$A$33:$AJ$273,12,0),\" \")))","v":10872.39},{"$f":"IF($D$12=0,\" \",IF(B58=$D$12,Simulador_v2!$M$32,+IF(B59>0,VLOOKUP(B59,Simulador_v2!$A$33:$AJ$273,13,0),\" \")))","v":213.88300000000001},{"$f":"IF($D$12=0,\" \",IF(B58=$D$12,Simulador_v2!$T$32,+IF(B59>0,VLOOKUP(B59,Simulador_v2!$A$33:$AJ$273,20,0),\" \")))","v":2114.77},{"$f":"IF($D$12=0,\" \",IF(B58=$D$12,Simulador_v2!$Z$32,+IF(B59>0,VLOOKUP(B59,Simulador_v2!$A$33:$AJ$273,26,0),\" \")))","v":700},{"$f":"IF($D$12=0,\" \",IF(B58=$D$12,Simulador_v2!$W$32,+IF(B59>0,VLOOKUP(B59,Simulador_v2!$A$33:$AJ$273,23,0),\" \")))","v":174.79},{"$f":"IF($D$12=0,\" \",IF(B58=$D$12,Simulador_v2!$AJ$32,+IF(B59>0,VLOOKUP(B59,Simulador_v2!$A$33:$AJ$273,36,0),\" \")))","v":23874.868000000006}]
[null,43,{"$f":"IF($D$12=0,\" \",IF(B59=$D$12,\"TOTALES\",+IF(B60>0,VLOOKUP(B60,Simulador_v2!$A$33:$AJ$273,3,0),\" \")))","v":"2026-04-22"},{"$f":"IF($D$12=0,\" \",IF(B59=$D$12,Simulador_v2!$K$32,+IF(B60>0,VLOOKUP(B60,Simulador_v2!$A$33:$AJ$273,11,0),\" \")))","v":8584.4050000000043},{"$f":"IF($D$12=0,\" \",IF(B59=$D$12,Simulador_v2!$L$32,+IF(B60>0,VLOOKUP(B60,Simulador_v2!$A$33:$AJ$273,12,0),\" \")))","v":11890.72},{"$f":"IF($D$12=0,\" \",IF(B59=$D$12,Simulador_v2!$M$32,+IF(B60>0,VLOOKUP(B60,Simulador_v2!$A$33:$AJ$273,13,0),\" \")))","v":213.88300000000001},{"$f":"IF($D$12=0,\" \",IF(B59=$D$12,Simulador_v2!$T$32,+IF(B60>0,VLOOKUP(B60,Simulador_v2!$A$33:$AJ$273,20,0),\" \")))","v":2311.0700000000002},{"$f":"IF($D$12=0,\" \",IF(B59=$D$12,Simulador_v2!$Z$32,+IF(B60>0,VLOOKUP(B60,Simulador_v2!$A$33:$AJ$273,26,0),\" \")))","v":700},{"$f":"IF($D$12=0,\" \",IF(B59=$D$12,Simulador_v2!$W$32,+IF(B60>0,VLOOKUP(B60,Simulador_v2!$A$33:$AJ$273,23,0),\" \")))","v":174.79},{"$f":"IF($D$12=0,\" \",IF(B59=$D$12,Simulador_v2!$AJ$32,+IF(B60>0,VLOOKUP(B60,Simulador_v2!$A$33:$AJ$273,36,0),\" \")))","v":23874.868000000006}]
[null,44,{"$f":"IF($D$12=0,\" \",IF(B60=$D$12,\"TOTALES\",+IF(B61>0,VLOOKUP(B61,Simulador_v2!$A$33:$AJ$273,3,0),\" \")))","v":"2026-05-22"},{"$f":"IF($D$12=0,\" \",IF(B60=$D$12,Simulador_v2!$K$32,+IF(B61>0,VLOOKUP(B61,Simulador_v2!$A$33:$AJ$273,11,0),\" \")))","v":9203.1450000000023},{"$f":"IF($D$12=0,\" \",IF(B60=$D$12,Simulador_v2!$L$32,+IF(B61>0,VLOOKUP(B61,Simulador_v2!$A$33:$AJ$273,12,0),\" \")))","v":11372.19},{"$f":"IF($D$12=0,\" \",IF(B60=$D$12,Simulador_v2!$M$32,+IF(B61>0,VLOOKUP(B61,Simulador_v2!$A$33:$AJ$273,13,0),\" \")))","v":213.88300000000001},{"$f":"IF($D$12=0,\" \",IF(B60=$D$12,Simulador_v2!$T$32,+IF(B61>0,VLOOKUP(B61,Simulador_v2!$A$33:$AJ$273,20,0),\" \")))","v":2210.86},{"$f":"IF($D$12=0,\" \",IF(B60=$D$12,Simulador_v2!$Z$32,+IF(B61>0,VLOOKUP(B61,Simulador_v2!$A$33:$AJ$273,26,0),\" \")))","v":700},{"$f":"IF($D$12=0,\" \",IF(B60=$D$12,Simulador_v2!$W$32,+IF(B61>0,VLOOKUP(B61,Simulador_v2!$A$33:$AJ$273,23,0),\" \")))","v":174.79},{"$f":"IF($D$12=0,\" \",IF(B60=$D$12,Simulador_v2!$AJ$32,+IF(B61>0,VLOOKUP(B61,Simulador_v2!$A$33:$AJ$273,36,0),\" \")))","v":23874.868000000006}]
[null,45,{"$f":"IF($D$12=0,\" \",IF(B61=$D$12,\"TOTALES\",+IF(B62>0,VLOOKUP(B62,Simulador_v2!$A$33:$AJ$273,3,0),\" \")))","v":"2026-06-22"},{"$f":"IF($D$12=0,\" \",IF(B61=$D$12,Simulador_v2!$K$32,+IF(B62>0,VLOOKUP(B62,Simulador_v2!$A$33:$AJ$273,11,0),\" \")))","v":8922.1150000000052},{"$f":"IF($D$12=0,\" \",IF(B61=$D$12,Simulador_v2!$L$32,+IF(B62>0,VLOOKUP(B62,Simulador_v2!$A$33:$AJ$273,12,0),\" \")))","v":11607.96},{"$f":"IF($D$12=0,\" \",IF(B61=$D$12,Simulador_v2!$M$32,+IF(B62>0,VLOOKUP(B62,Simulador_v2!$A$33:$AJ$273,13,0),\" \")))","v":213.88300000000001},{"$f":"IF($D$12=0,\" \",IF(B61=$D$12,Simulador_v2!$T$32,+IF(B62>0,VLOOKUP(B62,Simulador_v2!$A$33:$AJ$273,20,0),\" \")))","v":2256.12},{"$f":"IF($D$12=0,\" \",IF(B61=$D$12,Simulador_v2!$Z$32,+IF(B62>0,VLOOKUP(B62,Simulador_v2!$A$33:$AJ$273,26,0),\" \")))","v":700},{"$f":"IF($D$12=0,\" \",IF(B61=$D$12,Simulador_v2!$W$32,+IF(B62>0,VLOOKUP(B62,Simulador_v2!$A$33:$AJ$273,23,0),\" \")))","v":174.79},{"$f":"IF($D$12=0,\" \",IF(B61=$D$12,Simulador_v2!$AJ$32,+IF(B62>0,VLOOKUP(B62,Simulador_v2!$A$33:$AJ$273,36,0),\" \")))","v":23874.868000000006}]
[null,46,{"$f":"IF($D$12=0,\" \",IF(B62=$D$12,\"TOTALES\",+IF(B63>0,VLOOKUP(B63,Simulador_v2!$A$33:$AJ$273,3,0),\" \")))","v":"2026-07-22"},{"$f":"IF($D$12=0,\" \",IF(B62=$D$12,Simulador_v2!$K$32,+IF(B63>0,VLOOKUP(B63,Simulador_v2!$A$33:$AJ$273,11,0),\" \")))","v":9536.1050000000032},{"$f":"IF($D$12=0,\" \",IF(B62=$D$12,Simulador_v2!$L$32,+IF(B63>0,VLOOKUP(B63,Simulador_v2!$A$33:$AJ$273,12,0),\" \")))","v":11093.43},{"$f":"IF($D$12=0,\" \",IF(B62=$D$12,Simulador_v2!$M$32,+IF(B63>0,VLOOKUP(B63,Simulador_v2!$A$33:$AJ$273,13,0),\" \")))","v":213.88300000000001},{"$f":"IF($D$12=0,\" \",IF(B62=$D$12,Simulador_v2!$T$32,+IF(B63>0,VLOOKUP(B63,Simulador_v2!$A$33:$AJ$273,20,0),\" \")))","v":2156.66},{"$f":"IF($D$12=0,\" \",IF(B62=$D$12,Simulador_v2!$Z$32,+IF(B63>0,VLOOKUP(B63,Simulador_v2!$A$33:$AJ$273,26,0),\" \")))","v":700},{"$f":"IF($D$12=0,\" \",IF(B62=$D$12,Simulador_v2!$W$32,+IF(B63>0,VLOOKUP(B63,Simulador_v2!$A$33:$AJ$273,23,0),\" \")))","v":174.79},{"$f":"IF($D$12=0,\" \",IF(B62=$D$12,Simulador_v2!$AJ$32,+IF(B63>0,VLOOKUP(B63,Simulador_v2!$A$33:$AJ$273,36,0),\" \")))","v":23874.868000000006}]
[null,47,{"$f":"IF($D$12=0,\" \",IF(B63=$D$12,\"TOTALES\",+IF(B64>0,VLOOKUP(B64,Simulador_v2!$A$33:$AJ$273,3,0),\" \")))","v":"2026-08-22"},{"$f":"IF($D$12=0,\" \",IF(B63=$D$12,Simulador_v2!$K$32,+IF(B64>0,VLOOKUP(B64,Simulador_v2!$A$33:$AJ$273,11,0),\" \")))","v":9272.5650000000023},{"$f":"IF($D$12=0,\" \",IF(B63=$D$12,Simulador_v2!$L$32,+IF(B64>0,VLOOKUP(B64,Simulador_v2!$A$33:$AJ$273,12,0),\" \")))","v":11314.54},{"$f":"IF($D$12=0,\" \",IF(B63=$D$12,Simulador_v2!$M$32,+IF(B64>0,VLOOKUP(B64,Simulador_v2!$A$33:$AJ$273,13,0),\" \")))","v":213.88300000000001},{"$f":"IF($D$12=0,\" \",IF(B63=$D$12,Simulador_v2!$T$32,+IF(B64>0,VLOOKUP(B64,Simulador_v2!$A$33:$AJ$273,20,0),\" \")))","v":2199.09},{"$f":"IF($D$12=0,\" \",IF(B63=$D$12,Simulador_v2!$Z$32,+IF(B64>0,VLOOKUP(B64,Simulador_v2!$A$33:$AJ$273,26,0),\" \")))","v":700},{"$f":"IF($D$12=0,\" \",IF(B63=$D$12,Simulador_v2!$W$32,+IF(B64>0,VLOOKUP(B64,Simulador_v2!$A$33:$AJ$273,23,0),\" \")))","v":174.79},{"$f":"IF($D$12=0,\" \",IF(B63=$D$12,Simulador_v2!$AJ$32,+IF(B64>0,VLOOKUP(B64,Simulador_v2!$A$33:$AJ$273,36,0),\" \")))","v":23874.868000000006}]
[null,48,{"$f":"IF($D$12=0,\" \",IF(B64=$D$12,\"TOTALES\",+IF(B65>0,VLOOKUP(B65,Simulador_v2!$A$33:$AJ$273,3,0),\" \")))","v":"2026-09-22"},{"$f":"IF($D$12=0,\" \",IF(B64=$D$12,Simulador_v2!$K$32,+IF(B65>0,VLOOKUP(B65,Simulador_v2!$A$33:$AJ$273,11,0),\" \")))","v":9448.6250000000036},{"$f":"IF($D$12=0,\" \",IF(B64=$D$12,Simulador_v2!$L$32,+IF(B65>0,VLOOKUP(B65,Simulador_v2!$A$33:$AJ$273,12,0),\" \")))","v":11167.13},{"$f":"IF($D$12=0,\" \",IF(B64=$D$12,Simulador_v2!$M$32,+IF(B65>0,VLOOKUP(B65,Simulador_v2!$A$33:$AJ$273,13,0),\" \")))","v":213.88300000000001},{"$f":"IF($D$12=0,\" \",IF(B64=$D$12,Simulador_v2!$T$32,+IF(B65>0,VLOOKUP(B65,Simulador_v2!$A$33:$AJ$273,20,0),\" \")))","v":2170.44},{"$f":"IF($D$12=0,\" \",IF(B64=$D$12,Simulador_v2!$Z$32,+IF(B65>0,VLOOKUP(B65,Simulador_v2!$A$33:$AJ$273,26,0),\" \")))","v":700},{"$f":"IF($D$12=0,\" \",IF(B64=$D$12,Simulador_v2!$W$32,+IF(B65>0,VLOOKUP(B65,Simulador_v2!$A$33:$AJ$273,23,0),\" \")))","v":174.79},{"$f":"IF($D$12=0,\" \",IF(B64=$D$12,Simulador_v2!$AJ$32,+IF(B65>0,VLOOKUP(B65,Simulador_v2!$A$33:$AJ$273,36,0),\" \")))","v":23874.868000000006}]
[null,49,{"$f":"IF($D$12=0,\" \",IF(B65=$D$12,\"TOTALES\",+IF(B66>0,VLOOKUP(B66,Simulador_v2!$A$33:$AJ$273,3,0),\" \")))","v":"2026-10-22"},{"$f":"IF($D$12=0,\" \",IF(B65=$D$12,Simulador_v2!$K$32,+IF(B66>0,VLOOKUP(B66,Simulador_v2!$A$33:$AJ$273,11,0),\" \")))","v":10055.195000000003},{"$f":"IF($D$12=0,\" \",IF(B65=$D$12,Simulador_v2!$L$32,+IF(B66>0,VLOOKUP(B66,Simulador_v2!$A$33:$AJ$273,12,0),\" \")))","v":10658.83},{"$f":"IF($D$12=0,\" \",IF(B65=$D$12,Simulador_v2!$M$32,+IF(B66>0,VLOOKUP(B66,Simulador_v2!$A$33:$AJ$273,13,0),\" \")))","v":213.88300000000001},{"$f":"IF($D$12=0,\" \",IF(B65=$D$12,Simulador_v2!$T$32,+IF(B66>0,VLOOKUP(B66,Simulador_v2!$A$33:$AJ$273,20,0),\" \")))","v":2072.17},{"$f":"IF($D$12=0,\" \",IF(B65=$D$12,Simulador_v2!$Z$32,+IF(B66>0,VLOOKUP(B66,Simulador_v2!$A$33:$AJ$273,26,0),\" \")))","v":700},{"$f":"IF($D$12=0,\" \",IF(B65=$D$12,Simulador_v2!$W$32,+IF(B66>0,VLOOKUP(B66,Simulador_v2!$A$33:$AJ$273,23,0),\" \")))","v":174.79},{"$f":"IF($D$12=0,\" \",IF(B65=$D$12,Simulador_v2!$AJ$32,+IF(B66>0,VLOOKUP(B66,Simulador_v2!$A$33:$AJ$273,36,0),\" \")))","v":23874.868000000002}]
[null,50,{"$f":"IF($D$12=0,\" \",IF(B66=$D$12,\"TOTALES\",+IF(B67>0,VLOOKUP(B67,Simulador_v2!$A$33:$AJ$273,3,0),\" \")))","v":"2026-11-22"},{"$f":"IF($D$12=0,\" \",IF(B66=$D$12,Simulador_v2!$K$32,+IF(B67>0,VLOOKUP(B67,Simulador_v2!$A$33:$AJ$273,11,0),\" \")))","v":9818.9250000000029},{"$f":"IF($D$12=0,\" \",IF(B66=$D$12,Simulador_v2!$L$32,+IF(B67>0,VLOOKUP(B67,Simulador_v2!$A$33:$AJ$273,12,0),\" \")))","v":10857.09},{"$f":"IF($D$12=0,\" \",IF(B66=$D$12,Simulador_v2!$M$32,+IF(B67>0,VLOOKUP(B67,Simulador_v2!$A$33:$AJ$273,13,0),\" \")))","v":213.88300000000001},{"$f":"IF($D$12=0,\" \",IF(B66=$D$12,Simulador_v2!$T$32,+IF(B67>0,VLOOKUP(B67,Simulador_v2!$A$33:$AJ$273,20,0),\" \")))","v":2110.1799999999998},{"$f":"IF($D$12=0,\" \",IF(B66=$D$12,Simulador_v2!$Z$32,+IF(B67>0,VLOOKUP(B67,Simulador_v2!$A$33:$AJ$273,26,0),\" \")))","v":700},{"$f":"IF($D$12=0,\" \",IF(B66=$D$12,Simulador_v2!$W$32,+IF(B67>0,VLOOKUP(B67,Simulador_v2!$A$33:$AJ$273,23,0),\" \")))","v":174.79},{"$f":"IF($D$12=0,\" \",IF(B66=$D$12,Simulador_v2!$AJ$32,+IF(B67>0,VLOOKUP(B67,Simulador_v2!$A$33:$AJ$273,36,0),\" \")))","v":23874.868000000006}]
[null,51,{"$f":"IF($D$12=0,\" \",IF(B67=$D$12,\"TOTALES\",+IF(B68>0,VLOOKUP(B68,Simulador_v2!$A$33:$AJ$273,3,0),\" \")))","v":"2026-12-22"},{"$f":"IF($D$12=0,\" \",IF(B67=$D$12,Simulador_v2!$K$32,+IF(B68>0,VLOOKUP(B68,Simulador_v2!$A$33:$AJ$273,11,0),\" \")))","v":10420.275000000003},{"$f":"IF($D$12=0,\" \",IF(B67=$D$12,Simulador_v2!$L$32,+IF(B68>0,VLOOKUP(B68,Simulador_v2!$A$33:$AJ$273,12,0),\" \")))","v":10353.17},{"$f":"IF($D$12=0,\" \",IF(B67=$D$12,Simulador_v2!$M$32,+IF(B68>0,VLOOKUP(B68,Simulador_v2!$A$33:$AJ$273,13,0),\" \")))","v":213.88300000000001},{"$f":"IF($D$12=0,\" \",IF(B67=$D$12,Simulador_v2!$T$32,+IF(B68>0,VLOOKUP(B68,Simulador_v2!$A$33:$AJ$273,20,0),\" \")))","v":2012.75},{"$f":"IF($D$12=0,\" \",IF(B67=$D$12,Simulador_v2!$Z$32,+IF(B68>0,VLOOKUP(B68,Simulador_v2!$A$33:$AJ$273,26,0),\" \")))","v":700},{"$f":"IF($D$12=0,\" \",IF(B67=$D$12,Simulador_v2!$W$32,+IF(B68>0,VLOOKUP(B68,Simulador_v2!$A$33:$AJ$273,23,0),\" \")))","v":174.79},{"$f":"IF($D$12=0,\" \",IF(B67=$D$12,Simulador_v2!$AJ$32,+IF(B68>0,VLOOKUP(B68,Simulador_v2!$A$33:$AJ$273,36,0),\" \")))","v":23874.868000000006}]
[null,52,{"$f":"IF($D$12=0,\" \",IF(B68=$D$12,\"TOTALES\",+IF(B69>0,VLOOKUP(B69,Simulador_v2!$A$33:$AJ$273,3,0),\" \")))","v":"2027-01-22"},{"$f":"IF($D$12=0,\" \",IF(B68=$D$12,Simulador_v2!$K$32,+IF(B69>0,VLOOKUP(B69,Simulador_v2!$A$33:$AJ$273,11,0),\" \")))","v":10203.205000000004},{"$f":"IF($D$12=0,\" \",IF(B68=$D$12,Simulador_v2!$L$32,+IF(B69>0,VLOOKUP(B69,Simulador_v2!$A$33:$AJ$273,12,0),\" \")))","v":10535.35},{"$f":"IF($D$12=0,\" \",IF(B68=$D$12,Simulador_v2!$M$32,+IF(B69>0,VLOOKUP(B69,Simulador_v2!$A$33:$AJ$273,13,0),\" \")))","v":213.88300000000001},{"$f":"IF($D$12=0,\" \",IF(B68=$D$12,Simulador_v2!$T$32,+IF(B69>0,VLOOKUP(B69,Simulador_v2!$A$33:$AJ$273,20,0),\" \")))","v":2047.64},{"$f":"IF($D$12=0,\" \",IF(B68=$D$12,Simulador_v2!$Z$32,+IF(B69>0,VLOOKUP(B69,Simulador_v2!$A$33:$AJ$273,26,0),\" \")))","v":700},{"$f":"IF($D$12=0,\" \",IF(B68=$D$12,Simulador_v2!$W$32,+IF(B69>0,VLOOKUP(B69,Simulador_v2!$A$33:$AJ$273,23,0),\" \")))","v":174.79},{"$f":"IF($D$12=0,\" \",IF(B68=$D$12,Simulador_v2!$AJ$32,+IF(B69>0,VLOOKUP(B69,Simulador_v2!$A$33:$AJ$273,36,0),\" \")))","v":23874.868000000006}]
[null,53,{"$f":"IF($D$12=0,\" \",IF(B69=$D$12,\"TOTALES\",+IF(B70>0,VLOOKUP(B70,Simulador_v2!$A$33:$AJ$273,3,0),\" \")))","v":"2027-02-22"},{"$f":"IF($D$12=0,\" \",IF(B69=$D$12,Simulador_v2!$K$32,+IF(B70>0,VLOOKUP(B70,Simulador_v2!$A$33:$AJ$273,11,0),\" \")))","v":10396.915000000005},{"$f":"IF($D$12=0,\" \",IF(B69=$D$12,Simulador_v2!$L$32,+IF(B70>0,VLOOKUP(B70,Simulador_v2!$A$33:$AJ$273,12,0),\" \")))","v":10373.16},{"$f":"IF($D$12=0,\" \",IF(B69=$D$12,Simulador_v2!$M$32,+IF(B70>0,VLOOKUP(B70,Simulador_v2!$A$33:$AJ$273,13,0),\" \")))","v":213.88300000000001},{"$f":"IF($D$12=0,\" \",IF(B69=$D$12,Simulador_v2!$T$32,+IF(B70>0,VLOOKUP(B70,Simulador_v2!$A$33:$AJ$273,20,0),\" \")))","v":2016.12},{"$f":"IF($D$12=0,\" \",IF(B69=$D$12,Simulador_v2!$Z$32,+IF(B70>0,VLOOKUP(B70,Simulador_v2!$A$33:$AJ$273,26,0),\" \")))","v":700},{"$f":"IF($D$12=0,\" \",IF(B69=$D$12,Simulador_v2!$W$32,+IF(B70>0,VLOOKUP(B70,Simulador_v2!$A$33:$AJ$273,23,0),\" \")))","v":174.79},{"$f":"IF($D$12=0,\" \",IF(B69=$D$12,Simulador_v2!$AJ$32,+IF(B70>0,VLOOKUP(B70,Simulador_v2!$A$33:$AJ$273,36,0),\" \")))","v":23874.868000000006}]
[null,54,{"$f":"IF($D$12=0,\" \",IF(B70=$D$12,\"TOTALES\",+IF(B71>0,VLOOKUP(B71,Simulador_v2!$A$33:$AJ$273,3,0),\" \")))","v":"2027-03-22"},{"$f":"IF($D$12=0,\" \",IF(B70=$D$12,Simulador_v2!$K$32,+IF(B71>0,VLOOKUP(B71,Simulador_v2!$A$33:$AJ$273,11,0),\" \")))","v":11781.225000000004},{"$f":"IF($D$12=0,\" \",IF(B70=$D$12,Simulador_v2!$L$32,+IF(B71>0,VLOOKUP(B71,Simulador_v2!$A$33:$AJ$273,12,0),\" \")))","v":9212.9699999999993},{"$f":"IF($D$12=0,\" \",IF(B70=$D$12,Simulador_v2!$M$32,+IF(B71>0,VLOOKUP(B71,Simulador_v2!$A$33:$AJ$273,13,0),\" \")))","v":213.88300000000001},{"$f":"IF($D$12=0,\" \",IF(B70=$D$12,Simulador_v2!$T$32,+IF(B71>0,VLOOKUP(B71,Simulador_v2!$A$33:$AJ$273,20,0),\" \")))","v":1792},{"$f":"IF($D$12=0,\" \",IF(B70=$D$12,Simulador_v2!$Z$32,+IF(B71>0,VLOOKUP(B71,Simulador_v2!$A$33:$AJ$273,26,0),\" \")))","v":700},{"$f":"IF($D$12=0,\" \",IF(B70=$D$12,Simulador_v2!$W$32,+IF(B71>0,VLOOKUP(B71,Simulador_v2!$A$33:$AJ$273,23,0),\" \")))","v":174.79},{"$f":"IF($D$12=0,\" \",IF(B70=$D$12,Simulador_v2!$AJ$32,+IF(B71>0,VLOOKUP(B71,Simulador_v2!$A$33:$AJ$273,36,0),\" \")))","v":23874.868000000006}]
[null,55,{"$f":"IF($D$12=0,\" \",IF(B71=$D$12,\"TOTALES\",+IF(B72>0,VLOOKUP(B72,Simulador_v2!$A$33:$AJ$273,3,0),\" \")))","v":"2027-04-22"},{"$f":"IF($D$12=0,\" \",IF(B71=$D$12,Simulador_v2!$K$32,+IF(B72>0,VLOOKUP(B72,Simulador_v2!$A$33:$AJ$273,11,0),\" \")))","v":10817.995000000003},{"$f":"IF($D$12=0,\" \",IF(B71=$D$12,Simulador_v2!$L$32,+IF(B72>0,VLOOKUP(B72,Simulador_v2!$A$33:$AJ$273,12,0),\" \")))","v":10020.6},{"$f":"IF($D$12=0,\" \",IF(B71=$D$12,Simulador_v2!$M$32,+IF(B72>0,VLOOKUP(B72,Simulador_v2!$A$33:$AJ$273,13,0),\" \")))","v":213.88300000000001},{"$f":"IF($D$12=0,\" \",IF(B71=$D$12,Simulador_v2!$T$32,+IF(B72>0,VLOOKUP(B72,Simulador_v2!$A$33:$AJ$273,20,0),\" \")))","v":1947.6},{"$f":"IF($D$12=0,\" \",IF(B71=$D$12,Simulador_v2!$Z$32,+IF(B72>0,VLOOKUP(B72,Simulador_v2!$A$33:$AJ$273,26,0),\" \")))","v":700},{"$f":"IF($D$12=0,\" \",IF(B71=$D$12,Simulador_v2!$W$32,+IF(B72>0,VLOOKUP(B72,Simulador_v2!$A$33:$AJ$273,23,0),\" \")))","v":174.79},{"$f":"IF($D$12=0,\" \",IF(B71=$D$12,Simulador_v2!$AJ$32,+IF(B72>0,VLOOKUP(B72,Simulador_v2!$A$33:$AJ$273,36,0),\" \")))","v":23874.868000000002}]
[null,56,{"$f":"IF($D$12=0,\" \",IF(B72=$D$12,\"TOTALES\",+IF(B73>0,VLOOKUP(B73,Simulador_v2!$A$33:$AJ$273,3,0),\" \")))","v":"2027-05-22"},{"$f":"IF($D$12=0,\" \",IF(B72=$D$12,Simulador_v2!$K$32,+IF(B73>0,VLOOKUP(B73,Simulador_v2!$A$33:$AJ$273,11,0),\" \")))","v":11405.265000000003},{"$f":"IF($D$12=0,\" \",IF(B72=$D$12,Simulador_v2!$L$32,+IF(B73>0,VLOOKUP(B73,Simulador_v2!$A$33:$AJ$273,12,0),\" \")))","v":9528.5},{"$f":"IF($D$12=0,\" \",IF(B72=$D$12,Simulador_v2!$M$32,+IF(B73>0,VLOOKUP(B73,Simulador_v2!$A$33:$AJ$273,13,0),\" \")))","v":213.88300000000001},{"$f":"IF($D$12=0,\" \",IF(B72=$D$12,Simulador_v2!$T$32,+IF(B73>0,VLOOKUP(B73,Simulador_v2!$A$33:$AJ$273,20,0),\" \")))","v":1852.43},{"$f":"IF($D$12=0,\" \",IF(B72=$D$12,Simulador_v2!$Z$32,+IF(B73>0,VLOOKUP(B73,Simulador_v2!$A$33:$AJ$273,26,0),\" \")))","v":700},{"$f":"IF($D$12=0,\" \",IF(B72=$D$12,Simulador_v2!$W$32,+IF(B73>0,VLOOKUP(B73,Simulador_v2!$A$33:$AJ$273,23,0),\" \")))","v":174.79},{"$f":"IF($D$12=0,\" \",IF(B72=$D$12,Simulador_v2!$AJ$32,+IF(B73>0,VLOOKUP(B73,Simulador_v2!$A$33:$AJ$273,36,0),\" \")))","v":23874.868000000006}]
[null,57,{"$f":"IF($D$12=0,\" \",IF(B73=$D$12,\"TOTALES\",+IF(B74>0,VLOOKUP(B74,Simulador_v2!$A$33:$AJ$273,3,0),\" \")))","v":"2027-06-22"},{"$f":"IF($D$12=0,\" \",IF(B73=$D$12,Simulador_v2!$K$32,+IF(B74>0,VLOOKUP(B74,Simulador_v2!$A$33:$AJ$273,11,0),\" \")))","v":11239.945000000003},{"$f":"IF($D$12=0,\" \",IF(B73=$D$12,Simulador_v2!$L$32,+IF(B74>0,VLOOKUP(B74,Simulador_v2!$A$33:$AJ$273,12,0),\" \")))","v":9667.32},{"$f":"IF($D$12=0,\" \",IF(B73=$D$12,Simulador_v2!$M$32,+IF(B74>0,VLOOKUP(B74,Simulador_v2!$A$33:$AJ$273,13,0),\" \")))","v":213.88300000000001},{"$f":"IF($D$12=0,\" \",IF(B73=$D$12,Simulador_v2!$T$32,+IF(B74>0,VLOOKUP(B74,Simulador_v2!$A$33:$AJ$273,20,0),\" \")))","v":1878.93},{"$f":"IF($D$12=0,\" \",IF(B73=$D$12,Simulador_v2!$Z$32,+IF(B74>0,VLOOKUP(B74,Simulador_v2!$A$33:$AJ$273,26,0),\" \")))","v":700},{"$f":"IF($D$12=0,\" \",IF(B73=$D$12,Simulador_v2!$W$32,+IF(B74>0,VLOOKUP(B74,Simulador_v2!$A$33:$AJ$273,23,0),\" \")))","v":174.79},{"$f":"IF($D$12=0,\" \",IF(B73=$D$12,Simulador_v2!$AJ$32,+IF(B74>0,VLOOKUP(B74,Simulador_v2!$A$33:$AJ$273,36,0),\" \")))","v":23874.868000000006}]
[null,58,{"$f":"IF($D$12=0,\" \",IF(B74=$D$12,\"TOTALES\",+IF(B75>0,VLOOKUP(B75,Simulador_v2!$A$33:$AJ$273,3,0),\" \")))","v":"2027-07-22"},{"$f":"IF($D$12=0,\" \",IF(B74=$D$12,Simulador_v2!$K$32,+IF(B75>0,VLOOKUP(B75,Simulador_v2!$A$33:$AJ$273,11,0),\" \")))","v":11821.255000000005},{"$f":"IF($D$12=0,\" \",IF(B74=$D$12,Simulador_v2!$L$32,+IF(B75>0,VLOOKUP(B75,Simulador_v2!$A$33:$AJ$273,12,0),\" \")))","v":9180.2199999999993},{"$f":"IF($D$12=0,\" \",IF(B74=$D$12,Simulador_v2!$M$32,+IF(B75>0,VLOOKUP(B75,Simulador_v2!$A$33:$AJ$273,13,0),\" \")))","v":213.88300000000001},{"$f":"IF($D$12=0,\" \",IF(B74=$D$12,Simulador_v2!$T$32,+IF(B75>0,VLOOKUP(B75,Simulador_v2!$A$33:$AJ$273,20,0),\" \")))","v":1784.72},{"$f":"IF($D$12=0,\" \",IF(B74=$D$12,Simulador_v2!$Z$32,+IF(B75>0,VLOOKUP(B75,Simulador_v2!$A$33:$AJ$273,26,0),\" \")))","v":700},{"$f":"IF($D$12=0,\" \",IF(B74=$D$12,Simulador_v2!$W$32,+IF(B75>0,VLOOKUP(B75,Simulador_v2!$A$33:$AJ$273,23,0),\" \")))","v":174.79},{"$f":"IF($D$12=0,\" \",IF(B74=$D$12,Simulador_v2!$AJ$32,+IF(B75>0,VLOOKUP(B75,Simulador_v2!$A$33:$AJ$273,36,0),\" \")))","v":23874.868000000009}]
[null,59,{"$f":"IF($D$12=0,\" \",IF(B75=$D$12,\"TOTALES\",+IF(B76>0,VLOOKUP(B76,Simulador_v2!$A$33:$AJ$273,3,0),\" \")))","v":"2027-08-22"},{"$f":"IF($D$12=0,\" \",IF(B75=$D$12,Simulador_v2!$K$32,+IF(B76>0,VLOOKUP(B76,Simulador_v2!$A$33:$AJ$273,11,0),\" \")))","v":11677.785000000003},{"$f":"IF($D$12=0,\" \",IF(B75=$D$12,Simulador_v2!$L$32,+IF(B76>0,VLOOKUP(B76,Simulador_v2!$A$33:$AJ$273,12,0),\" \")))","v":9300.73},{"$f":"IF($D$12=0,\" \",IF(B75=$D$12,Simulador_v2!$M$32,+IF(B76>0,VLOOKUP(B76,Simulador_v2!$A$33:$AJ$273,13,0),\" \")))","v":213.88300000000001},{"$f":"IF($D$12=0,\" \",IF(B75=$D$12,Simulador_v2!$T$32,+IF(B76>0,VLOOKUP(B76,Simulador_v2!$A$33:$AJ$273,20,0),\" \")))","v":1807.68},{"$f":"IF($D$12=0,\" \",IF(B75=$D$12,Simulador_v2!$Z$32,+IF(B76>0,VLOOKUP(B76,Simulador_v2!$A$33:$AJ$273,26,0),\" \")))","v":700},{"$f":"IF($D$12=0,\" \",IF(B75=$D$12,Simulador_v2!$W$32,+IF(B76>0,VLOOKUP(B76,Simulador_v2!$A$33:$AJ$273,23,0),\" \")))","v":174.79},{"$f":"IF($D$12=0,\" \",IF(B75=$D$12,Simulador_v2!$AJ$32,+IF(B76>0,VLOOKUP(B76,Simulador_v2!$A$33:$AJ$273,36,0),\" \")))","v":23874.868000000006}]
[null,60,{"$f":"IF($D$12=0,\" \",IF(B76=$D$12,\"TOTALES\",+IF(B77>0,VLOOKUP(B77,Simulador_v2!$A$33:$AJ$273,3,0),\" \")))","v":"2027-09-22"},{"$f":"IF($D$12=0,\" \",IF(B76=$D$12,Simulador_v2!$K$32,+IF(B77>0,VLOOKUP(B77,Simulador_v2!$A$33:$AJ$273,11,0),\" \")))","v":11899.505000000003},{"$f":"IF($D$12=0,\" \",IF(B76=$D$12,Simulador_v2!$L$32,+IF(B77>0,VLOOKUP(B77,Simulador_v2!$A$33:$AJ$273,12,0),\" \")))","v":9115.09},{"$f":"IF($D$12=0,\" \",IF(B76=$D$12,Simulador_v2!$M$32,+IF(B77>0,VLOOKUP(B77,Simulador_v2!$A$33:$AJ$273,13,0),\" \")))","v":213.88300000000001},{"$f":"IF($D$12=0,\" \",IF(B76=$D$12,Simulador_v2!$T$32,+IF(B77>0,VLOOKUP(B77,Simulador_v2!$A$33:$AJ$273,20,0),\" \")))","v":1771.6},{"$f":"IF($D$12=0,\" \",IF(B76=$D$12,Simulador_v2!$Z$32,+IF(B77>0,VLOOKUP(B77,Simulador_v2!$A$33:$AJ$273,26,0),\" \")))","v":700},{"$f":"IF($D$12=0,\" \",IF(B76=$D$12,Simulador_v2!$W$32,+IF(B77>0,VLOOKUP(B77,Simulador_v2!$A$33:$AJ$273,23,0),\" \")))","v":174.79},{"$f":"IF($D$12=0,\" \",IF(B76=$D$12,Simulador_v2!$AJ$32,+IF(B77>0,VLOOKUP(B77,Simulador_v2!$A$33:$AJ$273,36,0),\" \")))","v":23874.868000000002}]
[null,61,{"$f":"IF($D$12=0,\" \",IF(B77=$D$12,\"TOTALES\",+IF(B78>0,VLOOKUP(B78,Simulador_v2!$A$33:$AJ$273,3,0),\" \")))","v":"2027-10-22"},{"$f":"IF($D$12=0,\" \",IF(B77=$D$12,Simulador_v2!$K$32,+IF(B78>0,VLOOKUP(B78,Simulador_v2!$A$33:$AJ$273,11,0),\" \")))","v":12471.535000000003},{"$f":"IF($D$12=0,\" \",IF(B77=$D$12,Simulador_v2!$L$32,+IF(B78>0,VLOOKUP(B78,Simulador_v2!$A$33:$AJ$273,12,0),\" \")))","v":8635.7900000000009},{"$f":"IF($D$12=0,\" \",IF(B77=$D$12,Simulador_v2!$M$32,+IF(B78>0,VLOOKUP(B78,Simulador_v2!$A$33:$AJ$273,13,0),\" \")))","v":213.88300000000001},{"$f":"IF($D$12=0,\" \",IF(B77=$D$12,Simulador_v2!$T$32,+IF(B78>0,VLOOKUP(B78,Simulador_v2!$A$33:$AJ$273,20,0),\" \")))","v":1678.87},{"$f":"IF($D$12=0,\" \",IF(B77=$D$12,Simulador_v2!$Z$32,+IF(B78>0,VLOOKUP(B78,Simulador_v2!$A$33:$AJ$273,26,0),\" \")))","v":700},{"$f":"IF($D$12=0,\" \",IF(B77=$D$12,Simulador_v2!$W$32,+IF(B78>0,VLOOKUP(B78,Simulador_v2!$A$33:$AJ$273,23,0),\" \")))","v":174.79},{"$f":"IF($D$12=0,\" \",IF(B77=$D$12,Simulador_v2!$AJ$32,+IF(B78>0,VLOOKUP(B78,Simulador_v2!$A$33:$AJ$273,36,0),\" \")))","v":23874.868000000006}]
[null,62,{"$f":"IF($D$12=0,\" \",IF(B78=$D$12,\"TOTALES\",+IF(B79>0,VLOOKUP(B79,Simulador_v2!$A$33:$AJ$273,3,0),\" \")))","v":"2027-11-22"},{"$f":"IF($D$12=0,\" \",IF(B78=$D$12,Simulador_v2!$K$32,+IF(B79>0,VLOOKUP(B79,Simulador_v2!$A$33:$AJ$273,11,0),\" \")))","v":12362.225000000004},{"$f":"IF($D$12=0,\" \",IF(B78=$D$12,Simulador_v2!$L$32,+IF(B79>0,VLOOKUP(B79,Simulador_v2!$A$33:$AJ$273,12,0),\" \")))","v":8727.67},{"$f":"IF($D$12=0,\" \",IF(B78=$D$12,Simulador_v2!$M$32,+IF(B79>0,VLOOKUP(B79,Simulador_v2!$A$33:$AJ$273,13,0),\" \")))","v":213.88300000000001},{"$f":"IF($D$12=0,\" \",IF(B78=$D$12,Simulador_v2!$T$32,+IF(B79>0,VLOOKUP(B79,Simulador_v2!$A$33:$AJ$273,20,0),\" \")))","v":1696.3},{"$f":"IF($D$12=0,\" \",IF(B78=$D$12,Simulador_v2!$Z$32,+IF(B79>0,VLOOKUP(B79,Simulador_v2!$A$33:$AJ$273,26,0),\" \")))","v":700},{"$f":"IF($D$12=0,\" \",IF(B78=$D$12,Simulador_v2!$W$32,+IF(B79>0,VLOOKUP(B79,Simulador_v2!$A$33:$AJ$273,23,0),\" \")))","v":174.79},{"$f":"IF($D$12=0,\" \",IF(B78=$D$12,Simulador_v2!$AJ$32,+IF(B79>0,VLOOKUP(B79,Simulador_v2!$A$33:$AJ$273,36,0),\" \")))","v":23874.868000000006}]
[null,63,{"$f":"IF($D$12=0,\" \",IF(B79=$D$12,\"TOTALES\",+IF(B80>0,VLOOKUP(B80,Simulador_v2!$A$33:$AJ$273,3,0),\" \")))","v":"2027-12-22"},{"$f":"IF($D$12=0,\" \",IF(B79=$D$12,Simulador_v2!$K$32,+IF(B80>0,VLOOKUP(B80,Simulador_v2!$A$33:$AJ$273,11,0),\" \")))","v":12927.725000000002},{"$f":"IF($D$12=0,\" \",IF(B79=$D$12,Simulador_v2!$L$32,+IF(B80>0,VLOOKUP(B80,Simulador_v2!$A$33:$AJ$273,12,0),\" \")))","v":8253.85},{"$f":"IF($D$12=0,\" \",IF(B79=$D$12,Simulador_v2!$M$32,+IF(B80>0,VLOOKUP(B80,Simulador_v2!$A$33:$AJ$273,13,0),\" \")))","v":213.88300000000001},{"$f":"IF($D$12=0,\" \",IF(B79=$D$12,Simulador_v2!$T$32,+IF(B80>0,VLOOKUP(B80,Simulador_v2!$A$33:$AJ$273,20,0),\" \")))","v":1604.62},{"$f":"IF($D$12=0,\" \",IF(B79=$D$12,Simulador_v2!$Z$32,+IF(B80>0,VLOOKUP(B80,Simulador_v2!$A$33:$AJ$273,26,0),\" \")))","v":700},{"$f":"IF($D$12=0,\" \",IF(B79=$D$12,Simulador_v2!$W$32,+IF(B80>0,VLOOKUP(B80,Simulador_v2!$A$33:$AJ$273,23,0),\" \")))","v":174.79},{"$f":"IF($D$12=0,\" \",IF(B79=$D$12,Simulador_v2!$AJ$32,+IF(B80>0,VLOOKUP(B80,Simulador_v2!$A$33:$AJ$273,36,0),\" \")))","v":23874.868000000006}]
[null,64,{"$f":"IF($D$12=0,\" \",IF(B80=$D$12,\"TOTALES\",+IF(B81>0,VLOOKUP(B81,Simulador_v2!$A$33:$AJ$273,3,0),\" \")))","v":"2028-01-22"},{"$f":"IF($D$12=0,\" \",IF(B80=$D$12,Simulador_v2!$K$32,+IF(B81>0,VLOOKUP(B81,Simulador_v2!$A$33:$AJ$273,11,0),\" \")))","v":12842.385000000004},{"$f":"IF($D$12=0,\" \",IF(B80=$D$12,Simulador_v2!$L$32,+IF(B81>0,VLOOKUP(B81,Simulador_v2!$A$33:$AJ$273,12,0),\" \")))","v":8325.64},{"$f":"IF($D$12=0,\" \",IF(B80=$D$12,Simulador_v2!$M$32,+IF(B81>0,VLOOKUP(B81,Simulador_v2!$A$33:$AJ$273,13,0),\" \")))","v":213.88300000000001},{"$f":"IF($D$12=0,\" \",IF(B80=$D$12,Simulador_v2!$T$32,+IF(B81>0,VLOOKUP(B81,Simulador_v2!$A$33:$AJ$273,20,0),\" \")))","v":1618.17},{"$f":"IF($D$12=0,\" \",IF(B80=$D$12,Simulador_v2!$Z$32,+IF(B81>0,VLOOKUP(B81,Simulador_v2!$A$33:$AJ$273,26,0),\" \")))","v":700},{"$f":"IF($D$12=0,\" \",IF(B80=$D$12,Simulador_v2!$W$32,+IF(B81>0,VLOOKUP(B81,Simulador_v2!$A$33:$AJ$273,23,0),\" \")))","v":174.79},{"$f":"IF($D$12=0,\" \",IF(B80=$D$12,Simulador_v2!$AJ$32,+IF(B81>0,VLOOKUP(B81,Simulador_v2!$A$33:$AJ$273,36,0),\" \")))","v":23874.868000000002}]
[null,65,{"$f":"IF($D$12=0,\" \",IF(B81=$D$12,\"TOTALES\",+IF(B82>0,VLOOKUP(B82,Simulador_v2!$A$33:$AJ$273,3,0),\" \")))","v":"2028-02-22"},{"$f":"IF($D$12=0,\" \",IF(B81=$D$12,Simulador_v2!$K$32,+IF(B82>0,VLOOKUP(B82,Simulador_v2!$A$33:$AJ$273,11,0),\" \")))","v":13086.215000000004},{"$f":"IF($D$12=0,\" \",IF(B81=$D$12,Simulador_v2!$L$32,+IF(B82>0,VLOOKUP(B82,Simulador_v2!$A$33:$AJ$273,12,0),\" \")))","v":8121.49},{"$f":"IF($D$12=0,\" \",IF(B81=$D$12,Simulador_v2!$M$32,+IF(B82>0,VLOOKUP(B82,Simulador_v2!$A$33:$AJ$273,13,0),\" \")))","v":213.88300000000001},{"$f":"IF($D$12=0,\" \",IF(B81=$D$12,Simulador_v2!$T$32,+IF(B82>0,VLOOKUP(B82,Simulador_v2!$A$33:$AJ$273,20,0),\" \")))","v":1578.49},{"$f":"IF($D$12=0,\" \",IF(B81=$D$12,Simulador_v2!$Z$32,+IF(B82>0,VLOOKUP(B82,Simulador_v2!$A$33:$AJ$273,26,0),\" \")))","v":700},{"$f":"IF($D$12=0,\" \",IF(B81=$D$12,Simulador_v2!$W$32,+IF(B82>0,VLOOKUP(B82,Simulador_v2!$A$33:$AJ$273,23,0),\" \")))","v":174.79},{"$f":"IF($D$12=0,\" \",IF(B81=$D$12,Simulador_v2!$AJ$32,+IF(B82>0,VLOOKUP(B82,Simulador_v2!$A$33:$AJ$273,36,0),\" \")))","v":23874.868000000006}]
[null,{"$f":"IF(B82=0,\" \",IF(B82>=$D$12,\"\",B82+1))","v":66},{"$f":"IF($D$12=0,\" \",IF(B82=$D$12,\"TOTALES\",+IF(B83>0,VLOOKUP(B83,Simulador_v2!$A$33:$AJ$273,3,0),\" \")))","v":"2028-03-22"},{"$f":"IF($D$12=0,\" \",IF(B82=$D$12,Simulador_v2!$K$32,+IF(B83>0,VLOOKUP(B83,Simulador_v2!$A$33:$AJ$273,11,0),\" \")))","v":13948.215000000004},{"$f":"IF($D$12=0,\" \",IF(B82=$D$12,Simulador_v2!$L$32,+IF(B83>0,VLOOKUP(B83,Simulador_v2!$A$33:$AJ$273,12,0),\" \")))","v":7399.15},{"$f":"IF($D$12=0,\" \",IF(B82=$D$12,Simulador_v2!$M$32,+IF(B83>0,VLOOKUP(B83,Simulador_v2!$A$33:$AJ$273,13,0),\" \")))","v":213.88300000000001},{"$f":"IF($D$12=0,\" \",IF(B82=$D$12,Simulador_v2!$T$32,+IF(B83>0,VLOOKUP(B83,Simulador_v2!$A$33:$AJ$273,20,0),\" \")))","v":1438.83},{"$f":"IF($D$12=0,\" \",IF(B82=$D$12,Simulador_v2!$Z$32,+IF(B83>0,VLOOKUP(B83,Simulador_v2!$A$33:$AJ$273,26,0),\" \")))","v":700},{"$f":"IF($D$12=0,\" \",IF(B82=$D$12,Simulador_v2!$W$32,+IF(B83>0,VLOOKUP(B83,Simulador_v2!$A$33:$AJ$273,23,0),\" \")))","v":174.79},{"$f":"IF($D$12=0,\" \",IF(B82=$D$12,Simulador_v2!$AJ$32,+IF(B83>0,VLOOKUP(B83,Simulador_v2!$A$33:$AJ$273,36,0),\" \")))","v":23874.868000000009}]
[null,67,{"$f":"IF($D$12=0,\" \",IF(B83=$D$12,\"TOTALES\",+IF(B84>0,VLOOKUP(B84,Simulador_v2!$A$33:$AJ$273,3,0),\" \")))","v":"2028-04-22"},{"$f":"IF($D$12=0,\" \",IF(B83=$D$12,Simulador_v2!$K$32,+IF(B84>0,VLOOKUP(B84,Simulador_v2!$A$33:$AJ$273,11,0),\" \")))","v":13599.495000000003},{"$f":"IF($D$12=0,\" \",IF(B83=$D$12,Simulador_v2!$L$32,+IF(B84>0,VLOOKUP(B84,Simulador_v2!$A$33:$AJ$273,12,0),\" \")))","v":7691.74},{"$f":"IF($D$12=0,\" \",IF(B83=$D$12,Simulador_v2!$M$32,+IF(B84>0,VLOOKUP(B84,Simulador_v2!$A$33:$AJ$273,13,0),\" \")))","v":213.88300000000001},{"$f":"IF($D$12=0,\" \",IF(B83=$D$12,Simulador_v2!$T$32,+IF(B84>0,VLOOKUP(B84,Simulador_v2!$A$33:$AJ$273,20,0),\" \")))","v":1494.96},{"$f":"IF($D$12=0,\" \",IF(B83=$D$12,Simulador_v2!$Z$32,+IF(B84>0,VLOOKUP(B84,Simulador_v2!$A$33:$AJ$273,26,0),\" \")))","v":700},{"$f":"IF($D$12=0,\" \",IF(B83=$D$12,Simulador_v2!$W$32,+IF(B84>0,VLOOKUP(B84,Simulador_v2!$A$33:$AJ$273,23,0),\" \")))","v":174.79},{"$f":"IF($D$12=0,\" \",IF(B83=$D$12,Simulador_v2!$AJ$32,+IF(B84>0,VLOOKUP(B84,Simulador_v2!$A$33:$AJ$273,36,0),\" \")))","v":23874.868000000002}]
[null,68,{"$f":"IF($D$12=0,\" \",IF(B84=$D$12,\"TOTALES\",+IF(B85>0,VLOOKUP(B85,Simulador_v2!$A$33:$AJ$273,3,0),\" \")))","v":"2028-05-22"},{"$f":"IF($D$12=0,\" \",IF(B84=$D$12,Simulador_v2!$K$32,+IF(B85>0,VLOOKUP(B85,Simulador_v2!$A$33:$AJ$273,11,0),\" \")))","v":14147.565000000002},{"$f":"IF($D$12=0,\" \",IF(B84=$D$12,Simulador_v2!$L$32,+IF(B85>0,VLOOKUP(B85,Simulador_v2!$A$33:$AJ$273,12,0),\" \")))","v":7232.56},{"$f":"IF($D$12=0,\" \",IF(B84=$D$12,Simulador_v2!$M$32,+IF(B85>0,VLOOKUP(B85,Simulador_v2!$A$33:$AJ$273,13,0),\" \")))","v":213.88300000000001},{"$f":"IF($D$12=0,\" \",IF(B84=$D$12,Simulador_v2!$T$32,+IF(B85>0,VLOOKUP(B85,Simulador_v2!$A$33:$AJ$273,20,0),\" \")))","v":1406.07},{"$f":"IF($D$12=0,\" \",IF(B84=$D$12,Simulador_v2!$Z$32,+IF(B85>0,VLOOKUP(B85,Simulador_v2!$A$33:$AJ$273,26,0),\" \")))","v":700},{"$f":"IF($D$12=0,\" \",IF(B84=$D$12,Simulador_v2!$W$32,+IF(B85>0,VLOOKUP(B85,Simulador_v2!$A$33:$AJ$273,23,0),\" \")))","v":174.79},{"$f":"IF($D$12=0,\" \",IF(B84=$D$12,Simulador_v2!$AJ$32,+IF(B85>0,VLOOKUP(B85,Simulador_v2!$A$33:$AJ$273,36,0),\" \")))","v":23874.868000000006}]
[null,69,{"$f":"IF($D$12=0,\" \",IF(B85=$D$12,\"TOTALES\",+IF(B86>0,VLOOKUP(B86,Simulador_v2!$A$33:$AJ$273,3,0),\" \")))","v":"2028-06-22"},{"$f":"IF($D$12=0,\" \",IF(B85=$D$12,Simulador_v2!$K$32,+IF(B86>0,VLOOKUP(B86,Simulador_v2!$A$33:$AJ$273,11,0),\" \")))","v":14126.315000000004},{"$f":"IF($D$12=0,\" \",IF(B85=$D$12,Simulador_v2!$L$32,+IF(B86>0,VLOOKUP(B86,Simulador_v2!$A$33:$AJ$273,12,0),\" \")))","v":7250.65},{"$f":"IF($D$12=0,\" \",IF(B85=$D$12,Simulador_v2!$M$32,+IF(B86>0,VLOOKUP(B86,Simulador_v2!$A$33:$AJ$273,13,0),\" \")))","v":213.88300000000001},{"$f":"IF($D$12=0,\" \",IF(B85=$D$12,Simulador_v2!$T$32,+IF(B86>0,VLOOKUP(B86,Simulador_v2!$A$33:$AJ$273,20,0),\" \")))","v":1409.23},{"$f":"IF($D$12=0,\" \",IF(B85=$D$12,Simulador_v2!$Z$32,+IF(B86>0,VLOOKUP(B86,Simulador_v2!$A$33:$AJ$273,26,0),\" \")))","v":700},{"$f":"IF($D$12=0,\" \",IF(B85=$D$12,Simulador_v2!$W$32,+IF(B86>0,VLOOKUP(B86,Simulador_v2!$A$33:$AJ$273,23,0),\" \")))","v":174.79},{"$f":"IF($D$12=0,\" \",IF(B85=$D$12,Simulador_v2!$AJ$32,+IF(B86>0,VLOOKUP(B86,Simulador_v2!$A$33:$AJ$273,36,0),\" \")))","v":23874.868000000006}]
[null,70,{"$f":"IF($D$12=0,\" \",IF(B86=$D$12,\"TOTALES\",+IF(B87>0,VLOOKUP(B87,Simulador_v2!$A$33:$AJ$273,3,0),\" \")))","v":"2028-07-22"},{"$f":"IF($D$12=0,\" \",IF(B86=$D$12,Simulador_v2!$K$32,+IF(B87>0,VLOOKUP(B87,Simulador_v2!$A$33:$AJ$273,11,0),\" \")))","v":14666.945000000003},{"$f":"IF($D$12=0,\" \",IF(B86=$D$12,Simulador_v2!$L$32,+IF(B87>0,VLOOKUP(B87,Simulador_v2!$A$33:$AJ$273,12,0),\" \")))","v":6797.71},{"$f":"IF($D$12=0,\" \",IF(B86=$D$12,Simulador_v2!$M$32,+IF(B87>0,VLOOKUP(B87,Simulador_v2!$A$33:$AJ$273,13,0),\" \")))","v":213.88300000000001},{"$f":"IF($D$12=0,\" \",IF(B86=$D$12,Simulador_v2!$T$32,+IF(B87>0,VLOOKUP(B87,Simulador_v2!$A$33:$AJ$273,20,0),\" \")))","v":1321.54},{"$f":"IF($D$12=0,\" \",IF(B86=$D$12,Simulador_v2!$Z$32,+IF(B87>0,VLOOKUP(B87,Simulador_v2!$A$33:$AJ$273,26,0),\" \")))","v":700},{"$f":"IF($D$12=0,\" \",IF(B86=$D$12,Simulador_v2!$W$32,+IF(B87>0,VLOOKUP(B87,Simulador_v2!$A$33:$AJ$273,23,0),\" \")))","v":174.79},{"$f":"IF($D$12=0,\" \",IF(B86=$D$12,Simulador_v2!$AJ$32,+IF(B87>0,VLOOKUP(B87,Simulador_v2!$A$33:$AJ$273,36,0),\" \")))","v":23874.868000000006}]
[null,71,{"$f":"IF($D$12=0,\" \",IF(B87=$D$12,\"TOTALES\",+IF(B88>0,VLOOKUP(B88,Simulador_v2!$A$33:$AJ$273,3,0),\" \")))","v":"2028-08-22"},{"$f":"IF($D$12=0,\" \",IF(B87=$D$12,Simulador_v2!$K$32,+IF(B88>0,VLOOKUP(B88,Simulador_v2!$A$33:$AJ$273,11,0),\" \")))","v":14672.995000000003},{"$f":"IF($D$12=0,\" \",IF(B87=$D$12,Simulador_v2!$L$32,+IF(B88>0,VLOOKUP(B88,Simulador_v2!$A$33:$AJ$273,12,0),\" \")))","v":6792.93},{"$f":"IF($D$12=0,\" \",IF(B87=$D$12,Simulador_v2!$M$32,+IF(B88>0,VLOOKUP(B88,Simulador_v2!$A$33:$AJ$273,13,0),\" \")))","v":213.88300000000001},{"$f":"IF($D$12=0,\" \",IF(B87=$D$12,Simulador_v2!$T$32,+IF(B88>0,VLOOKUP(B88,Simulador_v2!$A$33:$AJ$273,20,0),\" \")))","v":1320.27},{"$f":"IF($D$12=0,\" \",IF(B87=$D$12,Simulador_v2!$Z$32,+IF(B88>0,VLOOKUP(B88,Simulador_v2!$A$33:$AJ$273,26,0),\" \")))","v":700},{"$f":"IF($D$12=0,\" \",IF(B87=$D$12,Simulador_v2!$W$32,+IF(B88>0,VLOOKUP(B88,Simulador_v2!$A$33:$AJ$273,23,0),\" \")))","v":174.79},{"$f":"IF($D$12=0,\" \",IF(B87=$D$12,Simulador_v2!$AJ$32,+IF(B88>0,VLOOKUP(B88,Simulador_v2!$A$33:$AJ$273,36,0),\" \")))","v":23874.868000000006}]
[null,72,{"$f":"IF($D$12=0,\" \",IF(B88=$D$12,\"TOTALES\",+IF(B89>0,VLOOKUP(B89,Simulador_v2!$A$33:$AJ$273,3,0),\" \")))","v":"2028-09-22"},{"$f":"IF($D$12=0,\" \",IF(B88=$D$12,Simulador_v2!$K$32,+IF(B89>0,VLOOKUP(B89,Simulador_v2!$A$33:$AJ$273,11,0),\" \")))","v":14951.575000000003},{"$f":"IF($D$12=0,\" \",IF(B88=$D$12,Simulador_v2!$L$32,+IF(B89>0,VLOOKUP(B89,Simulador_v2!$A$33:$AJ$273,12,0),\" \")))","v":6559.68},{"$f":"IF($D$12=0,\" \",IF(B88=$D$12,Simulador_v2!$M$32,+IF(B89>0,VLOOKUP(B89,Simulador_v2!$A$33:$AJ$273,13,0),\" \")))","v":213.88300000000001},{"$f":"IF($D$12=0,\" \",IF(B88=$D$12,Simulador_v2!$T$32,+IF(B89>0,VLOOKUP(B89,Simulador_v2!$A$33:$AJ$273,20,0),\" \")))","v":1274.94},{"$f":"IF($D$12=0,\" \",IF(B88=$D$12,Simulador_v2!$Z$32,+IF(B89>0,VLOOKUP(B89,Simulador_v2!$A$33:$AJ$273,26,0),\" \")))","v":700},{"$f":"IF($D$12=0,\" \",IF(B88=$D$12,Simulador_v2!$W$32,+IF(B89>0,VLOOKUP(B89,Simulador_v2!$A$33:$AJ$273,23,0),\" \")))","v":174.79},{"$f":"IF($D$12=0,\" \",IF(B88=$D$12,Simulador_v2!$AJ$32,+IF(B89>0,VLOOKUP(B89,Simulador_v2!$A$33:$AJ$273,36,0),\" \")))","v":23874.868000000006}]
[null,73,{"$f":"IF($D$12=0,\" \",IF(B89=$D$12,\"TOTALES\",+IF(B90>0,VLOOKUP(B90,Simulador_v2!$A$33:$AJ$273,3,0),\" \")))","v":"2028-10-22"},{"$f":"IF($D$12=0,\" \",IF(B89=$D$12,Simulador_v2!$K$32,+IF(B90>0,VLOOKUP(B90,Simulador_v2!$A$33:$AJ$273,11,0),\" \")))","v":15480.585000000005},{"$f":"IF($D$12=0,\" \",IF(B89=$D$12,Simulador_v2!$L$32,+IF(B90>0,VLOOKUP(B90,Simulador_v2!$A$33:$AJ$273,12,0),\" \")))","v":6116.51},{"$f":"IF($D$12=0,\" \",IF(B89=$D$12,Simulador_v2!$M$32,+IF(B90>0,VLOOKUP(B90,Simulador_v2!$A$33:$AJ$273,13,0),\" \")))","v":213.88300000000001},{"$f":"IF($D$12=0,\" \",IF(B89=$D$12,Simulador_v2!$T$32,+IF(B90>0,VLOOKUP(B90,Simulador_v2!$A$33:$AJ$273,20,0),\" \")))","v":1189.0999999999999},{"$f":"IF($D$12=0,\" \",IF(B89=$D$12,Simulador_v2!$Z$32,+IF(B90>0,VLOOKUP(B90,Simulador_v2!$A$33:$AJ$273,26,0),\" \")))","v":700},{"$f":"IF($D$12=0,\" \",IF(B89=$D$12,Simulador_v2!$W$32,+IF(B90>0,VLOOKUP(B90,Simulador_v2!$A$33:$AJ$273,23,0),\" \")))","v":174.79},{"$f":"IF($D$12=0,\" \",IF(B89=$D$12,Simulador_v2!$AJ$32,+IF(B90>0,VLOOKUP(B90,Simulador_v2!$A$33:$AJ$273,36,0),\" \")))","v":23874.868000000006}]
[null,74,{"$f":"IF($D$12=0,\" \",IF(B90=$D$12,\"TOTALES\",+IF(B91>0,VLOOKUP(B91,Simulador_v2!$A$33:$AJ$273,3,0),\" \")))","v":"2028-11-22"},{"$f":"IF($D$12=0,\" \",IF(B90=$D$12,Simulador_v2!$K$32,+IF(B91>0,VLOOKUP(B91,Simulador_v2!$A$33:$AJ$273,11,0),\" \")))","v":15529.375000000004},{"$f":"IF($D$12=0,\" \",IF(B90=$D$12,Simulador_v2!$L$32,+IF(B91>0,VLOOKUP(B91,Simulador_v2!$A$33:$AJ$273,12,0),\" \")))","v":6075.91},{"$f":"IF($D$12=0,\" \",IF(B90=$D$12,Simulador_v2!$M$32,+IF(B91>0,VLOOKUP(B91,Simulador_v2!$A$33:$AJ$273,13,0),\" \")))","v":213.88300000000001},{"$f":"IF($D$12=0,\" \",IF(B90=$D$12,Simulador_v2!$T$32,+IF(B91>0,VLOOKUP(B91,Simulador_v2!$A$33:$AJ$273,20,0),\" \")))","v":1180.9100000000001},{"$f":"IF($D$12=0,\" \",IF(B90=$D$12,Simulador_v2!$Z$32,+IF(B91>0,VLOOKUP(B91,Simulador_v2!$A$33:$AJ$273,26,0),\" \")))","v":700},{"$f":"IF($D$12=0,\" \",IF(B90=$D$12,Simulador_v2!$W$32,+IF(B91>0,VLOOKUP(B91,Simulador_v2!$A$33:$AJ$273,23,0),\" \")))","v":174.79},{"$f":"IF($D$12=0,\" \",IF(B90=$D$12,Simulador_v2!$AJ$32,+IF(B91>0,VLOOKUP(B91,Simulador_v2!$A$33:$AJ$273,36,0),\" \")))","v":23874.868000000006}]
[null,75,{"$f":"IF($D$12=0,\" \",IF(B91=$D$12,\"TOTALES\",+IF(B92>0,VLOOKUP(B92,Simulador_v2!$A$33:$AJ$273,3,0),\" \")))","v":"2028-12-22"},{"$f":"IF($D$12=0,\" \",IF(B91=$D$12,Simulador_v2!$K$32,+IF(B92>0,VLOOKUP(B92,Simulador_v2!$A$33:$AJ$273,11,0),\" \")))","v":16050.245000000003},{"$f":"IF($D$12=0,\" \",IF(B91=$D$12,Simulador_v2!$L$32,+IF(B92>0,VLOOKUP(B92,Simulador_v2!$A$33:$AJ$273,12,0),\" \")))","v":5639.57},{"$f":"IF($D$12=0,\" \",IF(B91=$D$12,Simulador_v2!$M$32,+IF(B92>0,VLOOKUP(B92,Simulador_v2!$A$33:$AJ$273,13,0),\" \")))","v":213.88300000000001},{"$f":"IF($D$12=0,\" \",IF(B91=$D$12,Simulador_v2!$T$32,+IF(B92>0,VLOOKUP(B92,Simulador_v2!$A$33:$AJ$273,20,0),\" \")))","v":1096.3800000000001},{"$f":"IF($D$12=0,\" \",IF(B91=$D$12,Simulador_v2!$Z$32,+IF(B92>0,VLOOKUP(B92,Simulador_v2!$A$33:$AJ$273,26,0),\" \")))","v":700},{"$f":"IF($D$12=0,\" \",IF(B91=$D$12,Simulador_v2!$W$32,+IF(B92>0,VLOOKUP(B92,Simulador_v2!$A$33:$AJ$273,23,0),\" \")))","v":174.79},{"$f":"IF($D$12=0,\" \",IF(B91=$D$12,Simulador_v2!$AJ$32,+IF(B92>0,VLOOKUP(B92,Simulador_v2!$A$33:$AJ$273,36,0),\" \")))","v":23874.868000000006}]
[null,76,{"$f":"IF($D$12=0,\" \",IF(B92=$D$12,\"TOTALES\",+IF(B93>0,VLOOKUP(B93,Simulador_v2!$A$33:$AJ$273,3,0),\" \")))","v":"2029-01-22"},{"$f":"IF($D$12=0,\" \",IF(B92=$D$12,Simulador_v2!$K$32,+IF(B93>0,VLOOKUP(B93,Simulador_v2!$A$33:$AJ$273,11,0),\" \")))","v":16128.955000000005},{"$f":"IF($D$12=0,\" \",IF(B92=$D$12,Simulador_v2!$L$32,+IF(B93>0,VLOOKUP(B93,Simulador_v2!$A$33:$AJ$273,12,0),\" \")))","v":5573.9},{"$f":"IF($D$12=0,\" \",IF(B92=$D$12,Simulador_v2!$M$32,+IF(B93>0,VLOOKUP(B93,Simulador_v2!$A$33:$AJ$273,13,0),\" \")))","v":213.88300000000001},{"$f":"IF($D$12=0,\" \",IF(B92=$D$12,Simulador_v2!$T$32,+IF(B93>0,VLOOKUP(B93,Simulador_v2!$A$33:$AJ$273,20,0),\" \")))","v":1083.3399999999999},{"$f":"IF($D$12=0,\" \",IF(B92=$D$12,Simulador_v2!$Z$32,+IF(B93>0,VLOOKUP(B93,Simulador_v2!$A$33:$AJ$273,26,0),\" \")))","v":700},{"$f":"IF($D$12=0,\" \",IF(B92=$D$12,Simulador_v2!$W$32,+IF(B93>0,VLOOKUP(B93,Simulador_v2!$A$33:$AJ$273,23,0),\" \")))","v":174.79},{"$f":"IF($D$12=0,\" \",IF(B92=$D$12,Simulador_v2!$AJ$32,+IF(B93>0,VLOOKUP(B93,Simulador_v2!$A$33:$AJ$273,36,0),\" \")))","v":23874.868000000006}]
[null,77,{"$f":"IF($D$12=0,\" \",IF(B93=$D$12,\"TOTALES\",+IF(B94>0,VLOOKUP(B94,Simulador_v2!$A$33:$AJ$273,3,0),\" \")))","v":"2029-02-22"},{"$f":"IF($D$12=0,\" \",IF(B93=$D$12,Simulador_v2!$K$32,+IF(B94>0,VLOOKUP(B94,Simulador_v2!$A$33:$AJ$273,11,0),\" \")))","v":16435.185000000005},{"$f":"IF($D$12=0,\" \",IF(B93=$D$12,Simulador_v2!$L$32,+IF(B94>0,VLOOKUP(B94,Simulador_v2!$A$33:$AJ$273,12,0),\" \")))","v":5317.5},{"$f":"IF($D$12=0,\" \",IF(B93=$D$12,Simulador_v2!$M$32,+IF(B94>0,VLOOKUP(B94,Simulador_v2!$A$33:$AJ$273,13,0),\" \")))","v":213.88300000000001},{"$f":"IF($D$12=0,\" \",IF(B93=$D$12,Simulador_v2!$T$32,+IF(B94>0,VLOOKUP(B94,Simulador_v2!$A$33:$AJ$273,20,0),\" \")))","v":1033.51},{"$f":"IF($D$12=0,\" \",IF(B93=$D$12,Simulador_v2!$Z$32,+IF(B94>0,VLOOKUP(B94,Simulador_v2!$A$33:$AJ$273,26,0),\" \")))","v":700},{"$f":"IF($D$12=0,\" \",IF(B93=$D$12,Simulador_v2!$W$32,+IF(B94>0,VLOOKUP(B94,Simulador_v2!$A$33:$AJ$273,23,0),\" \")))","v":174.79},{"$f":"IF($D$12=0,\" \",IF(B93=$D$12,Simulador_v2!$AJ$32,+IF(B94>0,VLOOKUP(B94,Simulador_v2!$A$33:$AJ$273,36,0),\" \")))","v":23874.868000000006}]
[null,78,{"$f":"IF($D$12=0,\" \",IF(B94=$D$12,\"TOTALES\",+IF(B95>0,VLOOKUP(B95,Simulador_v2!$A$33:$AJ$273,3,0),\" \")))","v":"2029-03-22"},{"$f":"IF($D$12=0,\" \",IF(B94=$D$12,Simulador_v2!$K$32,+IF(B95>0,VLOOKUP(B95,Simulador_v2!$A$33:$AJ$273,11,0),\" \")))","v":17335.145000000004},{"$f":"IF($D$12=0,\" \",IF(B94=$D$12,Simulador_v2!$L$32,+IF(B95>0,VLOOKUP(B95,Simulador_v2!$A$33:$AJ$273,12,0),\" \")))","v":4563.43},{"$f":"IF($D$12=0,\" \",IF(B94=$D$12,Simulador_v2!$M$32,+IF(B95>0,VLOOKUP(B95,Simulador_v2!$A$33:$AJ$273,13,0),\" \")))","v":213.88300000000001},{"$f":"IF($D$12=0,\" \",IF(B94=$D$12,Simulador_v2!$T$32,+IF(B95>0,VLOOKUP(B95,Simulador_v2!$A$33:$AJ$273,20,0),\" \")))","v":887.62},{"$f":"IF($D$12=0,\" \",IF(B94=$D$12,Simulador_v2!$Z$32,+IF(B95>0,VLOOKUP(B95,Simulador_v2!$A$33:$AJ$273,26,0),\" \")))","v":700},{"$f":"IF($D$12=0,\" \",IF(B94=$D$12,Simulador_v2!$W$32,+IF(B95>0,VLOOKUP(B95,Simulador_v2!$A$33:$AJ$273,23,0),\" \")))","v":174.79},{"$f":"IF($D$12=0,\" \",IF(B94=$D$12,Simulador_v2!$AJ$32,+IF(B95>0,VLOOKUP(B95,Simulador_v2!$A$33:$AJ$273,36,0),\" \")))","v":23874.868000000006}]
[null,79,{"$f":"IF($D$12=0,\" \",IF(B95=$D$12,\"TOTALES\",+IF(B96>0,VLOOKUP(B96,Simulador_v2!$A$33:$AJ$273,3,0),\" \")))","v":"2029-04-22"},{"$f":"IF($D$12=0,\" \",IF(B95=$D$12,Simulador_v2!$K$32,+IF(B96>0,VLOOKUP(B96,Simulador_v2!$A$33:$AJ$273,11,0),\" \")))","v":17076.355000000003},{"$f":"IF($D$12=0,\" \",IF(B95=$D$12,Simulador_v2!$L$32,+IF(B96>0,VLOOKUP(B96,Simulador_v2!$A$33:$AJ$273,12,0),\" \")))","v":4780.67},{"$f":"IF($D$12=0,\" \",IF(B95=$D$12,Simulador_v2!$M$32,+IF(B96>0,VLOOKUP(B96,Simulador_v2!$A$33:$AJ$273,13,0),\" \")))","v":213.88300000000001},{"$f":"IF($D$12=0,\" \",IF(B95=$D$12,Simulador_v2!$T$32,+IF(B96>0,VLOOKUP(B96,Simulador_v2!$A$33:$AJ$273,20,0),\" \")))","v":929.17},{"$f":"IF($D$12=0,\" \",IF(B95=$D$12,Simulador_v2!$Z$32,+IF(B96>0,VLOOKUP(B96,Simulador_v2!$A$33:$AJ$273,26,0),\" \")))","v":700},{"$f":"IF($D$12=0,\" \",IF(B95=$D$12,Simulador_v2!$W$32,+IF(B96>0,VLOOKUP(B96,Simulador_v2!$A$33:$AJ$273,23,0),\" \")))","v":174.79},{"$f":"IF($D$12=0,\" \",IF(B95=$D$12,Simulador_v2!$AJ$32,+IF(B96>0,VLOOKUP(B96,Simulador_v2!$A$33:$AJ$273,36,0),\" \")))","v":23874.868000000002}]
[null,80,{"$f":"IF($D$12=0,\" \",IF(B96=$D$12,\"TOTALES\",+IF(B97>0,VLOOKUP(B97,Simulador_v2!$A$33:$AJ$273,3,0),\" \")))","v":"2029-05-22"},{"$f":"IF($D$12=0,\" \",IF(B96=$D$12,Simulador_v2!$K$32,+IF(B97>0,VLOOKUP(B97,Simulador_v2!$A$33:$AJ$273,11,0),\" \")))","v":17575.415000000005},{"$f":"IF($D$12=0,\" \",IF(B96=$D$12,Simulador_v2!$L$32,+IF(B97>0,VLOOKUP(B97,Simulador_v2!$A$33:$AJ$273,12,0),\" \")))","v":4362.6400000000003},{"$f":"IF($D$12=0,\" \",IF(B96=$D$12,Simulador_v2!$M$32,+IF(B97>0,VLOOKUP(B97,Simulador_v2!$A$33:$AJ$273,13,0),\" \")))","v":213.88300000000001},{"$f":"IF($D$12=0,\" \",IF(B96=$D$12,Simulador_v2!$T$32,+IF(B97>0,VLOOKUP(B97,Simulador_v2!$A$33:$AJ$273,20,0),\" \")))","v":848.14},{"$f":"IF($D$12=0,\" \",IF(B96=$D$12,Simulador_v2!$Z$32,+IF(B97>0,VLOOKUP(B97,Simulador_v2!$A$33:$AJ$273,26,0),\" \")))","v":700},{"$f":"IF($D$12=0,\" \",IF(B96=$D$12,Simulador_v2!$W$32,+IF(B97>0,VLOOKUP(B97,Simulador_v2!$A$33:$AJ$273,23,0),\" \")))","v":174.79},{"$f":"IF($D$12=0,\" \",IF(B96=$D$12,Simulador_v2!$AJ$32,+IF(B97>0,VLOOKUP(B97,Simulador_v2!$A$33:$AJ$273,36,0),\" \")))","v":23874.868000000006}]
[null,81,{"$f":"IF($D$12=0,\" \",IF(B97=$D$12,\"TOTALES\",+IF(B98>0,VLOOKUP(B98,Simulador_v2!$A$33:$AJ$273,3,0),\" \")))","v":"2029-06-22"},{"$f":"IF($D$12=0,\" \",IF(B97=$D$12,Simulador_v2!$K$32,+IF(B98>0,VLOOKUP(B98,Simulador_v2!$A$33:$AJ$273,11,0),\" \")))","v":17734.265000000003},{"$f":"IF($D$12=0,\" \",IF(B97=$D$12,Simulador_v2!$L$32,+IF(B98>0,VLOOKUP(B98,Simulador_v2!$A$33:$AJ$273,12,0),\" \")))","v":4229.82},{"$f":"IF($D$12=0,\" \",IF(B97=$D$12,Simulador_v2!$M$32,+IF(B98>0,VLOOKUP(B98,Simulador_v2!$A$33:$AJ$273,13,0),\" \")))","v":213.88300000000001},{"$f":"IF($D$12=0,\" \",IF(B97=$D$12,Simulador_v2!$T$32,+IF(B98>0,VLOOKUP(B98,Simulador_v2!$A$33:$AJ$273,20,0),\" \")))","v":822.11},{"$f":"IF($D$12=0,\" \",IF(B97=$D$12,Simulador_v2!$Z$32,+IF(B98>0,VLOOKUP(B98,Simulador_v2!$A$33:$AJ$273,26,0),\" \")))","v":700},{"$f":"IF($D$12=0,\" \",IF(B97=$D$12,Simulador_v2!$W$32,+IF(B98>0,VLOOKUP(B98,Simulador_v2!$A$33:$AJ$273,23,0),\" \")))","v":174.79},{"$f":"IF($D$12=0,\" \",IF(B97=$D$12,Simulador_v2!$AJ$32,+IF(B98>0,VLOOKUP(B98,Simulador_v2!$A$33:$AJ$273,36,0),\" \")))","v":23874.868000000006}]
[null,82,{"$f":"IF($D$12=0,\" \",IF(B98=$D$12,\"TOTALES\",+IF(B99>0,VLOOKUP(B99,Simulador_v2!$A$33:$AJ$273,3,0),\" \")))","v":"2029-07-22"},{"$f":"IF($D$12=0,\" \",IF(B98=$D$12,Simulador_v2!$K$32,+IF(B99>0,VLOOKUP(B99,Simulador_v2!$A$33:$AJ$273,11,0),\" \")))","v":18224.055000000004},{"$f":"IF($D$12=0,\" \",IF(B98=$D$12,Simulador_v2!$L$32,+IF(B99>0,VLOOKUP(B99,Simulador_v2!$A$33:$AJ$273,12,0),\" \")))","v":3819.58},{"$f":"IF($D$12=0,\" \",IF(B98=$D$12,Simulador_v2!$M$32,+IF(B99>0,VLOOKUP(B99,Simulador_v2!$A$33:$AJ$273,13,0),\" \")))","v":213.88300000000001},{"$f":"IF($D$12=0,\" \",IF(B98=$D$12,Simulador_v2!$T$32,+IF(B99>0,VLOOKUP(B99,Simulador_v2!$A$33:$AJ$273,20,0),\" \")))","v":742.56},{"$f":"IF($D$12=0,\" \",IF(B98=$D$12,Simulador_v2!$Z$32,+IF(B99>0,VLOOKUP(B99,Simulador_v2!$A$33:$AJ$273,26,0),\" \")))","v":700},{"$f":"IF($D$12=0,\" \",IF(B98=$D$12,Simulador_v2!$W$32,+IF(B99>0,VLOOKUP(B99,Simulador_v2!$A$33:$AJ$273,23,0),\" \")))","v":174.79},{"$f":"IF($D$12=0,\" \",IF(B98=$D$12,Simulador_v2!$AJ$32,+IF(B99>0,VLOOKUP(B99,Simulador_v2!$A$33:$AJ$273,36,0),\" \")))","v":23874.868000000006}]
[null,83,{"$f":"IF($D$12=0,\" \",IF(B99=$D$12,\"TOTALES\",+IF(B100>0,VLOOKUP(B100,Simulador_v2!$A$33:$AJ$273,3,0),\" \")))","v":"2029-08-22"},{"$f":"IF($D$12=0,\" \",IF(B99=$D$12,Simulador_v2!$K$32,+IF(B100>0,VLOOKUP(B100,Simulador_v2!$A$33:$AJ$273,11,0),\" \")))","v":18416.985000000004},{"$f":"IF($D$12=0,\" \",IF(B99=$D$12,Simulador_v2!$L$32,+IF(B100>0,VLOOKUP(B100,Simulador_v2!$A$33:$AJ$273,12,0),\" \")))","v":3658.2},{"$f":"IF($D$12=0,\" \",IF(B99=$D$12,Simulador_v2!$M$32,+IF(B100>0,VLOOKUP(B100,Simulador_v2!$A$33:$AJ$273,13,0),\" \")))","v":213.88300000000001},{"$f":"IF($D$12=0,\" \",IF(B99=$D$12,Simulador_v2!$T$32,+IF(B100>0,VLOOKUP(B100,Simulador_v2!$A$33:$AJ$273,20,0),\" \")))","v":711.01},{"$f":"IF($D$12=0,\" \",IF(B99=$D$12,Simulador_v2!$Z$32,+IF(B100>0,VLOOKUP(B100,Simulador_v2!$A$33:$AJ$273,26,0),\" \")))","v":700},{"$f":"IF($D$12=0,\" \",IF(B99=$D$12,Simulador_v2!$W$32,+IF(B100>0,VLOOKUP(B100,Simulador_v2!$A$33:$AJ$273,23,0),\" \")))","v":174.79},{"$f":"IF($D$12=0,\" \",IF(B99=$D$12,Simulador_v2!$AJ$32,+IF(B100>0,VLOOKUP(B100,Simulador_v2!$A$33:$AJ$273,36,0),\" \")))","v":23874.868000000006}]
[null,84,{"$f":"IF($D$12=0,\" \",IF(B100=$D$12,\"TOTALES\",+IF(B101>0,VLOOKUP(B101,Simulador_v2!$A$33:$AJ$273,3,0),\" \")))","v":"2029-09-22"},{"$f":"IF($D$12=0,\" \",IF(B100=$D$12,Simulador_v2!$K$32,+IF(B101>0,VLOOKUP(B101,Simulador_v2!$A$33:$AJ$273,11,0),\" \")))","v":18766.655000000006},{"$f":"IF($D$12=0,\" \",IF(B100=$D$12,Simulador_v2!$L$32,+IF(B101>0,VLOOKUP(B101,Simulador_v2!$A$33:$AJ$273,12,0),\" \")))","v":3365.44},{"$f":"IF($D$12=0,\" \",IF(B100=$D$12,Simulador_v2!$M$32,+IF(B101>0,VLOOKUP(B101,Simulador_v2!$A$33:$AJ$273,13,0),\" \")))","v":213.88300000000001},{"$f":"IF($D$12=0,\" \",IF(B100=$D$12,Simulador_v2!$T$32,+IF(B101>0,VLOOKUP(B101,Simulador_v2!$A$33:$AJ$273,20,0),\" \")))","v":654.1},{"$f":"IF($D$12=0,\" \",IF(B100=$D$12,Simulador_v2!$Z$32,+IF(B101>0,VLOOKUP(B101,Simulador_v2!$A$33:$AJ$273,26,0),\" \")))","v":700},{"$f":"IF($D$12=0,\" \",IF(B100=$D$12,Simulador_v2!$W$32,+IF(B101>0,VLOOKUP(B101,Simulador_v2!$A$33:$AJ$273,23,0),\" \")))","v":174.79},{"$f":"IF($D$12=0,\" \",IF(B100=$D$12,Simulador_v2!$AJ$32,+IF(B101>0,VLOOKUP(B101,Simulador_v2!$A$33:$AJ$273,36,0),\" \")))","v":23874.868000000006}]
[null,"",{"$f":"IF($D$12=0,\" \",IF(B101=$D$12,\"TOTALES\",+IF(B102>0,VLOOKUP(B102,Simulador_v2!$A$33:$AJ$273,3,0),\" \")))","v":"TOTALES"},{"$f":"IF($D$12=0,\" \",IF(B101=$D$12,Simulador_v2!$K$32,+IF(B102>0,VLOOKUP(B102,Simulador_v2!$A$33:$AJ$273,11,0),\" \")))","v":807060.12000000034},{"$f":"IF($D$12=0,\" \",IF(B101=$D$12,Simulador_v2!$L$32,+IF(B102>0,VLOOKUP(B102,Simulador_v2!$A$33:$AJ$273,12,0),\" \")))","v":923044.16},{"$f":"IF($D$12=0,\" \",IF(B101=$D$12,Simulador_v2!$M$32,+IF(B102>0,VLOOKUP(B102,Simulador_v2!$A$33:$AJ$273,13,0),\" \")))","v":17966.171999999999},{"$f":"IF($D$12=0,\" \",IF(B101=$D$12,Simulador_v2!$T$32,+IF(B102>0,VLOOKUP(B102,Simulador_v2!$A$33:$AJ$273,20,0),\" \")))","v":182915.53000000003},{"$f":"IF($D$12=0,\" \",IF(B101=$D$12,Simulador_v2!$Z$32,+IF(B102>0,VLOOKUP(B102,Simulador_v2!$A$33:$AJ$273,26,0),\" \")))","v":59616.66},{"$f":"IF($D$12=0,\" \",IF(B101=$D$12,Simulador_v2!$W$32,+IF(B102>0,VLOOKUP(B102,Simulador_v2!$A$33:$AJ$273,23,0),\" \")))","v":14886.270000000033},{"$f":"IF($D$12=0,\" \",IF(B101=$D$12,Simulador_v2!$AJ$32,+IF(B102>0,VLOOKUP(B102,Simulador_v2!$A$33:$AJ$273,36,0),\" \")))","v":2005488.9120000012}]
[null,"",{"$f":"IF($D$12=0,\" \",IF(B102=$D$12,\"TOTALES\",+IF(B103>0,VLOOKUP(B103,Simulador_v2!$A$33:$AJ$273,3,0),\" \")))","v":""},{"$f":"IF($D$12=0,\" \",IF(B102=$D$12,Simulador_v2!$K$32,+IF(B103>0,VLOOKUP(B103,Simulador_v2!$A$33:$AJ$273,11,0),\" \")))","v":""},{"$f":"IF($D$12=0,\" \",IF(B102=$D$12,Simulador_v2!$L$32,+IF(B103>0,VLOOKUP(B103,Simulador_v2!$A$33:$AJ$273,12,0),\" \")))","v":""},{"$f":"IF($D$12=0,\" \",IF(B102=$D$12,Simulador_v2!$M$32,+IF(B103>0,VLOOKUP(B103,Simulador_v2!$A$33:$AJ$273,13,0),\" \")))","v":""},{"$f":"IF($D$12=0,\" \",IF(B102=$D$12,Simulador_v2!$T$32,+IF(B103>0,VLOOKUP(B103,Simulador_v2!$A$33:$AJ$273,20,0),\" \")))","v":""},{"$f":"IF($D$12=0,\" \",IF(B102=$D$12,Simulador_v2!$Z$32,+IF(B103>0,VLOOKUP(B103,Simulador_v2!$A$33:$AJ$273,26,0),\" \")))","v":""},{"$f":"IF($D$12=0,\" \",IF(B102=$D$12,Simulador_v2!$W$32,+IF(B103>0,VLOOKUP(B103,Simulador_v2!$A$33:$AJ$273,23,0),\" \")))","v":""},{"$f":"IF($D$12=0,\" \",IF(B102=$D$12,Simulador_v2!$AJ$32,+IF(B103>0,VLOOKUP(B103,Simulador_v2!$A$33:$AJ$273,36,0),\" \")))","v":""}]
[null,"",{"$f":"IF($D$12=0,\" \",IF(B103=$D$12,\"TOTALES\",+IF(B104>0,VLOOKUP(B104,Simulador_v2!$A$33:$AJ$273,3,0),\" \")))","v":""},{"$f":"IF($D$12=0,\" \",IF(B103=$D$12,Simulador_v2!$K$32,+IF(B104>0,VLOOKUP(B104,Simulador_v2!$A$33:$AJ$273,11,0),\" \")))","v":""},{"$f":"IF($D$12=0,\" \",IF(B103=$D$12,Simulador_v2!$L$32,+IF(B104>0,VLOOKUP(B104,Simulador_v2!$A$33:$AJ$273,12,0),\" \")))","v":""},{"$f":"IF($D$12=0,\" \",IF(B103=$D$12,Simulador_v2!$M$32,+IF(B104>0,VLOOKUP(B104,Simulador_v2!$A$33:$AJ$273,13,0),\" \")))","v":""},{"$f":"IF($D$12=0,\" \",IF(B103=$D$12,Simulador_v2!$T$32,+IF(B104>0,VLOOKUP(B104,Simulador_v2!$A$33:$AJ$273,20,0),\" \")))","v":""},{"$f":"IF($D$12=0,\" \",IF(B103=$D$12,Simulador_v2!$Z$32,+IF(B104>0,VLOOKUP(B104,Simulador_v2!$A$33:$AJ$273,26,0),\" \")))","v":""},{"$f":"IF($D$12=0,\" \",IF(B103=$D$12,Simulador_v2!$W$32,+IF(B104>0,VLOOKUP(B104,Simulador_v2!$A$33:$AJ$273,23,0),\" \")))","v":""},{"$f":"IF($D$12=0,\" \",IF(B103=$D$12,Simulador_v2!$AJ$32,+IF(B104>0,VLOOKUP(B104,Simulador_v2!$A$33:$AJ$273,36,0),\" \")))","v":""}]
[null,"",{"$f":"IF($D$12=0,\" \",IF(B104=$D$12,\"TOTALES\",+IF(B105>0,VLOOKUP(B105,Simulador_v2!$A$33:$AJ$273,3,0),\" \")))","v":""},{"$f":"IF($D$12=0,\" \",IF(B104=$D$12,Simulador_v2!$K$32,+IF(B105>0,VLOOKUP(B105,Simulador_v2!$A$33:$AJ$273,11,0),\" \")))","v":""},{"$f":"IF($D$12=0,\" \",IF(B104=$D$12,Simulador_v2!$L$32,+IF(B105>0,VLOOKUP(B105,Simulador_v2!$A$33:$AJ$273,12,0),\" \")))","v":""},{"$f":"IF($D$12=0,\" \",IF(B104=$D$12,Simulador_v2!$M$32,+IF(B105>0,VLOOKUP(B105,Simulador_v2!$A$33:$AJ$273,13,0),\" \")))","v":""},{"$f":"IF($D$12=0,\" \",IF(B104=$D$12,Simulador_v2!$T$32,+IF(B105>0,VLOOKUP(B105,Simulador_v2!$A$33:$AJ$273,20,0),\" \")))","v":""},{"$f":"IF($D$12=0,\" \",IF(B104=$D$12,Simulador_v2!$Z$32,+IF(B105>0,VLOOKUP(B105,Simulador_v2!$A$33:$AJ$273,26,0),\" \")))","v":""},{"$f":"IF($D$12=0,\" \",IF(B104=$D$12,Simulador_v2!$W$32,+IF(B105>0,VLOOKUP(B105,Simulador_v2!$A$33:$AJ$273,23,0),\" \")))","v":""},{"$f":"IF($D$12=0,\" \",IF(B104=$D$12,Simulador_v2!$AJ$32,+IF(B105>0,VLOOKUP(B105,Simulador_v2!$A$33:$AJ$273,36,0),\" \")))","v":""}]
[null,"",{"$f":"IF($D$12=0,\" \",IF(B105=$D$12,\"TOTALES\",+IF(B106>0,VLOOKUP(B106,Simulador_v2!$A$33:$AJ$273,3,0),\" \")))","v":""},{"$f":"IF($D$12=0,\" \",IF(B105=$D$12,Simulador_v2!$K$32,+IF(B106>0,VLOOKUP(B106,Simulador_v2!$A$33:$AJ$273,11,0),\" \")))","v":""},{"$f":"IF($D$12=0,\" \",IF(B105=$D$12,Simulador_v2!$L$32,+IF(B106>0,VLOOKUP(B106,Simulador_v2!$A$33:$AJ$273,12,0),\" \")))","v":""},{"$f":"IF($D$12=0,\" \",IF(B105=$D$12,Simulador_v2!$M$32,+IF(B106>0,VLOOKUP(B106,Simulador_v2!$A$33:$AJ$273,13,0),\" \")))","v":""},{"$f":"IF($D$12=0,\" \",IF(B105=$D$12,Simulador_v2!$T$32,+IF(B106>0,VLOOKUP(B106,Simulador_v2!$A$33:$AJ$273,20,0),\" \")))","v":""},{"$f":"IF($D$12=0,\" \",IF(B105=$D$12,Simulador_v2!$Z$32,+IF(B106>0,VLOOKUP(B106,Simulador_v2!$A$33:$AJ$273,26,0),\" \")))","v":""},{"$f":"IF($D$12=0,\" \",IF(B105=$D$12,Simulador_v2!$W$32,+IF(B106>0,VLOOKUP(B106,Simulador_v2!$A$33:$AJ$273,23,0),\" \")))","v":""},{"$f":"IF($D$12=0,\" \",IF(B105=$D$12,Simulador_v2!$AJ$32,+IF(B106>0,VLOOKUP(B106,Simulador_v2!$A$33:$AJ$273,36,0),\" \")))","v":""}]
[null,"",{"$f":"IF($D$12=0,\" \",IF(B106=$D$12,\"TOTALES\",+IF(B107>0,VLOOKUP(B107,Simulador_v2!$A$33:$AJ$273,3,0),\" \")))","v":""},{"$f":"IF($D$12=0,\" \",IF(B106=$D$12,Simulador_v2!$K$32,+IF(B107>0,VLOOKUP(B107,Simulador_v2!$A$33:$AJ$273,11,0),\" \")))","v":""},{"$f":"IF($D$12=0,\" \",IF(B106=$D$12,Simulador_v2!$L$32,+IF(B107>0,VLOOKUP(B107,Simulador_v2!$A$33:$AJ$273,12,0),\" \")))","v":""},{"$f":"IF($D$12=0,\" \",IF(B106=$D$12,Simulador_v2!$M$32,+IF(B107>0,VLOOKUP(B107,Simulador_v2!$A$33:$AJ$273,13,0),\" \")))","v":""},{"$f":"IF($D$12=0,\" \",IF(B106=$D$12,Simulador_v2!$T$32,+IF(B107>0,VLOOKUP(B107,Simulador_v2!$A$33:$AJ$273,20,0),\" \")))","v":""},{"$f":"IF($D$12=0,\" \",IF(B106=$D$12,Simulador_v2!$Z$32,+IF(B107>0,VLOOKUP(B107,Simulador_v2!$A$33:$AJ$273,26,0),\" \")))","v":""},{"$f":"IF($D$12=0,\" \",IF(B106=$D$12,Simulador_v2!$W$32,+IF(B107>0,VLOOKUP(B107,Simulador_v2!$A$33:$AJ$273,23,0),\" \")))","v":""},{"$f":"IF($D$12=0,\" \",IF(B106=$D$12,Simulador_v2!$AJ$32,+IF(B107>0,VLOOKUP(B107,Simulador_v2!$A$33:$AJ$273,36,0),\" \")))","v":""}]
[null,"",{"$f":"IF($D$12=0,\" \",IF(B107=$D$12,\"TOTALES\",+IF(B108>0,VLOOKUP(B108,Simulador_v2!$A$33:$AJ$273,3,0),\" \")))","v":""},{"$f":"IF($D$12=0,\" \",IF(B107=$D$12,Simulador_v2!$K$32,+IF(B108>0,VLOOKUP(B108,Simulador_v2!$A$33:$AJ$273,11,0),\" \")))","v":""},{"$f":"IF($D$12=0,\" \",IF(B107=$D$12,Simulador_v2!$L$32,+IF(B108>0,VLOOKUP(B108,Simulador_v2!$A$33:$AJ$273,12,0),\" \")))","v":""},{"$f":"IF($D$12=0,\" \",IF(B107=$D$12,Simulador_v2!$M$32,+IF(B108>0,VLOOKUP(B108,Simulador_v2!$A$33:$AJ$273,13,0),\" \")))","v":""},{"$f":"IF($D$12=0,\" \",IF(B107=$D$12,Simulador_v2!$T$32,+IF(B108>0,VLOOKUP(B108,Simulador_v2!$A$33:$AJ$273,20,0),\" \")))","v":""},{"$f":"IF($D$12=0,\" \",IF(B107=$D$12,Simulador_v2!$Z$32,+IF(B108>0,VLOOKUP(B108,Simulador_v2!$A$33:$AJ$273,26,0),\" \")))","v":""},{"$f":"IF($D$12=0,\" \",IF(B107=$D$12,Simulador_v2!$W$32,+IF(B108>0,VLOOKUP(B108,Simulador_v2!$A$33:$AJ$273,23,0),\" \")))","v":""},{"$f":"IF($D$12=0,\" \",IF(B107=$D$12,Simulador_v2!$AJ$32,+IF(B108>0,VLOOKUP(B108,Simulador_v2!$A$33:$AJ$273,36,0),\" \")))","v":""}]
[null,"",{"$f":"IF($D$12=0,\" \",IF(B108=$D$12,\"TOTALES\",+IF(B109>0,VLOOKUP(B109,Simulador_v2!$A$33:$AJ$273,3,0),\" \")))","v":""},{"$f":"IF($D$12=0,\" \",IF(B108=$D$12,Simulador_v2!$K$32,+IF(B109>0,VLOOKUP(B109,Simulador_v2!$A$33:$AJ$273,11,0),\" \")))","v":""},{"$f":"IF($D$12=0,\" \",IF(B108=$D$12,Simulador_v2!$L$32,+IF(B109>0,VLOOKUP(B109,Simulador_v2!$A$33:$AJ$273,12,0),\" \")))","v":""},{"$f":"IF($D$12=0,\" \",IF(B108=$D$12,Simulador_v2!$M$32,+IF(B109>0,VLOOKUP(B109,Simulador_v2!$A$33:$AJ$273,13,0),\" \")))","v":""},{"$f":"IF($D$12=0,\" \",IF(B108=$D$12,Simulador_v2!$T$32,+IF(B109>0,VLOOKUP(B109,Simulador_v2!$A$33:$AJ$273,20,0),\" \")))","v":""},{"$f":"IF($D$12=0,\" \",IF(B108=$D$12,Simulador_v2!$Z$32,+IF(B109>0,VLOOKUP(B109,Simulador_v2!$A$33:$AJ$273,26,0),\" \")))","v":""},{"$f":"IF($D$12=0,\" \",IF(B108=$D$12,Simulador_v2!$W$32,+IF(B109>0,VLOOKUP(B109,Simulador_v2!$A$33:$AJ$273,23,0),\" \")))","v":""},{"$f":"IF($D$12=0,\" \",IF(B108=$D$12,Simulador_v2!$AJ$32,+IF(B109>0,VLOOKUP(B109,Simulador_v2!$A$33:$AJ$273,36,0),\" \")))","v":""}]
[null,"",{"$f":"IF($D$12=0,\" \",IF(B109=$D$12,\"TOTALES\",+IF(B110>0,VLOOKUP(B110,Simulador_v2!$A$33:$AJ$273,3,0),\" \")))","v":""},{"$f":"IF($D$12=0,\" \",IF(B109=$D$12,Simulador_v2!$K$32,+IF(B110>0,VLOOKUP(B110,Simulador_v2!$A$33:$AJ$273,11,0),\" \")))","v":""},{"$f":"IF($D$12=0,\" \",IF(B109=$D$12,Simulador_v2!$L$32,+IF(B110>0,VLOOKUP(B110,Simulador_v2!$A$33:$AJ$273,12,0),\" \")))","v":""},{"$f":"IF($D$12=0,\" \",IF(B109=$D$12,Simulador_v2!$M$32,+IF(B110>0,VLOOKUP(B110,Simulador_v2!$A$33:$AJ$273,13,0),\" \")))","v":""},{"$f":"IF($D$12=0,\" \",IF(B109=$D$12,Simulador_v2!$T$32,+IF(B110>0,VLOOKUP(B110,Simulador_v2!$A$33:$AJ$273,20,0),\" \")))","v":""},{"$f":"IF($D$12=0,\" \",IF(B109=$D$12,Simulador_v2!$Z$32,+IF(B110>0,VLOOKUP(B110,Simulador_v2!$A$33:$AJ$273,26,0),\" \")))","v":""},{"$f":"IF($D$12=0,\" \",IF(B109=$D$12,Simulador_v2!$W$32,+IF(B110>0,VLOOKUP(B110,Simulador_v2!$A$33:$AJ$273,23,0),\" \")))","v":""},{"$f":"IF($D$12=0,\" \",IF(B109=$D$12,Simulador_v2!$AJ$32,+IF(B110>0,VLOOKUP(B110,Simulador_v2!$A$33:$AJ$273,36,0),\" \")))","v":""}]
[null,"",{"$f":"IF($D$12=0,\" \",IF(B110=$D$12,\"TOTALES\",+IF(B111>0,VLOOKUP(B111,Simulador_v2!$A$33:$AJ$273,3,0),\" \")))","v":""},{"$f":"IF($D$12=0,\" \",IF(B110=$D$12,Simulador_v2!$K$32,+IF(B111>0,VLOOKUP(B111,Simulador_v2!$A$33:$AJ$273,11,0),\" \")))","v":""},{"$f":"IF($D$12=0,\" \",IF(B110=$D$12,Simulador_v2!$L$32,+IF(B111>0,VLOOKUP(B111,Simulador_v2!$A$33:$AJ$273,12,0),\" \")))","v":""},{"$f":"IF($D$12=0,\" \",IF(B110=$D$12,Simulador_v2!$M$32,+IF(B111>0,VLOOKUP(B111,Simulador_v2!$A$33:$AJ$273,13,0),\" \")))","v":""},{"$f":"IF($D$12=0,\" \",IF(B110=$D$12,Simulador_v2!$T$32,+IF(B111>0,VLOOKUP(B111,Simulador_v2!$A$33:$AJ$273,20,0),\" \")))","v":""},{"$f":"IF($D$12=0,\" \",IF(B110=$D$12,Simulador_v2!$Z$32,+IF(B111>0,VLOOKUP(B111,Simulador_v2!$A$33:$AJ$273,26,0),\" \")))","v":""},{"$f":"IF($D$12=0,\" \",IF(B110=$D$12,Simulador_v2!$W$32,+IF(B111>0,VLOOKUP(B111,Simulador_v2!$A$33:$AJ$273,23,0),\" \")))","v":""},{"$f":"IF($D$12=0,\" \",IF(B110=$D$12,Simulador_v2!$AJ$32,+IF(B111>0,VLOOKUP(B111,Simulador_v2!$A$33:$AJ$273,36,0),\" \")))","v":""}]
[null,"",{"$f":"IF($D$12=0,\" \",IF(B111=$D$12,\"TOTALES\",+IF(B112>0,VLOOKUP(B112,Simulador_v2!$A$33:$AJ$273,3,0),\" \")))","v":""},{"$f":"IF($D$12=0,\" \",IF(B111=$D$12,Simulador_v2!$K$32,+IF(B112>0,VLOOKUP(B112,Simulador_v2!$A$33:$AJ$273,11,0),\" \")))","v":""},{"$f":"IF($D$12=0,\" \",IF(B111=$D$12,Simulador_v2!$L$32,+IF(B112>0,VLOOKUP(B112,Simulador_v2!$A$33:$AJ$273,12,0),\" \")))","v":""},{"$f":"IF($D$12=0,\" \",IF(B111=$D$12,Simulador_v2!$M$32,+IF(B112>0,VLOOKUP(B112,Simulador_v2!$A$33:$AJ$273,13,0),\" \")))","v":""},{"$f":"IF($D$12=0,\" \",IF(B111=$D$12,Simulador_v2!$T$32,+IF(B112>0,VLOOKUP(B112,Simulador_v2!$A$33:$AJ$273,20,0),\" \")))","v":""},{"$f":"IF($D$12=0,\" \",IF(B111=$D$12,Simulador_v2!$Z$32,+IF(B112>0,VLOOKUP(B112,Simulador_v2!$A$33:$AJ$273,26,0),\" \")))","v":""},{"$f":"IF($D$12=0,\" \",IF(B111=$D$12,Simulador_v2!$W$32,+IF(B112>0,VLOOKUP(B112,Simulador_v2!$A$33:$AJ$273,23,0),\" \")))","v":""},{"$f":"IF($D$12=0,\" \",IF(B111=$D$12,Simulador_v2!$AJ$32,+IF(B112>0,VLOOKUP(B112,Simulador_v2!$A$33:$AJ$273,36,0),\" \")))","v":""}]
[null,"",{"$f":"IF($D$12=0,\" \",IF(B112=$D$12,\"TOTALES\",+IF(B113>0,VLOOKUP(B113,Simulador_v2!$A$33:$AJ$273,3,0),\" \")))","v":""},{"$f":"IF($D$12=0,\" \",IF(B112=$D$12,Simulador_v2!$K$32,+IF(B113>0,VLOOKUP(B113,Simulador_v2!$A$33:$AJ$273,11,0),\" \")))","v":""},{"$f":"IF($D$12=0,\" \",IF(B112=$D$12,Simulador_v2!$L$32,+IF(B113>0,VLOOKUP(B113,Simulador_v2!$A$33:$AJ$273,12,0),\" \")))","v":""},{"$f":"IF($D$12=0,\" \",IF(B112=$D$12,Simulador_v2!$M$32,+IF(B113>0,VLOOKUP(B113,Simulador_v2!$A$33:$AJ$273,13,0),\" \")))","v":""},{"$f":"IF($D$12=0,\" \",IF(B112=$D$12,Simulador_v2!$T$32,+IF(B113>0,VLOOKUP(B113,Simulador_v2!$A$33:$AJ$273,20,0),\" \")))","v":""},{"$f":"IF($D$12=0,\" \",IF(B112=$D$12,Simulador_v2!$Z$32,+IF(B113>0,VLOOKUP(B113,Simulador_v2!$A$33:$AJ$273,26,0),\" \")))","v":""},{"$f":"IF($D$12=0,\" \",IF(B112=$D$12,Simulador_v2!$W$32,+IF(B113>0,VLOOKUP(B113,Simulador_v2!$A$33:$AJ$273,23,0),\" \")))","v":""},{"$f":"IF($D$12=0,\" \",IF(B112=$D$12,Simulador_v2!$AJ$32,+IF(B113>0,VLOOKUP(B113,Simulador_v2!$A$33:$AJ$273,36,0),\" \")))","v":""}]
[null,"",{"$f":"IF($D$12=0,\" \",IF(B113=$D$12,\"TOTALES\",+IF(B114>0,VLOOKUP(B114,Simulador_v2!$A$33:$AJ$273,3,0),\" \")))","v":""},{"$f":"IF($D$12=0,\" \",IF(B113=$D$12,Simulador_v2!$K$32,+IF(B114>0,VLOOKUP(B114,Simulador_v2!$A$33:$AJ$273,11,0),\" \")))","v":""},{"$f":"IF($D$12=0,\" \",IF(B113=$D$12,Simulador_v2!$L$32,+IF(B114>0,VLOOKUP(B114,Simulador_v2!$A$33:$AJ$273,12,0),\" \")))","v":""},{"$f":"IF($D$12=0,\" \",IF(B113=$D$12,Simulador_v2!$M$32,+IF(B114>0,VLOOKUP(B114,Simulador_v2!$A$33:$AJ$273,13,0),\" \")))","v":""},{"$f":"IF($D$12=0,\" \",IF(B113=$D$12,Simulador_v2!$T$32,+IF(B114>0,VLOOKUP(B114,Simulador_v2!$A$33:$AJ$273,20,0),\" \")))","v":""},{"$f":"IF($D$12=0,\" \",IF(B113=$D$12,Simulador_v2!$Z$32,+IF(B114>0,VLOOKUP(B114,Simulador_v2!$A$33:$AJ$273,26,0),\" \")))","v":""},{"$f":"IF($D$12=0,\" \",IF(B113=$D$12,Simulador_v2!$W$32,+IF(B114>0,VLOOKUP(B114,Simulador_v2!$A$33:$AJ$273,23,0),\" \")))","v":""},{"$f":"IF($D$12=0,\" \",IF(B113=$D$12,Simulador_v2!$AJ$32,+IF(B114>0,VLOOKUP(B114,Simulador_v2!$A$33:$AJ$273,36,0),\" \")))","v":""}]
[null,"",{"$f":"IF($D$12=0,\" \",IF(B114=$D$12,\"TOTALES\",+IF(B115>0,VLOOKUP(B115,Simulador_v2!$A$33:$AJ$273,3,0),\" \")))","v":""},{"$f":"IF($D$12=0,\" \",IF(B114=$D$12,Simulador_v2!$K$32,+IF(B115>0,VLOOKUP(B115,Simulador_v2!$A$33:$AJ$273,11,0),\" \")))","v":""},{"$f":"IF($D$12=0,\" \",IF(B114=$D$12,Simulador_v2!$L$32,+IF(B115>0,VLOOKUP(B115,Simulador_v2!$A$33:$AJ$273,12,0),\" \")))","v":""},{"$f":"IF($D$12=0,\" \",IF(B114=$D$12,Simulador_v2!$M$32,+IF(B115>0,VLOOKUP(B115,Simulador_v2!$A$33:$AJ$273,13,0),\" \")))","v":""},{"$f":"IF($D$12=0,\" \",IF(B114=$D$12,Simulador_v2!$T$32,+IF(B115>0,VLOOKUP(B115,Simulador_v2!$A$33:$AJ$273,20,0),\" \")))","v":""},{"$f":"IF($D$12=0,\" \",IF(B114=$D$12,Simulador_v2!$Z$32,+IF(B115>0,VLOOKUP(B115,Simulador_v2!$A$33:$AJ$273,26,0),\" \")))","v":""},{"$f":"IF($D$12=0,\" \",IF(B114=$D$12,Simulador_v2!$W$32,+IF(B115>0,VLOOKUP(B115,Simulador_v2!$A$33:$AJ$273,23,0),\" \")))","v":""},{"$f":"IF($D$12=0,\" \",IF(B114=$D$12,Simulador_v2!$AJ$32,+IF(B115>0,VLOOKUP(B115,Simulador_v2!$A$33:$AJ$273,36,0),\" \")))","v":""}]
[null,"",{"$f":"IF($D$12=0,\" \",IF(B115=$D$12,\"TOTALES\",+IF(B116>0,VLOOKUP(B116,Simulador_v2!$A$33:$AJ$273,3,0),\" \")))","v":""},{"$f":"IF($D$12=0,\" \",IF(B115=$D$12,Simulador_v2!$K$32,+IF(B116>0,VLOOKUP(B116,Simulador_v2!$A$33:$AJ$273,11,0),\" \")))","v":""},{"$f":"IF($D$12=0,\" \",IF(B115=$D$12,Simulador_v2!$L$32,+IF(B116>0,VLOOKUP(B116,Simulador_v2!$A$33:$AJ$273,12,0),\" \")))","v":""},{"$f":"IF($D$12=0,\" \",IF(B115=$D$12,Simulador_v2!$M$32,+IF(B116>0,VLOOKUP(B116,Simulador_v2!$A$33:$AJ$273,13,0),\" \")))","v":""},{"$f":"IF($D$12=0,\" \",IF(B115=$D$12,Simulador_v2!$T$32,+IF(B116>0,VLOOKUP(B116,Simulador_v2!$A$33:$AJ$273,20,0),\" \")))","v":""},{"$f":"IF($D$12=0,\" \",IF(B115=$D$12,Simulador_v2!$Z$32,+IF(B116>0,VLOOKUP(B116,Simulador_v2!$A$33:$AJ$273,26,0),\" \")))","v":""},{"$f":"IF($D$12=0,\" \",IF(B115=$D$12,Simulador_v2!$W$32,+IF(B116>0,VLOOKUP(B116,Simulador_v2!$A$33:$AJ$273,23,0),\" \")))","v":""},{"$f":"IF($D$12=0,\" \",IF(B115=$D$12,Simulador_v2!$AJ$32,+IF(B116>0,VLOOKUP(B116,Simulador_v2!$A$33:$AJ$273,36,0),\" \")))","v":""}]
[null,"",{"$f":"IF($D$12=0,\" \",IF(B116=$D$12,\"TOTALES\",+IF(B117>0,VLOOKUP(B117,Simulador_v2!$A$33:$AJ$273,3,0),\" \")))","v":""},{"$f":"IF($D$12=0,\" \",IF(B116=$D$12,Simulador_v2!$K$32,+IF(B117>0,VLOOKUP(B117,Simulador_v2!$A$33:$AJ$273,11,0),\" \")))","v":""},{"$f":"IF($D$12=0,\" \",IF(B116=$D$12,Simulador_v2!$L$32,+IF(B117>0,VLOOKUP(B117,Simulador_v2!$A$33:$AJ$273,12,0),\" \")))","v":""},{"$f":"IF($D$12=0,\" \",IF(B116=$D$12,Simulador_v2!$M$32,+IF(B117>0,VLOOKUP(B117,Simulador_v2!$A$33:$AJ$273,13,0),\" \")))","v":""},{"$f":"IF($D$12=0,\" \",IF(B116=$D$12,Simulador_v2!$T$32,+IF(B117>0,VLOOKUP(B117,Simulador_v2!$A$33:$AJ$273,20,0),\" \")))","v":""},{"$f":"IF($D$12=0,\" \",IF(B116=$D$12,Simulador_v2!$Z$32,+IF(B117>0,VLOOKUP(B117,Simulador_v2!$A$33:$AJ$273,26,0),\" \")))","v":""},{"$f":"IF($D$12=0,\" \",IF(B116=$D$12,Simulador_v2!$W$32,+IF(B117>0,VLOOKUP(B117,Simulador_v2!$A$33:$AJ$273,23,0),\" \")))","v":""},{"$f":"IF($D$12=0,\" \",IF(B116=$D$12,Simulador_v2!$AJ$32,+IF(B117>0,VLOOKUP(B117,Simulador_v2!$A$33:$AJ$273,36,0),\" \")))","v":""}]
[null,"",{"$f":"IF($D$12=0,\" \",IF(B117=$D$12,\"TOTALES\",+IF(B118>0,VLOOKUP(B118,Simulador_v2!$A$33:$AJ$273,3,0),\" \")))","v":""},{"$f":"IF($D$12=0,\" \",IF(B117=$D$12,Simulador_v2!$K$32,+IF(B118>0,VLOOKUP(B118,Simulador_v2!$A$33:$AJ$273,11,0),\" \")))","v":""},{"$f":"IF($D$12=0,\" \",IF(B117=$D$12,Simulador_v2!$L$32,+IF(B118>0,VLOOKUP(B118,Simulador_v2!$A$33:$AJ$273,12,0),\" \")))","v":""},{"$f":"IF($D$12=0,\" \",IF(B117=$D$12,Simulador_v2!$M$32,+IF(B118>0,VLOOKUP(B118,Simulador_v2!$A$33:$AJ$273,13,0),\" \")))","v":""},{"$f":"IF($D$12=0,\" \",IF(B117=$D$12,Simulador_v2!$T$32,+IF(B118>0,VLOOKUP(B118,Simulador_v2!$A$33:$AJ$273,20,0),\" \")))","v":""},{"$f":"IF($D$12=0,\" \",IF(B117=$D$12,Simulador_v2!$Z$32,+IF(B118>0,VLOOKUP(B118,Simulador_v2!$A$33:$AJ$273,26,0),\" \")))","v":""},{"$f":"IF($D$12=0,\" \",IF(B117=$D$12,Simulador_v2!$W$32,+IF(B118>0,VLOOKUP(B118,Simulador_v2!$A$33:$AJ$273,23,0),\" \")))","v":""},{"$f":"IF($D$12=0,\" \",IF(B117=$D$12,Simulador_v2!$AJ$32,+IF(B118>0,VLOOKUP(B118,Simulador_v2!$A$33:$AJ$273,36,0),\" \")))","v":""}]
[null,"",{"$f":"IF($D$12=0,\" \",IF(B118=$D$12,\"TOTALES\",+IF(B119>0,VLOOKUP(B119,Simulador_v2!$A$33:$AJ$273,3,0),\" \")))","v":""},{"$f":"IF($D$12=0,\" \",IF(B118=$D$12,Simulador_v2!$K$32,+IF(B119>0,VLOOKUP(B119,Simulador_v2!$A$33:$AJ$273,11,0),\" \")))","v":""},{"$f":"IF($D$12=0,\" \",IF(B118=$D$12,Simulador_v2!$L$32,+IF(B119>0,VLOOKUP(B119,Simulador_v2!$A$33:$AJ$273,12,0),\" \")))","v":""},{"$f":"IF($D$12=0,\" \",IF(B118=$D$12,Simulador_v2!$M$32,+IF(B119>0,VLOOKUP(B119,Simulador_v2!$A$33:$AJ$273,13,0),\" \")))","v":""},{"$f":"IF($D$12=0,\" \",IF(B118=$D$12,Simulador_v2!$T$32,+IF(B119>0,VLOOKUP(B119,Simulador_v2!$A$33:$AJ$273,20,0),\" \")))","v":""},{"$f":"IF($D$12=0,\" \",IF(B118=$D$12,Simulador_v2!$Z$32,+IF(B119>0,VLOOKUP(B119,Simulador_v2!$A$33:$AJ$273,26,0),\" \")))","v":""},{"$f":"IF($D$12=0,\" \",IF(B118=$D$12,Simulador_v2!$W$32,+IF(B119>0,VLOOKUP(B119,Simulador_v2!$A$33:$AJ$273,23,0),\" \")))","v":""},{"$f":"IF($D$12=0,\" \",IF(B118=$D$12,Simulador_v2!$AJ$32,+IF(B119>0,VLOOKUP(B119,Simulador_v2!$A$33:$AJ$273,36,0),\" \")))","v":""}]
[null,"",{"$f":"IF($D$12=0,\" \",IF(B119=$D$12,\"TOTALES\",+IF(B120>0,VLOOKUP(B120,Simulador_v2!$A$33:$AJ$273,3,0),\" \")))","v":""},{"$f":"IF($D$12=0,\" \",IF(B119=$D$12,Simulador_v2!$K$32,+IF(B120>0,VLOOKUP(B120,Simulador_v2!$A$33:$AJ$273,11,0),\" \")))","v":""},{"$f":"IF($D$12=0,\" \",IF(B119=$D$12,Simulador_v2!$L$32,+IF(B120>0,VLOOKUP(B120,Simulador_v2!$A$33:$AJ$273,12,0),\" \")))","v":""},{"$f":"IF($D$12=0,\" \",IF(B119=$D$12,Simulador_v2!$M$32,+IF(B120>0,VLOOKUP(B120,Simulador_v2!$A$33:$AJ$273,13,0),\" \")))","v":""},{"$f":"IF($D$12=0,\" \",IF(B119=$D$12,Simulador_v2!$T$32,+IF(B120>0,VLOOKUP(B120,Simulador_v2!$A$33:$AJ$273,20,0),\" \")))","v":""},{"$f":"IF($D$12=0,\" \",IF(B119=$D$12,Simulador_v2!$Z$32,+IF(B120>0,VLOOKUP(B120,Simulador_v2!$A$33:$AJ$273,26,0),\" \")))","v":""},{"$f":"IF($D$12=0,\" \",IF(B119=$D$12,Simulador_v2!$W$32,+IF(B120>0,VLOOKUP(B120,Simulador_v2!$A$33:$AJ$273,23,0),\" \")))","v":""},{"$f":"IF($D$12=0,\" \",IF(B119=$D$12,Simulador_v2!$AJ$32,+IF(B120>0,VLOOKUP(B120,Simulador_v2!$A$33:$AJ$273,36,0),\" \")))","v":""}]
[null,"",{"$f":"IF($D$12=0,\" \",IF(B120=$D$12,\"TOTALES\",+IF(B121>0,VLOOKUP(B121,Simulador_v2!$A$33:$AJ$273,3,0),\" \")))","v":""},{"$f":"IF($D$12=0,\" \",IF(B120=$D$12,Simulador_v2!$K$32,+IF(B121>0,VLOOKUP(B121,Simulador_v2!$A$33:$AJ$273,11,0),\" \")))","v":""},{"$f":"IF($D$12=0,\" \",IF(B120=$D$12,Simulador_v2!$L$32,+IF(B121>0,VLOOKUP(B121,Simulador_v2!$A$33:$AJ$273,12,0),\" \")))","v":""},{"$f":"IF($D$12=0,\" \",IF(B120=$D$12,Simulador_v2!$M$32,+IF(B121>0,VLOOKUP(B121,Simulador_v2!$A$33:$AJ$273,13,0),\" \")))","v":""},{"$f":"IF($D$12=0,\" \",IF(B120=$D$12,Simulador_v2!$T$32,+IF(B121>0,VLOOKUP(B121,Simulador_v2!$A$33:$AJ$273,20,0),\" \")))","v":""},{"$f":"IF($D$12=0,\" \",IF(B120=$D$12,Simulador_v2!$Z$32,+IF(B121>0,VLOOKUP(B121,Simulador_v2!$A$33:$AJ$273,26,0),\" \")))","v":""},{"$f":"IF($D$12=0,\" \",IF(B120=$D$12,Simulador_v2!$W$32,+IF(B121>0,VLOOKUP(B121,Simulador_v2!$A$33:$AJ$273,23,0),\" \")))","v":""},{"$f":"IF($D$12=0,\" \",IF(B120=$D$12,Simulador_v2!$AJ$32,+IF(B121>0,VLOOKUP(B121,Simulador_v2!$A$33:$AJ$273,36,0),\" \")))","v":""}]
[null,"",{"$f":"IF($D$12=0,\" \",IF(B121=$D$12,\"TOTALES\",+IF(B122>0,VLOOKUP(B122,Simulador_v2!$A$33:$AJ$273,3,0),\" \")))","v":""},{"$f":"IF($D$12=0,\" \",IF(B121=$D$12,Simulador_v2!$K$32,+IF(B122>0,VLOOKUP(B122,Simulador_v2!$A$33:$AJ$273,11,0),\" \")))","v":""},{"$f":"IF($D$12=0,\" \",IF(B121=$D$12,Simulador_v2!$L$32,+IF(B122>0,VLOOKUP(B122,Simulador_v2!$A$33:$AJ$273,12,0),\" \")))","v":""},{"$f":"IF($D$12=0,\" \",IF(B121=$D$12,Simulador_v2!$M$32,+IF(B122>0,VLOOKUP(B122,Simulador_v2!$A$33:$AJ$273,13,0),\" \")))","v":""},{"$f":"IF($D$12=0,\" \",IF(B121=$D$12,Simulador_v2!$T$32,+IF(B122>0,VLOOKUP(B122,Simulador_v2!$A$33:$AJ$273,20,0),\" \")))","v":""},{"$f":"IF($D$12=0,\" \",IF(B121=$D$12,Simulador_v2!$Z$32,+IF(B122>0,VLOOKUP(B122,Simulador_v2!$A$33:$AJ$273,26,0),\" \")))","v":""},{"$f":"IF($D$12=0,\" \",IF(B121=$D$12,Simulador_v2!$W$32,+IF(B122>0,VLOOKUP(B122,Simulador_v2!$A$33:$AJ$273,23,0),\" \")))","v":""},{"$f":"IF($D$12=0,\" \",IF(B121=$D$12,Simulador_v2!$AJ$32,+IF(B122>0,VLOOKUP(B122,Simulador_v2!$A$33:$AJ$273,36,0),\" \")))","v":""}]
[null,"",{"$f":"IF($D$12=0,\" \",IF(B122=$D$12,\"TOTALES\",+IF(B123>0,VLOOKUP(B123,Simulador_v2!$A$33:$AJ$273,3,0),\" \")))","v":""},{"$f":"IF($D$12=0,\" \",IF(B122=$D$12,Simulador_v2!$K$32,+IF(B123>0,VLOOKUP(B123,Simulador_v2!$A$33:$AJ$273,11,0),\" \")))","v":""},{"$f":"IF($D$12=0,\" \",IF(B122=$D$12,Simulador_v2!$L$32,+IF(B123>0,VLOOKUP(B123,Simulador_v2!$A$33:$AJ$273,12,0),\" \")))","v":""},{"$f":"IF($D$12=0,\" \",IF(B122=$D$12,Simulador_v2!$M$32,+IF(B123>0,VLOOKUP(B123,Simulador_v2!$A$33:$AJ$273,13,0),\" \")))","v":""},{"$f":"IF($D$12=0,\" \",IF(B122=$D$12,Simulador_v2!$T$32,+IF(B123>0,VLOOKUP(B123,Simulador_v2!$A$33:$AJ$273,20,0),\" \")))","v":""},{"$f":"IF($D$12=0,\" \",IF(B122=$D$12,Simulador_v2!$Z$32,+IF(B123>0,VLOOKUP(B123,Simulador_v2!$A$33:$AJ$273,26,0),\" \")))","v":""},{"$f":"IF($D$12=0,\" \",IF(B122=$D$12,Simulador_v2!$W$32,+IF(B123>0,VLOOKUP(B123,Simulador_v2!$A$33:$AJ$273,23,0),\" \")))","v":""},{"$f":"IF($D$12=0,\" \",IF(B122=$D$12,Simulador_v2!$AJ$32,+IF(B123>0,VLOOKUP(B123,Simulador_v2!$A$33:$AJ$273,36,0),\" \")))","v":""}]
[null,"",{"$f":"IF($D$12=0,\" \",IF(B123=$D$12,\"TOTALES\",+IF(B124>0,VLOOKUP(B124,Simulador_v2!$A$33:$AJ$273,3,0),\" \")))","v":""},{"$f":"IF($D$12=0,\" \",IF(B123=$D$12,Simulador_v2!$K$32,+IF(B124>0,VLOOKUP(B124,Simulador_v2!$A$33:$AJ$273,11,0),\" \")))","v":""},{"$f":"IF($D$12=0,\" \",IF(B123=$D$12,Simulador_v2!$L$32,+IF(B124>0,VLOOKUP(B124,Simulador_v2!$A$33:$AJ$273,12,0),\" \")))","v":""},{"$f":"IF($D$12=0,\" \",IF(B123=$D$12,Simulador_v2!$M$32,+IF(B124>0,VLOOKUP(B124,Simulador_v2!$A$33:$AJ$273,13,0),\" \")))","v":""},{"$f":"IF($D$12=0,\" \",IF(B123=$D$12,Simulador_v2!$T$32,+IF(B124>0,VLOOKUP(B124,Simulador_v2!$A$33:$AJ$273,20,0),\" \")))","v":""},{"$f":"IF($D$12=0,\" \",IF(B123=$D$12,Simulador_v2!$Z$32,+IF(B124>0,VLOOKUP(B124,Simulador_v2!$A$33:$AJ$273,26,0),\" \")))","v":""},{"$f":"IF($D$12=0,\" \",IF(B123=$D$12,Simulador_v2!$W$32,+IF(B124>0,VLOOKUP(B124,Simulador_v2!$A$33:$AJ$273,23,0),\" \")))","v":""},{"$f":"IF($D$12=0,\" \",IF(B123=$D$12,Simulador_v2!$AJ$32,+IF(B124>0,VLOOKUP(B124,Simulador_v2!$A$33:$AJ$273,36,0),\" \")))","v":""}]
[null,"",{"$f":"IF($D$12=0,\" \",IF(B124=$D$12,\"TOTALES\",+IF(B125>0,VLOOKUP(B125,Simulador_v2!$A$33:$AJ$273,3,0),\" \")))","v":""},{"$f":"IF($D$12=0,\" \",IF(B124=$D$12,Simulador_v2!$K$32,+IF(B125>0,VLOOKUP(B125,Simulador_v2!$A$33:$AJ$273,11,0),\" \")))","v":""},{"$f":"IF($D$12=0,\" \",IF(B124=$D$12,Simulador_v2!$L$32,+IF(B125>0,VLOOKUP(B125,Simulador_v2!$A$33:$AJ$273,12,0),\" \")))","v":""},{"$f":"IF($D$12=0,\" \",IF(B124=$D$12,Simulador_v2!$M$32,+IF(B125>0,VLOOKUP(B125,Simulador_v2!$A$33:$AJ$273,13,0),\" \")))","v":""},{"$f":"IF($D$12=0,\" \",IF(B124=$D$12,Simulador_v2!$T$32,+IF(B125>0,VLOOKUP(B125,Simulador_v2!$A$33:$AJ$273,20,0),\" \")))","v":""},{"$f":"IF($D$12=0,\" \",IF(B124=$D$12,Simulador_v2!$Z$32,+IF(B125>0,VLOOKUP(B125,Simulador_v2!$A$33:$AJ$273,26,0),\" \")))","v":""},{"$f":"IF($D$12=0,\" \",IF(B124=$D$12,Simulador_v2!$W$32,+IF(B125>0,VLOOKUP(B125,Simulador_v2!$A$33:$AJ$273,23,0),\" \")))","v":""},{"$f":"IF($D$12=0,\" \",IF(B124=$D$12,Simulador_v2!$AJ$32,+IF(B125>0,VLOOKUP(B125,Simulador_v2!$A$33:$AJ$273,36,0),\" \")))","v":""}]
[null,"",{"$f":"IF($D$12=0,\" \",IF(B125=$D$12,\"TOTALES\",+IF(B126>0,VLOOKUP(B126,Simulador_v2!$A$33:$AJ$273,3,0),\" \")))","v":""},{"$f":"IF($D$12=0,\" \",IF(B125=$D$12,Simulador_v2!$K$32,+IF(B126>0,VLOOKUP(B126,Simulador_v2!$A$33:$AJ$273,11,0),\" \")))","v":""},{"$f":"IF($D$12=0,\" \",IF(B125=$D$12,Simulador_v2!$L$32,+IF(B126>0,VLOOKUP(B126,Simulador_v2!$A$33:$AJ$273,12,0),\" \")))","v":""},{"$f":"IF($D$12=0,\" \",IF(B125=$D$12,Simulador_v2!$M$32,+IF(B126>0,VLOOKUP(B126,Simulador_v2!$A$33:$AJ$273,13,0),\" \")))","v":""},{"$f":"IF($D$12=0,\" \",IF(B125=$D$12,Simulador_v2!$T$32,+IF(B126>0,VLOOKUP(B126,Simulador_v2!$A$33:$AJ$273,20,0),\" \")))","v":""},{"$f":"IF($D$12=0,\" \",IF(B125=$D$12,Simulador_v2!$Z$32,+IF(B126>0,VLOOKUP(B126,Simulador_v2!$A$33:$AJ$273,26,0),\" \")))","v":""},{"$f":"IF($D$12=0,\" \",IF(B125=$D$12,Simulador_v2!$W$32,+IF(B126>0,VLOOKUP(B126,Simulador_v2!$A$33:$AJ$273,23,0),\" \")))","v":""},{"$f":"IF($D$12=0,\" \",IF(B125=$D$12,Simulador_v2!$AJ$32,+IF(B126>0,VLOOKUP(B126,Simulador_v2!$A$33:$AJ$273,36,0),\" \")))","v":""}]
[null,"",{"$f":"IF($D$12=0,\" \",IF(B126=$D$12,\"TOTALES\",+IF(B127>0,VLOOKUP(B127,Simulador_v2!$A$33:$AJ$273,3,0),\" \")))","v":""},{"$f":"IF($D$12=0,\" \",IF(B126=$D$12,Simulador_v2!$K$32,+IF(B127>0,VLOOKUP(B127,Simulador_v2!$A$33:$AJ$273,11,0),\" \")))","v":""},{"$f":"IF($D$12=0,\" \",IF(B126=$D$12,Simulador_v2!$L$32,+IF(B127>0,VLOOKUP(B127,Simulador_v2!$A$33:$AJ$273,12,0),\" \")))","v":""},{"$f":"IF($D$12=0,\" \",IF(B126=$D$12,Simulador_v2!$M$32,+IF(B127>0,VLOOKUP(B127,Simulador_v2!$A$33:$AJ$273,13,0),\" \")))","v":""},{"$f":"IF($D$12=0,\" \",IF(B126=$D$12,Simulador_v2!$T$32,+IF(B127>0,VLOOKUP(B127,Simulador_v2!$A$33:$AJ$273,20,0),\" \")))","v":""},{"$f":"IF($D$12=0,\" \",IF(B126=$D$12,Simulador_v2!$Z$32,+IF(B127>0,VLOOKUP(B127,Simulador_v2!$A$33:$AJ$273,26,0),\" \")))","v":""},{"$f":"IF($D$12=0,\" \",IF(B126=$D$12,Simulador_v2!$W$32,+IF(B127>0,VLOOKUP(B127,Simulador_v2!$A$33:$AJ$273,23,0),\" \")))","v":""},{"$f":"IF($D$12=0,\" \",IF(B126=$D$12,Simulador_v2!$AJ$32,+IF(B127>0,VLOOKUP(B127,Simulador_v2!$A$33:$AJ$273,36,0),\" \")))","v":""}]
[null,"",{"$f":"IF($D$12=0,\" \",IF(B127=$D$12,\"TOTALES\",+IF(B128>0,VLOOKUP(B128,Simulador_v2!$A$33:$AJ$273,3,0),\" \")))","v":""},{"$f":"IF($D$12=0,\" \",IF(B127=$D$12,Simulador_v2!$K$32,+IF(B128>0,VLOOKUP(B128,Simulador_v2!$A$33:$AJ$273,11,0),\" \")))","v":""},{"$f":"IF($D$12=0,\" \",IF(B127=$D$12,Simulador_v2!$L$32,+IF(B128>0,VLOOKUP(B128,Simulador_v2!$A$33:$AJ$273,12,0),\" \")))","v":""},{"$f":"IF($D$12=0,\" \",IF(B127=$D$12,Simulador_v2!$M$32,+IF(B128>0,VLOOKUP(B128,Simulador_v2!$A$33:$AJ$273,13,0),\" \")))","v":""},{"$f":"IF($D$12=0,\" \",IF(B127=$D$12,Simulador_v2!$T$32,+IF(B128>0,VLOOKUP(B128,Simulador_v2!$A$33:$AJ$273,20,0),\" \")))","v":""},{"$f":"IF($D$12=0,\" \",IF(B127=$D$12,Simulador_v2!$Z$32,+IF(B128>0,VLOOKUP(B128,Simulador_v2!$A$33:$AJ$273,26,0),\" \")))","v":""},{"$f":"IF($D$12=0,\" \",IF(B127=$D$12,Simulador_v2!$W$32,+IF(B128>0,VLOOKUP(B128,Simulador_v2!$A$33:$AJ$273,23,0),\" \")))","v":""},{"$f":"IF($D$12=0,\" \",IF(B127=$D$12,Simulador_v2!$AJ$32,+IF(B128>0,VLOOKUP(B128,Simulador_v2!$A$33:$AJ$273,36,0),\" \")))","v":""}]
[null,"",{"$f":"IF($D$12=0,\" \",IF(B128=$D$12,\"TOTALES\",+IF(B129>0,VLOOKUP(B129,Simulador_v2!$A$33:$AJ$273,3,0),\" \")))","v":""},{"$f":"IF($D$12=0,\" \",IF(B128=$D$12,Simulador_v2!$K$32,+IF(B129>0,VLOOKUP(B129,Simulador_v2!$A$33:$AJ$273,11,0),\" \")))","v":""},{"$f":"IF($D$12=0,\" \",IF(B128=$D$12,Simulador_v2!$L$32,+IF(B129>0,VLOOKUP(B129,Simulador_v2!$A$33:$AJ$273,12,0),\" \")))","v":""},{"$f":"IF($D$12=0,\" \",IF(B128=$D$12,Simulador_v2!$M$32,+IF(B129>0,VLOOKUP(B129,Simulador_v2!$A$33:$AJ$273,13,0),\" \")))","v":""},{"$f":"IF($D$12=0,\" \",IF(B128=$D$12,Simulador_v2!$T$32,+IF(B129>0,VLOOKUP(B129,Simulador_v2!$A$33:$AJ$273,20,0),\" \")))","v":""},{"$f":"IF($D$12=0,\" \",IF(B128=$D$12,Simulador_v2!$Z$32,+IF(B129>0,VLOOKUP(B129,Simulador_v2!$A$33:$AJ$273,26,0),\" \")))","v":""},{"$f":"IF($D$12=0,\" \",IF(B128=$D$12,Simulador_v2!$W$32,+IF(B129>0,VLOOKUP(B129,Simulador_v2!$A$33:$AJ$273,23,0),\" \")))","v":""},{"$f":"IF($D$12=0,\" \",IF(B128=$D$12,Simulador_v2!$AJ$32,+IF(B129>0,VLOOKUP(B129,Simulador_v2!$A$33:$AJ$273,36,0),\" \")))","v":""}]
[null,"",{"$f":"IF($D$12=0,\" \",IF(B129=$D$12,\"TOTALES\",+IF(B130>0,VLOOKUP(B130,Simulador_v2!$A$33:$AJ$273,3,0),\" \")))","v":""},{"$f":"IF($D$12=0,\" \",IF(B129=$D$12,Simulador_v2!$K$32,+IF(B130>0,VLOOKUP(B130,Simulador_v2!$A$33:$AJ$273,11,0),\" \")))","v":""},{"$f":"IF($D$12=0,\" \",IF(B129=$D$12,Simulador_v2!$L$32,+IF(B130>0,VLOOKUP(B130,Simulador_v2!$A$33:$AJ$273,12,0),\" \")))","v":""},{"$f":"IF($D$12=0,\" \",IF(B129=$D$12,Simulador_v2!$M$32,+IF(B130>0,VLOOKUP(B130,Simulador_v2!$A$33:$AJ$273,13,0),\" \")))","v":""},{"$f":"IF($D$12=0,\" \",IF(B129=$D$12,Simulador_v2!$T$32,+IF(B130>0,VLOOKUP(B130,Simulador_v2!$A$33:$AJ$273,20,0),\" \")))","v":""},{"$f":"IF($D$12=0,\" \",IF(B129=$D$12,Simulador_v2!$Z$32,+IF(B130>0,VLOOKUP(B130,Simulador_v2!$A$33:$AJ$273,26,0),\" \")))","v":""},{"$f":"IF($D$12=0,\" \",IF(B129=$D$12,Simulador_v2!$W$32,+IF(B130>0,VLOOKUP(B130,Simulador_v2!$A$33:$AJ$273,23,0),\" \")))","v":""},{"$f":"IF($D$12=0,\" \",IF(B129=$D$12,Simulador_v2!$AJ$32,+IF(B130>0,VLOOKUP(B130,Simulador_v2!$A$33:$AJ$273,36,0),\" \")))","v":""}]
[null,"",{"$f":"IF($D$12=0,\" \",IF(B130=$D$12,\"TOTALES\",+IF(B131>0,VLOOKUP(B131,Simulador_v2!$A$33:$AJ$273,3,0),\" \")))","v":""},{"$f":"IF($D$12=0,\" \",IF(B130=$D$12,Simulador_v2!$K$32,+IF(B131>0,VLOOKUP(B131,Simulador_v2!$A$33:$AJ$273,11,0),\" \")))","v":""},{"$f":"IF($D$12=0,\" \",IF(B130=$D$12,Simulador_v2!$L$32,+IF(B131>0,VLOOKUP(B131,Simulador_v2!$A$33:$AJ$273,12,0),\" \")))","v":""},{"$f":"IF($D$12=0,\" \",IF(B130=$D$12,Simulador_v2!$M$32,+IF(B131>0,VLOOKUP(B131,Simulador_v2!$A$33:$AJ$273,13,0),\" \")))","v":""},{"$f":"IF($D$12=0,\" \",IF(B130=$D$12,Simulador_v2!$T$32,+IF(B131>0,VLOOKUP(B131,Simulador_v2!$A$33:$AJ$273,20,0),\" \")))","v":""},{"$f":"IF($D$12=0,\" \",IF(B130=$D$12,Simulador_v2!$Z$32,+IF(B131>0,VLOOKUP(B131,Simulador_v2!$A$33:$AJ$273,26,0),\" \")))","v":""},{"$f":"IF($D$12=0,\" \",IF(B130=$D$12,Simulador_v2!$W$32,+IF(B131>0,VLOOKUP(B131,Simulador_v2!$A$33:$AJ$273,23,0),\" \")))","v":""},{"$f":"IF($D$12=0,\" \",IF(B130=$D$12,Simulador_v2!$AJ$32,+IF(B131>0,VLOOKUP(B131,Simulador_v2!$A$33:$AJ$273,36,0),\" \")))","v":""}]
[null,"",{"$f":"IF($D$12=0,\" \",IF(B131=$D$12,\"TOTALES\",+IF(B132>0,VLOOKUP(B132,Simulador_v2!$A$33:$AJ$273,3,0),\" \")))","v":""},{"$f":"IF($D$12=0,\" \",IF(B131=$D$12,Simulador_v2!$K$32,+IF(B132>0,VLOOKUP(B132,Simulador_v2!$A$33:$AJ$273,11,0),\" \")))","v":""},{"$f":"IF($D$12=0,\" \",IF(B131=$D$12,Simulador_v2!$L$32,+IF(B132>0,VLOOKUP(B132,Simulador_v2!$A$33:$AJ$273,12,0),\" \")))","v":""},{"$f":"IF($D$12=0,\" \",IF(B131=$D$12,Simulador_v2!$M$32,+IF(B132>0,VLOOKUP(B132,Simulador_v2!$A$33:$AJ$273,13,0),\" \")))","v":""},{"$f":"IF($D$12=0,\" \",IF(B131=$D$12,Simulador_v2!$T$32,+IF(B132>0,VLOOKUP(B132,Simulador_v2!$A$33:$AJ$273,20,0),\" \")))","v":""},{"$f":"IF($D$12=0,\" \",IF(B131=$D$12,Simulador_v2!$Z$32,+IF(B132>0,VLOOKUP(B132,Simulador_v2!$A$33:$AJ$273,26,0),\" \")))","v":""},{"$f":"IF($D$12=0,\" \",IF(B131=$D$12,Simulador_v2!$W$32,+IF(B132>0,VLOOKUP(B132,Simulador_v2!$A$33:$AJ$273,23,0),\" \")))","v":""},{"$f":"IF($D$12=0,\" \",IF(B131=$D$12,Simulador_v2!$AJ$32,+IF(B132>0,VLOOKUP(B132,Simulador_v2!$A$33:$AJ$273,36,0),\" \")))","v":""}]
[null,"",{"$f":"IF($D$12=0,\" \",IF(B132=$D$12,\"TOTALES\",+IF(B133>0,VLOOKUP(B133,Simulador_v2!$A$33:$AJ$273,3,0),\" \")))","v":""},{"$f":"IF($D$12=0,\" \",IF(B132=$D$12,Simulador_v2!$K$32,+IF(B133>0,VLOOKUP(B133,Simulador_v2!$A$33:$AJ$273,11,0),\" \")))","v":""},{"$f":"IF($D$12=0,\" \",IF(B132=$D$12,Simulador_v2!$L$32,+IF(B133>0,VLOOKUP(B133,Simulador_v2!$A$33:$AJ$273,12,0),\" \")))","v":""},{"$f":"IF($D$12=0,\" \",IF(B132=$D$12,Simulador_v2!$M$32,+IF(B133>0,VLOOKUP(B133,Simulador_v2!$A$33:$AJ$273,13,0),\" \")))","v":""},{"$f":"IF($D$12=0,\" \",IF(B132=$D$12,Simulador_v2!$T$32,+IF(B133>0,VLOOKUP(B133,Simulador_v2!$A$33:$AJ$273,20,0),\" \")))","v":""},{"$f":"IF($D$12=0,\" \",IF(B132=$D$12,Simulador_v2!$Z$32,+IF(B133>0,VLOOKUP(B133,Simulador_v2!$A$33:$AJ$273,26,0),\" \")))","v":""},{"$f":"IF($D$12=0,\" \",IF(B132=$D$12,Simulador_v2!$W$32,+IF(B133>0,VLOOKUP(B133,Simulador_v2!$A$33:$AJ$273,23,0),\" \")))","v":""},{"$f":"IF($D$12=0,\" \",IF(B132=$D$12,Simulador_v2!$AJ$32,+IF(B133>0,VLOOKUP(B133,Simulador_v2!$A$33:$AJ$273,36,0),\" \")))","v":""}]
[null,"",{"$f":"IF($D$12=0,\" \",IF(B133=$D$12,\"TOTALES\",+IF(B134>0,VLOOKUP(B134,Simulador_v2!$A$33:$AJ$273,3,0),\" \")))","v":""},{"$f":"IF($D$12=0,\" \",IF(B133=$D$12,Simulador_v2!$K$32,+IF(B134>0,VLOOKUP(B134,Simulador_v2!$A$33:$AJ$273,11,0),\" \")))","v":""},{"$f":"IF($D$12=0,\" \",IF(B133=$D$12,Simulador_v2!$L$32,+IF(B134>0,VLOOKUP(B134,Simulador_v2!$A$33:$AJ$273,12,0),\" \")))","v":""},{"$f":"IF($D$12=0,\" \",IF(B133=$D$12,Simulador_v2!$M$32,+IF(B134>0,VLOOKUP(B134,Simulador_v2!$A$33:$AJ$273,13,0),\" \")))","v":""},{"$f":"IF($D$12=0,\" \",IF(B133=$D$12,Simulador_v2!$T$32,+IF(B134>0,VLOOKUP(B134,Simulador_v2!$A$33:$AJ$273,20,0),\" \")))","v":""},{"$f":"IF($D$12=0,\" \",IF(B133=$D$12,Simulador_v2!$Z$32,+IF(B134>0,VLOOKUP(B134,Simulador_v2!$A$33:$AJ$273,26,0),\" \")))","v":""},{"$f":"IF($D$12=0,\" \",IF(B133=$D$12,Simulador_v2!$W$32,+IF(B134>0,VLOOKUP(B134,Simulador_v2!$A$33:$AJ$273,23,0),\" \")))","v":""},{"$f":"IF($D$12=0,\" \",IF(B133=$D$12,Simulador_v2!$AJ$32,+IF(B134>0,VLOOKUP(B134,Simulador_v2!$A$33:$AJ$273,36,0),\" \")))","v":""}]
[null,"",{"$f":"IF($D$12=0,\" \",IF(B134=$D$12,\"TOTALES\",+IF(B135>0,VLOOKUP(B135,Simulador_v2!$A$33:$AJ$273,3,0),\" \")))","v":""},{"$f":"IF($D$12=0,\" \",IF(B134=$D$12,Simulador_v2!$K$32,+IF(B135>0,VLOOKUP(B135,Simulador_v2!$A$33:$AJ$273,11,0),\" \")))","v":""},{"$f":"IF($D$12=0,\" \",IF(B134=$D$12,Simulador_v2!$L$32,+IF(B135>0,VLOOKUP(B135,Simulador_v2!$A$33:$AJ$273,12,0),\" \")))","v":""},{"$f":"IF($D$12=0,\" \",IF(B134=$D$12,Simulador_v2!$M$32,+IF(B135>0,VLOOKUP(B135,Simulador_v2!$A$33:$AJ$273,13,0),\" \")))","v":""},{"$f":"IF($D$12=0,\" \",IF(B134=$D$12,Simulador_v2!$T$32,+IF(B135>0,VLOOKUP(B135,Simulador_v2!$A$33:$AJ$273,20,0),\" \")))","v":""},{"$f":"IF($D$12=0,\" \",IF(B134=$D$12,Simulador_v2!$Z$32,+IF(B135>0,VLOOKUP(B135,Simulador_v2!$A$33:$AJ$273,26,0),\" \")))","v":""},{"$f":"IF($D$12=0,\" \",IF(B134=$D$12,Simulador_v2!$W$32,+IF(B135>0,VLOOKUP(B135,Simulador_v2!$A$33:$AJ$273,23,0),\" \")))","v":""},{"$f":"IF($D$12=0,\" \",IF(B134=$D$12,Simulador_v2!$AJ$32,+IF(B135>0,VLOOKUP(B135,Simulador_v2!$A$33:$AJ$273,36,0),\" \")))","v":""}]
[null,"",{"$f":"IF($D$12=0,\" \",IF(B135=$D$12,\"TOTALES\",+IF(B136>0,VLOOKUP(B136,Simulador_v2!$A$33:$AJ$273,3,0),\" \")))","v":""},{"$f":"IF($D$12=0,\" \",IF(B135=$D$12,Simulador_v2!$K$32,+IF(B136>0,VLOOKUP(B136,Simulador_v2!$A$33:$AJ$273,11,0),\" \")))","v":""},{"$f":"IF($D$12=0,\" \",IF(B135=$D$12,Simulador_v2!$L$32,+IF(B136>0,VLOOKUP(B136,Simulador_v2!$A$33:$AJ$273,12,0),\" \")))","v":""},{"$f":"IF($D$12=0,\" \",IF(B135=$D$12,Simulador_v2!$M$32,+IF(B136>0,VLOOKUP(B136,Simulador_v2!$A$33:$AJ$273,13,0),\" \")))","v":""},{"$f":"IF($D$12=0,\" \",IF(B135=$D$12,Simulador_v2!$T$32,+IF(B136>0,VLOOKUP(B136,Simulador_v2!$A$33:$AJ$273,20,0),\" \")))","v":""},{"$f":"IF($D$12=0,\" \",IF(B135=$D$12,Simulador_v2!$Z$32,+IF(B136>0,VLOOKUP(B136,Simulador_v2!$A$33:$AJ$273,26,0),\" \")))","v":""},{"$f":"IF($D$12=0,\" \",IF(B135=$D$12,Simulador_v2!$W$32,+IF(B136>0,VLOOKUP(B136,Simulador_v2!$A$33:$AJ$273,23,0),\" \")))","v":""},{"$f":"IF($D$12=0,\" \",IF(B135=$D$12,Simulador_v2!$AJ$32,+IF(B136>0,VLOOKUP(B136,Simulador_v2!$A$33:$AJ$273,36,0),\" \")))","v":""}]
[null,"",{"$f":"IF($D$12=0,\" \",IF(B136=$D$12,\"TOTALES\",+IF(B137>0,VLOOKUP(B137,Simulador_v2!$A$33:$AJ$273,3,0),\" \")))","v":""},{"$f":"IF($D$12=0,\" \",IF(B136=$D$12,Simulador_v2!$K$32,+IF(B137>0,VLOOKUP(B137,Simulador_v2!$A$33:$AJ$273,11,0),\" \")))","v":""},{"$f":"IF($D$12=0,\" \",IF(B136=$D$12,Simulador_v2!$L$32,+IF(B137>0,VLOOKUP(B137,Simulador_v2!$A$33:$AJ$273,12,0),\" \")))","v":""},{"$f":"IF($D$12=0,\" \",IF(B136=$D$12,Simulador_v2!$M$32,+IF(B137>0,VLOOKUP(B137,Simulador_v2!$A$33:$AJ$273,13,0),\" \")))","v":""},{"$f":"IF($D$12=0,\" \",IF(B136=$D$12,Simulador_v2!$T$32,+IF(B137>0,VLOOKUP(B137,Simulador_v2!$A$33:$AJ$273,20,0),\" \")))","v":""},{"$f":"IF($D$12=0,\" \",IF(B136=$D$12,Simulador_v2!$Z$32,+IF(B137>0,VLOOKUP(B137,Simulador_v2!$A$33:$AJ$273,26,0),\" \")))","v":""},{"$f":"IF($D$12=0,\" \",IF(B136=$D$12,Simulador_v2!$W$32,+IF(B137>0,VLOOKUP(B137,Simulador_v2!$A$33:$AJ$273,23,0),\" \")))","v":""},{"$f":"IF($D$12=0,\" \",IF(B136=$D$12,Simulador_v2!$AJ$32,+IF(B137>0,VLOOKUP(B137,Simulador_v2!$A$33:$AJ$273,36,0),\" \")))","v":""}]
[null,"",{"$f":"IF($D$12=0,\" \",IF(B137=$D$12,\"TOTALES\",+IF(B138>0,VLOOKUP(B138,Simulador_v2!$A$33:$AJ$273,3,0),\" \")))","v":""},{"$f":"IF($D$12=0,\" \",IF(B137=$D$12,Simulador_v2!$K$32,+IF(B138>0,VLOOKUP(B138,Simulador_v2!$A$33:$AJ$273,11,0),\" \")))","v":""},{"$f":"IF($D$12=0,\" \",IF(B137=$D$12,Simulador_v2!$L$32,+IF(B138>0,VLOOKUP(B138,Simulador_v2!$A$33:$AJ$273,12,0),\" \")))","v":""},{"$f":"IF($D$12=0,\" \",IF(B137=$D$12,Simulador_v2!$M$32,+IF(B138>0,VLOOKUP(B138,Simulador_v2!$A$33:$AJ$273,13,0),\" \")))","v":""},{"$f":"IF($D$12=0,\" \",IF(B137=$D$12,Simulador_v2!$T$32,+IF(B138>0,VLOOKUP(B138,Simulador_v2!$A$33:$AJ$273,20,0),\" \")))","v":""},{"$f":"IF($D$12=0,\" \",IF(B137=$D$12,Simulador_v2!$Z$32,+IF(B138>0,VLOOKUP(B138,Simulador_v2!$A$33:$AJ$273,26,0),\" \")))","v":""},{"$f":"IF($D$12=0,\" \",IF(B137=$D$12,Simulador_v2!$W$32,+IF(B138>0,VLOOKUP(B138,Simulador_v2!$A$33:$AJ$273,23,0),\" \")))","v":""},{"$f":"IF($D$12=0,\" \",IF(B137=$D$12,Simulador_v2!$AJ$32,+IF(B138>0,VLOOKUP(B138,Simulador_v2!$A$33:$AJ$273,36,0),\" \")))","v":""}]
[null,"",{"$f":"IF($D$12=0,\" \",IF(B138=$D$12,\"TOTALES\",+IF(B139>0,VLOOKUP(B139,Simulador_v2!$A$33:$AJ$273,3,0),\" \")))","v":""},{"$f":"IF($D$12=0,\" \",IF(B138=$D$12,Simulador_v2!$K$32,+IF(B139>0,VLOOKUP(B139,Simulador_v2!$A$33:$AJ$273,11,0),\" \")))","v":""},{"$f":"IF($D$12=0,\" \",IF(B138=$D$12,Simulador_v2!$L$32,+IF(B139>0,VLOOKUP(B139,Simulador_v2!$A$33:$AJ$273,12,0),\" \")))","v":""},{"$f":"IF($D$12=0,\" \",IF(B138=$D$12,Simulador_v2!$M$32,+IF(B139>0,VLOOKUP(B139,Simulador_v2!$A$33:$AJ$273,13,0),\" \")))","v":""},{"$f":"IF($D$12=0,\" \",IF(B138=$D$12,Simulador_v2!$T$32,+IF(B139>0,VLOOKUP(B139,Simulador_v2!$A$33:$AJ$273,20,0),\" \")))","v":""},{"$f":"IF($D$12=0,\" \",IF(B138=$D$12,Simulador_v2!$Z$32,+IF(B139>0,VLOOKUP(B139,Simulador_v2!$A$33:$AJ$273,26,0),\" \")))","v":""},{"$f":"IF($D$12=0,\" \",IF(B138=$D$12,Simulador_v2!$W$32,+IF(B139>0,VLOOKUP(B139,Simulador_v2!$A$33:$AJ$273,23,0),\" \")))","v":""},{"$f":"IF($D$12=0,\" \",IF(B138=$D$12,Simulador_v2!$AJ$32,+IF(B139>0,VLOOKUP(B139,Simulador_v2!$A$33:$AJ$273,36,0),\" \")))","v":""}]
[null,"",{"$f":"IF($D$12=0,\" \",IF(B139=$D$12,\"TOTALES\",+IF(B140>0,VLOOKUP(B140,Simulador_v2!$A$33:$AJ$273,3,0),\" \")))","v":""},{"$f":"IF($D$12=0,\" \",IF(B139=$D$12,Simulador_v2!$K$32,+IF(B140>0,VLOOKUP(B140,Simulador_v2!$A$33:$AJ$273,11,0),\" \")))","v":""},{"$f":"IF($D$12=0,\" \",IF(B139=$D$12,Simulador_v2!$L$32,+IF(B140>0,VLOOKUP(B140,Simulador_v2!$A$33:$AJ$273,12,0),\" \")))","v":""},{"$f":"IF($D$12=0,\" \",IF(B139=$D$12,Simulador_v2!$M$32,+IF(B140>0,VLOOKUP(B140,Simulador_v2!$A$33:$AJ$273,13,0),\" \")))","v":""},{"$f":"IF($D$12=0,\" \",IF(B139=$D$12,Simulador_v2!$T$32,+IF(B140>0,VLOOKUP(B140,Simulador_v2!$A$33:$AJ$273,20,0),\" \")))","v":""},{"$f":"IF($D$12=0,\" \",IF(B139=$D$12,Simulador_v2!$Z$32,+IF(B140>0,VLOOKUP(B140,Simulador_v2!$A$33:$AJ$273,26,0),\" \")))","v":""},{"$f":"IF($D$12=0,\" \",IF(B139=$D$12,Simulador_v2!$W$32,+IF(B140>0,VLOOKUP(B140,Simulador_v2!$A$33:$AJ$273,23,0),\" \")))","v":""},{"$f":"IF($D$12=0,\" \",IF(B139=$D$12,Simulador_v2!$AJ$32,+IF(B140>0,VLOOKUP(B140,Simulador_v2!$A$33:$AJ$273,36,0),\" \")))","v":""}]
[null,"",{"$f":"IF($D$12=0,\" \",IF(B140=$D$12,\"TOTALES\",+IF(B141>0,VLOOKUP(B141,Simulador_v2!$A$33:$AJ$273,3,0),\" \")))","v":""},{"$f":"IF($D$12=0,\" \",IF(B140=$D$12,Simulador_v2!$K$32,+IF(B141>0,VLOOKUP(B141,Simulador_v2!$A$33:$AJ$273,11,0),\" \")))","v":""},{"$f":"IF($D$12=0,\" \",IF(B140=$D$12,Simulador_v2!$L$32,+IF(B141>0,VLOOKUP(B141,Simulador_v2!$A$33:$AJ$273,12,0),\" \")))","v":""},{"$f":"IF($D$12=0,\" \",IF(B140=$D$12,Simulador_v2!$M$32,+IF(B141>0,VLOOKUP(B141,Simulador_v2!$A$33:$AJ$273,13,0),\" \")))","v":""},{"$f":"IF($D$12=0,\" \",IF(B140=$D$12,Simulador_v2!$T$32,+IF(B141>0,VLOOKUP(B141,Simulador_v2!$A$33:$AJ$273,20,0),\" \")))","v":""},{"$f":"IF($D$12=0,\" \",IF(B140=$D$12,Simulador_v2!$Z$32,+IF(B141>0,VLOOKUP(B141,Simulador_v2!$A$33:$AJ$273,26,0),\" \")))","v":""},{"$f":"IF($D$12=0,\" \",IF(B140=$D$12,Simulador_v2!$W$32,+IF(B141>0,VLOOKUP(B141,Simulador_v2!$A$33:$AJ$273,23,0),\" \")))","v":""},{"$f":"IF($D$12=0,\" \",IF(B140=$D$12,Simulador_v2!$AJ$32,+IF(B141>0,VLOOKUP(B141,Simulador_v2!$A$33:$AJ$273,36,0),\" \")))","v":""}]
[null,"",{"$f":"IF($D$12=0,\" \",IF(B141=$D$12,\"TOTALES\",+IF(B142>0,VLOOKUP(B142,Simulador_v2!$A$33:$AJ$273,3,0),\" \")))","v":""},{"$f":"IF($D$12=0,\" \",IF(B141=$D$12,Simulador_v2!$K$32,+IF(B142>0,VLOOKUP(B142,Simulador_v2!$A$33:$AJ$273,11,0),\" \")))","v":""},{"$f":"IF($D$12=0,\" \",IF(B141=$D$12,Simulador_v2!$L$32,+IF(B142>0,VLOOKUP(B142,Simulador_v2!$A$33:$AJ$273,12,0),\" \")))","v":""},{"$f":"IF($D$12=0,\" \",IF(B141=$D$12,Simulador_v2!$M$32,+IF(B142>0,VLOOKUP(B142,Simulador_v2!$A$33:$AJ$273,13,0),\" \")))","v":""},{"$f":"IF($D$12=0,\" \",IF(B141=$D$12,Simulador_v2!$T$32,+IF(B142>0,VLOOKUP(B142,Simulador_v2!$A$33:$AJ$273,20,0),\" \")))","v":""},{"$f":"IF($D$12=0,\" \",IF(B141=$D$12,Simulador_v2!$Z$32,+IF(B142>0,VLOOKUP(B142,Simulador_v2!$A$33:$AJ$273,26,0),\" \")))","v":""},{"$f":"IF($D$12=0,\" \",IF(B141=$D$12,Simulador_v2!$W$32,+IF(B142>0,VLOOKUP(B142,Simulador_v2!$A$33:$AJ$273,23,0),\" \")))","v":""},{"$f":"IF($D$12=0,\" \",IF(B141=$D$12,Simulador_v2!$AJ$32,+IF(B142>0,VLOOKUP(B142,Simulador_v2!$A$33:$AJ$273,36,0),\" \")))","v":""}]
[null,"",{"$f":"IF($D$12=0,\" \",IF(B142=$D$12,\"TOTALES\",+IF(B143>0,VLOOKUP(B143,Simulador_v2!$A$33:$AJ$273,3,0),\" \")))","v":""},{"$f":"IF($D$12=0,\" \",IF(B142=$D$12,Simulador_v2!$K$32,+IF(B143>0,VLOOKUP(B143,Simulador_v2!$A$33:$AJ$273,11,0),\" \")))","v":""},{"$f":"IF($D$12=0,\" \",IF(B142=$D$12,Simulador_v2!$L$32,+IF(B143>0,VLOOKUP(B143,Simulador_v2!$A$33:$AJ$273,12,0),\" \")))","v":""},{"$f":"IF($D$12=0,\" \",IF(B142=$D$12,Simulador_v2!$M$32,+IF(B143>0,VLOOKUP(B143,Simulador_v2!$A$33:$AJ$273,13,0),\" \")))","v":""},{"$f":"IF($D$12=0,\" \",IF(B142=$D$12,Simulador_v2!$T$32,+IF(B143>0,VLOOKUP(B143,Simulador_v2!$A$33:$AJ$273,20,0),\" \")))","v":""},{"$f":"IF($D$12=0,\" \",IF(B142=$D$12,Simulador_v2!$Z$32,+IF(B143>0,VLOOKUP(B143,Simulador_v2!$A$33:$AJ$273,26,0),\" \")))","v":""},{"$f":"IF($D$12=0,\" \",IF(B142=$D$12,Simulador_v2!$W$32,+IF(B143>0,VLOOKUP(B143,Simulador_v2!$A$33:$AJ$273,23,0),\" \")))","v":""},{"$f":"IF($D$12=0,\" \",IF(B142=$D$12,Simulador_v2!$AJ$32,+IF(B143>0,VLOOKUP(B143,Simulador_v2!$A$33:$AJ$273,36,0),\" \")))","v":""}]
[null,"",{"$f":"IF($D$12=0,\" \",IF(B143=$D$12,\"TOTALES\",+IF(B144>0,VLOOKUP(B144,Simulador_v2!$A$33:$AJ$273,3,0),\" \")))","v":""},{"$f":"IF($D$12=0,\" \",IF(B143=$D$12,Simulador_v2!$K$32,+IF(B144>0,VLOOKUP(B144,Simulador_v2!$A$33:$AJ$273,11,0),\" \")))","v":""},{"$f":"IF($D$12=0,\" \",IF(B143=$D$12,Simulador_v2!$L$32,+IF(B144>0,VLOOKUP(B144,Simulador_v2!$A$33:$AJ$273,12,0),\" \")))","v":""},{"$f":"IF($D$12=0,\" \",IF(B143=$D$12,Simulador_v2!$M$32,+IF(B144>0,VLOOKUP(B144,Simulador_v2!$A$33:$AJ$273,13,0),\" \")))","v":""},{"$f":"IF($D$12=0,\" \",IF(B143=$D$12,Simulador_v2!$T$32,+IF(B144>0,VLOOKUP(B144,Simulador_v2!$A$33:$AJ$273,20,0),\" \")))","v":""},{"$f":"IF($D$12=0,\" \",IF(B143=$D$12,Simulador_v2!$Z$32,+IF(B144>0,VLOOKUP(B144,Simulador_v2!$A$33:$AJ$273,26,0),\" \")))","v":""},{"$f":"IF($D$12=0,\" \",IF(B143=$D$12,Simulador_v2!$W$32,+IF(B144>0,VLOOKUP(B144,Simulador_v2!$A$33:$AJ$273,23,0),\" \")))","v":""},{"$f":"IF($D$12=0,\" \",IF(B143=$D$12,Simulador_v2!$AJ$32,+IF(B144>0,VLOOKUP(B144,Simulador_v2!$A$33:$AJ$273,36,0),\" \")))","v":""}]
[null,"",{"$f":"IF($D$12=0,\" \",IF(B144=$D$12,\"TOTALES\",+IF(B145>0,VLOOKUP(B145,Simulador_v2!$A$33:$AJ$273,3,0),\" \")))","v":""},{"$f":"IF($D$12=0,\" \",IF(B144=$D$12,Simulador_v2!$K$32,+IF(B145>0,VLOOKUP(B145,Simulador_v2!$A$33:$AJ$273,11,0),\" \")))","v":""},{"$f":"IF($D$12=0,\" \",IF(B144=$D$12,Simulador_v2!$L$32,+IF(B145>0,VLOOKUP(B145,Simulador_v2!$A$33:$AJ$273,12,0),\" \")))","v":""},{"$f":"IF($D$12=0,\" \",IF(B144=$D$12,Simulador_v2!$M$32,+IF(B145>0,VLOOKUP(B145,Simulador_v2!$A$33:$AJ$273,13,0),\" \")))","v":""},{"$f":"IF($D$12=0,\" \",IF(B144=$D$12,Simulador_v2!$T$32,+IF(B145>0,VLOOKUP(B145,Simulador_v2!$A$33:$AJ$273,20,0),\" \")))","v":""},{"$f":"IF($D$12=0,\" \",IF(B144=$D$12,Simulador_v2!$Z$32,+IF(B145>0,VLOOKUP(B145,Simulador_v2!$A$33:$AJ$273,26,0),\" \")))","v":""},{"$f":"IF($D$12=0,\" \",IF(B144=$D$12,Simulador_v2!$W$32,+IF(B145>0,VLOOKUP(B145,Simulador_v2!$A$33:$AJ$273,23,0),\" \")))","v":""},{"$f":"IF($D$12=0,\" \",IF(B144=$D$12,Simulador_v2!$AJ$32,+IF(B145>0,VLOOKUP(B145,Simulador_v2!$A$33:$AJ$273,36,0),\" \")))","v":""}]
[null,"",{"$f":"IF($D$12=0,\" \",IF(B145=$D$12,\"TOTALES\",+IF(B146>0,VLOOKUP(B146,Simulador_v2!$A$33:$AJ$273,3,0),\" \")))","v":""},{"$f":"IF($D$12=0,\" \",IF(B145=$D$12,Simulador_v2!$K$32,+IF(B146>0,VLOOKUP(B146,Simulador_v2!$A$33:$AJ$273,11,0),\" \")))","v":""},{"$f":"IF($D$12=0,\" \",IF(B145=$D$12,Simulador_v2!$L$32,+IF(B146>0,VLOOKUP(B146,Simulador_v2!$A$33:$AJ$273,12,0),\" \")))","v":""},{"$f":"IF($D$12=0,\" \",IF(B145=$D$12,Simulador_v2!$M$32,+IF(B146>0,VLOOKUP(B146,Simulador_v2!$A$33:$AJ$273,13,0),\" \")))","v":""},{"$f":"IF($D$12=0,\" \",IF(B145=$D$12,Simulador_v2!$T$32,+IF(B146>0,VLOOKUP(B146,Simulador_v2!$A$33:$AJ$273,20,0),\" \")))","v":""},{"$f":"IF($D$12=0,\" \",IF(B145=$D$12,Simulador_v2!$Z$32,+IF(B146>0,VLOOKUP(B146,Simulador_v2!$A$33:$AJ$273,26,0),\" \")))","v":""},{"$f":"IF($D$12=0,\" \",IF(B145=$D$12,Simulador_v2!$W$32,+IF(B146>0,VLOOKUP(B146,Simulador_v2!$A$33:$AJ$273,23,0),\" \")))","v":""},{"$f":"IF($D$12=0,\" \",IF(B145=$D$12,Simulador_v2!$AJ$32,+IF(B146>0,VLOOKUP(B146,Simulador_v2!$A$33:$AJ$273,36,0),\" \")))","v":""}]
[null,{"$f":"IF(B146=0,\" \",IF(B146>=$D$12,\"\",B146+1))","v":""},{"$f":"IF($D$12=0,\" \",IF(B146=$D$12,\"TOTALES\",+IF(B147>0,VLOOKUP(B147,Simulador_v2!$A$33:$AJ$273,3,0),\" \")))","v":""},{"$f":"IF($D$12=0,\" \",IF(B146=$D$12,Simulador_v2!$K$32,+IF(B147>0,VLOOKUP(B147,Simulador_v2!$A$33:$AJ$273,11,0),\" \")))","v":""},{"$f":"IF($D$12=0,\" \",IF(B146=$D$12,Simulador_v2!$L$32,+IF(B147>0,VLOOKUP(B147,Simulador_v2!$A$33:$AJ$273,12,0),\" \")))","v":""},{"$f":"IF($D$12=0,\" \",IF(B146=$D$12,Simulador_v2!$M$32,+IF(B147>0,VLOOKUP(B147,Simulador_v2!$A$33:$AJ$273,13,0),\" \")))","v":""},{"$f":"IF($D$12=0,\" \",IF(B146=$D$12,Simulador_v2!$T$32,+IF(B147>0,VLOOKUP(B147,Simulador_v2!$A$33:$AJ$273,20,0),\" \")))","v":""},{"$f":"IF($D$12=0,\" \",IF(B146=$D$12,Simulador_v2!$Z$32,+IF(B147>0,VLOOKUP(B147,Simulador_v2!$A$33:$AJ$273,26,0),\" \")))","v":""},{"$f":"IF($D$12=0,\" \",IF(B146=$D$12,Simulador_v2!$W$32,+IF(B147>0,VLOOKUP(B147,Simulador_v2!$A$33:$AJ$273,23,0),\" \")))","v":""},{"$f":"IF($D$12=0,\" \",IF(B146=$D$12,Simulador_v2!$AJ$32,+IF(B147>0,VLOOKUP(B147,Simulador_v2!$A$33:$AJ$273,36,0),\" \")))","v":""}]
[null,"",{"$f":"IF($D$12=0,\" \",IF(B147=$D$12,\"TOTALES\",+IF(B148>0,VLOOKUP(B148,Simulador_v2!$A$33:$AJ$273,3,0),\" \")))","v":""},{"$f":"IF($D$12=0,\" \",IF(B147=$D$12,Simulador_v2!$K$32,+IF(B148>0,VLOOKUP(B148,Simulador_v2!$A$33:$AJ$273,11,0),\" \")))","v":""},{"$f":"IF($D$12=0,\" \",IF(B147=$D$12,Simulador_v2!$L$32,+IF(B148>0,VLOOKUP(B148,Simulador_v2!$A$33:$AJ$273,12,0),\" \")))","v":""},{"$f":"IF($D$12=0,\" \",IF(B147=$D$12,Simulador_v2!$M$32,+IF(B148>0,VLOOKUP(B148,Simulador_v2!$A$33:$AJ$273,13,0),\" \")))","v":""},{"$f":"IF($D$12=0,\" \",IF(B147=$D$12,Simulador_v2!$T$32,+IF(B148>0,VLOOKUP(B148,Simulador_v2!$A$33:$AJ$273,20,0),\" \")))","v":""},{"$f":"IF($D$12=0,\" \",IF(B147=$D$12,Simulador_v2!$Z$32,+IF(B148>0,VLOOKUP(B148,Simulador_v2!$A$33:$AJ$273,26,0),\" \")))","v":""},{"$f":"IF($D$12=0,\" \",IF(B147=$D$12,Simulador_v2!$W$32,+IF(B148>0,VLOOKUP(B148,Simulador_v2!$A$33:$AJ$273,23,0),\" \")))","v":""},{"$f":"IF($D$12=0,\" \",IF(B147=$D$12,Simulador_v2!$AJ$32,+IF(B148>0,VLOOKUP(B148,Simulador_v2!$A$33:$AJ$273,36,0),\" \")))","v":""}]
[null,"",{"$f":"IF($D$12=0,\" \",IF(B148=$D$12,\"TOTALES\",+IF(B149>0,VLOOKUP(B149,Simulador_v2!$A$33:$AJ$273,3,0),\" \")))","v":""},{"$f":"IF($D$12=0,\" \",IF(B148=$D$12,Simulador_v2!$K$32,+IF(B149>0,VLOOKUP(B149,Simulador_v2!$A$33:$AJ$273,11,0),\" \")))","v":""},{"$f":"IF($D$12=0,\" \",IF(B148=$D$12,Simulador_v2!$L$32,+IF(B149>0,VLOOKUP(B149,Simulador_v2!$A$33:$AJ$273,12,0),\" \")))","v":""},{"$f":"IF($D$12=0,\" \",IF(B148=$D$12,Simulador_v2!$M$32,+IF(B149>0,VLOOKUP(B149,Simulador_v2!$A$33:$AJ$273,13,0),\" \")))","v":""},{"$f":"IF($D$12=0,\" \",IF(B148=$D$12,Simulador_v2!$T$32,+IF(B149>0,VLOOKUP(B149,Simulador_v2!$A$33:$AJ$273,20,0),\" \")))","v":""},{"$f":"IF($D$12=0,\" \",IF(B148=$D$12,Simulador_v2!$Z$32,+IF(B149>0,VLOOKUP(B149,Simulador_v2!$A$33:$AJ$273,26,0),\" \")))","v":""},{"$f":"IF($D$12=0,\" \",IF(B148=$D$12,Simulador_v2!$W$32,+IF(B149>0,VLOOKUP(B149,Simulador_v2!$A$33:$AJ$273,23,0),\" \")))","v":""},{"$f":"IF($D$12=0,\" \",IF(B148=$D$12,Simulador_v2!$AJ$32,+IF(B149>0,VLOOKUP(B149,Simulador_v2!$A$33:$AJ$273,36,0),\" \")))","v":""}]
[null,"",{"$f":"IF($D$12=0,\" \",IF(B149=$D$12,\"TOTALES\",+IF(B150>0,VLOOKUP(B150,Simulador_v2!$A$33:$AJ$273,3,0),\" \")))","v":""},{"$f":"IF($D$12=0,\" \",IF(B149=$D$12,Simulador_v2!$K$32,+IF(B150>0,VLOOKUP(B150,Simulador_v2!$A$33:$AJ$273,11,0),\" \")))","v":""},{"$f":"IF($D$12=0,\" \",IF(B149=$D$12,Simulador_v2!$L$32,+IF(B150>0,VLOOKUP(B150,Simulador_v2!$A$33:$AJ$273,12,0),\" \")))","v":""},{"$f":"IF($D$12=0,\" \",IF(B149=$D$12,Simulador_v2!$M$32,+IF(B150>0,VLOOKUP(B150,Simulador_v2!$A$33:$AJ$273,13,0),\" \")))","v":""},{"$f":"IF($D$12=0,\" \",IF(B149=$D$12,Simulador_v2!$T$32,+IF(B150>0,VLOOKUP(B150,Simulador_v2!$A$33:$AJ$273,20,0),\" \")))","v":""},{"$f":"IF($D$12=0,\" \",IF(B149=$D$12,Simulador_v2!$Z$32,+IF(B150>0,VLOOKUP(B150,Simulador_v2!$A$33:$AJ$273,26,0),\" \")))","v":""},{"$f":"IF($D$12=0,\" \",IF(B149=$D$12,Simulador_v2!$W$32,+IF(B150>0,VLOOKUP(B150,Simulador_v2!$A$33:$AJ$273,23,0),\" \")))","v":""},{"$f":"IF($D$12=0,\" \",IF(B149=$D$12,Simulador_v2!$AJ$32,+IF(B150>0,VLOOKUP(B150,Simulador_v2!$A$33:$AJ$273,36,0),\" \")))","v":""}]
[null,"",{"$f":"IF($D$12=0,\" \",IF(B150=$D$12,\"TOTALES\",+IF(B151>0,VLOOKUP(B151,Simulador_v2!$A$33:$AJ$273,3,0),\" \")))","v":""},{"$f":"IF($D$12=0,\" \",IF(B150=$D$12,Simulador_v2!$K$32,+IF(B151>0,VLOOKUP(B151,Simulador_v2!$A$33:$AJ$273,11,0),\" \")))","v":""},{"$f":"IF($D$12=0,\" \",IF(B150=$D$12,Simulador_v2!$L$32,+IF(B151>0,VLOOKUP(B151,Simulador_v2!$A$33:$AJ$273,12,0),\" \")))","v":""},{"$f":"IF($D$12=0,\" \",IF(B150=$D$12,Simulador_v2!$M$32,+IF(B151>0,VLOOKUP(B151,Simulador_v2!$A$33:$AJ$273,13,0),\" \")))","v":""},{"$f":"IF($D$12=0,\" \",IF(B150=$D$12,Simulador_v2!$T$32,+IF(B151>0,VLOOKUP(B151,Simulador_v2!$A$33:$AJ$273,20,0),\" \")))","v":""},{"$f":"IF($D$12=0,\" \",IF(B150=$D$12,Simulador_v2!$Z$32,+IF(B151>0,VLOOKUP(B151,Simulador_v2!$A$33:$AJ$273,26,0),\" \")))","v":""},{"$f":"IF($D$12=0,\" \",IF(B150=$D$12,Simulador_v2!$W$32,+IF(B151>0,VLOOKUP(B151,Simulador_v2!$A$33:$AJ$273,23,0),\" \")))","v":""},{"$f":"IF($D$12=0,\" \",IF(B150=$D$12,Simulador_v2!$AJ$32,+IF(B151>0,VLOOKUP(B151,Simulador_v2!$A$33:$AJ$273,36,0),\" \")))","v":""}]
[null,"",{"$f":"IF($D$12=0,\" \",IF(B151=$D$12,\"TOTALES\",+IF(B152>0,VLOOKUP(B152,Simulador_v2!$A$33:$AJ$273,3,0),\" \")))","v":""},{"$f":"IF($D$12=0,\" \",IF(B151=$D$12,Simulador_v2!$K$32,+IF(B152>0,VLOOKUP(B152,Simulador_v2!$A$33:$AJ$273,11,0),\" \")))","v":""},{"$f":"IF($D$12=0,\" \",IF(B151=$D$12,Simulador_v2!$L$32,+IF(B152>0,VLOOKUP(B152,Simulador_v2!$A$33:$AJ$273,12,0),\" \")))","v":""},{"$f":"IF($D$12=0,\" \",IF(B151=$D$12,Simulador_v2!$M$32,+IF(B152>0,VLOOKUP(B152,Simulador_v2!$A$33:$AJ$273,13,0),\" \")))","v":""},{"$f":"IF($D$12=0,\" \",IF(B151=$D$12,Simulador_v2!$T$32,+IF(B152>0,VLOOKUP(B152,Simulador_v2!$A$33:$AJ$273,20,0),\" \")))","v":""},{"$f":"IF($D$12=0,\" \",IF(B151=$D$12,Simulador_v2!$Z$32,+IF(B152>0,VLOOKUP(B152,Simulador_v2!$A$33:$AJ$273,26,0),\" \")))","v":""},{"$f":"IF($D$12=0,\" \",IF(B151=$D$12,Simulador_v2!$W$32,+IF(B152>0,VLOOKUP(B152,Simulador_v2!$A$33:$AJ$273,23,0),\" \")))","v":""},{"$f":"IF($D$12=0,\" \",IF(B151=$D$12,Simulador_v2!$AJ$32,+IF(B152>0,VLOOKUP(B152,Simulador_v2!$A$33:$AJ$273,36,0),\" \")))","v":""}]
[null,"",{"$f":"IF($D$12=0,\" \",IF(B152=$D$12,\"TOTALES\",+IF(B153>0,VLOOKUP(B153,Simulador_v2!$A$33:$AJ$273,3,0),\" \")))","v":""},{"$f":"IF($D$12=0,\" \",IF(B152=$D$12,Simulador_v2!$K$32,+IF(B153>0,VLOOKUP(B153,Simulador_v2!$A$33:$AJ$273,11,0),\" \")))","v":""},{"$f":"IF($D$12=0,\" \",IF(B152=$D$12,Simulador_v2!$L$32,+IF(B153>0,VLOOKUP(B153,Simulador_v2!$A$33:$AJ$273,12,0),\" \")))","v":""},{"$f":"IF($D$12=0,\" \",IF(B152=$D$12,Simulador_v2!$M$32,+IF(B153>0,VLOOKUP(B153,Simulador_v2!$A$33:$AJ$273,13,0),\" \")))","v":""},{"$f":"IF($D$12=0,\" \",IF(B152=$D$12,Simulador_v2!$T$32,+IF(B153>0,VLOOKUP(B153,Simulador_v2!$A$33:$AJ$273,20,0),\" \")))","v":""},{"$f":"IF($D$12=0,\" \",IF(B152=$D$12,Simulador_v2!$Z$32,+IF(B153>0,VLOOKUP(B153,Simulador_v2!$A$33:$AJ$273,26,0),\" \")))","v":""},{"$f":"IF($D$12=0,\" \",IF(B152=$D$12,Simulador_v2!$W$32,+IF(B153>0,VLOOKUP(B153,Simulador_v2!$A$33:$AJ$273,23,0),\" \")))","v":""},{"$f":"IF($D$12=0,\" \",IF(B152=$D$12,Simulador_v2!$AJ$32,+IF(B153>0,VLOOKUP(B153,Simulador_v2!$A$33:$AJ$273,36,0),\" \")))","v":""}]
[null,"",{"$f":"IF($D$12=0,\" \",IF(B153=$D$12,\"TOTALES\",+IF(B154>0,VLOOKUP(B154,Simulador_v2!$A$33:$AJ$273,3,0),\" \")))","v":""},{"$f":"IF($D$12=0,\" \",IF(B153=$D$12,Simulador_v2!$K$32,+IF(B154>0,VLOOKUP(B154,Simulador_v2!$A$33:$AJ$273,11,0),\" \")))","v":""},{"$f":"IF($D$12=0,\" \",IF(B153=$D$12,Simulador_v2!$L$32,+IF(B154>0,VLOOKUP(B154,Simulador_v2!$A$33:$AJ$273,12,0),\" \")))","v":""},{"$f":"IF($D$12=0,\" \",IF(B153=$D$12,Simulador_v2!$M$32,+IF(B154>0,VLOOKUP(B154,Simulador_v2!$A$33:$AJ$273,13,0),\" \")))","v":""},{"$f":"IF($D$12=0,\" \",IF(B153=$D$12,Simulador_v2!$T$32,+IF(B154>0,VLOOKUP(B154,Simulador_v2!$A$33:$AJ$273,20,0),\" \")))","v":""},{"$f":"IF($D$12=0,\" \",IF(B153=$D$12,Simulador_v2!$Z$32,+IF(B154>0,VLOOKUP(B154,Simulador_v2!$A$33:$AJ$273,26,0),\" \")))","v":""},{"$f":"IF($D$12=0,\" \",IF(B153=$D$12,Simulador_v2!$W$32,+IF(B154>0,VLOOKUP(B154,Simulador_v2!$A$33:$AJ$273,23,0),\" \")))","v":""},{"$f":"IF($D$12=0,\" \",IF(B153=$D$12,Simulador_v2!$AJ$32,+IF(B154>0,VLOOKUP(B154,Simulador_v2!$A$33:$AJ$273,36,0),\" \")))","v":""}]
[null,"",{"$f":"IF($D$12=0,\" \",IF(B154=$D$12,\"TOTALES\",+IF(B155>0,VLOOKUP(B155,Simulador_v2!$A$33:$AJ$273,3,0),\" \")))","v":""},{"$f":"IF($D$12=0,\" \",IF(B154=$D$12,Simulador_v2!$K$32,+IF(B155>0,VLOOKUP(B155,Simulador_v2!$A$33:$AJ$273,11,0),\" \")))","v":""},{"$f":"IF($D$12=0,\" \",IF(B154=$D$12,Simulador_v2!$L$32,+IF(B155>0,VLOOKUP(B155,Simulador_v2!$A$33:$AJ$273,12,0),\" \")))","v":""},{"$f":"IF($D$12=0,\" \",IF(B154=$D$12,Simulador_v2!$M$32,+IF(B155>0,VLOOKUP(B155,Simulador_v2!$A$33:$AJ$273,13,0),\" \")))","v":""},{"$f":"IF($D$12=0,\" \",IF(B154=$D$12,Simulador_v2!$T$32,+IF(B155>0,VLOOKUP(B155,Simulador_v2!$A$33:$AJ$273,20,0),\" \")))","v":""},{"$f":"IF($D$12=0,\" \",IF(B154=$D$12,Simulador_v2!$Z$32,+IF(B155>0,VLOOKUP(B155,Simulador_v2!$A$33:$AJ$273,26,0),\" \")))","v":""},{"$f":"IF($D$12=0,\" \",IF(B154=$D$12,Simulador_v2!$W$32,+IF(B155>0,VLOOKUP(B155,Simulador_v2!$A$33:$AJ$273,23,0),\" \")))","v":""},{"$f":"IF($D$12=0,\" \",IF(B154=$D$12,Simulador_v2!$AJ$32,+IF(B155>0,VLOOKUP(B155,Simulador_v2!$A$33:$AJ$273,36,0),\" \")))","v":""}]
[null,"",{"$f":"IF($D$12=0,\" \",IF(B155=$D$12,\"TOTALES\",+IF(B156>0,VLOOKUP(B156,Simulador_v2!$A$33:$AJ$273,3,0),\" \")))","v":""},{"$f":"IF($D$12=0,\" \",IF(B155=$D$12,Simulador_v2!$K$32,+IF(B156>0,VLOOKUP(B156,Simulador_v2!$A$33:$AJ$273,11,0),\" \")))","v":""},{"$f":"IF($D$12=0,\" \",IF(B155=$D$12,Simulador_v2!$L$32,+IF(B156>0,VLOOKUP(B156,Simulador_v2!$A$33:$AJ$273,12,0),\" \")))","v":""},{"$f":"IF($D$12=0,\" \",IF(B155=$D$12,Simulador_v2!$M$32,+IF(B156>0,VLOOKUP(B156,Simulador_v2!$A$33:$AJ$273,13,0),\" \")))","v":""},{"$f":"IF($D$12=0,\" \",IF(B155=$D$12,Simulador_v2!$T$32,+IF(B156>0,VLOOKUP(B156,Simulador_v2!$A$33:$AJ$273,20,0),\" \")))","v":""},{"$f":"IF($D$12=0,\" \",IF(B155=$D$12,Simulador_v2!$Z$32,+IF(B156>0,VLOOKUP(B156,Simulador_v2!$A$33:$AJ$273,26,0),\" \")))","v":""},{"$f":"IF($D$12=0,\" \",IF(B155=$D$12,Simulador_v2!$W$32,+IF(B156>0,VLOOKUP(B156,Simulador_v2!$A$33:$AJ$273,23,0),\" \")))","v":""},{"$f":"IF($D$12=0,\" \",IF(B155=$D$12,Simulador_v2!$AJ$32,+IF(B156>0,VLOOKUP(B156,Simulador_v2!$A$33:$AJ$273,36,0),\" \")))","v":""}]
[null,"",{"$f":"IF($D$12=0,\" \",IF(B156=$D$12,\"TOTALES\",+IF(B157>0,VLOOKUP(B157,Simulador_v2!$A$33:$AJ$273,3,0),\" \")))","v":""},{"$f":"IF($D$12=0,\" \",IF(B156=$D$12,Simulador_v2!$K$32,+IF(B157>0,VLOOKUP(B157,Simulador_v2!$A$33:$AJ$273,11,0),\" \")))","v":""},{"$f":"IF($D$12=0,\" \",IF(B156=$D$12,Simulador_v2!$L$32,+IF(B157>0,VLOOKUP(B157,Simulador_v2!$A$33:$AJ$273,12,0),\" \")))","v":""},{"$f":"IF($D$12=0,\" \",IF(B156=$D$12,Simulador_v2!$M$32,+IF(B157>0,VLOOKUP(B157,Simulador_v2!$A$33:$AJ$273,13,0),\" \")))","v":""},{"$f":"IF($D$12=0,\" \",IF(B156=$D$12,Simulador_v2!$T$32,+IF(B157>0,VLOOKUP(B157,Simulador_v2!$A$33:$AJ$273,20,0),\" \")))","v":""},{"$f":"IF($D$12=0,\" \",IF(B156=$D$12,Simulador_v2!$Z$32,+IF(B157>0,VLOOKUP(B157,Simulador_v2!$A$33:$AJ$273,26,0),\" \")))","v":""},{"$f":"IF($D$12=0,\" \",IF(B156=$D$12,Simulador_v2!$W$32,+IF(B157>0,VLOOKUP(B157,Simulador_v2!$A$33:$AJ$273,23,0),\" \")))","v":""},{"$f":"IF($D$12=0,\" \",IF(B156=$D$12,Simulador_v2!$AJ$32,+IF(B157>0,VLOOKUP(B157,Simulador_v2!$A$33:$AJ$273,36,0),\" \")))","v":""}]
[null,"",{"$f":"IF($D$12=0,\" \",IF(B157=$D$12,\"TOTALES\",+IF(B158>0,VLOOKUP(B158,Simulador_v2!$A$33:$AJ$273,3,0),\" \")))","v":""},{"$f":"IF($D$12=0,\" \",IF(B157=$D$12,Simulador_v2!$K$32,+IF(B158>0,VLOOKUP(B158,Simulador_v2!$A$33:$AJ$273,11,0),\" \")))","v":""},{"$f":"IF($D$12=0,\" \",IF(B157=$D$12,Simulador_v2!$L$32,+IF(B158>0,VLOOKUP(B158,Simulador_v2!$A$33:$AJ$273,12,0),\" \")))","v":""},{"$f":"IF($D$12=0,\" \",IF(B157=$D$12,Simulador_v2!$M$32,+IF(B158>0,VLOOKUP(B158,Simulador_v2!$A$33:$AJ$273,13,0),\" \")))","v":""},{"$f":"IF($D$12=0,\" \",IF(B157=$D$12,Simulador_v2!$T$32,+IF(B158>0,VLOOKUP(B158,Simulador_v2!$A$33:$AJ$273,20,0),\" \")))","v":""},{"$f":"IF($D$12=0,\" \",IF(B157=$D$12,Simulador_v2!$Z$32,+IF(B158>0,VLOOKUP(B158,Simulador_v2!$A$33:$AJ$273,26,0),\" \")))","v":""},{"$f":"IF($D$12=0,\" \",IF(B157=$D$12,Simulador_v2!$W$32,+IF(B158>0,VLOOKUP(B158,Simulador_v2!$A$33:$AJ$273,23,0),\" \")))","v":""},{"$f":"IF($D$12=0,\" \",IF(B157=$D$12,Simulador_v2!$AJ$32,+IF(B158>0,VLOOKUP(B158,Simulador_v2!$A$33:$AJ$273,36,0),\" \")))","v":""}]
[null,"",{"$f":"IF($D$12=0,\" \",IF(B158=$D$12,\"TOTALES\",+IF(B159>0,VLOOKUP(B159,Simulador_v2!$A$33:$AJ$273,3,0),\" \")))","v":""},{"$f":"IF($D$12=0,\" \",IF(B158=$D$12,Simulador_v2!$K$32,+IF(B159>0,VLOOKUP(B159,Simulador_v2!$A$33:$AJ$273,11,0),\" \")))","v":""},{"$f":"IF($D$12=0,\" \",IF(B158=$D$12,Simulador_v2!$L$32,+IF(B159>0,VLOOKUP(B159,Simulador_v2!$A$33:$AJ$273,12,0),\" \")))","v":""},{"$f":"IF($D$12=0,\" \",IF(B158=$D$12,Simulador_v2!$M$32,+IF(B159>0,VLOOKUP(B159,Simulador_v2!$A$33:$AJ$273,13,0),\" \")))","v":""},{"$f":"IF($D$12=0,\" \",IF(B158=$D$12,Simulador_v2!$T$32,+IF(B159>0,VLOOKUP(B159,Simulador_v2!$A$33:$AJ$273,20,0),\" \")))","v":""},{"$f":"IF($D$12=0,\" \",IF(B158=$D$12,Simulador_v2!$Z$32,+IF(B159>0,VLOOKUP(B159,Simulador_v2!$A$33:$AJ$273,26,0),\" \")))","v":""},{"$f":"IF($D$12=0,\" \",IF(B158=$D$12,Simulador_v2!$W$32,+IF(B159>0,VLOOKUP(B159,Simulador_v2!$A$33:$AJ$273,23,0),\" \")))","v":""},{"$f":"IF($D$12=0,\" \",IF(B158=$D$12,Simulador_v2!$AJ$32,+IF(B159>0,VLOOKUP(B159,Simulador_v2!$A$33:$AJ$273,36,0),\" \")))","v":""}]
[null,"",{"$f":"IF($D$12=0,\" \",IF(B159=$D$12,\"TOTALES\",+IF(B160>0,VLOOKUP(B160,Simulador_v2!$A$33:$AJ$273,3,0),\" \")))","v":""},{"$f":"IF($D$12=0,\" \",IF(B159=$D$12,Simulador_v2!$K$32,+IF(B160>0,VLOOKUP(B160,Simulador_v2!$A$33:$AJ$273,11,0),\" \")))","v":""},{"$f":"IF($D$12=0,\" \",IF(B159=$D$12,Simulador_v2!$L$32,+IF(B160>0,VLOOKUP(B160,Simulador_v2!$A$33:$AJ$273,12,0),\" \")))","v":""},{"$f":"IF($D$12=0,\" \",IF(B159=$D$12,Simulador_v2!$M$32,+IF(B160>0,VLOOKUP(B160,Simulador_v2!$A$33:$AJ$273,13,0),\" \")))","v":""},{"$f":"IF($D$12=0,\" \",IF(B159=$D$12,Simulador_v2!$T$32,+IF(B160>0,VLOOKUP(B160,Simulador_v2!$A$33:$AJ$273,20,0),\" \")))","v":""},{"$f":"IF($D$12=0,\" \",IF(B159=$D$12,Simulador_v2!$Z$32,+IF(B160>0,VLOOKUP(B160,Simulador_v2!$A$33:$AJ$273,26,0),\" \")))","v":""},{"$f":"IF($D$12=0,\" \",IF(B159=$D$12,Simulador_v2!$W$32,+IF(B160>0,VLOOKUP(B160,Simulador_v2!$A$33:$AJ$273,23,0),\" \")))","v":""},{"$f":"IF($D$12=0,\" \",IF(B159=$D$12,Simulador_v2!$AJ$32,+IF(B160>0,VLOOKUP(B160,Simulador_v2!$A$33:$AJ$273,36,0),\" \")))","v":""}]
[null,"",{"$f":"IF($D$12=0,\" \",IF(B160=$D$12,\"TOTALES\",+IF(B161>0,VLOOKUP(B161,Simulador_v2!$A$33:$AJ$273,3,0),\" \")))","v":""},{"$f":"IF($D$12=0,\" \",IF(B160=$D$12,Simulador_v2!$K$32,+IF(B161>0,VLOOKUP(B161,Simulador_v2!$A$33:$AJ$273,11,0),\" \")))","v":""},{"$f":"IF($D$12=0,\" \",IF(B160=$D$12,Simulador_v2!$L$32,+IF(B161>0,VLOOKUP(B161,Simulador_v2!$A$33:$AJ$273,12,0),\" \")))","v":""},{"$f":"IF($D$12=0,\" \",IF(B160=$D$12,Simulador_v2!$M$32,+IF(B161>0,VLOOKUP(B161,Simulador_v2!$A$33:$AJ$273,13,0),\" \")))","v":""},{"$f":"IF($D$12=0,\" \",IF(B160=$D$12,Simulador_v2!$T$32,+IF(B161>0,VLOOKUP(B161,Simulador_v2!$A$33:$AJ$273,20,0),\" \")))","v":""},{"$f":"IF($D$12=0,\" \",IF(B160=$D$12,Simulador_v2!$Z$32,+IF(B161>0,VLOOKUP(B161,Simulador_v2!$A$33:$AJ$273,26,0),\" \")))","v":""},{"$f":"IF($D$12=0,\" \",IF(B160=$D$12,Simulador_v2!$W$32,+IF(B161>0,VLOOKUP(B161,Simulador_v2!$A$33:$AJ$273,23,0),\" \")))","v":""},{"$f":"IF($D$12=0,\" \",IF(B160=$D$12,Simulador_v2!$AJ$32,+IF(B161>0,VLOOKUP(B161,Simulador_v2!$A$33:$AJ$273,36,0),\" \")))","v":""}]
[null,"",{"$f":"IF($D$12=0,\" \",IF(B161=$D$12,\"TOTALES\",+IF(B162>0,VLOOKUP(B162,Simulador_v2!$A$33:$AJ$273,3,0),\" \")))","v":""},{"$f":"IF($D$12=0,\" \",IF(B161=$D$12,Simulador_v2!$K$32,+IF(B162>0,VLOOKUP(B162,Simulador_v2!$A$33:$AJ$273,11,0),\" \")))","v":""},{"$f":"IF($D$12=0,\" \",IF(B161=$D$12,Simulador_v2!$L$32,+IF(B162>0,VLOOKUP(B162,Simulador_v2!$A$33:$AJ$273,12,0),\" \")))","v":""},{"$f":"IF($D$12=0,\" \",IF(B161=$D$12,Simulador_v2!$M$32,+IF(B162>0,VLOOKUP(B162,Simulador_v2!$A$33:$AJ$273,13,0),\" \")))","v":""},{"$f":"IF($D$12=0,\" \",IF(B161=$D$12,Simulador_v2!$T$32,+IF(B162>0,VLOOKUP(B162,Simulador_v2!$A$33:$AJ$273,20,0),\" \")))","v":""},{"$f":"IF($D$12=0,\" \",IF(B161=$D$12,Simulador_v2!$Z$32,+IF(B162>0,VLOOKUP(B162,Simulador_v2!$A$33:$AJ$273,26,0),\" \")))","v":""},{"$f":"IF($D$12=0,\" \",IF(B161=$D$12,Simulador_v2!$W$32,+IF(B162>0,VLOOKUP(B162,Simulador_v2!$A$33:$AJ$273,23,0),\" \")))","v":""},{"$f":"IF($D$12=0,\" \",IF(B161=$D$12,Simulador_v2!$AJ$32,+IF(B162>0,VLOOKUP(B162,Simulador_v2!$A$33:$AJ$273,36,0),\" \")))","v":""}]
[null,"",{"$f":"IF($D$12=0,\" \",IF(B162=$D$12,\"TOTALES\",+IF(B163>0,VLOOKUP(B163,Simulador_v2!$A$33:$AJ$273,3,0),\" \")))","v":""},{"$f":"IF($D$12=0,\" \",IF(B162=$D$12,Simulador_v2!$K$32,+IF(B163>0,VLOOKUP(B163,Simulador_v2!$A$33:$AJ$273,11,0),\" \")))","v":""},{"$f":"IF($D$12=0,\" \",IF(B162=$D$12,Simulador_v2!$L$32,+IF(B163>0,VLOOKUP(B163,Simulador_v2!$A$33:$AJ$273,12,0),\" \")))","v":""},{"$f":"IF($D$12=0,\" \",IF(B162=$D$12,Simulador_v2!$M$32,+IF(B163>0,VLOOKUP(B163,Simulador_v2!$A$33:$AJ$273,13,0),\" \")))","v":""},{"$f":"IF($D$12=0,\" \",IF(B162=$D$12,Simulador_v2!$T$32,+IF(B163>0,VLOOKUP(B163,Simulador_v2!$A$33:$AJ$273,20,0),\" \")))","v":""},{"$f":"IF($D$12=0,\" \",IF(B162=$D$12,Simulador_v2!$Z$32,+IF(B163>0,VLOOKUP(B163,Simulador_v2!$A$33:$AJ$273,26,0),\" \")))","v":""},{"$f":"IF($D$12=0,\" \",IF(B162=$D$12,Simulador_v2!$W$32,+IF(B163>0,VLOOKUP(B163,Simulador_v2!$A$33:$AJ$273,23,0),\" \")))","v":""},{"$f":"IF($D$12=0,\" \",IF(B162=$D$12,Simulador_v2!$AJ$32,+IF(B163>0,VLOOKUP(B163,Simulador_v2!$A$33:$AJ$273,36,0),\" \")))","v":""}]
[null,"",{"$f":"IF($D$12=0,\" \",IF(B163=$D$12,\"TOTALES\",+IF(B164>0,VLOOKUP(B164,Simulador_v2!$A$33:$AJ$273,3,0),\" \")))","v":""},{"$f":"IF($D$12=0,\" \",IF(B163=$D$12,Simulador_v2!$K$32,+IF(B164>0,VLOOKUP(B164,Simulador_v2!$A$33:$AJ$273,11,0),\" \")))","v":""},{"$f":"IF($D$12=0,\" \",IF(B163=$D$12,Simulador_v2!$L$32,+IF(B164>0,VLOOKUP(B164,Simulador_v2!$A$33:$AJ$273,12,0),\" \")))","v":""},{"$f":"IF($D$12=0,\" \",IF(B163=$D$12,Simulador_v2!$M$32,+IF(B164>0,VLOOKUP(B164,Simulador_v2!$A$33:$AJ$273,13,0),\" \")))","v":""},{"$f":"IF($D$12=0,\" \",IF(B163=$D$12,Simulador_v2!$T$32,+IF(B164>0,VLOOKUP(B164,Simulador_v2!$A$33:$AJ$273,20,0),\" \")))","v":""},{"$f":"IF($D$12=0,\" \",IF(B163=$D$12,Simulador_v2!$Z$32,+IF(B164>0,VLOOKUP(B164,Simulador_v2!$A$33:$AJ$273,26,0),\" \")))","v":""},{"$f":"IF($D$12=0,\" \",IF(B163=$D$12,Simulador_v2!$W$32,+IF(B164>0,VLOOKUP(B164,Simulador_v2!$A$33:$AJ$273,23,0),\" \")))","v":""},{"$f":"IF($D$12=0,\" \",IF(B163=$D$12,Simulador_v2!$AJ$32,+IF(B164>0,VLOOKUP(B164,Simulador_v2!$A$33:$AJ$273,36,0),\" \")))","v":""}]
[null,"",{"$f":"IF($D$12=0,\" \",IF(B164=$D$12,\"TOTALES\",+IF(B165>0,VLOOKUP(B165,Simulador_v2!$A$33:$AJ$273,3,0),\" \")))","v":""},{"$f":"IF($D$12=0,\" \",IF(B164=$D$12,Simulador_v2!$K$32,+IF(B165>0,VLOOKUP(B165,Simulador_v2!$A$33:$AJ$273,11,0),\" \")))","v":""},{"$f":"IF($D$12=0,\" \",IF(B164=$D$12,Simulador_v2!$L$32,+IF(B165>0,VLOOKUP(B165,Simulador_v2!$A$33:$AJ$273,12,0),\" \")))","v":""},{"$f":"IF($D$12=0,\" \",IF(B164=$D$12,Simulador_v2!$M$32,+IF(B165>0,VLOOKUP(B165,Simulador_v2!$A$33:$AJ$273,13,0),\" \")))","v":""},{"$f":"IF($D$12=0,\" \",IF(B164=$D$12,Simulador_v2!$T$32,+IF(B165>0,VLOOKUP(B165,Simulador_v2!$A$33:$AJ$273,20,0),\" \")))","v":""},{"$f":"IF($D$12=0,\" \",IF(B164=$D$12,Simulador_v2!$Z$32,+IF(B165>0,VLOOKUP(B165,Simulador_v2!$A$33:$AJ$273,26,0),\" \")))","v":""},{"$f":"IF($D$12=0,\" \",IF(B164=$D$12,Simulador_v2!$W$32,+IF(B165>0,VLOOKUP(B165,Simulador_v2!$A$33:$AJ$273,23,0),\" \")))","v":""},{"$f":"IF($D$12=0,\" \",IF(B164=$D$12,Simulador_v2!$AJ$32,+IF(B165>0,VLOOKUP(B165,Simulador_v2!$A$33:$AJ$273,36,0),\" \")))","v":""}]
[null,"",{"$f":"IF($D$12=0,\" \",IF(B165=$D$12,\"TOTALES\",+IF(B166>0,VLOOKUP(B166,Simulador_v2!$A$33:$AJ$273,3,0),\" \")))","v":""},{"$f":"IF($D$12=0,\" \",IF(B165=$D$12,Simulador_v2!$K$32,+IF(B166>0,VLOOKUP(B166,Simulador_v2!$A$33:$AJ$273,11,0),\" \")))","v":""},{"$f":"IF($D$12=0,\" \",IF(B165=$D$12,Simulador_v2!$L$32,+IF(B166>0,VLOOKUP(B166,Simulador_v2!$A$33:$AJ$273,12,0),\" \")))","v":""},{"$f":"IF($D$12=0,\" \",IF(B165=$D$12,Simulador_v2!$M$32,+IF(B166>0,VLOOKUP(B166,Simulador_v2!$A$33:$AJ$273,13,0),\" \")))","v":""},{"$f":"IF($D$12=0,\" \",IF(B165=$D$12,Simulador_v2!$T$32,+IF(B166>0,VLOOKUP(B166,Simulador_v2!$A$33:$AJ$273,20,0),\" \")))","v":""},{"$f":"IF($D$12=0,\" \",IF(B165=$D$12,Simulador_v2!$Z$32,+IF(B166>0,VLOOKUP(B166,Simulador_v2!$A$33:$AJ$273,26,0),\" \")))","v":""},{"$f":"IF($D$12=0,\" \",IF(B165=$D$12,Simulador_v2!$W$32,+IF(B166>0,VLOOKUP(B166,Simulador_v2!$A$33:$AJ$273,23,0),\" \")))","v":""},{"$f":"IF($D$12=0,\" \",IF(B165=$D$12,Simulador_v2!$AJ$32,+IF(B166>0,VLOOKUP(B166,Simulador_v2!$A$33:$AJ$273,36,0),\" \")))","v":""}]
[null,"",{"$f":"IF($D$12=0,\" \",IF(B166=$D$12,\"TOTALES\",+IF(B167>0,VLOOKUP(B167,Simulador_v2!$A$33:$AJ$273,3,0),\" \")))","v":""},{"$f":"IF($D$12=0,\" \",IF(B166=$D$12,Simulador_v2!$K$32,+IF(B167>0,VLOOKUP(B167,Simulador_v2!$A$33:$AJ$273,11,0),\" \")))","v":""},{"$f":"IF($D$12=0,\" \",IF(B166=$D$12,Simulador_v2!$L$32,+IF(B167>0,VLOOKUP(B167,Simulador_v2!$A$33:$AJ$273,12,0),\" \")))","v":""},{"$f":"IF($D$12=0,\" \",IF(B166=$D$12,Simulador_v2!$M$32,+IF(B167>0,VLOOKUP(B167,Simulador_v2!$A$33:$AJ$273,13,0),\" \")))","v":""},{"$f":"IF($D$12=0,\" \",IF(B166=$D$12,Simulador_v2!$T$32,+IF(B167>0,VLOOKUP(B167,Simulador_v2!$A$33:$AJ$273,20,0),\" \")))","v":""},{"$f":"IF($D$12=0,\" \",IF(B166=$D$12,Simulador_v2!$Z$32,+IF(B167>0,VLOOKUP(B167,Simulador_v2!$A$33:$AJ$273,26,0),\" \")))","v":""},{"$f":"IF($D$12=0,\" \",IF(B166=$D$12,Simulador_v2!$W$32,+IF(B167>0,VLOOKUP(B167,Simulador_v2!$A$33:$AJ$273,23,0),\" \")))","v":""},{"$f":"IF($D$12=0,\" \",IF(B166=$D$12,Simulador_v2!$AJ$32,+IF(B167>0,VLOOKUP(B167,Simulador_v2!$A$33:$AJ$273,36,0),\" \")))","v":""}]
[null,"",{"$f":"IF($D$12=0,\" \",IF(B167=$D$12,\"TOTALES\",+IF(B168>0,VLOOKUP(B168,Simulador_v2!$A$33:$AJ$273,3,0),\" \")))","v":""},{"$f":"IF($D$12=0,\" \",IF(B167=$D$12,Simulador_v2!$K$32,+IF(B168>0,VLOOKUP(B168,Simulador_v2!$A$33:$AJ$273,11,0),\" \")))","v":""},{"$f":"IF($D$12=0,\" \",IF(B167=$D$12,Simulador_v2!$L$32,+IF(B168>0,VLOOKUP(B168,Simulador_v2!$A$33:$AJ$273,12,0),\" \")))","v":""},{"$f":"IF($D$12=0,\" \",IF(B167=$D$12,Simulador_v2!$M$32,+IF(B168>0,VLOOKUP(B168,Simulador_v2!$A$33:$AJ$273,13,0),\" \")))","v":""},{"$f":"IF($D$12=0,\" \",IF(B167=$D$12,Simulador_v2!$T$32,+IF(B168>0,VLOOKUP(B168,Simulador_v2!$A$33:$AJ$273,20,0),\" \")))","v":""},{"$f":"IF($D$12=0,\" \",IF(B167=$D$12,Simulador_v2!$Z$32,+IF(B168>0,VLOOKUP(B168,Simulador_v2!$A$33:$AJ$273,26,0),\" \")))","v":""},{"$f":"IF($D$12=0,\" \",IF(B167=$D$12,Simulador_v2!$W$32,+IF(B168>0,VLOOKUP(B168,Simulador_v2!$A$33:$AJ$273,23,0),\" \")))","v":""},{"$f":"IF($D$12=0,\" \",IF(B167=$D$12,Simulador_v2!$AJ$32,+IF(B168>0,VLOOKUP(B168,Simulador_v2!$A$33:$AJ$273,36,0),\" \")))","v":""}]
[null,"",{"$f":"IF($D$12=0,\" \",IF(B168=$D$12,\"TOTALES\",+IF(B169>0,VLOOKUP(B169,Simulador_v2!$A$33:$AJ$273,3,0),\" \")))","v":""},{"$f":"IF($D$12=0,\" \",IF(B168=$D$12,Simulador_v2!$K$32,+IF(B169>0,VLOOKUP(B169,Simulador_v2!$A$33:$AJ$273,11,0),\" \")))","v":""},{"$f":"IF($D$12=0,\" \",IF(B168=$D$12,Simulador_v2!$L$32,+IF(B169>0,VLOOKUP(B169,Simulador_v2!$A$33:$AJ$273,12,0),\" \")))","v":""},{"$f":"IF($D$12=0,\" \",IF(B168=$D$12,Simulador_v2!$M$32,+IF(B169>0,VLOOKUP(B169,Simulador_v2!$A$33:$AJ$273,13,0),\" \")))","v":""},{"$f":"IF($D$12=0,\" \",IF(B168=$D$12,Simulador_v2!$T$32,+IF(B169>0,VLOOKUP(B169,Simulador_v2!$A$33:$AJ$273,20,0),\" \")))","v":""},{"$f":"IF($D$12=0,\" \",IF(B168=$D$12,Simulador_v2!$Z$32,+IF(B169>0,VLOOKUP(B169,Simulador_v2!$A$33:$AJ$273,26,0),\" \")))","v":""},{"$f":"IF($D$12=0,\" \",IF(B168=$D$12,Simulador_v2!$W$32,+IF(B169>0,VLOOKUP(B169,Simulador_v2!$A$33:$AJ$273,23,0),\" \")))","v":""},{"$f":"IF($D$12=0,\" \",IF(B168=$D$12,Simulador_v2!$AJ$32,+IF(B169>0,VLOOKUP(B169,Simulador_v2!$A$33:$AJ$273,36,0),\" \")))","v":""}]
[null,"",{"$f":"IF($D$12=0,\" \",IF(B169=$D$12,\"TOTALES\",+IF(B170>0,VLOOKUP(B170,Simulador_v2!$A$33:$AJ$273,3,0),\" \")))","v":""},{"$f":"IF($D$12=0,\" \",IF(B169=$D$12,Simulador_v2!$K$32,+IF(B170>0,VLOOKUP(B170,Simulador_v2!$A$33:$AJ$273,11,0),\" \")))","v":""},{"$f":"IF($D$12=0,\" \",IF(B169=$D$12,Simulador_v2!$L$32,+IF(B170>0,VLOOKUP(B170,Simulador_v2!$A$33:$AJ$273,12,0),\" \")))","v":""},{"$f":"IF($D$12=0,\" \",IF(B169=$D$12,Simulador_v2!$M$32,+IF(B170>0,VLOOKUP(B170,Simulador_v2!$A$33:$AJ$273,13,0),\" \")))","v":""},{"$f":"IF($D$12=0,\" \",IF(B169=$D$12,Simulador_v2!$T$32,+IF(B170>0,VLOOKUP(B170,Simulador_v2!$A$33:$AJ$273,20,0),\" \")))","v":""},{"$f":"IF($D$12=0,\" \",IF(B169=$D$12,Simulador_v2!$Z$32,+IF(B170>0,VLOOKUP(B170,Simulador_v2!$A$33:$AJ$273,26,0),\" \")))","v":""},{"$f":"IF($D$12=0,\" \",IF(B169=$D$12,Simulador_v2!$W$32,+IF(B170>0,VLOOKUP(B170,Simulador_v2!$A$33:$AJ$273,23,0),\" \")))","v":""},{"$f":"IF($D$12=0,\" \",IF(B169=$D$12,Simulador_v2!$AJ$32,+IF(B170>0,VLOOKUP(B170,Simulador_v2!$A$33:$AJ$273,36,0),\" \")))","v":""}]
[null,"",{"$f":"IF($D$12=0,\" \",IF(B170=$D$12,\"TOTALES\",+IF(B171>0,VLOOKUP(B171,Simulador_v2!$A$33:$AJ$273,3,0),\" \")))","v":""},{"$f":"IF($D$12=0,\" \",IF(B170=$D$12,Simulador_v2!$K$32,+IF(B171>0,VLOOKUP(B171,Simulador_v2!$A$33:$AJ$273,11,0),\" \")))","v":""},{"$f":"IF($D$12=0,\" \",IF(B170=$D$12,Simulador_v2!$L$32,+IF(B171>0,VLOOKUP(B171,Simulador_v2!$A$33:$AJ$273,12,0),\" \")))","v":""},{"$f":"IF($D$12=0,\" \",IF(B170=$D$12,Simulador_v2!$M$32,+IF(B171>0,VLOOKUP(B171,Simulador_v2!$A$33:$AJ$273,13,0),\" \")))","v":""},{"$f":"IF($D$12=0,\" \",IF(B170=$D$12,Simulador_v2!$T$32,+IF(B171>0,VLOOKUP(B171,Simulador_v2!$A$33:$AJ$273,20,0),\" \")))","v":""},{"$f":"IF($D$12=0,\" \",IF(B170=$D$12,Simulador_v2!$Z$32,+IF(B171>0,VLOOKUP(B171,Simulador_v2!$A$33:$AJ$273,26,0),\" \")))","v":""},{"$f":"IF($D$12=0,\" \",IF(B170=$D$12,Simulador_v2!$W$32,+IF(B171>0,VLOOKUP(B171,Simulador_v2!$A$33:$AJ$273,23,0),\" \")))","v":""},{"$f":"IF($D$12=0,\" \",IF(B170=$D$12,Simulador_v2!$AJ$32,+IF(B171>0,VLOOKUP(B171,Simulador_v2!$A$33:$AJ$273,36,0),\" \")))","v":""}]
[null,"",{"$f":"IF($D$12=0,\" \",IF(B171=$D$12,\"TOTALES\",+IF(B172>0,VLOOKUP(B172,Simulador_v2!$A$33:$AJ$273,3,0),\" \")))","v":""},{"$f":"IF($D$12=0,\" \",IF(B171=$D$12,Simulador_v2!$K$32,+IF(B172>0,VLOOKUP(B172,Simulador_v2!$A$33:$AJ$273,11,0),\" \")))","v":""},{"$f":"IF($D$12=0,\" \",IF(B171=$D$12,Simulador_v2!$L$32,+IF(B172>0,VLOOKUP(B172,Simulador_v2!$A$33:$AJ$273,12,0),\" \")))","v":""},{"$f":"IF($D$12=0,\" \",IF(B171=$D$12,Simulador_v2!$M$32,+IF(B172>0,VLOOKUP(B172,Simulador_v2!$A$33:$AJ$273,13,0),\" \")))","v":""},{"$f":"IF($D$12=0,\" \",IF(B171=$D$12,Simulador_v2!$T$32,+IF(B172>0,VLOOKUP(B172,Simulador_v2!$A$33:$AJ$273,20,0),\" \")))","v":""},{"$f":"IF($D$12=0,\" \",IF(B171=$D$12,Simulador_v2!$Z$32,+IF(B172>0,VLOOKUP(B172,Simulador_v2!$A$33:$AJ$273,26,0),\" \")))","v":""},{"$f":"IF($D$12=0,\" \",IF(B171=$D$12,Simulador_v2!$W$32,+IF(B172>0,VLOOKUP(B172,Simulador_v2!$A$33:$AJ$273,23,0),\" \")))","v":""},{"$f":"IF($D$12=0,\" \",IF(B171=$D$12,Simulador_v2!$AJ$32,+IF(B172>0,VLOOKUP(B172,Simulador_v2!$A$33:$AJ$273,36,0),\" \")))","v":""}]
[null,"",{"$f":"IF($D$12=0,\" \",IF(B172=$D$12,\"TOTALES\",+IF(B173>0,VLOOKUP(B173,Simulador_v2!$A$33:$AJ$273,3,0),\" \")))","v":""},{"$f":"IF($D$12=0,\" \",IF(B172=$D$12,Simulador_v2!$K$32,+IF(B173>0,VLOOKUP(B173,Simulador_v2!$A$33:$AJ$273,11,0),\" \")))","v":""},{"$f":"IF($D$12=0,\" \",IF(B172=$D$12,Simulador_v2!$L$32,+IF(B173>0,VLOOKUP(B173,Simulador_v2!$A$33:$AJ$273,12,0),\" \")))","v":""},{"$f":"IF($D$12=0,\" \",IF(B172=$D$12,Simulador_v2!$M$32,+IF(B173>0,VLOOKUP(B173,Simulador_v2!$A$33:$AJ$273,13,0),\" \")))","v":""},{"$f":"IF($D$12=0,\" \",IF(B172=$D$12,Simulador_v2!$T$32,+IF(B173>0,VLOOKUP(B173,Simulador_v2!$A$33:$AJ$273,20,0),\" \")))","v":""},{"$f":"IF($D$12=0,\" \",IF(B172=$D$12,Simulador_v2!$Z$32,+IF(B173>0,VLOOKUP(B173,Simulador_v2!$A$33:$AJ$273,26,0),\" \")))","v":""},{"$f":"IF($D$12=0,\" \",IF(B172=$D$12,Simulador_v2!$W$32,+IF(B173>0,VLOOKUP(B173,Simulador_v2!$A$33:$AJ$273,23,0),\" \")))","v":""},{"$f":"IF($D$12=0,\" \",IF(B172=$D$12,Simulador_v2!$AJ$32,+IF(B173>0,VLOOKUP(B173,Simulador_v2!$A$33:$AJ$273,36,0),\" \")))","v":""}]
[null,"",{"$f":"IF($D$12=0,\" \",IF(B173=$D$12,\"TOTALES\",+IF(B174>0,VLOOKUP(B174,Simulador_v2!$A$33:$AJ$273,3,0),\" \")))","v":""},{"$f":"IF($D$12=0,\" \",IF(B173=$D$12,Simulador_v2!$K$32,+IF(B174>0,VLOOKUP(B174,Simulador_v2!$A$33:$AJ$273,11,0),\" \")))","v":""},{"$f":"IF($D$12=0,\" \",IF(B173=$D$12,Simulador_v2!$L$32,+IF(B174>0,VLOOKUP(B174,Simulador_v2!$A$33:$AJ$273,12,0),\" \")))","v":""},{"$f":"IF($D$12=0,\" \",IF(B173=$D$12,Simulador_v2!$M$32,+IF(B174>0,VLOOKUP(B174,Simulador_v2!$A$33:$AJ$273,13,0),\" \")))","v":""},{"$f":"IF($D$12=0,\" \",IF(B173=$D$12,Simulador_v2!$T$32,+IF(B174>0,VLOOKUP(B174,Simulador_v2!$A$33:$AJ$273,20,0),\" \")))","v":""},{"$f":"IF($D$12=0,\" \",IF(B173=$D$12,Simulador_v2!$Z$32,+IF(B174>0,VLOOKUP(B174,Simulador_v2!$A$33:$AJ$273,26,0),\" \")))","v":""},{"$f":"IF($D$12=0,\" \",IF(B173=$D$12,Simulador_v2!$W$32,+IF(B174>0,VLOOKUP(B174,Simulador_v2!$A$33:$AJ$273,23,0),\" \")))","v":""},{"$f":"IF($D$12=0,\" \",IF(B173=$D$12,Simulador_v2!$AJ$32,+IF(B174>0,VLOOKUP(B174,Simulador_v2!$A$33:$AJ$273,36,0),\" \")))","v":""}]
[null,"",{"$f":"IF($D$12=0,\" \",IF(B174=$D$12,\"TOTALES\",+IF(B175>0,VLOOKUP(B175,Simulador_v2!$A$33:$AJ$273,3,0),\" \")))","v":""},{"$f":"IF($D$12=0,\" \",IF(B174=$D$12,Simulador_v2!$K$32,+IF(B175>0,VLOOKUP(B175,Simulador_v2!$A$33:$AJ$273,11,0),\" \")))","v":""},{"$f":"IF($D$12=0,\" \",IF(B174=$D$12,Simulador_v2!$L$32,+IF(B175>0,VLOOKUP(B175,Simulador_v2!$A$33:$AJ$273,12,0),\" \")))","v":""},{"$f":"IF($D$12=0,\" \",IF(B174=$D$12,Simulador_v2!$M$32,+IF(B175>0,VLOOKUP(B175,Simulador_v2!$A$33:$AJ$273,13,0),\" \")))","v":""},{"$f":"IF($D$12=0,\" \",IF(B174=$D$12,Simulador_v2!$T$32,+IF(B175>0,VLOOKUP(B175,Simulador_v2!$A$33:$AJ$273,20,0),\" \")))","v":""},{"$f":"IF($D$12=0,\" \",IF(B174=$D$12,Simulador_v2!$Z$32,+IF(B175>0,VLOOKUP(B175,Simulador_v2!$A$33:$AJ$273,26,0),\" \")))","v":""},{"$f":"IF($D$12=0,\" \",IF(B174=$D$12,Simulador_v2!$W$32,+IF(B175>0,VLOOKUP(B175,Simulador_v2!$A$33:$AJ$273,23,0),\" \")))","v":""},{"$f":"IF($D$12=0,\" \",IF(B174=$D$12,Simulador_v2!$AJ$32,+IF(B175>0,VLOOKUP(B175,Simulador_v2!$A$33:$AJ$273,36,0),\" \")))","v":""}]
[null,"",{"$f":"IF($D$12=0,\" \",IF(B175=$D$12,\"TOTALES\",+IF(B176>0,VLOOKUP(B176,Simulador_v2!$A$33:$AJ$273,3,0),\" \")))","v":""},{"$f":"IF($D$12=0,\" \",IF(B175=$D$12,Simulador_v2!$K$32,+IF(B176>0,VLOOKUP(B176,Simulador_v2!$A$33:$AJ$273,11,0),\" \")))","v":""},{"$f":"IF($D$12=0,\" \",IF(B175=$D$12,Simulador_v2!$L$32,+IF(B176>0,VLOOKUP(B176,Simulador_v2!$A$33:$AJ$273,12,0),\" \")))","v":""},{"$f":"IF($D$12=0,\" \",IF(B175=$D$12,Simulador_v2!$M$32,+IF(B176>0,VLOOKUP(B176,Simulador_v2!$A$33:$AJ$273,13,0),\" \")))","v":""},{"$f":"IF($D$12=0,\" \",IF(B175=$D$12,Simulador_v2!$T$32,+IF(B176>0,VLOOKUP(B176,Simulador_v2!$A$33:$AJ$273,20,0),\" \")))","v":""},{"$f":"IF($D$12=0,\" \",IF(B175=$D$12,Simulador_v2!$Z$32,+IF(B176>0,VLOOKUP(B176,Simulador_v2!$A$33:$AJ$273,26,0),\" \")))","v":""},{"$f":"IF($D$12=0,\" \",IF(B175=$D$12,Simulador_v2!$W$32,+IF(B176>0,VLOOKUP(B176,Simulador_v2!$A$33:$AJ$273,23,0),\" \")))","v":""},{"$f":"IF($D$12=0,\" \",IF(B175=$D$12,Simulador_v2!$AJ$32,+IF(B176>0,VLOOKUP(B176,Simulador_v2!$A$33:$AJ$273,36,0),\" \")))","v":""}]
[null,"",{"$f":"IF($D$12=0,\" \",IF(B176=$D$12,\"TOTALES\",+IF(B177>0,VLOOKUP(B177,Simulador_v2!$A$33:$AJ$273,3,0),\" \")))","v":""},{"$f":"IF($D$12=0,\" \",IF(B176=$D$12,Simulador_v2!$K$32,+IF(B177>0,VLOOKUP(B177,Simulador_v2!$A$33:$AJ$273,11,0),\" \")))","v":""},{"$f":"IF($D$12=0,\" \",IF(B176=$D$12,Simulador_v2!$L$32,+IF(B177>0,VLOOKUP(B177,Simulador_v2!$A$33:$AJ$273,12,0),\" \")))","v":""},{"$f":"IF($D$12=0,\" \",IF(B176=$D$12,Simulador_v2!$M$32,+IF(B177>0,VLOOKUP(B177,Simulador_v2!$A$33:$AJ$273,13,0),\" \")))","v":""},{"$f":"IF($D$12=0,\" \",IF(B176=$D$12,Simulador_v2!$T$32,+IF(B177>0,VLOOKUP(B177,Simulador_v2!$A$33:$AJ$273,20,0),\" \")))","v":""},{"$f":"IF($D$12=0,\" \",IF(B176=$D$12,Simulador_v2!$Z$32,+IF(B177>0,VLOOKUP(B177,Simulador_v2!$A$33:$AJ$273,26,0),\" \")))","v":""},{"$f":"IF($D$12=0,\" \",IF(B176=$D$12,Simulador_v2!$W$32,+IF(B177>0,VLOOKUP(B177,Simulador_v2!$A$33:$AJ$273,23,0),\" \")))","v":""},{"$f":"IF($D$12=0,\" \",IF(B176=$D$12,Simulador_v2!$AJ$32,+IF(B177>0,VLOOKUP(B177,Simulador_v2!$A$33:$AJ$273,36,0),\" \")))","v":""}]
[null,"",{"$f":"IF($D$12=0,\" \",IF(B177=$D$12,\"TOTALES\",+IF(B178>0,VLOOKUP(B178,Simulador_v2!$A$33:$AJ$273,3,0),\" \")))","v":""},{"$f":"IF($D$12=0,\" \",IF(B177=$D$12,Simulador_v2!$K$32,+IF(B178>0,VLOOKUP(B178,Simulador_v2!$A$33:$AJ$273,11,0),\" \")))","v":""},{"$f":"IF($D$12=0,\" \",IF(B177=$D$12,Simulador_v2!$L$32,+IF(B178>0,VLOOKUP(B178,Simulador_v2!$A$33:$AJ$273,12,0),\" \")))","v":""},{"$f":"IF($D$12=0,\" \",IF(B177=$D$12,Simulador_v2!$M$32,+IF(B178>0,VLOOKUP(B178,Simulador_v2!$A$33:$AJ$273,13,0),\" \")))","v":""},{"$f":"IF($D$12=0,\" \",IF(B177=$D$12,Simulador_v2!$T$32,+IF(B178>0,VLOOKUP(B178,Simulador_v2!$A$33:$AJ$273,20,0),\" \")))","v":""},{"$f":"IF($D$12=0,\" \",IF(B177=$D$12,Simulador_v2!$Z$32,+IF(B178>0,VLOOKUP(B178,Simulador_v2!$A$33:$AJ$273,26,0),\" \")))","v":""},{"$f":"IF($D$12=0,\" \",IF(B177=$D$12,Simulador_v2!$W$32,+IF(B178>0,VLOOKUP(B178,Simulador_v2!$A$33:$AJ$273,23,0),\" \")))","v":""},{"$f":"IF($D$12=0,\" \",IF(B177=$D$12,Simulador_v2!$AJ$32,+IF(B178>0,VLOOKUP(B178,Simulador_v2!$A$33:$AJ$273,36,0),\" \")))","v":""}]
[null,"",{"$f":"IF($D$12=0,\" \",IF(B178=$D$12,\"TOTALES\",+IF(B179>0,VLOOKUP(B179,Simulador_v2!$A$33:$AJ$273,3,0),\" \")))","v":""},{"$f":"IF($D$12=0,\" \",IF(B178=$D$12,Simulador_v2!$K$32,+IF(B179>0,VLOOKUP(B179,Simulador_v2!$A$33:$AJ$273,11,0),\" \")))","v":""},{"$f":"IF($D$12=0,\" \",IF(B178=$D$12,Simulador_v2!$L$32,+IF(B179>0,VLOOKUP(B179,Simulador_v2!$A$33:$AJ$273,12,0),\" \")))","v":""},{"$f":"IF($D$12=0,\" \",IF(B178=$D$12,Simulador_v2!$M$32,+IF(B179>0,VLOOKUP(B179,Simulador_v2!$A$33:$AJ$273,13,0),\" \")))","v":""},{"$f":"IF($D$12=0,\" \",IF(B178=$D$12,Simulador_v2!$T$32,+IF(B179>0,VLOOKUP(B179,Simulador_v2!$A$33:$AJ$273,20,0),\" \")))","v":""},{"$f":"IF($D$12=0,\" \",IF(B178=$D$12,Simulador_v2!$Z$32,+IF(B179>0,VLOOKUP(B179,Simulador_v2!$A$33:$AJ$273,26,0),\" \")))","v":""},{"$f":"IF($D$12=0,\" \",IF(B178=$D$12,Simulador_v2!$W$32,+IF(B179>0,VLOOKUP(B179,Simulador_v2!$A$33:$AJ$273,23,0),\" \")))","v":""},{"$f":"IF($D$12=0,\" \",IF(B178=$D$12,Simulador_v2!$AJ$32,+IF(B179>0,VLOOKUP(B179,Simulador_v2!$A$33:$AJ$273,36,0),\" \")))","v":""}]
[null,"",{"$f":"IF($D$12=0,\" \",IF(B179=$D$12,\"TOTALES\",+IF(B180>0,VLOOKUP(B180,Simulador_v2!$A$33:$AJ$273,3,0),\" \")))","v":""},{"$f":"IF($D$12=0,\" \",IF(B179=$D$12,Simulador_v2!$K$32,+IF(B180>0,VLOOKUP(B180,Simulador_v2!$A$33:$AJ$273,11,0),\" \")))","v":""},{"$f":"IF($D$12=0,\" \",IF(B179=$D$12,Simulador_v2!$L$32,+IF(B180>0,VLOOKUP(B180,Simulador_v2!$A$33:$AJ$273,12,0),\" \")))","v":""},{"$f":"IF($D$12=0,\" \",IF(B179=$D$12,Simulador_v2!$M$32,+IF(B180>0,VLOOKUP(B180,Simulador_v2!$A$33:$AJ$273,13,0),\" \")))","v":""},{"$f":"IF($D$12=0,\" \",IF(B179=$D$12,Simulador_v2!$T$32,+IF(B180>0,VLOOKUP(B180,Simulador_v2!$A$33:$AJ$273,20,0),\" \")))","v":""},{"$f":"IF($D$12=0,\" \",IF(B179=$D$12,Simulador_v2!$Z$32,+IF(B180>0,VLOOKUP(B180,Simulador_v2!$A$33:$AJ$273,26,0),\" \")))","v":""},{"$f":"IF($D$12=0,\" \",IF(B179=$D$12,Simulador_v2!$W$32,+IF(B180>0,VLOOKUP(B180,Simulador_v2!$A$33:$AJ$273,23,0),\" \")))","v":""},{"$f":"IF($D$12=0,\" \",IF(B179=$D$12,Simulador_v2!$AJ$32,+IF(B180>0,VLOOKUP(B180,Simulador_v2!$A$33:$AJ$273,36,0),\" \")))","v":""}]
[null,"",{"$f":"IF($D$12=0,\" \",IF(B180=$D$12,\"TOTALES\",+IF(B181>0,VLOOKUP(B181,Simulador_v2!$A$33:$AJ$273,3,0),\" \")))","v":""},{"$f":"IF($D$12=0,\" \",IF(B180=$D$12,Simulador_v2!$K$32,+IF(B181>0,VLOOKUP(B181,Simulador_v2!$A$33:$AJ$273,11,0),\" \")))","v":""},{"$f":"IF($D$12=0,\" \",IF(B180=$D$12,Simulador_v2!$L$32,+IF(B181>0,VLOOKUP(B181,Simulador_v2!$A$33:$AJ$273,12,0),\" \")))","v":""},{"$f":"IF($D$12=0,\" \",IF(B180=$D$12,Simulador_v2!$M$32,+IF(B181>0,VLOOKUP(B181,Simulador_v2!$A$33:$AJ$273,13,0),\" \")))","v":""},{"$f":"IF($D$12=0,\" \",IF(B180=$D$12,Simulador_v2!$T$32,+IF(B181>0,VLOOKUP(B181,Simulador_v2!$A$33:$AJ$273,20,0),\" \")))","v":""},{"$f":"IF($D$12=0,\" \",IF(B180=$D$12,Simulador_v2!$Z$32,+IF(B181>0,VLOOKUP(B181,Simulador_v2!$A$33:$AJ$273,26,0),\" \")))","v":""},{"$f":"IF($D$12=0,\" \",IF(B180=$D$12,Simulador_v2!$W$32,+IF(B181>0,VLOOKUP(B181,Simulador_v2!$A$33:$AJ$273,23,0),\" \")))","v":""},{"$f":"IF($D$12=0,\" \",IF(B180=$D$12,Simulador_v2!$AJ$32,+IF(B181>0,VLOOKUP(B181,Simulador_v2!$A$33:$AJ$273,36,0),\" \")))","v":""}]
[null,"",{"$f":"IF($D$12=0,\" \",IF(B181=$D$12,\"TOTALES\",+IF(B182>0,VLOOKUP(B182,Simulador_v2!$A$33:$AJ$273,3,0),\" \")))","v":""},{"$f":"IF($D$12=0,\" \",IF(B181=$D$12,Simulador_v2!$K$32,+IF(B182>0,VLOOKUP(B182,Simulador_v2!$A$33:$AJ$273,11,0),\" \")))","v":""},{"$f":"IF($D$12=0,\" \",IF(B181=$D$12,Simulador_v2!$L$32,+IF(B182>0,VLOOKUP(B182,Simulador_v2!$A$33:$AJ$273,12,0),\" \")))","v":""},{"$f":"IF($D$12=0,\" \",IF(B181=$D$12,Simulador_v2!$M$32,+IF(B182>0,VLOOKUP(B182,Simulador_v2!$A$33:$AJ$273,13,0),\" \")))","v":""},{"$f":"IF($D$12=0,\" \",IF(B181=$D$12,Simulador_v2!$T$32,+IF(B182>0,VLOOKUP(B182,Simulador_v2!$A$33:$AJ$273,20,0),\" \")))","v":""},{"$f":"IF($D$12=0,\" \",IF(B181=$D$12,Simulador_v2!$Z$32,+IF(B182>0,VLOOKUP(B182,Simulador_v2!$A$33:$AJ$273,26,0),\" \")))","v":""},{"$f":"IF($D$12=0,\" \",IF(B181=$D$12,Simulador_v2!$W$32,+IF(B182>0,VLOOKUP(B182,Simulador_v2!$A$33:$AJ$273,23,0),\" \")))","v":""},{"$f":"IF($D$12=0,\" \",IF(B181=$D$12,Simulador_v2!$AJ$32,+IF(B182>0,VLOOKUP(B182,Simulador_v2!$A$33:$AJ$273,36,0),\" \")))","v":""}]
[null,"",{"$f":"IF($D$12=0,\" \",IF(B182=$D$12,\"TOTALES\",+IF(B183>0,VLOOKUP(B183,Simulador_v2!$A$33:$AJ$273,3,0),\" \")))","v":""},{"$f":"IF($D$12=0,\" \",IF(B182=$D$12,Simulador_v2!$K$32,+IF(B183>0,VLOOKUP(B183,Simulador_v2!$A$33:$AJ$273,11,0),\" \")))","v":""},{"$f":"IF($D$12=0,\" \",IF(B182=$D$12,Simulador_v2!$L$32,+IF(B183>0,VLOOKUP(B183,Simulador_v2!$A$33:$AJ$273,12,0),\" \")))","v":""},{"$f":"IF($D$12=0,\" \",IF(B182=$D$12,Simulador_v2!$M$32,+IF(B183>0,VLOOKUP(B183,Simulador_v2!$A$33:$AJ$273,13,0),\" \")))","v":""},{"$f":"IF($D$12=0,\" \",IF(B182=$D$12,Simulador_v2!$T$32,+IF(B183>0,VLOOKUP(B183,Simulador_v2!$A$33:$AJ$273,20,0),\" \")))","v":""},{"$f":"IF($D$12=0,\" \",IF(B182=$D$12,Simulador_v2!$Z$32,+IF(B183>0,VLOOKUP(B183,Simulador_v2!$A$33:$AJ$273,26,0),\" \")))","v":""},{"$f":"IF($D$12=0,\" \",IF(B182=$D$12,Simulador_v2!$W$32,+IF(B183>0,VLOOKUP(B183,Simulador_v2!$A$33:$AJ$273,23,0),\" \")))","v":""},{"$f":"IF($D$12=0,\" \",IF(B182=$D$12,Simulador_v2!$AJ$32,+IF(B183>0,VLOOKUP(B183,Simulador_v2!$A$33:$AJ$273,36,0),\" \")))","v":""}]
[null,"",{"$f":"IF($D$12=0,\" \",IF(B183=$D$12,\"TOTALES\",+IF(B184>0,VLOOKUP(B184,Simulador_v2!$A$33:$AJ$273,3,0),\" \")))","v":""},{"$f":"IF($D$12=0,\" \",IF(B183=$D$12,Simulador_v2!$K$32,+IF(B184>0,VLOOKUP(B184,Simulador_v2!$A$33:$AJ$273,11,0),\" \")))","v":""},{"$f":"IF($D$12=0,\" \",IF(B183=$D$12,Simulador_v2!$L$32,+IF(B184>0,VLOOKUP(B184,Simulador_v2!$A$33:$AJ$273,12,0),\" \")))","v":""},{"$f":"IF($D$12=0,\" \",IF(B183=$D$12,Simulador_v2!$M$32,+IF(B184>0,VLOOKUP(B184,Simulador_v2!$A$33:$AJ$273,13,0),\" \")))","v":""},{"$f":"IF($D$12=0,\" \",IF(B183=$D$12,Simulador_v2!$T$32,+IF(B184>0,VLOOKUP(B184,Simulador_v2!$A$33:$AJ$273,20,0),\" \")))","v":""},{"$f":"IF($D$12=0,\" \",IF(B183=$D$12,Simulador_v2!$Z$32,+IF(B184>0,VLOOKUP(B184,Simulador_v2!$A$33:$AJ$273,26,0),\" \")))","v":""},{"$f":"IF($D$12=0,\" \",IF(B183=$D$12,Simulador_v2!$W$32,+IF(B184>0,VLOOKUP(B184,Simulador_v2!$A$33:$AJ$273,23,0),\" \")))","v":""},{"$f":"IF($D$12=0,\" \",IF(B183=$D$12,Simulador_v2!$AJ$32,+IF(B184>0,VLOOKUP(B184,Simulador_v2!$A$33:$AJ$273,36,0),\" \")))","v":""}]
[null,"",{"$f":"IF($D$12=0,\" \",IF(B184=$D$12,\"TOTALES\",+IF(B185>0,VLOOKUP(B185,Simulador_v2!$A$33:$AJ$273,3,0),\" \")))","v":""},{"$f":"IF($D$12=0,\" \",IF(B184=$D$12,Simulador_v2!$K$32,+IF(B185>0,VLOOKUP(B185,Simulador_v2!$A$33:$AJ$273,11,0),\" \")))","v":""},{"$f":"IF($D$12=0,\" \",IF(B184=$D$12,Simulador_v2!$L$32,+IF(B185>0,VLOOKUP(B185,Simulador_v2!$A$33:$AJ$273,12,0),\" \")))","v":""},{"$f":"IF($D$12=0,\" \",IF(B184=$D$12,Simulador_v2!$M$32,+IF(B185>0,VLOOKUP(B185,Simulador_v2!$A$33:$AJ$273,13,0),\" \")))","v":""},{"$f":"IF($D$12=0,\" \",IF(B184=$D$12,Simulador_v2!$T$32,+IF(B185>0,VLOOKUP(B185,Simulador_v2!$A$33:$AJ$273,20,0),\" \")))","v":""},{"$f":"IF($D$12=0,\" \",IF(B184=$D$12,Simulador_v2!$Z$32,+IF(B185>0,VLOOKUP(B185,Simulador_v2!$A$33:$AJ$273,26,0),\" \")))","v":""},{"$f":"IF($D$12=0,\" \",IF(B184=$D$12,Simulador_v2!$W$32,+IF(B185>0,VLOOKUP(B185,Simulador_v2!$A$33:$AJ$273,23,0),\" \")))","v":""},{"$f":"IF($D$12=0,\" \",IF(B184=$D$12,Simulador_v2!$AJ$32,+IF(B185>0,VLOOKUP(B185,Simulador_v2!$A$33:$AJ$273,36,0),\" \")))","v":""}]
[null,"",{"$f":"IF($D$12=0,\" \",IF(B185=$D$12,\"TOTALES\",+IF(B186>0,VLOOKUP(B186,Simulador_v2!$A$33:$AJ$273,3,0),\" \")))","v":""},{"$f":"IF($D$12=0,\" \",IF(B185=$D$12,Simulador_v2!$K$32,+IF(B186>0,VLOOKUP(B186,Simulador_v2!$A$33:$AJ$273,11,0),\" \")))","v":""},{"$f":"IF($D$12=0,\" \",IF(B185=$D$12,Simulador_v2!$L$32,+IF(B186>0,VLOOKUP(B186,Simulador_v2!$A$33:$AJ$273,12,0),\" \")))","v":""},{"$f":"IF($D$12=0,\" \",IF(B185=$D$12,Simulador_v2!$M$32,+IF(B186>0,VLOOKUP(B186,Simulador_v2!$A$33:$AJ$273,13,0),\" \")))","v":""},{"$f":"IF($D$12=0,\" \",IF(B185=$D$12,Simulador_v2!$T$32,+IF(B186>0,VLOOKUP(B186,Simulador_v2!$A$33:$AJ$273,20,0),\" \")))","v":""},{"$f":"IF($D$12=0,\" \",IF(B185=$D$12,Simulador_v2!$Z$32,+IF(B186>0,VLOOKUP(B186,Simulador_v2!$A$33:$AJ$273,26,0),\" \")))","v":""},{"$f":"IF($D$12=0,\" \",IF(B185=$D$12,Simulador_v2!$W$32,+IF(B186>0,VLOOKUP(B186,Simulador_v2!$A$33:$AJ$273,23,0),\" \")))","v":""},{"$f":"IF($D$12=0,\" \",IF(B185=$D$12,Simulador_v2!$AJ$32,+IF(B186>0,VLOOKUP(B186,Simulador_v2!$A$33:$AJ$273,36,0),\" \")))","v":""}]
[null,"",{"$f":"IF($D$12=0,\" \",IF(B186=$D$12,\"TOTALES\",+IF(B187>0,VLOOKUP(B187,Simulador_v2!$A$33:$AJ$273,3,0),\" \")))","v":""},{"$f":"IF($D$12=0,\" \",IF(B186=$D$12,Simulador_v2!$K$32,+IF(B187>0,VLOOKUP(B187,Simulador_v2!$A$33:$AJ$273,11,0),\" \")))","v":""},{"$f":"IF($D$12=0,\" \",IF(B186=$D$12,Simulador_v2!$L$32,+IF(B187>0,VLOOKUP(B187,Simulador_v2!$A$33:$AJ$273,12,0),\" \")))","v":""},{"$f":"IF($D$12=0,\" \",IF(B186=$D$12,Simulador_v2!$M$32,+IF(B187>0,VLOOKUP(B187,Simulador_v2!$A$33:$AJ$273,13,0),\" \")))","v":""},{"$f":"IF($D$12=0,\" \",IF(B186=$D$12,Simulador_v2!$T$32,+IF(B187>0,VLOOKUP(B187,Simulador_v2!$A$33:$AJ$273,20,0),\" \")))","v":""},{"$f":"IF($D$12=0,\" \",IF(B186=$D$12,Simulador_v2!$Z$32,+IF(B187>0,VLOOKUP(B187,Simulador_v2!$A$33:$AJ$273,26,0),\" \")))","v":""},{"$f":"IF($D$12=0,\" \",IF(B186=$D$12,Simulador_v2!$W$32,+IF(B187>0,VLOOKUP(B187,Simulador_v2!$A$33:$AJ$273,23,0),\" \")))","v":""},{"$f":"IF($D$12=0,\" \",IF(B186=$D$12,Simulador_v2!$AJ$32,+IF(B187>0,VLOOKUP(B187,Simulador_v2!$A$33:$AJ$273,36,0),\" \")))","v":""}]
[null,"",{"$f":"IF($D$12=0,\" \",IF(B187=$D$12,\"TOTALES\",+IF(B188>0,VLOOKUP(B188,Simulador_v2!$A$33:$AJ$273,3,0),\" \")))","v":""},{"$f":"IF($D$12=0,\" \",IF(B187=$D$12,Simulador_v2!$K$32,+IF(B188>0,VLOOKUP(B188,Simulador_v2!$A$33:$AJ$273,11,0),\" \")))","v":""},{"$f":"IF($D$12=0,\" \",IF(B187=$D$12,Simulador_v2!$L$32,+IF(B188>0,VLOOKUP(B188,Simulador_v2!$A$33:$AJ$273,12,0),\" \")))","v":""},{"$f":"IF($D$12=0,\" \",IF(B187=$D$12,Simulador_v2!$M$32,+IF(B188>0,VLOOKUP(B188,Simulador_v2!$A$33:$AJ$273,13,0),\" \")))","v":""},{"$f":"IF($D$12=0,\" \",IF(B187=$D$12,Simulador_v2!$T$32,+IF(B188>0,VLOOKUP(B188,Simulador_v2!$A$33:$AJ$273,20,0),\" \")))","v":""},{"$f":"IF($D$12=0,\" \",IF(B187=$D$12,Simulador_v2!$Z$32,+IF(B188>0,VLOOKUP(B188,Simulador_v2!$A$33:$AJ$273,26,0),\" \")))","v":""},{"$f":"IF($D$12=0,\" \",IF(B187=$D$12,Simulador_v2!$W$32,+IF(B188>0,VLOOKUP(B188,Simulador_v2!$A$33:$AJ$273,23,0),\" \")))","v":""},{"$f":"IF($D$12=0,\" \",IF(B187=$D$12,Simulador_v2!$AJ$32,+IF(B188>0,VLOOKUP(B188,Simulador_v2!$A$33:$AJ$273,36,0),\" \")))","v":""}]
[null,"",{"$f":"IF($D$12=0,\" \",IF(B188=$D$12,\"TOTALES\",+IF(B189>0,VLOOKUP(B189,Simulador_v2!$A$33:$AJ$273,3,0),\" \")))","v":""},{"$f":"IF($D$12=0,\" \",IF(B188=$D$12,Simulador_v2!$K$32,+IF(B189>0,VLOOKUP(B189,Simulador_v2!$A$33:$AJ$273,11,0),\" \")))","v":""},{"$f":"IF($D$12=0,\" \",IF(B188=$D$12,Simulador_v2!$L$32,+IF(B189>0,VLOOKUP(B189,Simulador_v2!$A$33:$AJ$273,12,0),\" \")))","v":""},{"$f":"IF($D$12=0,\" \",IF(B188=$D$12,Simulador_v2!$M$32,+IF(B189>0,VLOOKUP(B189,Simulador_v2!$A$33:$AJ$273,13,0),\" \")))","v":""},{"$f":"IF($D$12=0,\" \",IF(B188=$D$12,Simulador_v2!$T$32,+IF(B189>0,VLOOKUP(B189,Simulador_v2!$A$33:$AJ$273,20,0),\" \")))","v":""},{"$f":"IF($D$12=0,\" \",IF(B188=$D$12,Simulador_v2!$Z$32,+IF(B189>0,VLOOKUP(B189,Simulador_v2!$A$33:$AJ$273,26,0),\" \")))","v":""},{"$f":"IF($D$12=0,\" \",IF(B188=$D$12,Simulador_v2!$W$32,+IF(B189>0,VLOOKUP(B189,Simulador_v2!$A$33:$AJ$273,23,0),\" \")))","v":""},{"$f":"IF($D$12=0,\" \",IF(B188=$D$12,Simulador_v2!$AJ$32,+IF(B189>0,VLOOKUP(B189,Simulador_v2!$A$33:$AJ$273,36,0),\" \")))","v":""}]
[null,"",{"$f":"IF($D$12=0,\" \",IF(B189=$D$12,\"TOTALES\",+IF(B190>0,VLOOKUP(B190,Simulador_v2!$A$33:$AJ$273,3,0),\" \")))","v":""},{"$f":"IF($D$12=0,\" \",IF(B189=$D$12,Simulador_v2!$K$32,+IF(B190>0,VLOOKUP(B190,Simulador_v2!$A$33:$AJ$273,11,0),\" \")))","v":""},{"$f":"IF($D$12=0,\" \",IF(B189=$D$12,Simulador_v2!$L$32,+IF(B190>0,VLOOKUP(B190,Simulador_v2!$A$33:$AJ$273,12,0),\" \")))","v":""},{"$f":"IF($D$12=0,\" \",IF(B189=$D$12,Simulador_v2!$M$32,+IF(B190>0,VLOOKUP(B190,Simulador_v2!$A$33:$AJ$273,13,0),\" \")))","v":""},{"$f":"IF($D$12=0,\" \",IF(B189=$D$12,Simulador_v2!$T$32,+IF(B190>0,VLOOKUP(B190,Simulador_v2!$A$33:$AJ$273,20,0),\" \")))","v":""},{"$f":"IF($D$12=0,\" \",IF(B189=$D$12,Simulador_v2!$Z$32,+IF(B190>0,VLOOKUP(B190,Simulador_v2!$A$33:$AJ$273,26,0),\" \")))","v":""},{"$f":"IF($D$12=0,\" \",IF(B189=$D$12,Simulador_v2!$W$32,+IF(B190>0,VLOOKUP(B190,Simulador_v2!$A$33:$AJ$273,23,0),\" \")))","v":""},{"$f":"IF($D$12=0,\" \",IF(B189=$D$12,Simulador_v2!$AJ$32,+IF(B190>0,VLOOKUP(B190,Simulador_v2!$A$33:$AJ$273,36,0),\" \")))","v":""}]

{"sheet":"Simulador_v2","index":3,"n_rows":275,"n_cols":50,"rows_kept":275,"cut":false,"hidden":false,"merged":[[29,17,29,18],[32,40,32,41]]}
[]
[null,null,"SIMULADOR DE CUOTAS - CRÉDITO HIPOTECARIO",null,null,null,null,null,null,null,null,null,null,null,null,null,null,null,null,null,null,null,null,null,null,null,null,{"$f":"NOW()","v":"2022-11-09T16:37:11.010"}]
[]
[]
[null,null,"Importe Solicitado",null,null,null,null,{"$f":"+Simulador_Cliente!C9","v":1000000},null,null,null,"Fecha Desembolso",null,null,null,null,"2022-08-18"]
[null,null,"Saldo de Capital",null,null,null,null,{"$f":"H5","v":1000000},null,null,null,"Fecha Final de Gracia",null,null,null,null,{"$f":"+DATE(YEAR(Q5+H16),MONTH(Q5+H16),DAY(Q5+H16))","v":"2022-09-22"}]
[null,null,"Saldo de Interes",null,null,null,null,0,null,null,null,"Fecha de la 1° cuota",null,null,null,null,{"$f":"DATE(YEAR(EDATE(Q6,1)),MONTH(EDATE(Q6,1)),DAY(EDATE(Q6,1)))","v":"2022-10-22"}]
[null,null,"Tasa Anual (TEA)",null,null,null,null,{"$f":"+Simulador_Cliente!C12","v":20.100000000000001},null,null,null,"Fecha final de vencimiento",null,null,null,null,{"$f":"IF(OR($H$17>0,$H$18>0),VLOOKUP($H$15,$A$33:$C$272,3,0),DATE(YEAR(EDATE(Q6,H15)),MONTH(EDATE(Q6,H15)),DAY(EDATE(Q6,H15))))","v":"2029-09-22"}]
[null,null,"Tasa de Seguro de Desgravamen",null,null,null,null,{"$f":"+Simulador_Cliente!C15","v":"0.299%"},null,null,null,"Base",null,null,null,null,360]
[null,null,"Tasa Anual (TEA) - Ajustada",null,null,null,null,{"$f":"+H8","v":20.100000000000001},null,null,null,"Frecuencia pago en días",null,null,null,null,30]
[null,null,"Comision por Env. Inf",null,null,null,null,0,null,null,null,"Tasa Equivalente - Ajustada",null,null,null,null,{"$f":"ROUND((((H10/100+1)^(1/(Q9/Q10))-1)*Q9/Q10)*100,6)","v":18.455940999999999},"tea conv. A tem luego nominal anual"]
[null,null,"Seguro Multiriesgo","SI / NO",null,null,null,6.9999999999999999E-4,{"$f":"+Simulador_Cliente!$C$16","v":"Sí"},null,null,"Días entre cuotas",null,null,null,null,{"$f":"(Q8-Q6)/H15","v":30.44047619047619},"dias promedio entre cuotas"]
[null,null,"Valor Asegurable",null,null,null,null,{"$f":"+Simulador_Cliente!$C$18","v":602716},null,null,null,"Factor Aplicado - Ajustada",null,null,null,null,{"$f":"ROUND(($Q$11/100)/($Q$9/$Q$12),8)","v":1.560577E-2},"tem convertida de manera nominal a los dias entre cuotas"]
[null,null,"Tasa de Seguro Todo Riesgo",null,null,null,null,2.9E-4,{"$f":"+H14*12","v":3.48E-3},{"$f":"+I14/365*30*H13","v":172.39328876712329},null,"Factor Aplicado para la cuota - Ajustada",null,null,null,null,{"$f":"1/((1-((1+$Q$13)^(-1*$H$15)))/$Q$13)","v":2.1446054440715945E-2},"Factor de cuota (ok)"]
[null,null,"Plazo y  Nro. Cuotas",null,null,null,null,{"$f":"+Simulador_Cliente!C11","v":84},{"$f":"H15","v":84},null,null,"Interes de Gracia  (Se considera la TEA Normal)",null,null,null,null,{"$f":"IF(H16>0,ROUND(H6*(((1+H8/100)^(ABS(H16)/Q9))-1),4),ROUND(H6*(((1+H8/100)^(ABS(H16)/Q9))-1),4) * -1)","v":17966.175999999999},"Ok"]
[null,null,"Días de Gracia",null,null,null,null,{"$f":"+Simulador_Cliente!C13","v":35},null,null,null,"Saldo Interes +/- Interes Gracia",null,null,null,null,{"$f":"IF(H7 + Q15>0,H7+ Q15,0)","v":17966.175999999999}]
[null,null,"Mes de No Pago 1",null,null,null,null,0,null,null,null,"Seg Desg de Gracia",null,null,null,null,{"$f":"IF(H16>0,ROUNDDOWN(H5*H9/30*H16,2),ROUNDDOWN(H5*H9/30*H16,2)*0)","v":3488.33}]
[null,null,"Mes de No Pago 2",null,null,null,null,0,null,null,null,"TCEA",null,null,null,null,{"$f":"+AM32","v":0.23895625495428052}]
[null,null,"Mes Cuota Doble 1",null,null,null,null,0]
[null,null,"Mes Cuota Doble 2",null,null,null," ",0]
[null,null,null,null,null,null,null,null,null,null,null,null,null,null,"Suavización",null,null,null,null,null,"Validador Cuota Doble"]
[null,null,null,null,null,null,null,null,null,null,null,null,null,null,"Ultimo saldo de Principal",null,{"$f":"VLOOKUP(I15,$F$33:$AB$273,23,FALSE)","v":192940.3},null,null,null,"Cuota Simple",null,{"$f":"+VLOOKUP(\"\",$D$33:$AA$273,24,0)","v":23874.868000000002}]
[null,null,null,null,null,"Valor de cuota por dias de gracia",null,null,null,{"$f":"+ROUND(IF(OR(H17+H18>0,H19+H20>0),Q16/VLOOKUP(H15,'[1]Calculos Micro'!$A$3:$G$243,7,FALSE),$Q$16/$H$15),3)","v":213.88300000000001},{"$f":"Q16/SUM(AS34:INDIRECT(CONCATENATE(\"AE\",32+I15-1)))","v":1.6950177771234253E-3},null,null,null,"Numero de Dias",null,{"$f":"Q8-Q6","v":2557},null,null,null,"Cuota Doble",null,{"$f":"+IFERROR(VLOOKUP(\"D\",$D$33:$AA$273,24,0),\" \")","v":" "}]
[null,null,null,null,null,"Valor de cuota por capital",null,null,null,{"$f":"ROUND(IF(OR(H17 + H18 > 0,H19 + H20>0), ROUNDUP(H6/VLOOKUP(H15,'[1]Calculos Micro'!$A$3:$G$243,7,FALSE),2),H6*$Q$14),2)","v":21446.05},null,"sin desgravamen",null,null,"Valor de Cuota Nivelada",null,{"$f":"ROUND(+Q22/ROUND(1*(((1+H10/100)^(Q23/Q9))-1),4),2)","v":72191.990000000005},null,null,null,"Factor",null,{"$f":"+IFERROR(W23/W22,\" \")","v":" "}]
[null,null,null,null,null,"Valor de Seg Desg por dia de gracia",null,null,null,{"$f":"$Q$17/(($I$15+COUNTIF(D34:INDIRECT(CONCATENATE(\"C\",32+I15-1)),\"D\"))*(1/((1+0)^($Q$10/$Q$9))))","v":41.527738095238092}]
[null,null,null,null,null,"Seguro de Desgravamen (FPF)",null,null,null,{"$f":"$H$5*$H$9","v":2990},null,null,null,null,"Factor Ajuste",null,{"$f":"Q24*Q14","v":1548.2333477236211},null,"Se copia LO DEL COSTADO  a partir de la primera corrida",null,"Calce de Capital"]
[null,null,null,null,null,"Comision por Env.Inf",null,null,null,0,null,null,null,null,"Exceso de Int + Gracia",null,{"$f":"SUM(AC34:AC153)","v":0},{"$f":"ROUND(IF(OR(H17+ H18> 0,H19 + H20>0),ROUNDUP($Q$27/VLOOKUP(H15,'[1]Calculos Micro'!$A$3:$G$243,7,FALSE),2),$Q$27*$Q$14),2)","v":0},0,null,"Suma Capital (K)",null,{"$f":"+SUM($K$33:$K$273)","v":807060.12000000034}]
[null,null,null,null,null,"Seguro Todo Riesgo",null,null,null,{"$f":"ROUND($H$13*$H$14,2)","v":174.79},null,null,null,null,"Factor Ajuste 2",null,{"$f":"+Q22/H15","v":2296.9083333333333},null,null,null,"Validador",null,{"$f":"+$H$5-W27","v":192939.87999999966}]
[null,null,null,null,null,"Seguro MultiRiesgo",null,null,null,{"$f":"IF(I12=\"Sí\",($H$5*$H$12),0)","v":700}]
[null,null,null,null,null,"Cuota",null,null,null,{"$f":"J23+J24+J26+J27+ J28+J25","v":24866.250738095241},null,null,null,null,"Digite Factor de Ajuste Anterior  mas El Actual",null,1340.1450000000027,"Se actualiza en cada simulación (Validar que la celda W28 sea cero)",null,{"$f":"$AB$273","v":""}]
[]
[null,null,null,null,null,null,null,null,null,null,{"$f":"+SUM(K34:K273)","v":807060.12000000034},{"$f":"+SUM(L34:L273)","v":923044.16},{"$f":"+SUM(M34:M273)","v":17966.171999999999},null,null,null,null,null,null,{"$f":"+SUM(T34:T273)","v":182915.53000000003},null,null,{"$f":"+SUM(W34:W273)","v":14886.270000000033},null,null,{"$f":"+SUM(Z34:Z273)","v":59616.66},null,null,null,null,null,null,null,null,null,{"$f":"+SUM(AJ34:AJ273)","v":2005488.9120000012},null,"TIR",{"$f":"(1+XIRR(AM33:AM273,AL33:AL273))^(360/365)-1","v":0.23895625495428052},null,null,null,null,"Minicronograma de Gracia"]
[null,null,"Fecha Vcto.","Marca","Nro. Cuota (De acuerdo a Plazo)","Nro. Cuota","Periodo Base","Tasa","Nro. Dias","Principal*","Capital","Interes","Interes de Gracia","Interes Total","Valor Cuota (variable)","Comision por Env. Inf","Tasa de Seguro de Desgravamen*","Importe de Gracia Desgravamen","Importe Desgravamen por No Pago","Seg. Desgravamen Total","Seguro Todo Riesgo","Importe de Gracia Todo Riesgo","Seguro Todo Riesgo Total","Seguro Multiriesgo","Importe de Gracia Multiriesgo","Multi Riesgo Total","Cuota","Saldo Principal","Exceso ","Nuevo Interes I","Nuevo Desgravamen  I (no se utiliza)","Nuevo Interes (SF2INT)\nreplica columna L","Nuevo Desgravamen (SF2GRV)\nreplica columna Q","Desgravamen Gracia\nreplica columna R","Desgravamen No Pago S","Total Cuota (SF2PAG)\nigual a columna V",null,{"$f":"+Q5","v":"2022-08-18"},{"$f":"-H5","v":-1000000},null,"VALIDADORES",null,null,"Dias Transcurridos Acumulados","Factor Simple Actualizacion","Principal","Capital","Interes","Cuota Gracia","Saldo Deuda"]
[1,{"$f":"IF(A34=\"\",\"\",IF(A34<=$H$22,0,1))","v":1},{"$f":"IF(OR(MONTH(EDATE($Q$6,E34))=$H$17,MONTH(EDATE($Q$6,E34))=$H$18),IF(ABS($H$18-$H$17)=1,EDATE($Q$6,E34+2),EDATE($Q$6,E34+1)),EDATE($Q$6,E34))","v":"2022-10-22"},{"$f":"IF(B34=\"\",\"\",IF(OR(MONTH(C34)=$H$19,MONTH(C34)=$H$20),\"D\",\"\"))","v":""},{"$f":"IF(OR(MONTH(Q7)=H17, MONTH(Q7)=H18),IF(ABS(H18-H17)=1,3,2),1)","v":1},{"$f":"1","v":1},{"$f":"$Q$9","v":360},{"$f":"IF(B34=\"\",\"\",$H$10)","v":20.100000000000001},{"$f":"C34-Q6","v":30},{"$f":"H6","v":1000000},{"$f":"IF(B34=\"\",\"\",IF((IF(ISERROR(MATCH(MONTH(C34),$H$19:$H$20,0))=FALSE,$J$24 + $Q$30,0) + $J$24+$Q$30+$S$27)-L34<0,0.01,IF(ISERROR(MATCH(MONTH(C34),$H$19:$H$20,0))=FALSE,$J$24 + $Q$30,0)+ ($J$24+$Q$30+$S$27)-L34)- R34 -S34-Q34-Y34-V34)","v":-92.654999999997273},{"$f":"IF(B34=\"\",\"\",IF($J$24+$Q$30<ROUND(ROUND(J34*(((1+(H34/100))^(I34/G34))-1),4),2),$J$24+$Q$30 +-0.01,IF(ROUND(ROUND(J34*(((1+(H34/100))^(I34/G34))-1),4),2)>$J$24,$J$24+ -0.01,ROUND(ROUND(J34*(((1+(H34/100))^(I34/G34))-1),4),2))))","v":15379.95},{"$f":"IF(B34=\"\",\"\",IF(ISERROR(MATCH(MONTH(C34),$H$19:$H$20,0))=FALSE,$J$23,0)  + $J$23)","v":213.88300000000001},{"$f":"IF(B34=\"\",\"\",L34+M34)","v":15593.833000000001},{"$f":"IF(B34=\"\",\"\",K34+N34)","v":15501.178000000004},{"$f":"IF(B34=\"\",\"\",$J$27)","v":0},{"$f":"IF(B34=\"\",\"\",ROUND($H$9*J34,2))","v":2990},{"$f":"IF(B34=\"\",\"\",(E34-F34)*ROUNDDOWN($H$5*$H$9/30*30,2) + ROUNDDOWN($H$5*$H$9/30*H16,2))","v":3488.33},{"$f":"IF(B34=\"\",\"\",IF(E34-0>1,ROUNDDOWN($J34*$H$9/30*(DATE(YEAR($C34),MONTH($C34)-1,DAY($C34))-C33),2),0))","v":0},{"$f":"IF(B34=\"\",\"\",Q34+R34+S34)","v":6478.33},{"$f":"IF(B34=\"\",\"\",$J$28)","v":174.79},{"$f":"IF(B34=\"\",\"\",(E34-F34)*ROUNDDOWN($H$13*$H$14/30*30,2) + ROUNDDOWN($H$13*$H$14/30*H16,2))","v":203.91},{"$f":"IF(B34=\"\",\"\",U34+V34)","v":378.7},{"$f":"IF(B34=\"\",\"\",IF($I$12=\"Sí\",$J$29,0))","v":700},{"$f":"IF(B34=\"\",\"\",IF($I$12=\"Sí\",(E34-F34)*ROUNDDOWN($H$5*$H$12/30*30,2) + ROUNDDOWN($H$5*$H$12/30*H16,2),0))","v":816.66},{"$f":"IF(B34=\"\",\"\",X34+Y34)","v":1516.6599999999999},{"$f":"IF(B34=\"\",\"\",O34+P34+Q34+R34+S34+W34+Z34+IF(D34=\"D\",X34+U34,0))","v":23874.868000000002},{"$f":"IF(B34=\"\",\"\",(ROUND(J34-K34,2)))","v":1000092.66},{"$f":"IF(B34=\"\",\"\",IF(ROUND(ROUND(J34*(((1+(H34/100))^(I34/G34))-1),4),2) - $J$24<0,0,ROUND(ROUND(J34*(((1+(H34/100))^(I34/G34))-1),4),2) - $J$24))","v":0},null,{"$f":"SUM(K34:M34)","v":15501.178000000004},{"$f":"+L34","v":15379.95},{"$f":"+Q34","v":2990},{"$f":"+R34","v":3488.33},{"$f":"+S34","v":0},{"$f":"IFERROR(AF34+K34 + P34 + W34+AG34 + M34 + AH34 + AI34+Z34+IF(D34=\"D\",X34+U34,0),\"\")","v":23874.868000000006},null,{"$f":"+IF(C34=\"\",0,C34)","v":"2022-10-22"},{"$f":"+IF(AJ34=\"\",0,AJ34)","v":23874.868000000006},null,{"$f":"+IFERROR(AJ34-AA34,0)","v":3.637978807091713E-12},{"$f":"+IFERROR(AF34-L34,0)","v":0},null,{"$f":"I34","v":30},{"$f":"(1/((1+($J$8/100))^(AR34/$Q$9))*1) * IF(D34=\"D\",2,1)","v":1},{"$f":"Q16","v":17966.175999999999},{"$f":"AW34-AV34","v":1.6950177771234253E-3},{"$f":"(((1+($J$8/100))^((K34)/$Q$9))-1)*AT34","v":0},{"$f":"IF(D34=\"D\",$K$23,0)+ $K$23","v":1.6950177771234253E-3},{"$f":"AT34-AU34","v":17966.174304982222}]
[{"$f":"+IF(A34>=$H$15,\"\",A34+1)","v":2},{"$f":"IF(A35=\"\",\"\",IF(A35<=$H$22,0,1))","v":1},{"$f":"IF(B35=\"\",\"\",IF(OR(MONTH(EDATE($Q$6,E35))=$H$17,MONTH(EDATE($Q$6,E35))=$H$18),IF(ABS($H$18-$H$17)=1,EDATE($Q$6,E35+2),EDATE($Q$6,E35+1)),EDATE($Q$6,E35)))","v":"2022-11-22"},"",{"$f":"+IF(B35=\"\",\"\",IF(OR(MONTH(DATE(YEAR(C34)+0.0833333333333333,MONTH(C34)+1,DAY(C34)))=$H$17,MONTH(DATE(YEAR(C34)+0.5,MONTH(C34)+1,DAY(C34)))=$H$18),IF(ABS($H$18-$H$17)=1,E34+1,E34+2),E34+1))","v":2},{"$f":"+IF(B35=\"\",\"\",F34+1)","v":2},{"$f":"IF(B35=\"\",\"\",$Q$9)","v":360},{"$f":"IF(B35=\"\",\"\",$H$10)","v":20.100000000000001},{"$f":"IF(B35=\"\",\"\",C35-C34)","v":31},{"$f":"IF(B35=\"\",\"\",AB34)","v":1000092.66},3798.1050000000041,15898.14,213.88300000000001,16112.022999999999,19910.128000000004,0,{"$f":"IF(B35=\"\",\"\",ROUND($H$9*J35/30*$I35,2)-S35)","v":3089.95},null,{"$f":"IF(B35=\"\",\"\",IF(E35-E34>1,ROUNDDOWN($J35*$H$9/30*(DATE(YEAR($C35),MONTH($C35)-1,DAY($C35))-C34),2),0))","v":0},{"$f":"IF(B35=\"\",\"\",Q35+R35+S35)","v":3089.95},{"$f":"IF(B35=\"\",\"\",$J$28)","v":174.79},null,{"$f":"IF(B35=\"\",\"\",U35+V35)","v":174.79},{"$f":"IF(B35=\"\",\"\",IF($I$12=\"Sí\",$J$29,0))","v":700},null,700,23874.868000000006,996294.56,0,null,19910.128000000004,15898.14,3089.95,0,0,23874.868000000006,null,"2022-11-22",23874.868000000006,null,{"$f":"+IFERROR(AJ35-AA35,0)","v":0},0,null,{"$f":"I35 + AR34","v":61},{"$f":"(1/((1+($J$8/100))^(AR35/$Q$9))*1) * IF(D35=\"D\",2,1)","v":1},{"$f":"AX34","v":17966.174304982222},{"$f":"AW35-AV35","v":1.6950177771234253E-3},0,1.6950177771234253E-3,{"$f":"AT35-AU35","v":17966.172609964444}]
[3,1,"2022-12-22","",3,{"$f":"+IF(B36=\"\",\"\",F35+1)","v":3},{"$f":"IF(B36=\"\",\"\",$Q$9)","v":360},20.100000000000001,{"$f":"IF(B36=\"\",\"\",C36-C35)","v":30},{"$f":"IF(B36=\"\",\"\",AB35)","v":996294.56},4484.3150000000041,15322.96,213.88300000000001,15536.842999999999,20021.158000000003,0,{"$f":"IF(B36=\"\",\"\",ROUND($H$9*J36/30*$I36,2)-S36)","v":2978.92},null,{"$f":"IF(B36=\"\",\"\",IF(E36-E35>1,ROUNDDOWN($J36*$H$9/30*(DATE(YEAR($C36),MONTH($C36)-1,DAY($C36))-C35),2),0))","v":0},2978.92,174.79,null,174.79,700,null,700,23874.868000000002,991810.25,0,null,20021.158000000003,15322.96,2978.92,0,0,23874.868000000002,null,"2022-12-22",23874.868000000002,null,0,0,null,{"$f":"I36 + AR35","v":91},{"$f":"(1/((1+($J$8/100))^(AR36/$Q$9))*1) * IF(D36=\"D\",2,1)","v":1},{"$f":"AX35","v":17966.172609964444},1.6950177771234253E-3,0,1.6950177771234253E-3,17966.170914946666]
[4,1,"2023-01-22","",4,4,360,20.100000000000001,31,991810.25,3955.3550000000037,15766.48,213.88300000000001,15980.362999999999,19935.718000000004,0,3064.36,null,0,3064.36,174.79,null,174.79,700,null,700,23874.868000000006,987854.9,0,null,19935.718000000004,15766.48,3064.36,0,0,23874.868000000006,null,"2023-01-22",23874.868000000006,null,0,0,null,{"$f":"IFERROR(I37 + AR36,\" \")","v":122},{"$f":"(1/((1+($J$8/100))^(AR37/$Q$9))*1) * IF(D37=\"D\",2,1)","v":1},17966.170914946666,1.6950177771234253E-3,0,1.6950177771234253E-3,{"$f":"IFERROR(AT37-AU37,\" \")","v":17966.169219928888}]
[5,1,"2023-02-22","",5,5,360,20.100000000000001,31,987854.9,4030.4550000000031,15703.6,213.88300000000001,15917.483,19947.938000000002,0,3052.14,null,0,3052.14,174.79,null,174.79,700,null,700,23874.868000000002,983824.45,0,null,19947.938000000006,15703.6,3052.14,0,0,23874.868000000006,null,"2023-02-22",23874.868000000006,null,3.637978807091713E-12,0,null,153,{"$f":"IFERROR((1/((1+($J$8/100))^(AR38/$Q$9))*1) * IF(D38=\"D\",2,1),\" \")","v":1},17966.169219928888,1.6950177771234253E-3,0,1.6950177771234253E-3,17966.16752491111]
[6,1,"2023-03-22","",6,6,360,20.100000000000001,28,983824.45,5925.4350000000031,14115.23,213.88300000000001,14329.112999999999,20254.548000000003,0,2745.53,null,0,2745.53,174.79,null,174.79,700,null,700,23874.868000000002,977899.02,0,null,20254.548000000003,14115.23,2745.53,0,0,23874.868000000002,null,"2023-03-22",23874.868000000002,null,0,0,null,181,1,17966.16752491111,{"$f":"IFERROR(AW39-AV39,\" \")","v":1.6950177771234253E-3},0,1.6950177771234253E-3,17966.165829893333]
[7,1,"2023-04-22","",7,7,360,20.100000000000001,31,977899.02,4219.4750000000031,15545.34,213.88300000000001,15759.223,19978.698000000004,0,3021.38,null,0,3021.38,174.79,null,174.79,700,null,700,23874.868000000006,973679.55,0,null,19978.698000000004,15545.34,3021.38,0,0,23874.868000000006,null,"2023-04-22",23874.868000000006,null,0,0,null,212,1,17966.165829893333,1.6950177771234253E-3,{"$f":"IFERROR((((1+($J$8/100))^((K40)/$Q$9))-1)*AT40,\" \")","v":0},1.6950177771234253E-3,17966.164134875555]
[8,1,"2023-05-22","",8,8,360,20.100000000000001,30,973679.55,4899.7550000000037,14975.14,213.88300000000001,15189.022999999999,20088.778000000002,0,2911.3,null,0,2911.3,174.79,null,174.79,700,null,700,23874.868000000002,968779.8,0,null,20088.778000000006,14975.14,2911.3,0,0,23874.868000000006,null,"2023-05-22",23874.868000000006,null,3.637978807091713E-12,0,null,242,1,17966.164134875555,1.6950177771234253E-3,0,1.6950177771234253E-3,17966.162439857777]
[9,1,"2023-06-22","",9,9,360,20.100000000000001,31,968779.8,4392.6150000000025,15400.37,213.88300000000001,15614.253000000001,20006.868000000002,0,2993.21,null,0,2993.21,174.79,null,174.79,700,null,700,23874.868000000002,964387.19,0,null,20006.868000000006,15400.37,2993.21,0,0,23874.868000000006,null,"2023-06-22",23874.868000000006,null,3.637978807091713E-12,0,null,273,1,17966.162439857777,1.6950177771234253E-3,0,1.6950177771234253E-3,17966.160744839999]
[10,1,"2023-07-22","",10,10,360,20.100000000000001,30,964387.19,5070.4450000000033,14832.23,213.88300000000001,15046.112999999999,20116.558000000005,0,2883.52,null,0,2883.52,174.79,null,174.79,700,null,700,23874.868000000006,959316.75,0,null,20116.558000000005,14832.23,2883.52,0,0,23874.868000000006,null,"2023-07-22",23874.868000000006,null,0,0,null,303,1,17966.160744839999,1.6950177771234253E-3,0,1.6950177771234253E-3,17966.159049822221]
[11,1,"2023-08-22","",11,11,360,20.100000000000001,31,959316.75,4572.2850000000035,15249.94,213.88300000000001,15463.823,20036.108000000004,0,2963.97,null,0,2963.97,174.79,null,174.79,700,null,700,23874.868000000006,954744.47,0,null,20036.108000000007,15249.94,2963.97,0,0,23874.868000000009,null,"2023-08-22",23874.868000000009,null,3.637978807091713E-12,0,null,334,1,17966.159049822221,1.6950177771234253E-3,0,1.6950177771234253E-3,17966.157354804443]
[12,1,"2023-09-22","",12,12,360,20.100000000000001,31,954744.47,4659.095000000003,15177.26,213.88300000000001,15391.143,20050.238000000005,0,2949.84,null,0,2949.84,174.79,null,174.79,700,null,700,23874.868000000006,950085.38,0,null,20050.238000000005,15177.26,2949.84,0,0,23874.868000000006,null,"2023-09-22",23874.868000000006,null,0,0,null,365,1,17966.157354804443,1.6950177771234253E-3,0,1.6950177771234253E-3,17966.155659786666]
[13,1,"2023-10-22","",13,13,360,20.100000000000001,30,950085.38,5333.1650000000027,14612.27,213.88300000000001,14826.153,20159.318000000003,0,2840.76,null,0,2840.76,174.79,null,174.79,700,null,700,23874.868000000002,944752.22,0,null,20159.318000000007,14612.27,2840.76,0,0,23874.868000000009,null,"2023-10-22",{"$f":"+IF(AJ46=\"\",0,AJ46)","v":23874.868000000009},null,7.2759576141834259E-12,0,null,395,1,{"$f":"AX45","v":17966.155659786666},{"$f":"IFERROR(AW46-AV46,\" \")","v":1.6950177771234253E-3},0,1.6950177771234253E-3,{"$f":"IFERROR(AT46-AU46,\" \")","v":17966.153964768888}]
[14,1,"2023-11-22","",14,14,360,20.100000000000001,31,944752.22,4848.8150000000041,15018.41,213.88300000000001,15232.293,20081.108000000004,0,2918.97,null,0,2918.97,174.79,null,174.79,700,null,700,23874.868000000006,939903.41,0,null,20081.108000000007,15018.41,2918.97,0,0,23874.868000000009,null,"2023-11-22",{"$f":"+IF(AJ47=\"\",0,AJ47)","v":23874.868000000009},null,3.637978807091713E-12,0,null,426,1,17966.153964768888,{"$f":"IFERROR(AW47-AV47,\" \")","v":1.6950177771234253E-3},0,1.6950177771234253E-3,{"$f":"IFERROR(AT47-AU47,\" \")","v":17966.15226975111}]
[15,1,"2023-12-22","",15,15,360,20.100000000000001,30,939903.41,5520.2150000000038,14455.67,213.88300000000001,14669.553,20189.768000000004,0,2810.31,null,0,2810.31,174.79,null,174.79,700,null,700,23874.868000000006,934383.2,0,null,20189.768000000004,14455.67,2810.31,0,0,23874.868000000006,null,"2023-12-22",23874.868000000006,null,0,0,null,456,1,17966.15226975111,1.6950177771234253E-3,0,1.6950177771234253E-3,17966.150574733332]
[16,1,"2024-01-22","",16,16,360,20.100000000000001,31,934383.2,5045.6850000000031,14853.58,213.88300000000001,15067.463,20113.148000000001,0,2886.93,null,0,2886.93,174.79,null,174.79,700,null,700,23874.868000000002,929337.52,0,null,20113.148000000005,14853.58,2886.93,0,0,23874.868000000006,null,"2024-01-22",23874.868000000006,null,3.637978807091713E-12,0,null,487,1,17966.150574733332,1.6950177771234253E-3,0,1.6950177771234253E-3,17966.148879715554]
[17,1,"2024-02-22","",17,17,360,20.100000000000001,31,929337.52,5141.4850000000024,14773.37,213.88300000000001,14987.253000000001,20128.738000000005,0,2871.34,null,0,2871.34,174.79,null,174.79,700,null,700,23874.868000000006,924196.04,0,null,20128.738000000005,14773.37,2871.34,0,0,23874.868000000006,null,"2024-02-22",23874.868000000006,null,0,0,null,518,1,17966.148879715554,1.6950177771234253E-3,0,1.6950177771234253E-3,17966.147184697777]
[18,1,"2024-03-22","",18,18,360,20.100000000000001,29,924196.04,6378.1850000000031,13736.78,213.88300000000001,13950.663,20328.848000000005,0,2671.23,null,0,2671.23,174.79,null,174.79,700,null,700,23874.868000000006,917817.86,0,null,20328.848000000005,13736.78,2671.23,0,0,23874.868000000006,null,"2024-03-22",23874.868000000006,null,0,0,null,547,1,17966.147184697777,1.6950177771234253E-3,0,1.6950177771234253E-3,17966.145489679999]
[19,1,"2024-04-22","",19,19,360,20.100000000000001,31,917817.86,5360.1950000000033,14590.25,213.88300000000001,14804.133,20164.328000000001,0,2835.75,null,0,2835.75,174.79,null,174.79,700,null,700,23874.868000000002,912457.67,0,null,20164.328000000005,14590.25,2835.75,0,0,23874.868000000006,null,"2024-04-22",23874.868000000006,null,3.637978807091713E-12,0,null,578,1,17966.145489679999,1.6950177771234253E-3,0,1.6950177771234253E-3,17966.143794662221]
[20,1,"2024-05-22","",20,20,360,20.100000000000001,30,912457.67,6024.3950000000041,14033.55,213.88300000000001,14247.432999999999,20271.828000000001,0,2728.25,null,0,2728.25,174.79,null,174.79,700,null,700,23874.868000000002,906433.28,0,null,20271.828000000005,14033.55,2728.25,0,0,23874.868000000006,null,"2024-05-22",23874.868000000006,null,3.637978807091713E-12,0,null,608,1,17966.143794662221,1.6950177771234253E-3,0,1.6950177771234253E-3,17966.142099644443]
[21,1,"2024-06-22","",21,21,360,20.100000000000001,31,906433.28,5576.345000000003,14409.27,213.88300000000001,14623.153,20199.498000000003,0,2800.58,null,0,2800.58,174.79,null,174.79,700,null,700,23874.868000000002,900856.94,0,null,20199.498000000007,14409.27,2800.58,0,0,23874.868000000009,null,"2024-06-22",23874.868000000009,null,7.2759576141834259E-12,0,null,639,1,17966.142099644443,1.6950177771234253E-3,0,1.6950177771234253E-3,17966.140404626665]
[22,1,"2024-07-22","",22,22,360,20.100000000000001,30,900856.94,6237.4950000000044,13855.14,213.88300000000001,14069.022999999999,20306.518000000004,0,2693.56,null,0,2693.56,174.79,null,174.79,700,null,700,23874.868000000006,894619.45,0,null,20306.518000000004,13855.14,2693.56,0,0,23874.868000000006,null,"2024-07-22",23874.868000000006,null,0,0,null,669,1,17966.140404626665,1.6950177771234253E-3,0,1.6950177771234253E-3,17966.138709608887]
[23,1,"2024-08-22","",23,23,360,20.100000000000001,31,894619.45,5800.6450000000041,14221.47,213.88300000000001,14435.352999999999,20235.998000000003,0,2764.08,null,0,2764.08,174.79,null,174.79,700,null,700,23874.868000000002,888818.81,0,null,20235.998000000007,14221.47,2764.08,0,0,23874.868000000009,null,"2024-08-22",23874.868000000009,null,7.2759576141834259E-12,0,null,700,1,17966.138709608887,1.6950177771234253E-3,0,1.6950177771234253E-3,17966.13701459111]
[24,1,"2024-09-22","",24,24,360,20.100000000000001,31,888818.81,5910.7850000000035,14129.26,213.88300000000001,14343.143,20253.928000000004,0,2746.15,null,0,2746.15,174.79,null,174.79,700,null,700,23874.868000000006,882908.03,0,null,20253.928000000007,14129.26,2746.15,0,0,23874.868000000009,null,"2024-09-22",23874.868000000009,null,3.637978807091713E-12,0,null,731,1,17966.13701459111,1.6950177771234253E-3,0,1.6950177771234253E-3,17966.135319573332]
[25,1,"2024-10-22","",25,25,360,20.100000000000001,30,882908.03,6567.2150000000038,13579.08,213.88300000000001,13792.963,20360.178000000004,0,2639.9,null,0,2639.9,174.79,null,174.79,700,null,700,23874.868000000006,876340.82,0,null,20360.178000000007,13579.08,2639.9,0,0,23874.868000000009,null,"2024-10-22",23874.868000000009,null,3.637978807091713E-12,0,null,761,1,17966.135319573332,1.6950177771234253E-3,0,1.6950177771234253E-3,17966.133624555554]
[26,1,"2024-11-22","",26,26,360,20.100000000000001,31,876340.82,6147.6950000000033,13930.9,213.88300000000001,14144.782999999999,20292.478000000003,0,2707.6,null,0,2707.6,174.79,null,174.79,700,null,700,23874.868000000002,870193.13,0,null,20292.478000000003,13930.9,2707.6,0,0,23874.868000000002,null,"2024-11-22",23874.868000000002,null,0,0,null,792,1,17966.133624555554,1.6950177771234253E-3,0,1.6950177771234253E-3,17966.131929537776]
[27,1,"2024-12-22","",27,27,360,20.100000000000001,30,870193.13,6800.7850000000026,13383.53,213.88300000000001,13597.413,20398.198000000004,0,2601.88,null,0,2601.88,174.79,null,174.79,700,null,700,23874.868000000006,863392.35,0,null,20398.198000000004,13383.53,2601.88,0,0,23874.868000000006,null,"2024-12-22",23874.868000000006,null,0,0,null,822,1,17966.131929537776,1.6950177771234253E-3,0,1.6950177771234253E-3,17966.130234519998]
[28,1,"2025-01-22","",28,28,360,20.100000000000001,31,863392.35,6393.5450000000037,13725.06,213.88300000000001,13938.942999999999,20332.488000000005,0,2667.59,null,0,2667.59,174.79,null,174.79,700,null,700,23874.868000000006,856998.81,0,null,20332.488000000005,13725.06,2667.59,0,0,23874.868000000006,null,"2025-01-22",23874.868000000006,null,0,0,null,853,1,17966.130234519998,1.6950177771234253E-3,0,1.6950177771234253E-3,17966.128539502221]
[29,1,"2025-02-22","",29,29,360,20.100000000000001,31,856998.81,6514.9250000000029,13623.43,213.88300000000001,13837.313,20352.238000000005,0,2647.84,null,0,2647.84,174.79,null,174.79,700,null,700,23874.868000000006,850483.89,0,null,20352.238000000005,13623.43,2647.84,0,0,23874.868000000006,null,"2025-02-22",23874.868000000006,null,0,0,null,884,1,17966.128539502221,1.6950177771234253E-3,0,1.6950177771234253E-3,17966.126844484443]
[30,1,"2025-03-22","",30,30,360,20.100000000000001,28,850483.89,8210.6250000000036,12202.15,213.88300000000001,12416.032999999999,20626.658000000003,0,2373.42,null,0,2373.42,174.79,null,174.79,700,null,700,23874.868000000002,842273.27,0,null,20626.658000000003,12202.15,2373.42,0,0,23874.868000000002,null,"2025-03-22",23874.868000000002,null,0,0,null,912,1,17966.126844484443,1.6950177771234253E-3,0,1.6950177771234253E-3,17966.125149466665]
[31,1,"2025-04-22","",31,31,360,20.100000000000001,31,842273.27,6794.5150000000031,13389.34,213.88300000000001,13603.223,20397.738000000005,0,2602.34,null,0,2602.34,174.79,null,174.79,700,null,700,23874.868000000006,835478.76,0,null,20397.738000000005,13389.34,2602.34,0,0,23874.868000000006,null,"2025-04-22",23874.868000000006,null,0,0,null,943,1,17966.125149466665,1.6950177771234253E-3,0,1.6950177771234253E-3,17966.123454448887]
[32,1,"2025-05-22","",32,32,360,20.100000000000001,30,835478.76,7438.4950000000026,12849.62,213.88300000000001,13063.503000000001,20501.998000000003,0,2498.08,null,0,2498.08,174.79,null,174.79,700,null,700,23874.868000000002,828040.27,0,null,20501.998000000007,12849.62,2498.08,0,0,23874.868000000009,null,"2025-05-22",23874.868000000009,null,7.2759576141834259E-12,0,null,973,1,17966.123454448887,1.6950177771234253E-3,0,1.6950177771234253E-3,17966.121759431109]
[33,1,"2025-06-22","",33,33,360,20.100000000000001,31,828040.27,7064.7450000000035,13163.08,213.88300000000001,13376.963,20441.708000000002,0,2558.37,null,0,2558.37,174.79,null,174.79,700,null,700,23874.868000000002,820975.53,0,null,20441.708000000006,13163.08,2558.37,0,0,23874.868000000006,null,"2025-06-22",23874.868000000006,null,3.637978807091713E-12,0,null,1004,1,17966.121759431109,1.6950177771234253E-3,0,1.6950177771234253E-3,17966.120064413331]
[34,1,"2025-07-22","",34,34,360,20.100000000000001,30,820975.53,7704.9150000000045,12626.56,213.88300000000001,12840.442999999999,20545.358000000004,0,2454.7199999999998,null,0,2454.7199999999998,174.79,null,174.79,700,null,700,23874.868000000006,813270.62,0,null,20545.358000000007,12626.56,2454.7199999999998,0,0,23874.868000000009,null,"2025-07-22",23874.868000000009,null,3.637978807091713E-12,0,null,1034,1,17966.120064413331,1.6950177771234253E-3,0,1.6950177771234253E-3,17966.118369395554]
[35,1,"2025-08-22","",35,35,360,20.100000000000001,31,813270.62,7345.1650000000027,12928.29,213.88300000000001,13142.173000000001,20487.338000000003,0,2512.7399999999998,null,0,2512.7399999999998,174.79,null,174.79,700,null,700,23874.868000000002,805925.46,0,null,20487.338000000003,12928.29,2512.7399999999998,0,0,23874.868000000002,null,"2025-08-22",23874.868000000002,null,0,0,null,1065,1,17966.118369395554,1.6950177771234253E-3,0,1.6950177771234253E-3,17966.116674377776]
[36,1,"2025-09-22","",36,36,360,20.100000000000001,31,805925.46,7484.6250000000027,12811.53,213.88300000000001,13025.413,20510.038000000004,0,2490.04,null,0,2490.04,174.79,null,174.79,700,null,700,23874.868000000006,798440.84,0,null,20510.038000000004,12811.53,2490.04,0,0,23874.868000000006,null,"2025-09-22",23874.868000000006,null,0,0,null,1096,1,17966.116674377776,1.6950177771234253E-3,0,1.6950177771234253E-3,17966.114979359998]
[37,1,"2025-10-22","",37,37,360,20.100000000000001,30,798440.84,8118.8750000000036,12279.98,213.88300000000001,12493.862999999999,20612.738000000005,0,2387.34,null,0,2387.34,174.79,null,174.79,700,null,700,23874.868000000006,790321.97,0,null,20612.738000000005,12279.98,2387.34,0,0,23874.868000000006,null,"2025-10-22",23874.868000000006,null,0,0,null,1126,1,17966.114979359998,1.6950177771234253E-3,0,1.6950177771234253E-3,17966.11328434222]
[38,1,"2025-11-22","",38,38,360,20.100000000000001,31,790321.97,7780.8750000000036,12563.49,213.88300000000001,12777.373,20558.248000000003,0,2441.83,null,0,2441.83,174.79,null,174.79,700,null,700,23874.868000000002,782541.1,0,null,20558.248000000007,12563.49,2441.83,0,0,23874.868000000009,null,"2025-11-22",23874.868000000009,null,7.2759576141834259E-12,0,null,1157,1,17966.11328434222,1.6950177771234253E-3,0,1.6950177771234253E-3,17966.111589324442]
[39,1,"2025-12-22","",39,39,360,20.100000000000001,30,782541.1,8410.9550000000017,12035.44,213.88300000000001,12249.323,20660.278000000002,0,2339.8000000000002,null,0,2339.8000000000002,174.79,null,174.79,700,null,700,23874.868000000002,774130.15,0,null,20660.278000000006,12035.44,2339.8000000000002,0,0,23874.868000000006,null,"2025-12-22",23874.868000000006,null,3.637978807091713E-12,0,null,1187,1,17966.111589324442,1.6950177771234253E-3,0,1.6950177771234253E-3,17966.109894306665]
[40,1,"2026-01-22","",40,40,360,20.100000000000001,31,774130.15,8088.305000000003,12306.09,213.88300000000001,12519.973,20608.278000000002,0,2391.8000000000002,null,0,2391.8000000000002,174.79,null,174.79,700,null,700,23874.868000000002,766041.85,0,null,20608.278000000006,12306.09,2391.8000000000002,0,0,23874.868000000006,null,"2026-01-22",23874.868000000006,null,3.637978807091713E-12,0,null,1218,1,17966.109894306665,1.6950177771234253E-3,0,1.6950177771234253E-3,17966.108199288887]
[41,1,"2026-02-22","",41,41,360,20.100000000000001,31,766041.85,8241.8750000000036,12177.51,213.88300000000001,12391.393,20633.268000000004,0,2366.81,null,0,2366.81,174.79,null,174.79,700,null,700,23874.868000000006,757799.98,0,null,20633.268000000004,12177.51,2366.81,0,0,23874.868000000006,null,"2026-02-22",23874.868000000006,null,0,0,null,1249,1,17966.108199288887,1.6950177771234253E-3,0,1.6950177771234253E-3,17966.106504271109]
[42,1,"2026-03-22","",42,42,360,20.100000000000001,28,757799.98,9799.0350000000035,10872.39,213.88300000000001,11086.272999999999,20885.308000000005,0,2114.77,null,0,2114.77,174.79,null,174.79,700,null,700,23874.868000000006,748000.95,0,null,20885.308000000005,10872.39,2114.77,0,0,23874.868000000006,null,"2026-03-22",23874.868000000006,null,0,0,null,1277,1,17966.106504271109,1.6950177771234253E-3,0,1.6950177771234253E-3,17966.104809253331]
[43,1,"2026-04-22","",43,43,360,20.100000000000001,31,748000.95,8584.4050000000043,11890.72,213.88300000000001,12104.602999999999,20689.008000000002,0,2311.0700000000002,null,0,2311.0700000000002,174.79,null,174.79,700,null,700,23874.868000000002,739416.55,0,null,20689.008000000005,11890.72,2311.0700000000002,0,0,23874.868000000006,null,"2026-04-22",23874.868000000006,null,3.637978807091713E-12,0,null,1308,1,17966.104809253331,1.6950177771234253E-3,0,1.6950177771234253E-3,17966.103114235553]
[44,1,"2026-05-22","",44,44,360,20.100000000000001,30,739416.55,9203.1450000000023,11372.19,213.88300000000001,11586.073,20789.218000000001,0,2210.86,null,0,2210.86,174.79,null,174.79,700,null,700,23874.868000000002,730213.41,0,null,20789.218000000004,11372.19,2210.86,0,0,23874.868000000006,null,"2026-05-22",23874.868000000006,null,3.637978807091713E-12,0,null,1338,1,17966.103114235553,1.6950177771234253E-3,0,1.6950177771234253E-3,17966.101419217775]
[45,1,"2026-06-22","",45,45,360,20.100000000000001,31,730213.41,8922.1150000000052,11607.96,213.88300000000001,11821.842999999999,20743.958000000006,0,2256.12,null,0,2256.12,174.79,null,174.79,700,null,700,23874.868000000006,721291.3,0,null,20743.958000000006,11607.96,2256.12,0,0,23874.868000000006,null,"2026-06-22",23874.868000000006,null,0,0,null,1369,1,17966.101419217775,1.6950177771234253E-3,0,1.6950177771234253E-3,17966.099724199998]
[46,1,"2026-07-22","",46,46,360,20.100000000000001,30,721291.3,9536.1050000000032,11093.43,213.88300000000001,11307.313,20843.418000000005,0,2156.66,null,0,2156.66,174.79,null,174.79,700,null,700,23874.868000000006,711755.2,0,null,20843.418000000005,11093.43,2156.66,0,0,23874.868000000006,null,"2026-07-22",23874.868000000006,null,0,0,null,1399,1,17966.099724199998,1.6950177771234253E-3,0,1.6950177771234253E-3,17966.09802918222]
[47,1,"2026-08-22","",47,47,360,20.100000000000001,31,711755.2,9272.5650000000023,11314.54,213.88300000000001,11528.423000000001,20800.988000000005,0,2199.09,null,0,2199.09,174.79,null,174.79,700,null,700,23874.868000000006,702482.64,0,null,20800.988000000005,11314.54,2199.09,0,0,23874.868000000006,null,"2026-08-22",23874.868000000006,null,0,0,null,1430,1,17966.09802918222,1.6950177771234253E-3,0,1.6950177771234253E-3,17966.096334164442]
[48,1,"2026-09-22","",48,48,360,20.100000000000001,31,702482.64,9448.6250000000036,11167.13,213.88300000000001,11381.012999999999,20829.638000000003,0,2170.44,null,0,2170.44,174.79,null,174.79,700,null,700,23874.868000000002,693034.02,0,null,20829.638000000006,11167.13,2170.44,0,0,23874.868000000006,null,"2026-09-22",23874.868000000006,null,3.637978807091713E-12,0,null,1461,1,17966.096334164442,1.6950177771234253E-3,0,1.6950177771234253E-3,17966.094639146664]
[49,1,"2026-10-22","",49,49,360,20.100000000000001,30,693034.02,10055.195000000003,10658.83,213.88300000000001,10872.713,20927.908000000003,0,2072.17,null,0,2072.17,174.79,null,174.79,700,null,700,23874.868000000002,682978.83,0,null,20927.908000000003,10658.83,2072.17,0,0,23874.868000000002,null,"2026-10-22",23874.868000000002,null,0,0,null,1491,1,17966.094639146664,1.6950177771234253E-3,0,1.6950177771234253E-3,17966.092944128886]
[50,1,"2026-11-22","",50,50,360,20.100000000000001,31,682978.83,9818.9250000000029,10857.09,213.88300000000001,11070.973,20889.898000000001,0,2110.1799999999998,null,0,2110.1799999999998,174.79,null,174.79,700,null,700,23874.868000000002,673159.91,0,null,20889.898000000005,10857.09,2110.1799999999998,0,0,23874.868000000006,null,"2026-11-22",23874.868000000006,null,3.637978807091713E-12,0,null,1522,1,17966.092944128886,1.6950177771234253E-3,0,1.6950177771234253E-3,17966.091249111108]
[51,1,"2026-12-22","",51,51,360,20.100000000000001,30,673159.91,10420.275000000003,10353.17,213.88300000000001,10567.053,20987.328000000001,0,2012.75,null,0,2012.75,174.79,null,174.79,700,null,700,23874.868000000002,662739.64,0,null,20987.328000000005,10353.17,2012.75,0,0,23874.868000000006,null,"2026-12-22",23874.868000000006,null,3.637978807091713E-12,0,null,1552,1,17966.091249111108,1.6950177771234253E-3,0,1.6950177771234253E-3,17966.089554093331]
[52,1,"2027-01-22","",52,52,360,20.100000000000001,31,662739.64,10203.205000000004,10535.35,213.88300000000001,10749.233,20952.438000000002,0,2047.64,null,0,2047.64,174.79,null,174.79,700,null,700,23874.868000000002,652536.43999999994,0,null,20952.438000000006,10535.35,2047.64,0,0,23874.868000000006,null,"2027-01-22",23874.868000000006,null,3.637978807091713E-12,0,null,1583,1,17966.089554093331,1.6950177771234253E-3,0,1.6950177771234253E-3,17966.087859075553]
[53,1,"2027-02-22","",53,53,360,20.100000000000001,31,652536.43999999994,10396.915000000005,10373.16,213.88300000000001,10587.043,20983.958000000006,0,2016.12,null,0,2016.12,174.79,null,174.79,700,null,700,23874.868000000006,642139.53,0,null,20983.958000000006,10373.16,2016.12,0,0,23874.868000000006,null,"2027-02-22",23874.868000000006,null,0,0,null,1614,1,17966.087859075553,1.6950177771234253E-3,0,1.6950177771234253E-3,17966.086164057775]
[54,1,"2027-03-22","",54,54,360,20.100000000000001,28,642139.53,11781.225000000004,9212.9699999999993,213.88300000000001,9426.8529999999992,21208.078000000001,0,1792,null,0,1792,174.79,null,174.79,700,null,700,23874.868000000002,630358.31000000006,0,null,21208.078000000005,9212.9699999999993,1792,0,0,23874.868000000006,null,"2027-03-22",23874.868000000006,null,3.637978807091713E-12,0,null,1642,1,17966.086164057775,1.6950177771234253E-3,0,1.6950177771234253E-3,17966.084469039997]
[55,1,"2027-04-22","",55,55,360,20.100000000000001,31,630358.31000000006,10817.995000000003,10020.6,213.88300000000001,10234.483,21052.478000000003,0,1947.6,null,0,1947.6,174.79,null,174.79,700,null,700,23874.868000000002,619540.31999999995,0,null,21052.478000000003,10020.6,1947.6,0,0,23874.868000000002,null,"2027-04-22",23874.868000000002,null,0,0,null,1673,1,17966.084469039997,1.6950177771234253E-3,0,1.6950177771234253E-3,17966.082774022219]
[56,1,"2027-05-22","",56,56,360,20.100000000000001,30,619540.31999999995,11405.265000000003,9528.5,213.88300000000001,9742.3829999999998,21147.648000000001,0,1852.43,null,0,1852.43,174.79,null,174.79,700,null,700,23874.868000000002,608135.06000000006,0,null,21147.648000000005,9528.5,1852.43,0,0,23874.868000000006,null,"2027-05-22",23874.868000000006,null,3.637978807091713E-12,0,null,1703,1,17966.082774022219,1.6950177771234253E-3,0,1.6950177771234253E-3,17966.081079004442]
[57,1,"2027-06-22","",57,57,360,20.100000000000001,31,608135.06000000006,11239.945000000003,9667.32,213.88300000000001,9881.2029999999995,21121.148000000001,0,1878.93,null,0,1878.93,174.79,null,174.79,700,null,700,23874.868000000002,596895.12,0,null,21121.148000000005,9667.32,1878.93,0,0,23874.868000000006,null,"2027-06-22",23874.868000000006,null,3.637978807091713E-12,0,null,1734,1,17966.081079004442,1.6950177771234253E-3,0,1.6950177771234253E-3,17966.079383986664]
[58,1,"2027-07-22","",58,58,360,20.100000000000001,30,596895.12,11821.255000000005,9180.2199999999993,213.88300000000001,9394.1029999999992,21215.358000000004,0,1784.72,null,0,1784.72,174.79,null,174.79,700,null,700,23874.868000000006,585073.87,0,null,21215.358000000007,9180.2199999999993,1784.72,0,0,23874.868000000009,null,"2027-07-22",23874.868000000009,null,3.637978807091713E-12,0,null,1764,1,17966.079383986664,1.6950177771234253E-3,0,1.6950177771234253E-3,17966.077688968886]
[59,1,"2027-08-22","",59,59,360,20.100000000000001,31,585073.87,11677.785000000003,9300.73,213.88300000000001,9514.6129999999994,21192.398000000001,0,1807.68,null,0,1807.68,174.79,null,174.79,700,null,700,23874.868000000002,573396.09,0,null,21192.398000000005,9300.73,1807.68,0,0,23874.868000000006,null,"2027-08-22",23874.868000000006,null,3.637978807091713E-12,0,null,1795,1,17966.077688968886,1.6950177771234253E-3,0,1.6950177771234253E-3,17966.075993951108]
[60,1,"2027-09-22","",60,60,360,20.100000000000001,31,573396.09,11899.505000000003,9115.09,213.88300000000001,9328.973,21228.478000000003,0,1771.6,null,0,1771.6,174.79,null,174.79,700,null,700,23874.868000000002,561496.59,0,null,21228.478000000003,9115.09,1771.6,0,0,23874.868000000002,null,"2027-09-22",23874.868000000002,null,0,0,null,1826,1,17966.075993951108,1.6950177771234253E-3,0,1.6950177771234253E-3,17966.07429893333]
[61,1,"2027-10-22","",61,61,360,20.100000000000001,30,561496.59,12471.535000000003,8635.7900000000009,213.88300000000001,8849.6730000000007,21321.208000000006,0,1678.87,null,0,1678.87,174.79,null,174.79,700,null,700,23874.868000000006,549025.06000000006,0,null,21321.208000000006,8635.7900000000009,1678.87,0,0,23874.868000000006,null,"2027-10-22",23874.868000000006,null,0,0,null,1856,1,17966.07429893333,1.6950177771234253E-3,0,1.6950177771234253E-3,17966.072603915552]
[62,1,"2027-11-22","",62,62,360,20.100000000000001,31,549025.06000000006,12362.225000000004,8727.67,213.88300000000001,8941.5529999999999,21303.778000000006,0,1696.3,null,0,1696.3,174.79,null,174.79,700,null,700,23874.868000000006,536662.84,0,null,21303.778000000006,8727.67,1696.3,0,0,23874.868000000006,null,"2027-11-22",23874.868000000006,null,0,0,null,1887,1,17966.072603915552,1.6950177771234253E-3,0,1.6950177771234253E-3,17966.070908897775]
[63,1,"2027-12-22","",63,63,360,20.100000000000001,30,536662.84,12927.725000000002,8253.85,213.88300000000001,8467.7330000000002,21395.458000000002,0,1604.62,null,0,1604.62,174.79,null,174.79,700,null,700,23874.868000000002,523735.12,0,null,21395.458000000006,8253.85,1604.62,0,0,23874.868000000006,null,"2027-12-22",23874.868000000006,null,3.637978807091713E-12,0,null,1917,1,17966.070908897775,1.6950177771234253E-3,0,1.6950177771234253E-3,17966.069213879997]
[64,1,"2028-01-22","",64,64,360,20.100000000000001,31,523735.12,12842.385000000004,8325.64,213.88300000000001,8539.5229999999992,21381.908000000003,0,1618.17,null,0,1618.17,174.79,null,174.79,700,null,700,23874.868000000002,510892.74,0,null,21381.908000000003,8325.64,1618.17,0,0,23874.868000000002,null,"2028-01-22",23874.868000000002,null,0,0,null,1948,1,17966.069213879997,1.6950177771234253E-3,0,1.6950177771234253E-3,17966.067518862219]
[65,1,"2028-02-22",{"$f":"IF(B98=\"\",\"\",IF(OR(MONTH(C98)=$H$19,MONTH(C98)=$H$20),\"D\",\"\"))","v":""},65,65,360,20.100000000000001,31,510892.74,{"$f":"IF(B98=\"\",\"\",IF((IF(ISERROR(MATCH(MONTH(C98),$H$19:$H$20,0))=FALSE,$J$24 + $Q$30,0) + $J$24+$Q$30+$S$27)-L98<0,0.01,IF(ISERROR(MATCH(MONTH(C98),$H$19:$H$20,0))=FALSE,$J$24 + $Q$30,0)+ ($J$24+$Q$30+$S$27)-L98)- R98 -S98-Q98-Y98-V98)","v":13086.215000000004},{"$f":"IF(B98=\"\",\"\",IF($J$24+$Q$30<ROUND(ROUND(J98*(((1+(H98/100))^(I98/G98))-1),4),2),$J$24+$Q$30 +-0.01,IF(ROUND(ROUND(J98*(((1+(H98/100))^(I98/G98))-1),4),2)>$J$24,$J$24+ -0.01,ROUND(ROUND(J98*(((1+(H98/100))^(I98/G98))-1),4),2))))","v":8121.49},{"$f":"IF(B98=\"\",\"\",IF(ISERROR(MATCH(MONTH(C98),$H$19:$H$20,0))=FALSE,$J$23,0)  + $J$23)","v":213.88300000000001},{"$f":"IF(B98=\"\",\"\",L98+M98)","v":8335.3729999999996},{"$f":"IF(B98=\"\",\"\",K98+N98)","v":21421.588000000003},{"$f":"IF(B98=\"\",\"\",$J$27)","v":0},1578.49,null,0,1578.49,{"$f":"IF(B98=\"\",\"\",$J$28)","v":174.79},null,{"$f":"IF(B98=\"\",\"\",U98+V98)","v":174.79},700,null,{"$f":"IF(B98=\"\",\"\",X98+Y98)","v":700},{"$f":"IF(B98=\"\",\"\",O98+P98+Q98+R98+S98+W98+Z98+IF(D98=\"D\",X98+U98,0))","v":23874.868000000006},{"$f":"IF(B98=\"\",\"\",(ROUND(J98-K98,2)))","v":497806.53},{"$f":"IF(B98=\"\",\"\",IF(ROUND(ROUND(J98*(((1+(H98/100))^(I98/G98))-1),4),2) - $J$24<0,0,ROUND(ROUND(J98*(((1+(H98/100))^(I98/G98))-1),4),2) - $J$24))","v":0},null,{"$f":"SUM(K98:M98)","v":21421.588000000003},{"$f":"+L98","v":8121.49},{"$f":"+Q98","v":1578.49},{"$f":"+R98","v":0},{"$f":"+S98","v":0},{"$f":"IFERROR(AF98+K98 + P98 + W98+AG98 + M98 + AH98 + AI98+Z98+IF(D98=\"D\",X98+U98,0),\"\")","v":23874.868000000006},null,{"$f":"+IF(C98=\"\",0,C98)","v":"2028-02-22"},23874.868000000006,null,0,{"$f":"+IFERROR(AF98-L98,0)","v":0},null,1979,1,17966.067518862219,1.6950177771234253E-3,0,{"$f":"IF(D98=\"D\",$K$23,0)+ $K$23","v":1.6950177771234253E-3},17966.065823844441]
[{"$f":"+IF(A98>=$H$15,\"\",A98+1)","v":66},{"$f":"IF(A99=\"\",\"\",IF(A99<=$H$22,0,1))","v":1},{"$f":"IF(B99=\"\",\"\",IF(OR(MONTH(EDATE($Q$6,E99))=$H$17,MONTH(EDATE($Q$6,E99))=$H$18),IF(ABS($H$18-$H$17)=1,EDATE($Q$6,E99+2),EDATE($Q$6,E99+1)),EDATE($Q$6,E99)))","v":"2028-03-22"},"",{"$f":"+IF(B99=\"\",\"\",IF(OR(MONTH(DATE(YEAR(C98)+0.0833333333333333,MONTH(C98)+1,DAY(C98)))=$H$17,MONTH(DATE(YEAR(C98)+0.5,MONTH(C98)+1,DAY(C98)))=$H$18),IF(ABS($H$18-$H$17)=1,E98+1,E98+2),E98+1))","v":66},66,360,{"$f":"IF(B99=\"\",\"\",$H$10)","v":20.100000000000001},29,{"$f":"IF(B99=\"\",\"\",AB98)","v":497806.53},13948.215000000004,7399.15,213.88300000000001,7613.0329999999994,21561.248000000003,0,1438.83,null,0,{"$f":"IF(B99=\"\",\"\",Q99+R99+S99)","v":1438.83},174.79,null,174.79,{"$f":"IF(B99=\"\",\"\",IF($I$12=\"Sí\",$J$29,0))","v":700},null,700,23874.868000000002,483858.32,0,null,21561.248000000007,7399.15,1438.83,0,0,23874.868000000009,null,"2028-03-22",23874.868000000009,null,{"$f":"+IFERROR(AJ99-AA99,0)","v":7.2759576141834259E-12},0,null,2008,1,17966.065823844441,1.6950177771234253E-3,0,1.6950177771234253E-3,17966.064128826663]
[67,1,"2028-04-22","",67,{"$f":"+IF(B100=\"\",\"\",F99+1)","v":67},{"$f":"IF(B100=\"\",\"\",$Q$9)","v":360},20.100000000000001,{"$f":"IF(B100=\"\",\"\",C100-C99)","v":31},483858.32,13599.495000000003,7691.74,213.88300000000001,7905.6229999999996,21505.118000000002,0,{"$f":"IF(B100=\"\",\"\",ROUND($H$9*J100/30*$I100,2)-S100)","v":1494.96},null,{"$f":"IF(B100=\"\",\"\",IF(E100-E99>1,ROUNDDOWN($J100*$H$9/30*(DATE(YEAR($C100),MONTH($C100)-1,DAY($C100))-C99),2),0))","v":0},1494.96,174.79,null,174.79,700,null,700,23874.868000000002,470258.83,0,null,21505.118000000002,7691.74,1494.96,0,0,23874.868000000002,null,"2028-04-22",23874.868000000002,null,0,0,null,2039,1,{"$f":"AX99","v":17966.064128826663},1.6950177771234253E-3,0,1.6950177771234253E-3,17966.062433808886]
[68,1,"2028-05-22","",68,68,360,20.100000000000001,30,470258.83,14147.565000000002,7232.56,213.88300000000001,7446.4430000000002,21594.008000000002,0,1406.07,null,0,1406.07,174.79,null,174.79,700,null,700,23874.868000000002,456111.27,0,null,21594.008000000005,7232.56,1406.07,0,0,23874.868000000006,null,"2028-05-22",23874.868000000006,null,3.637978807091713E-12,0,null,{"$f":"IFERROR(I101 + AR100,\" \")","v":2069},1,17966.062433808886,1.6950177771234253E-3,0,1.6950177771234253E-3,17966.060738791108]
[69,1,"2028-06-22","",69,69,360,20.100000000000001,31,456111.27,14126.315000000004,7250.65,213.88300000000001,7464.5329999999994,21590.848000000005,0,1409.23,null,0,1409.23,174.79,null,174.79,700,null,700,23874.868000000006,441984.96,0,null,21590.848000000005,7250.65,1409.23,0,0,23874.868000000006,null,"2028-06-22",23874.868000000006,null,0,0,null,2100,{"$f":"IFERROR((1/((1+($J$8/100))^(AR102/$Q$9))*1) * IF(D102=\"D\",2,1),\" \")","v":1},17966.060738791108,1.6950177771234253E-3,0,1.6950177771234253E-3,17966.05904377333]
[70,1,"2028-07-22","",70,70,360,20.100000000000001,30,441984.96,14666.945000000003,6797.71,213.88300000000001,7011.5929999999998,21678.538000000004,0,1321.54,null,0,1321.54,174.79,null,174.79,700,null,700,23874.868000000006,427318.02,0,null,21678.538000000004,6797.71,1321.54,0,0,23874.868000000006,null,"2028-07-22",23874.868000000006,null,0,0,null,2130,1,17966.05904377333,1.6950177771234253E-3,0,1.6950177771234253E-3,17966.057348755552]
[71,1,"2028-08-22","",71,71,360,20.100000000000001,31,427318.02,14672.995000000003,6792.93,213.88300000000001,7006.8130000000001,21679.808000000005,0,1320.27,null,0,1320.27,174.79,null,174.79,700,null,700,23874.868000000006,412645.03,0,null,21679.808000000005,6792.93,1320.27,0,0,23874.868000000006,null,"2028-08-22",23874.868000000006,null,0,0,null,2161,1,17966.057348755552,1.6950177771234253E-3,{"$f":"IFERROR((((1+($J$8/100))^((K104)/$Q$9))-1)*AT104,\" \")","v":0},1.6950177771234253E-3,17966.055653737774]
[72,1,"2028-09-22","",72,72,360,20.100000000000001,31,412645.03,14951.575000000003,6559.68,213.88300000000001,6773.5630000000001,21725.138000000003,0,1274.94,null,0,1274.94,174.79,null,174.79,700,null,700,23874.868000000002,397693.46,0,null,21725.138000000006,6559.68,1274.94,0,0,23874.868000000006,null,"2028-09-22",23874.868000000006,null,3.637978807091713E-12,0,null,2192,1,17966.055653737774,1.6950177771234253E-3,0,1.6950177771234253E-3,17966.053958719996]
[73,1,"2028-10-22","",73,73,360,20.100000000000001,30,397693.46,15480.585000000005,6116.51,213.88300000000001,6330.393,21810.978000000003,0,1189.0999999999999,null,0,1189.0999999999999,174.79,null,174.79,700,null,700,23874.868000000002,382212.88,0,null,21810.978000000006,6116.51,1189.0999999999999,0,0,23874.868000000006,null,"2028-10-22",23874.868000000006,null,3.637978807091713E-12,0,null,2222,1,17966.053958719996,1.6950177771234253E-3,0,1.6950177771234253E-3,17966.052263702219]
[74,1,"2028-11-22","",74,74,360,20.100000000000001,31,382212.88,15529.375000000004,6075.91,213.88300000000001,6289.7929999999997,21819.168000000005,0,1180.9100000000001,null,0,1180.9100000000001,174.79,null,174.79,700,null,700,23874.868000000006,366683.51,0,null,21819.168000000005,6075.91,1180.9100000000001,0,0,23874.868000000006,null,"2028-11-22",23874.868000000006,null,0,0,null,2253,1,17966.052263702219,1.6950177771234253E-3,0,1.6950177771234253E-3,17966.050568684441]
[75,1,"2028-12-22","",75,75,360,20.100000000000001,30,366683.51,16050.245000000003,5639.57,213.88300000000001,5853.4529999999995,21903.698000000004,0,1096.3800000000001,null,0,1096.3800000000001,174.79,null,174.79,700,null,700,23874.868000000006,350633.27,0,null,21903.698000000004,5639.57,1096.3800000000001,0,0,23874.868000000006,null,"2028-12-22",23874.868000000006,null,0,0,null,2283,1,17966.050568684441,1.6950177771234253E-3,0,1.6950177771234253E-3,17966.048873666663]
[76,1,"2029-01-22","",76,76,360,20.100000000000001,31,350633.27,16128.955000000005,5573.9,213.88300000000001,5787.7829999999994,21916.738000000005,0,1083.3399999999999,null,0,1083.3399999999999,174.79,null,174.79,700,null,700,23874.868000000006,334504.32000000001,0,null,21916.738000000005,5573.9,1083.3399999999999,0,0,23874.868000000006,null,"2029-01-22",23874.868000000006,null,0,0,null,2314,1,17966.048873666663,1.6950177771234253E-3,0,1.6950177771234253E-3,17966.047178648885]
[77,1,"2029-02-22","",77,77,360,20.100000000000001,31,334504.32000000001,16435.185000000005,5317.5,213.88300000000001,5531.3829999999998,21966.568000000007,0,1033.51,null,0,1033.51,174.79,null,174.79,700,null,700,23874.868000000006,318069.14,0,null,21966.568000000007,5317.5,1033.51,0,0,23874.868000000006,null,"2029-02-22",23874.868000000006,null,0,0,null,2345,1,17966.047178648885,1.6950177771234253E-3,0,1.6950177771234253E-3,17966.045483631107]
[78,1,"2029-03-22","",78,78,360,20.100000000000001,28,{"$f":"IF(B111=\"\",\"\",AB110)","v":318069.14},17335.145000000004,4563.43,213.88300000000001,4777.3130000000001,22112.458000000006,0,887.62,null,0,887.62,174.79,null,174.79,700,null,700,23874.868000000006,300734,0,null,22112.458000000006,4563.43,887.62,0,0,23874.868000000006,null,"2029-03-22",{"$f":"+IF(AJ111=\"\",0,AJ111)","v":23874.868000000006},null,0,0,null,2373,1,17966.045483631107,{"$f":"IFERROR(AW111-AV111,\" \")","v":1.6950177771234253E-3},0,1.6950177771234253E-3,{"$f":"IFERROR(AT111-AU111,\" \")","v":17966.04378861333}]
[79,1,"2029-04-22","",79,79,360,20.100000000000001,31,300734,17076.355000000003,4780.67,213.88300000000001,4994.5529999999999,22070.908000000003,0,929.17,null,0,929.17,174.79,null,174.79,700,null,700,23874.868000000002,283657.65000000002,0,null,22070.908000000003,4780.67,929.17,0,0,23874.868000000002,null,"2029-04-22",23874.868000000002,null,0,0,null,2404,1,17966.04378861333,1.6950177771234253E-3,0,1.6950177771234253E-3,17966.042093595552]
[80,1,"2029-05-22","",80,80,360,20.100000000000001,30,283657.65000000002,17575.415000000005,4362.6400000000003,213.88300000000001,4576.5230000000001,22151.938000000006,0,848.14,null,0,848.14,174.79,null,174.79,700,null,700,23874.868000000006,266082.24,0,null,22151.938000000006,4362.6400000000003,848.14,0,0,23874.868000000006,null,"2029-05-22",23874.868000000006,null,0,0,null,2434,1,17966.042093595552,1.6950177771234253E-3,0,1.6950177771234253E-3,17966.040398577774]
[81,1,"2029-06-22","",81,81,360,20.100000000000001,31,266082.24,17734.265000000003,4229.82,213.88300000000001,4443.7029999999995,22177.968000000001,0,822.11,null,0,822.11,174.79,null,174.79,700,null,700,23874.868000000002,248347.98,0,null,22177.968000000004,4229.82,822.11,0,0,23874.868000000006,null,"2029-06-22",23874.868000000006,null,3.637978807091713E-12,0,null,2465,1,17966.040398577774,1.6950177771234253E-3,0,1.6950177771234253E-3,17966.038703559996]
[82,1,"2029-07-22","",82,82,360,20.100000000000001,30,248347.98,18224.055000000004,3819.58,213.88300000000001,4033.4629999999997,22257.518000000004,0,742.56,null,0,742.56,174.79,null,174.79,700,null,700,23874.868000000006,230123.93,0,null,22257.518000000004,3819.58,742.56,0,0,23874.868000000006,null,"2029-07-22",23874.868000000006,null,0,0,null,2495,1,17966.038703559996,1.6950177771234253E-3,0,1.6950177771234253E-3,17966.037008542218]
[83,1,"2029-08-22","",83,83,360,20.100000000000001,31,230123.93,18416.985000000004,3658.2,213.88300000000001,3872.0829999999996,22289.068000000003,0,711.01,null,0,711.01,174.79,null,174.79,700,null,700,23874.868000000002,211706.95,0,null,22289.068000000007,3658.2,711.01,0,0,23874.868000000006,null,"2029-08-22",23874.868000000006,null,3.637978807091713E-12,0,null,2526,1,17966.037008542218,1.6950177771234253E-3,0,1.6950177771234253E-3,17966.03531352444]
[84,1,"2029-09-22","",84,84,360,20.100000000000001,31,{"$f":"IF(B117=\"\",\"\",AB116)","v":211706.95},{"$f":"IF(B117=\"\",\"\",IF((IF(ISERROR(MATCH(MONTH(C117),$H$19:$H$20,0))=FALSE,$J$24 + $Q$30,0) + $J$24+$Q$30+$S$27)-L117<0,0.01,IF(ISERROR(MATCH(MONTH(C117),$H$19:$H$20,0))=FALSE,$J$24 + $Q$30,0)+ ($J$24+$Q$30+$S$27)-L117)- R117 -S117-Q117-Y117-V117)","v":18766.655000000006},3365.44,213.88300000000001,3579.3229999999999,22345.978000000006,0,654.1,null,0,654.1,174.79,null,174.79,700,null,700,23874.868000000006,192940.3,0,null,22345.978000000006,3365.44,654.1,0,0,23874.868000000006,null,"2029-09-22",23874.868000000006,null,0,0,null,2557,1,17966.03531352444,1.6950177771234253E-3,0,1.6950177771234253E-3,17966.033618506663]
["","","","","","","","","","","","","","","","","",null,"","","",null,"","",null,"","","","",null,0,"","",0,"","",null,"00:00:00",0,null,0,0,null," "," ",17966.033618506663," "," ",1.6950177771234253E-3," "]
["","","","","","","","","","","","","","","","","",null,"","","",null,"","",null,"","","","",null,0,"","",0,"","",null,"00:00:00",0,null,0,0,null," "," "," "," "," ",1.6950177771234253E-3," "]
["","","","","","","","","","","","","","","","","",null,"","","",null,"","",null,"","","","",null,0,"","",0,"","",null,"00:00:00",0,null,0,0,null," "," "," "," "," ",1.6950177771234253E-3," "]
["","","","","","","","","","","","","","","","","",null,"","","",null,"","",null,"","","","",null,0,"","",0,"","",null,"00:00:00",0,null,0,0,null," "," "," "," "," ",1.6950177771234253E-3," "]
["","","","","","","","","","","","","","","","","",null,"","","",null,"","",null,"","","","",null,0,"","",0,"","",null,"00:00:00",0,null,0,0,null," "," "," "," "," ",1.6950177771234253E-3," "]
["","","","","","","","","","","","","","","","","",null,"","","",null,"","",null,"","","","",null,0,"","",0,"","",null,"00:00:00",0,null,0,0,null," "," "," "," "," ",1.6950177771234253E-3," "]
["","","","","","","","","","","","","","","","","",null,"","","",null,"","",null,"","","","",null,0,"","",0,"","",null,"00:00:00",0,null,0,0,null," "," "," "," "," ",1.6950177771234253E-3," "]
["","","","","","","","","","","","","","","","","",null,"","","",null,"","",null,"","","","",null,0,"","",0,"","",null,"00:00:00",0,null,0,0,null," "," "," "," "," ",1.6950177771234253E-3," "]
["","","","","","","","","","","","","","","","","",null,"","","",null,"","",null,"","","","",null,0,"","",0,"","",null,"00:00:00",0,null,0,0,null," "," "," "," "," ",1.6950177771234253E-3," "]
["","","","","","","","","","","","","","","","","",null,"","","",null,"","",null,"","","","",null,0,"","",0,"","",null,"00:00:00",0,null,0,0,null," "," "," "," "," ",1.6950177771234253E-3," "]
["","","","","","","","","","","","","","","","","",null,"","","",null,"","",null,"","","","",null,0,"","",0,"","",null,"00:00:00",0,null,0,0,null," "," "," "," "," ",1.6950177771234253E-3," "]
["","","","","","","","","","","","","","","","","",null,"","","",null,"","",null,"","","","",null,0,"","",0,"","",null,"00:00:00",0,null,0,0,null," "," "," "," "," ",1.6950177771234253E-3," "]
["","","","","","","","","","","","","","","","","",null,"","","",null,"","",null,"","","","",null,0,"","",0,"","",null,"00:00:00",0,null,0,0,null," "," "," "," "," ",1.6950177771234253E-3," "]
["","","","","","","","","","","","","","","","","",null,"","","",null,"","",null,"","","","",null,0,"","",0,"","",null,"00:00:00",0,null,0,0,null," "," "," "," "," ",1.6950177771234253E-3," "]
["","","","","","","","","","","","","","","","","",null,"","","",null,"","",null,"","","","",null,0,"","",0,"","",null,"00:00:00",0,null,0,0,null," "," "," "," "," ",1.6950177771234253E-3," "]
["","","","","","","","","","","","","","","","","",null,"","","",null,"","",null,"","","","",null,0,"","",0,"","",null,"00:00:00",0,null,0,0,null," "," "," "," "," ",1.6950177771234253E-3," "]
["","","","","","","","","","","","","","","","","",null,"","","",null,"","",null,"","","","",null,0,"","",0,"","",null,"00:00:00",0,null,0,0,null," "," "," "," "," ",1.6950177771234253E-3," "]
["","","","","","","","","","","","","","","","","",null,"","","",null,"","",null,"","","","",null,0,"","",0,"","",null,"00:00:00",0,null,0,0,null," "," "," "," "," ",1.6950177771234253E-3," "]
["","","","","","","","","","","","","","","","","",null,"","","",null,"","",null,"","","","",null,0,"","",0,"","",null,"00:00:00",0,null,0,0,null," "," "," "," "," ",1.6950177771234253E-3," "]
["","","","","","","","","","","","","","","","","",null,"","","",null,"","",null,"","","","",null,0,"","",0,"","",null,"00:00:00",0,null,0,0,null," "," "," "," "," ",1.6950177771234253E-3," "]
["","","","","","","","","","","","","","","","","",null,"","","",null,"","",null,"","","","",null,0,"","",0,"","",null,"00:00:00",0,null,0,0,null," "," "," "," "," ",1.6950177771234253E-3," "]
["","","","","","","","","","","","","","","","","",null,"","","",null,"","",null,"","","","",null,0,"","",0,"","",null,"00:00:00",0,null,0,0,null," "," "," "," "," ",1.6950177771234253E-3," "]
["","","","","","","","","","","","","","","","","",null,"","","",null,"","",null,"","","","",null,0,"","",0,"","",null,"00:00:00",0,null,0,0,null," "," "," "," "," ",1.6950177771234253E-3," "]
["","","","","","","","","","","","","","","","","",null,"","","",null,"","",null,"","","","",null,0,"","",0,"","",null,"00:00:00",0,null,0,0,null," "," "," "," "," ",1.6950177771234253E-3," "]
["","","","","","","","","","","","","","","","","",null,"","","",null,"","",null,"","","","",null,0,"","",0,"","",null,"00:00:00",0,null,0,0,null," "," "," "," "," ",1.6950177771234253E-3," "]
["","","","","","","","","","","","","","","","","",null,"","","",null,"","",null,"","","","",null,0,"","",0,"","",null,"00:00:00",0,null,0,0,null," "," "," "," "," ",1.6950177771234253E-3," "]
["","","","","","","","","","","","","","","","","",null,"","","",null,"","",null,"","","","",null,0,"","",0,"","",null,"00:00:00",0,null,0,0,null," "," "," "," "," ",1.6950177771234253E-3," "]
["","","","","","","","","","","","","","","","","",null,"","","",null,"","",null,"","","","",null,0,"","",0,"","",null,"00:00:00",0,null,0,0,null," "," "," "," "," ",1.6950177771234253E-3," "]
["","","","","","","","","","","","","","","","","",null,"","","",null,"","",null,"","","","",null,0,"","",0,"","",null,"00:00:00",0,null,0,0,null," "," "," "," "," ",1.6950177771234253E-3," "]
["","","","","","","","","","","","","","","","","",null,"","","",null,"","",null,"","","","",null,0,"","",0,"","",null,"00:00:00",0,null,0,0,null," "," "," "," "," ",1.6950177771234253E-3," "]
["","","","","","","","","","","","","","","","","",null,"","","",null,"","",null,"","","","",null,0,"","",0,"","",null,"00:00:00",0,null,0,0,null," "," "," "," "," ",1.6950177771234253E-3," "]
["","","","","","","","","","","","","","","","","",null,"","","",null,"","",null,"","","","",null,0,"","",0,"","",null,"00:00:00",0,null,0,0,null," "," "," "," "," ",1.6950177771234253E-3," "]
["","","","","","","","","","","","","","","","","",null,"","","",null,"","",null,"","","","",null,0,"","",0,"","",null,"00:00:00",0,null,0,0,null," "," "," "," "," ",1.6950177771234253E-3," "]
["","","","","","","","","","","","","","","","","",null,"","","",null,"","",null,"","","","",null,0,"","",0,"","",null,"00:00:00",0,null,0,0,null," "," "," "," "," ",1.6950177771234253E-3," "]
["","","","","","","","","","","","","","","","","",null,"","","",null,"","",null,"","","","",null,0,"","",0,"","",null,"00:00:00",0,null,0,0,null," "," "," "," "," ",1.6950177771234253E-3," "]
["","","","","","","","","","","","","","","","","",null,"","","",null,"","",null,"","","","",null,0,"","",0,"","",null,"00:00:00",0,null,0,0,null," "," "," "," "," ",1.6950177771234253E-3," "]
["","","","","","","","","","","","","","","","","",null,"","","",null,"","",null,"","","","",null,0,"","",0,"","",null,"00:00:00",0,null,0,0,null," "," "," "," "," ",1.6950177771234253E-3," "]
["","","","","","","","","","","","","","","","","",null,"","","",null,"","",null,"","","","",null,0,"","",0,"","",null,"00:00:00",0,null,0,0,null," "," "," "," "," ",1.6950177771234253E-3," "]
["","","","","","","","","","","","","","","","","",null,"","","",null,"","",null,"","","","",null,0,"","",0,"","",null,"00:00:00",0,null,0,0,null," "," "," "," "," ",1.6950177771234253E-3," "]
["","","","","","","","","","","","","","","","","",null,"","","",null,"","",null,"","","","",null,0,"","",0,"","",null,"00:00:00",0,null,0,0,null," "," "," "," "," ",1.6950177771234253E-3," "]
["","","","","","","","","","","","","","","","","",null,"","","",null,"","",null,"","","","",null,0,"","",0,"","",null,"00:00:00",0,null,0,0,null," "," "," "," "," ",1.6950177771234253E-3," "]
["","","","","","","","","","","","","","","","","",null,"","","",null,"","",null,"","","","",null,0,"","",0,"","",null,"00:00:00",0,null,0,0,null," "," "," "," "," ",1.6950177771234253E-3," "]
["","","","","","","","","","","","","","","","","",null,"","","",null,"","",null,"","","","",null,0,"","",0,"","",null,"00:00:00",0,null,0,0,null," "," "," "," "," ",1.6950177771234253E-3," "]
["","","","","","","","","","","","","","","","","",null,"","","",null,"","",null,"","","","",null,0,"","",0,"","",null,"00:00:00",0,null,0,0,null," "," "," "," "," ",1.6950177771234253E-3," "]
["","","",{"$f":"IF(B162=\"\",\"\",IF(OR(MONTH(C162)=$H$19,MONTH(C162)=$H$20),\"D\",\"\"))","v":""},"","","","","","",{"$f":"IF(B162=\"\",\"\",IF((IF(ISERROR(MATCH(MONTH(C162),$H$19:$H$20,0))=FALSE,$J$24 + $Q$30,0) + $J$24+$Q$30+$S$27)-L162<0,0.01,IF(ISERROR(MATCH(MONTH(C162),$H$19:$H$20,0))=FALSE,$J$24 + $Q$30,0)+ ($J$24+$Q$30+$S$27)-L162)- R162 -S162-Q162-Y162-V162)","v":""},{"$f":"IF(B162=\"\",\"\",IF($J$24+$Q$30<ROUND(ROUND(J162*(((1+(H162/100))^(I162/G162))-1),4),2),$J$24+$Q$30 +-0.01,IF(ROUND(ROUND(J162*(((1+(H162/100))^(I162/G162))-1),4),2)>$J$24,$J$24+ -0.01,ROUND(ROUND(J162*(((1+(H162/100))^(I162/G162))-1),4),2))))","v":""},{"$f":"IF(B162=\"\",\"\",IF(ISERROR(MATCH(MONTH(C162),$H$19:$H$20,0))=FALSE,$J$23,0)  + $J$23)","v":""},{"$f":"IF(B162=\"\",\"\",L162+M162)","v":""},{"$f":"IF(B162=\"\",\"\",K162+N162)","v":""},{"$f":"IF(B162=\"\",\"\",$J$27)","v":""},"",null,"","",{"$f":"IF(B162=\"\",\"\",$J$28)","v":""},null,{"$f":"IF(B162=\"\",\"\",U162+V162)","v":""},"",null,{"$f":"IF(B162=\"\",\"\",X162+Y162)","v":""},{"$f":"IF(B162=\"\",\"\",O162+P162+Q162+R162+S162+W162+Z162+IF(D162=\"D\",X162+U162,0))","v":""},{"$f":"IF(B162=\"\",\"\",(ROUND(J162-K162,2)))","v":""},{"$f":"IF(B162=\"\",\"\",IF(ROUND(ROUND(J162*(((1+(H162/100))^(I162/G162))-1),4),2) - $J$24<0,0,ROUND(ROUND(J162*(((1+(H162/100))^(I162/G162))-1),4),2) - $J$24))","v":""},null,{"$f":"SUM(K162:M162)","v":0},{"$f":"+L162","v":""},{"$f":"+Q162","v":""},{"$f":"+R162","v":0},{"$f":"+S162","v":""},{"$f":"IFERROR(AF162+K162 + P162 + W162+AG162 + M162 + AH162 + AI162+Z162+IF(D162=\"D\",X162+U162,0),\"\")","v":""},null,{"$f":"+IF(C162=\"\",0,C162)","v":"00:00:00"},0,null,0,{"$f":"+IFERROR(AF162-L162,0)","v":0},null," "," "," "," "," ",{"$f":"IF(D162=\"D\",$K$23,0)+ $K$23","v":1.6950177771234253E-3}," "]
[{"$f":"+IF(A162>=$H$15,\"\",A162+1)","v":""},{"$f":"IF(A163=\"\",\"\",IF(A163<=$H$22,0,1))","v":""},{"$f":"IF(B163=\"\",\"\",IF(OR(MONTH(EDATE($Q$6,E163))=$H$17,MONTH(EDATE($Q$6,E163))=$H$18),IF(ABS($H$18-$H$17)=1,EDATE($Q$6,E163+2),EDATE($Q$6,E163+1)),EDATE($Q$6,E163)))","v":""},"",{"$f":"+IF(B163=\"\",\"\",IF(OR(MONTH(DATE(YEAR(C162)+0.0833333333333333,MONTH(C162)+1,DAY(C162)))=$H$17,MONTH(DATE(YEAR(C162)+0.5,MONTH(C162)+1,DAY(C162)))=$H$18),IF(ABS($H$18-$H$17)=1,E162+1,E162+2),E162+1))","v":""},"","",{"$f":"IF(B163=\"\",\"\",$H$10)","v":""},"",{"$f":"IF(B163=\"\",\"\",AB162)","v":""},"","","","","","","",null,"",{"$f":"IF(B163=\"\",\"\",Q163+R163+S163)","v":""},"",null,"",{"$f":"IF(B163=\"\",\"\",IF($I$12=\"Sí\",$J$29,0))","v":""},null,"","","","",null,0,"","",0,"","",null,"00:00:00",0,null,{"$f":"+IFERROR(AJ163-AA163,0)","v":0},0,null," "," "," "," "," ",1.6950177771234253E-3," "]
["","","","","",{"$f":"+IF(B164=\"\",\"\",F163+1)","v":""},{"$f":"IF(B164=\"\",\"\",$Q$9)","v":""},"",{"$f":"IF(B164=\"\",\"\",C164-C163)","v":""},"","","","","","","",{"$f":"IF(B164=\"\",\"\",ROUND($H$9*J164/30*$I164,2)-S164)","v":""},null,{"$f":"IF(B164=\"\",\"\",IF(E164-E163>1,ROUNDDOWN($J164*$H$9/30*(DATE(YEAR($C164),MONTH($C164)-1,DAY($C164))-C163),2),0))","v":""},"","",null,"","",null,"","","","",null,0,"","",0,"","",null,"00:00:00",0,null,0,0,null," "," ",{"$f":"AX163","v":" "}," "," ",1.6950177771234253E-3," "]
["","","","","","","","","","","","","","","","","",null,"","","",null,"","",null,"","","","",null,0,"","",0,"","",null,"00:00:00",0,null,0,0,null,{"$f":"IFERROR(I165 + AR164,\" \")","v":" "}," "," "," "," ",1.6950177771234253E-3," "]
["","","","","","","","","","","","","","","","","",null,"","","",null,"","",null,"","","","",null,0,"","",0,"","",null,"00:00:00",0,null,0,0,null," ",{"$f":"IFERROR((1/((1+($J$8/100))^(AR166/$Q$9))*1) * IF(D166=\"D\",2,1),\" \")","v":" "}," "," "," ",1.6950177771234253E-3," "]
["","","","","","","","","","","","","","","","","",null,"","","",null,"","",null,"","","","",null,0,"","",0,"","",null,"00:00:00",0,null,0,0,null," "," "," "," "," ",1.6950177771234253E-3," "]
["","","","","","","","","","","","","","","","","",null,"","","",null,"","",null,"","","","",null,0,"","",0,"","",null,"00:00:00",0,null,0,0,null," "," "," "," ",{"$f":"IFERROR((((1+($J$8/100))^((K168)/$Q$9))-1)*AT168,\" \")","v":" "},1.6950177771234253E-3," "]
["","","","","","","","","","","","","","","","","",null,"","","",null,"","",null,"","","","",null,0,"","",0,"","",null,"00:00:00",0,null,0,0,null," "," "," "," "," ",1.6950177771234253E-3," "]
["","","","","","","","","","","","","","","","","",null,"","","",null,"","",null,"","","","",null,0,"","",0,"","",null,"00:00:00",0,null,0,0,null," "," "," "," "," ",1.6950177771234253E-3," "]
["","","","","","","","","","","","","","","","","",null,"","","",null,"","",null,"","","","",null,0,"","",0,"","",null,"00:00:00",0,null,0,0,null," "," "," "," "," ",1.6950177771234253E-3," "]
["","","","","","","","","","","","","","","","","",null,"","","",null,"","",null,"","","","",null,0,"","",0,"","",null,"00:00:00",0,null,0,0,null," "," "," "," "," ",1.6950177771234253E-3," "]
["","","","","","","","","","","","","","","","","",null,"","","",null,"","",null,"","","","",null,0,"","",0,"","",null,"00:00:00",0,null,0,0,null," "," "," "," "," ",1.6950177771234253E-3," "]
["","","","","","","","","","","","","","","","","",null,"","","",null,"","",null,"","","","",null,0,"","",0,"","",null,"00:00:00",0,null,0,0,null," "," "," "," "," ",1.6950177771234253E-3," "]
["","","","","","","","","","","","","","","","","",null,"","","",null,"","",null,"","","","",null,0,"","",0,"","",null,"00:00:00",{"$f":"+IF(AJ175=\"\",0,AJ175)","v":0},null,0,0,null," "," "," ",{"$f":"IFERROR(AW175-AV175,\" \")","v":" "}," ",1.6950177771234253E-3,{"$f":"IFERROR(AT175-AU175,\" \")","v":" "}]
["","","","","","","","","","","","","","","","","",null,"","","",null,"","",null,"","","","",null,0,"","",0,"","",null,"00:00:00",0,null,0,0,null," "," "," "," "," ",1.6950177771234253E-3," "]
["","","","","","","","","","","","","","","","","",null,"","","",null,"","",null,"","","","",null,0,"","",0,"","",null,"00:00:00",0,null,0,0,null," "," "," "," "," ",1.6950177771234253E-3," "]
["","","","","","","","","","","","","","","","","",null,"","","",null,"","",null,"","","","",null,0,"","",0,"","",null,"00:00:00",0,null,0,0,null," "," "," "," "," ",1.6950177771234253E-3," "]
["","","","","","","","","","","","","","","","","",null,"","","",null,"","",null,"","","","",null,0,"","",0,"","",null,"00:00:00",0,null,0,0,null," "," "," "," "," ",1.6950177771234253E-3," "]
["","","","","","","","","","","","","","","","","",null,"","","",null,"","",null,"","","","",null,0,"","",0,"","",null,"00:00:00",0,null,0,0,null," "," "," "," "," ",1.6950177771234253E-3," "]
["","","","","","","","","","","","","","","","","",null,"","","",null,"","",null,"","","","",null,0,"","",0,"","",null,"00:00:00",0,null,0,0,null," "," "," "," "," ",1.6950177771234253E-3," "]
["","","","","","","","","","","","","","","","","",null,"","","",null,"","",null,"","","","",null,0,"","",0,"","",null,"00:00:00",0,null,0,0,null," "," "," "," "," ",1.6950177771234253E-3," "]
["","","","","","","","","","","","","","","","","",null,"","","",null,"","",null,"","","","",null,0,"","",0,"","",null,"00:00:00",0,null,0,0,null," "," "," "," "," ",1.6950177771234253E-3," "]
["","","","","","","","","","","","","","","","","",null,"","","",null,"","",null,"","","","",null,0,"","",0,"","",null,"00:00:00",0,null,0,0,null," "," "," "," "," ",1.6950177771234253E-3," "]
["","","","","","","","","","","","","","","","","",null,"","","",null,"","",null,"","","","",null,0,"","",0,"","",null,"00:00:00",0,null,0,0,null," "," "," "," "," ",1.6950177771234253E-3," "]
["","","","","","","","","","","","","","","","","",null,"","","",null,"","",null,"","","","",null,0,"","",0,"","",null,"00:00:00",0,null,0,0,null," "," "," "," "," ",1.6950177771234253E-3," "]
["","","","","","","","","","","","","","","","","",null,"","","",null,"","",null,"","","","",null,0,"","",0,"","",null,"00:00:00",0,null,0,0,null," "," "," "," "," ",1.6950177771234253E-3," "]
["","","","","","","","","","","","","","","","","",null,"","","",null,"","",null,"","","","",null,0,"","",0,"","",null,"00:00:00",0,null,0,0,null," "," "," "," "," ",1.6950177771234253E-3," "]
["","","","","","","","","","","","","","","","","",null,"","","",null,"","",null,"","","","",null,0,"","",0,"","",null,"00:00:00",0,null,0,0,null," "," "," "," "," ",1.6950177771234253E-3," "]
["","","","","","","","","","","","","","","","","",null,"","","",null,"","",null,"","","","",null,0,"","",0,"","",null,"00:00:00",0,null,0,0,null," "," "," "," "," ",1.6950177771234253E-3," "]
["","","","","","","","","","","","","","","","","",null,"","","",null,"","",null,"","","","",null,0,"","",0,"","",null,"00:00:00",0,null,0,0,null," "," "," "," "," ",1.6950177771234253E-3," "]
["","","","","","","","","","","","","","","","","",null,"","","",null,"","",null,"","","","",null,0,"","",0,"","",null,"00:00:00",0,null,0,0,null," "," "," "," "," ",1.6950177771234253E-3," "]
["","","","","","","","","","","","","","","","","",null,"","","",null,"","",null,"","","","",null,0,"","",0,"","",null,"00:00:00",0,null,0,0,null," "," "," "," "," ",1.6950177771234253E-3," "]
["","","","","","","","","","","","","","","","","",null,"","","",null,"","",null,"","","","",null,0,"","",0,"","",null,"00:00:00",0,null,0,0,null," "," "," "," "," ",1.6950177771234253E-3," "]
["","","","","","","","","","","","","","","","","",null,"","","",null,"","",null,"","","","",null,0,"","",0,"","",null,"00:00:00",0,null,0,0,null," "," "," "," "," ",1.6950177771234253E-3," "]
["","","","","","","","","","","","","","","","","",null,"","","",null,"","",null,"","","","",null,0,"","",0,"","",null,"00:00:00",0,null,0,0,null," "," "," "," "," ",1.6950177771234253E-3," "]
["","","","","","","","","","","","","","","","","",null,"","","",null,"","",null,"","","","",null,0,"","",0,"","",null,"00:00:00",0,null,0,0,null," "," "," "," "," ",1.6950177771234253E-3," "]
["","","","","","","","","","","","","","","","","",null,"","","",null,"","",null,"","","","",null,0,"","",0,"","",null,"00:00:00",0,null,0,0,null," "," "," "," "," ",1.6950177771234253E-3," "]
["","","","","","","","","","","","","","","","","",null,"","","",null,"","",null,"","","","",null,0,"","",0,"","",null,"00:00:00",0,null,0,0,null," "," "," "," "," ",1.6950177771234253E-3," "]
["","","","","","","","","","","","","","","","","",null,"","","",null,"","",null,"","","","",null,0,"","",0,"","",null,"00:00:00",0,null,0,0,null," "," "," "," "," ",1.6950177771234253E-3," "]
["","","","","","","","","","","","","","","","","",null,"","","",null,"","",null,"","","","",null,0,"","",0,"","",null,"00:00:00",0,null,0,0,null," "," "," "," "," ",1.6950177771234253E-3," "]
["","","","","","","","","","","","","","","","","",null,"","","",null,"","",null,"","","","",null,0,"","",0,"","",null,"00:00:00",0,null,0,0,null," "," "," "," "," ",1.6950177771234253E-3," "]
["","","","","","","","","","","","","","","","","",null,"","","",null,"","",null,"","","","",null,0,"","",0,"","",null,"00:00:00",0,null,0,0,null," "," "," "," "," ",1.6950177771234253E-3," "]
["","","","","","","","","","","","","","","","","",null,"","","",null,"","",null,"","","","",null,0,"","",0,"","",null,"00:00:00",0,null,0,0,null," "," "," "," "," ",1.6950177771234253E-3," "]
["","","","","","","","","","","","","","","","","",null,"","","",null,"","",null,"","","","",null,0,"","",0,"","",null,"00:00:00",0,null,0,0,null," "," "," "," "," ",1.6950177771234253E-3," "]
["","","","","","","","","","","","","","","","","",null,"","","",null,"","",null,"","","","",null,0,"","",0,"","",null,"00:00:00",0,null,0,0,null," "," "," "," "," ",1.6950177771234253E-3," "]
["","","","","","","","","","","","","","","","","",null,"","","",null,"","",null,"","","","",null,0,"","",0,"","",null,"00:00:00",0,null,0,0,null," "," "," "," "," ",1.6950177771234253E-3," "]
["","","","","","","","","","","","","","","","","",null,"","","",null,"","",null,"","","","",null,0,"","",0,"","",null,"00:00:00",0,null,0,0,null," "," "," "," "," ",1.6950177771234253E-3," "]
["","","","","","","","","","","","","","","","","",null,"","","",null,"","",null,"","","","",null,0,"","",0,"","",null,"00:00:00",0,null,0,0,null," "," "," "," "," ",1.6950177771234253E-3," "]
["","","","","","","","","","","","","","","","","",null,"","","",null,"","",null,"","","","",null,0,"","",0,"","",null,"00:00:00",0,null,0,0,null," "," "," "," "," ",1.6950177771234253E-3," "]
["","","","","","","","","","","","","","","","","",null,"","","",null,"","",null,"","","","",null,0,"","",0,"","",null,"00:00:00",0,null,0,0,null," "," "," "," "," ",1.6950177771234253E-3," "]
["","","","","","","","","","","","","","","","","",null,"","","",null,"","",null,"","","","",null,0,"","",0,"","",null,"00:00:00",0,null,0,0,null," "," "," "," "," ",1.6950177771234253E-3," "]
["","","","","","","","","","","","","","","","","",null,"","","",null,"","",null,"","","","",null,0,"","",0,"","",null,"00:00:00",0,null,0,0,null," "," "," "," "," ",1.6950177771234253E-3," "]
["","","","","","","","","","","","","","","","","",null,"","","",null,"","",null,"","","","",null,0,"","",0,"","",null,"00:00:00",0,null,0,0,null," "," "," "," "," ",1.6950177771234253E-3," "]
["","","","","","","","","","","","","","","","","",null,"","","",null,"","",null,"","","","",null,0,"","",0,"","",null,"00:00:00",0,null,0,0,null," "," "," "," "," ",1.6950177771234253E-3," "]
["","","","","","","","","","","","","","","","","",null,"","","",null,"","",null,"","","","",null,0,"","",0,"","",null,"00:00:00",0,null,0,0,null," "," "," "," "," ",1.6950177771234253E-3," "]
["","","","","","","","","","","","","","","","","",null,"","","",null,"","",null,"","","","",null,0,"","",0,"","",null,"00:00:00",0,null,0,0,null," "," "," "," "," ",1.6950177771234253E-3," "]
["","","","","","","","","","","","","","","","","",null,"","","",null,"","",null,"","","","",null,0,"","",0,"","",null,"00:00:00",0,null,0,0,null," "," "," "," "," ",1.6950177771234253E-3," "]
["","","","","","","","","","","","","","","","","",null,"","","",null,"","",null,"","","","",null,0,"","",0,"","",null,"00:00:00",0,null,0,0,null," "," "," "," "," ",1.6950177771234253E-3," "]
["","","","","","","","","","","","","","","","","",null,"","","",null,"","",null,"","","","",null,0,"","",0,"","",null,"00:00:00",0,null,0,0,null," "," "," "," "," ",1.6950177771234253E-3," "]
["","","","","","","","","","","","","","","","","",null,"","","",null,"","",null,"","","","",null,0,"","",0,"","",null,"00:00:00",0,null,0,0,null," "," "," "," "," ",1.6950177771234253E-3," "]
["","","","","","","","","","","","","","","","","",null,"","","",null,"","",null,"","","","",null,0,"","",0,"","",null,"00:00:00",0,null,0,0,null," "," "," "," "," ",1.6950177771234253E-3," "]
["","","","","","","","","","","","","","","","","",null,"","","",null,"","",null,"","","","",null,0,"","",0,"","",null,"00:00:00",0,null,0,0,null," "," "," "," "," ",1.6950177771234253E-3," "]
["","","","","","","","","","","","","","","","","",null,"","","",null,"","",null,"","","","",null,0,"","",0,"","",null,"00:00:00",0,null,0,0,null," "," "," "," "," ",1.6950177771234253E-3," "]
["","","","","","","","","","","","","","","","","",null,"","","",null,"","",null,"","","","",null,0,"","",0,"","",null,"00:00:00",0,null,0,0,null," "," "," "," "," ",1.6950177771234253E-3," "]
["","","",{"$f":"IF(B226=\"\",\"\",IF(OR(MONTH(C226)=$H$19,MONTH(C226)=$H$20),\"D\",\"\"))","v":""},"","","","","","",{"$f":"IF(B226=\"\",\"\",IF((IF(ISERROR(MATCH(MONTH(C226),$H$19:$H$20,0))=FALSE,$J$24 + $Q$30,0) + $J$24+$Q$30+$S$27)-L226<0,0.01,IF(ISERROR(MATCH(MONTH(C226),$H$19:$H$20,0))=FALSE,$J$24 + $Q$30,0)+ ($J$24+$Q$30+$S$27)-L226)- R226 -S226-Q226-Y226-V226)","v":""},{"$f":"IF(B226=\"\",\"\",IF($J$24+$Q$30<ROUND(ROUND(J226*(((1+(H226/100))^(I226/G226))-1),4),2),$J$24+$Q$30 +-0.01,IF(ROUND(ROUND(J226*(((1+(H226/100))^(I226/G226))-1),4),2)>$J$24,$J$24+ -0.01,ROUND(ROUND(J226*(((1+(H226/100))^(I226/G226))-1),4),2))))","v":""},{"$f":"IF(B226=\"\",\"\",IF(ISERROR(MATCH(MONTH(C226),$H$19:$H$20,0))=FALSE,$J$23,0)  + $J$23)","v":""},{"$f":"IF(B226=\"\",\"\",L226+M226)","v":""},{"$f":"IF(B226=\"\",\"\",K226+N226)","v":""},{"$f":"IF(B226=\"\",\"\",$J$27)","v":""},"",null,"","",{"$f":"IF(B226=\"\",\"\",$J$28)","v":""},null,{"$f":"IF(B226=\"\",\"\",U226+V226)","v":""},"",null,{"$f":"IF(B226=\"\",\"\",X226+Y226)","v":""},{"$f":"IF(B226=\"\",\"\",O226+P226+Q226+R226+S226+W226+Z226+IF(D226=\"D\",X226+U226,0))","v":""},{"$f":"IF(B226=\"\",\"\",(ROUND(J226-K226,2)))","v":""},{"$f":"IF(B226=\"\",\"\",IF(ROUND(ROUND(J226*(((1+(H226/100))^(I226/G226))-1),4),2) - $J$24<0,0,ROUND(ROUND(J226*(((1+(H226/100))^(I226/G226))-1),4),2) - $J$24))","v":""},null,{"$f":"SUM(K226:M226)","v":0},{"$f":"+L226","v":""},{"$f":"+Q226","v":""},{"$f":"+R226","v":0},{"$f":"+S226","v":""},{"$f":"IFERROR(AF226+K226 + P226 + W226+AG226 + M226 + AH226 + AI226+Z226+IF(D226=\"D\",X226+U226,0),\"\")","v":""},null,{"$f":"+IF(C226=\"\",0,C226)","v":"00:00:00"},0,null,0,{"$f":"+IFERROR(AF226-L226,0)","v":0},null," "," "," "," "," ",{"$f":"IF(D226=\"D\",$K$23,0)+ $K$23","v":1.6950177771234253E-3}," "]
[{"$f":"+IF(A226>=$H$15,\"\",A226+1)","v":""},{"$f":"IF(A227=\"\",\"\",IF(A227<=$H$22,0,1))","v":""},{"$f":"IF(B227=\"\",\"\",IF(OR(MONTH(EDATE($Q$6,E227))=$H$17,MONTH(EDATE($Q$6,E227))=$H$18),IF(ABS($H$18-$H$17)=1,EDATE($Q$6,E227+2),EDATE($Q$6,E227+1)),EDATE($Q$6,E227)))","v":""},"",{"$f":"+IF(B227=\"\",\"\",IF(OR(MONTH(DATE(YEAR(C226)+0.0833333333333333,MONTH(C226)+1,DAY(C226)))=$H$17,MONTH(DATE(YEAR(C226)+0.5,MONTH(C226)+1,DAY(C226)))=$H$18),IF(ABS($H$18-$H$17)=1,E226+1,E226+2),E226+1))","v":""},"","",{"$f":"IF(B227=\"\",\"\",$H$10)","v":""},"",{"$f":"IF(B227=\"\",\"\",AB226)","v":""},"","","","","","","",null,"",{"$f":"IF(B227=\"\",\"\",Q227+R227+S227)","v":""},"",null,"",{"$f":"IF(B227=\"\",\"\",IF($I$12=\"Sí\",$J$29,0))","v":""},null,"","","","",null,0,"","",0,"","",null,"00:00:00",0,null,{"$f":"+IFERROR(AJ227-AA227,0)","v":0},0,null," "," "," "," "," ",1.6950177771234253E-3," "]
["","","","","",{"$f":"+IF(B228=\"\",\"\",F227+1)","v":""},{"$f":"IF(B228=\"\",\"\",$Q$9)","v":""},"",{"$f":"IF(B228=\"\",\"\",C228-C227)","v":""},"","","","","","","",{"$f":"IF(B228=\"\",\"\",ROUND($H$9*J228/30*$I228,2)-S228)","v":""},null,{"$f":"IF(B228=\"\",\"\",IF(E228-E227>1,ROUNDDOWN($J228*$H$9/30*(DATE(YEAR($C228),MONTH($C228)-1,DAY($C228))-C227),2),0))","v":""},"","",null,"","",null,"","","","",null,0,"","",0,"","",null,"00:00:00",0,null,0,0,null," "," ",{"$f":"AX227","v":" "}," "," ",1.6950177771234253E-3," "]
["","","","","","","","","","","","","","","","","",null,"","","",null,"","",null,"","","","",null,0,"","",0,"","",null,"00:00:00",0,null,0,0,null,{"$f":"IFERROR(I229 + AR228,\" \")","v":" "}," "," "," "," ",1.6950177771234253E-3," "]
["","","","","","","","","","","","","","","","","",null,"","","",null,"","",null,"","","","",null,0,"","",0,"","",null,"00:00:00",0,null,0,0,null," ",{"$f":"IFERROR((1/((1+($J$8/100))^(AR230/$Q$9))*1) * IF(D230=\"D\",2,1),\" \")","v":" "}," "," "," ",1.6950177771234253E-3," "]
["","","","","","","","","","","","","","","","","",null,"","","",null,"","",null,"","","","",null,0,"","",0,"","",null,"00:00:00",0,null,0,0,null," "," "," "," "," ",1.6950177771234253E-3," "]
["","","","","","","","","","","","","","","","","",null,"","","",null,"","",null,"","","","",null,0,"","",0,"","",null,"00:00:00",0,null,0,0,null," "," "," "," ",{"$f":"IFERROR((((1+($J$8/100))^((K232)/$Q$9))-1)*AT232,\" \")","v":" "},1.6950177771234253E-3," "]
["","","","","","","","","","","","","","","","","",null,"","","",null,"","",null,"","","","",null,0,"","",0,"","",null,"00:00:00",0,null,0,0,null," "," "," "," "," ",1.6950177771234253E-3," "]
["","","","","","","","","","","","","","","","","",null,"","","",null,"","",null,"","","","",null,0,"","",0,"","",null,"00:00:00",0,null,0,0,null," "," "," "," "," ",1.6950177771234253E-3," "]
["","","","","","","","","","","","","","","","","",null,"","","",null,"","",null,"","","","",null,0,"","",0,"","",null,"00:00:00",0,null,0,0,null," "," "," "," "," ",1.6950177771234253E-3," "]
["","","","","","","","","","","","","","","","","",null,"","","",null,"","",null,"","","","",null,0,"","",0,"","",null,"00:00:00",0,null,0,0,null," "," "," "," "," ",1.6950177771234253E-3," "]
["","","","","","","","","","","","","","","","","",null,"","","",null,"","",null,"","","","",null,0,"","",0,"","",null,"00:00:00",0,null,0,0,null," "," "," "," "," ",1.6950177771234253E-3," "]
["","","","","","","","","","","","","","","","","",null,"","","",null,"","",null,"","","","",null,0,"","",0,"","",null,"00:00:00",0,null,0,0,null," "," "," "," "," ",1.6950177771234253E-3," "]
["","","","","","","","","","","","","","","","","",null,"","","",null,"","",null,"","","","",null,0,"","",0,"","",null,"00:00:00",{"$f":"+IF(AJ239=\"\",0,AJ239)","v":0},null,0,0,null," "," "," ",{"$f":"IFERROR(AW239-AV239,\" \")","v":" "}," ",1.6950177771234253E-3,{"$f":"IFERROR(AT239-AU239,\" \")","v":" "}]
["","","","","","","","","","","","","","","","","",null,"","","",null,"","",null,"","","","",null,0,"","",0,"","",null,"00:00:00",0,null,0,0,null," "," "," "," "," ",1.6950177771234253E-3," "]
["","","","","","","","","","","","","","","","","",null,"","","",null,"","",null,"","","","",null,0,"","",0,"","",null,"00:00:00",0,null,0,0,null," "," "," "," "," ",1.6950177771234253E-3," "]
["","","","","","","","","","","","","","","","","",null,"","","",null,"","",null,"","","","",null,0,"","",0,"","",null,"00:00:00",0,null,0,0,null," "," "," "," "," ",1.6950177771234253E-3," "]
["","","","","","","","","","","","","","","","","",null,"","","",null,"","",null,"","","","",null,0,"","",0,"","",null,"00:00:00",0,null,0,0,null," "," "," "," "," ",1.6950177771234253E-3," "]
["","","","","","","","","","","","","","","","","",null,"","","",null,"","",null,"","","","",null,0,"","",0,"","",null,"00:00:00",0,null,0,0,null," "," "," "," "," ",1.6950177771234253E-3," "]
["","","","","","","","","","","","","","","","","",null,"","","",null,"","",null,"","","","",null,0,"","",0,"","",null,"00:00:00",0,null,0,0,null," "," "," "," "," ",1.6950177771234253E-3," "]
["","","","","","","","","","","","","","","","","",null,"","","",null,"","",null,"","","","",null,0,"","",0,"","",null,"00:00:00",0,null,0,0,null," "," "," "," "," ",1.6950177771234253E-3," "]
["","","","","","","","","","","","","","","","","",null,"","","",null,"","",null,"","","","",null,0,"","",0,"","",null,"00:00:00",0,null,0,0,null," "," "," "," "," ",1.6950177771234253E-3," "]
["","","","","","","","","","","","","","","","","",null,"","","",null,"","",null,"","","","",null,0,"","",0,"","",null,"00:00:00",0,null,0,0,null," "," "," "," "," ",1.6950177771234253E-3," "]
["","","","","","","","","","","","","","","","","",null,"","","",null,"","",null,"","","","",null,0,"","",0,"","",null,"00:00:00",0,null,0,0,null," "," "," "," "," ",1.6950177771234253E-3," "]
["","","","","","","","","","","","","","","","","",null,"","","",null,"","",null,"","","","",null,0,"","",0,"","",null,"00:00:00",0,null,0,0,null," "," "," "," "," ",1.6950177771234253E-3," "]
["","","","","","","","","","","","","","","","","",null,"","","",null,"","",null,"","","","",null,0,"","",0,"","",null,"00:00:00",0,null,0,0,null," "," "," "," "," ",1.6950177771234253E-3," "]
["","","","","","","","","","","","","","","","","",null,"","","",null,"","",null,"","","","",null,0,"","",0,"","",null,"00:00:00",0,null,0,0,null," "," "," "," "," ",1.6950177771234253E-3," "]
["","","","","","","","","","","","","","","","","",null,"","","",null,"","",null,"","","","",null,0,"","",0,"","",null,"00:00:00",0,null,0,0,null," "," "," "," "," ",1.6950177771234253E-3," "]
["","","","","","","","","","","","","","","","","",null,"","","",null,"","",null,"","","","",null,0,"","",0,"","",null,"00:00:00",0,null,0,0,null," "," "," "," "," ",1.6950177771234253E-3," "]
["","","","","","","","","","","","","","","","","",null,"","","",null,"","",null,"","","","",null,0,"","",0,"","",null,"00:00:00",0,null,0,0,null," "," "," "," "," ",1.6950177771234253E-3," "]
["","","","","","","","","","","","","","","","","",null,"","","",null,"","",null,"","","","",null,0,"","",0,"","",null,"00:00:00",0,null,0,0,null," "," "," "," "," ",1.6950177771234253E-3," "]
["","","","","","","","","","","","","","","","","",null,"","","",null,"","",null,"","","","",null,0,"","",0,"","",null,"00:00:00",0,null,0,0,null," "," "," "," "," ",1.6950177771234253E-3," "]
["","","","","","","","","","","","","","","","","",null,"","","",null,"","",null,"","","","",null,0,"","",0,"","",null,"00:00:00",0,null,0,0,null," "," "," "," "," ",1.6950177771234253E-3," "]
["","","","","","","","","","","","","","","","","",null,"","","",null,"","",null,"","","","",null,0,"","",0,"","",null,"00:00:00",0,null,0,0,null," "," "," "," "," ",1.6950177771234253E-3," "]
["","","","","","","","","","","","","","","","","",null,"","","",null,"","",null,"","","","",null,0,"","",0,"","",null,"00:00:00",0,null,0,0,null," "," "," "," "," ",1.6950177771234253E-3," "]
["","","","","","","","","","","","","","","","","",null,"","","",null,"","",null,"","","","",null,0,"","",0,"","",null,"00:00:00",0,null,0,0,null," "," "," "," "," ",1.6950177771234253E-3," "]
["","","","","","","","","","","","","","","","","",null,"","","",null,"","",null,"","","","",null,0,"","",0,"","",null,"00:00:00",0,null,0,0,null," "," "," "," "," ",1.6950177771234253E-3," "]
["","","","","","","","","","","","","","","","","",null,"","","",null,"","",null,"","","","",null,0,"","",0,"","",null,"00:00:00",0,null,0,0,null," "," "," "," "," ",1.6950177771234253E-3," "]
["","","","","","","","","","","","","","","","","",null,"","","",null,"","",null,"","","","",null,0,"","",0,"","",null,"00:00:00",0,null,0,0,null," "," "," "," "," ",1.6950177771234253E-3," "]
["","","","","","","","","","","","","","","","","",null,"","","",null,"","",null,"","","","",null,0,"","",0,"","",null,"00:00:00",0,null,0,0,null," "," "," "," "," ",1.6950177771234253E-3," "]
["","","","","","","","","","","","","","","","","",null,"","","",null,"","",null,"","","","",null,0,"","",0,"","",null,"00:00:00",0,null,0,0,null," "," "," "," "," ",1.6950177771234253E-3," "]
["","","","","","","","","","","","","","","","","",null,"","","",null,"","",null,"","","","",null,0,"","",0,"","",null,"00:00:00",0,null,0,0,null," "," "," "," "," ",1.6950177771234253E-3," "]
["","","","","","","","","","","","","","","","","",null,"","","",null,"","",null,"","","","",null,0,"","",0,"","",null,"00:00:00",0,null,0,0,null," "," "," "," "," ",1.6950177771234253E-3," "]
["","","","","","","","","","","","","","","","","",null,"","","",null,"","",null,"","","","",null,0,"","",0,"","",null,"00:00:00",0,null,0,0,null," "," "," "," "," ",1.6950177771234253E-3," "]
["","","","","","","","","","","","","","","","","",null,"","","",null,"","",null,"","","","",null,0,"","",0,"","",null,"00:00:00",0,null,0,0,null," "," "," "," "," ",1.6950177771234253E-3," "]
["","","","","","","","","","","","","","","","","",null,"","","",null,"","",null,"","","","",null,0,"","",0,"","",null,"00:00:00",0,null,0,0,null," "," "," "," "," ",1.6950177771234253E-3," "]
["","","","","","","","","","","","","","","","","",null,"","","",null,"","",null,"","","","",null,0,"","",0,"","",null,"00:00:00",0,null,0,0,null," "," "," "," "," ",1.6950177771234253E-3," "]
["","","","","","","","","","","","","","","","","",null,"","","",null,"","",null,"","","","",null,0,"","",0,"","",null,"00:00:00",0,null,0,0,null," "," "," "," "," ",1.6950177771234253E-3," "]
[null,null,{"$f":"IF(B274=\"\",\"\",IF(OR(MONTH(EDATE($Q$6,E274))=$H$17,MONTH(EDATE($Q$6,E274))=$H$18),IF(ABS($H$18-$H$17)=1,EDATE($Q$6,E274+2),EDATE($Q$6,E274+1)),EDATE($Q$6,E274)))","v":""},{"$f":"IF(B274=\"\",\"\",IF(OR(MONTH(C274)=$H$19,MONTH(C274)=$H$20),\"D\",\"\"))","v":""},{"$f":"+IF(B274=\"\",\"\",IF(OR(MONTH(DATE(YEAR(C273)+0.0833333333333333,MONTH(C273)+1,DAY(C273)))=$H$17,MONTH(DATE(YEAR(C273)+0.5,MONTH(C273)+1,DAY(C273)))=$H$18),IF(ABS($H$18-$H$17)=1,E273+1,E273+2),E273+1))","v":""},{"$f":"+IF(B274=\"\",\"\",F273+1)","v":""},{"$f":"IF(B274=\"\",\"\",$Q$9)","v":""},{"$f":"IF(B274=\"\",\"\",$H$10)","v":""},{"$f":"IF(B274=\"\",\"\",C274-C273)","v":""},{"$f":"IF(B274=\"\",\"\",AB273)","v":""},{"$f":"IF(B274=\"\",\"\",IF((IF(ISERROR(MATCH(MONTH(C274),$H$19:$H$20,0))=FALSE,$J$24 + $Q$30,0) + $J$24+$Q$30+$S$27)-L274<0,0.01,IF(ISERROR(MATCH(MONTH(C274),$H$19:$H$20,0))=FALSE,$J$24 + $Q$30,0)+ ($J$24+$Q$30+$S$27)-L274)- R274 -S274-Q274-Y274-V274)","v":""},{"$f":"IF(B274=\"\",\"\",IF($J$24+$Q$30<ROUND(ROUND(J274*(((1+(H274/100))^(I274/G274))-1),4),2),$J$24+$Q$30 +-0.01,IF(ROUND(ROUND(J274*(((1+(H274/100))^(I274/G274))-1),4),2)>$J$24,$J$24+ -0.01,ROUND(ROUND(J274*(((1+(H274/100))^(I274/G274))-1),4),2))))","v":""},{"$f":"IF(B274=\"\",\"\",IF(ISERROR(MATCH(MONTH(C274),$H$19:$H$20,0))=FALSE,$J$23,0)  + $J$23)","v":""},{"$f":"IF(B274=\"\",\"\",L274+M274)","v":""},{"$f":"IF(B274=\"\",\"\",K274+N274)","v":""},{"$f":"IF(B274=\"\",\"\",$J$27)","v":""},{"$f":"IF(B274=\"\",\"\",ROUND($H$9*J274/30*$I274,2)-S274)","v":""},null,{"$f":"IF(B274=\"\",\"\",IF(E274-E273>1,ROUNDDOWN($J274*$H$9/30*(DATE(YEAR($C274),MONTH($C274)-1,DAY($C274))-C273),2),0))","v":""},{"$f":"IF(B274=\"\",\"\",Q274+R274+S274)","v":""},{"$f":"IF(B274=\"\",\"\",$J$28)","v":""},null,{"$f":"IF(B274=\"\",\"\",U274+V274)","v":""},{"$f":"IF(B274=\"\",\"\",IF($I$12=\"Sí\",$J$29,0))","v":""},null,{"$f":"IF(B274=\"\",\"\",X274+Y274)","v":""},{"$f":"IF(B274=\"\",\"\",O274+P274+Q274+R274+S274+W274+Z274+IF(D274=\"D\",X274+U274,0))","v":""},{"$f":"IF(B274=\"\",\"\",(ROUND(J274-K274,2)))","v":""},{"$f":"IF(B274=\"\",\"\",IF(ROUND(ROUND(J274*(((1+(H274/100))^(I274/G274))-1),4),2) - $J$24<0,0,ROUND(ROUND(J274*(((1+(H274/100))^(I274/G274))-1),4),2) - $J$24))","v":""},null,{"$f":"SUM(K274:M274)","v":0},{"$f":"+L274","v":""},{"$f":"+Q274","v":""},{"$f":"+R274","v":0},{"$f":"+S274","v":""},{"$f":"IFERROR(AF274+K274 + P274 + W274+AG274 + M274 + AH274 + AI274+Z274+IF(D274=\"D\",X274+U274,0),\"\")","v":""},null,{"$f":"+IF(C274=\"\",0,C274)","v":"00:00:00"},{"$f":"+IF(AJ274=\"\",0,AJ274)","v":0},null,{"$f":"+IFERROR(AJ274-AA274,0)","v":0},{"$f":"+IFERROR(AF274-L274,0)","v":0},null,{"$f":"IFERROR(I274 + AR273,\" \")","v":" "},{"$f":"IFERROR((1/((1+($J$8/100))^(AR274/$Q$9))*1) * IF(D274=\"D\",2,1),\" \")","v":" "},{"$f":"AX273","v":" "},{"$f":"IFERROR(AW274-AV274,\" \")","v":" "},{"$f":"IFERROR((((1+($J$8/100))^((K274)/$Q$9))-1)*AT274,\" \")","v":" "},{"$f":"IF(D274=\"D\",$K$23,0)+ $K$23","v":1.6950177771234253E-3},{"$f":"IFERROR(AT274-AU274,\" \")","v":" "}]
[null,null,"Totales",null,null,null,null,null,null,null,{"$f":"+SUM(K34:K273)","v":807060.12000000034},{"$f":"+SUM(L34:L273)","v":923044.16},{"$f":"+SUM(M34:M273)","v":17966.171999999999},{"$f":"+SUM(N34:N273)","v":941010.33199999994},1748070.452000001,{"$f":"+SUM(P34:P273)","v":0},{"$f":"+SUM(Q34:Q273)","v":179427.20000000001},{"$f":"+SUM(R34:R273)","v":3488.33},null,{"$f":"+SUM(T34:T273)","v":182915.53000000003},{"$f":"+SUM(U34:U273)","v":14682.360000000032},203.91,{"$f":"+SUM(W34:W273)","v":14886.270000000033},{"$f":"+SUM(X34:X273)","v":58800},816.66,59616.66,{"$f":"+SUM(AA34:AA273)","v":2005488.9120000012},null,{"$f":"+SUM(AC34:AC273)","v":0},0,1748070.4520000012,923044.16,179427.20000000001,null,null,{"$f":"+SUM(AJ34:AJ273)","v":2005488.9120000012},null,null,null,null,{"$f":"+AJ275-AA275","v":0},{"$f":"+AF275-L275","v":0}]

{"sheet":"Cronograma_Referencial (2)","index":4,"n_rows":93,"n_cols":10,"rows_kept":93,"cut":false,"hidden":true,"merged":[[4,1,4,9],[5,1,5,9],[8,1,8,2],[8,5,8,6],[9,1,9,2],[9,5,9,6],[13,5,13,6],[10,1,10,2],[10,5,10,6],[11,1,11,2],[11,5,11,6],[12,1,12,2],[12,5,12,6]]}
["Simulador12345"]
[]
[]
[]
[null,"(SIMULACIÓN)"]
[null,"CRONOGRAMA DE PAGOS"]
[]
[]
[null,"Moneda                                                  :",null,{"$f":"+Simulador_Cliente!C7","v":"Soles"},null,"Monto del Préstamo                                                  :",null,{"$f":"+Simulador_Cliente!C9","v":1000000}]
[null,"Producto                                                :",null,{"$f":"+Simulador_Cliente!C8","v":"Capital de Trabajo PYME"},null,"Tasa Efectiva Anual                                                  :",null,{"$f":"+Simulador_Cliente!C12&\"%\"","v":"20.1%"}]
[null,"Fecha de desembolso                          :",null,{"$f":"+Simulador_Cliente!C10","v":"2022-07-17"},null,"Tasa de Costo Efectiva Anual                                   :",null,{"$f":"+((1+I11)^12)-1","v":{"$error":"#VALUE!"}},{"$f":"+RATE(D12,J18,-H9-I12)","v":{"$error":"#VALUE!"}}]
[null,"Plazo (en meses)                                                          :",null,{"$f":"+Simulador_Cliente!C11","v":84},null,"Tasa Seguro de Desgravamen Mensual                   :",null,{"$f":"+IF(Simulador_Cliente!C14=\"Endoso\",0,0.083%)","v":8.3000000000000001E-4},{"$f":"+#REF!","v":{"$error":"#REF!"}}]
[null,"Periodo de gracia                                 :",null,{"$f":"+Simulador_Cliente!C13&\" \"& \"días\"","v":"35 días"},null,"Tasa Seguro de Seguro Multiriesgo                         :",null,{"$f":"+IF(Simulador_Cliente!C16=\"No\",0,0.07%)","v":7.000000000000001E-4}]
[null,null,null,null,null,"Tasa Seguro Todo Riesgo                                        :",null,{"$f":"+IF(Simulador_Cliente!C17=\"No\",0,0.0292%)","v":2.92E-4}]
[]
[]
[null,"N°","Fecha Vencimiento","Capital","Interes","Interes de Gracia","Seguro Desgravamen","Seguro Multiriesgos","Seguro Todo Riesgo","Total Cuota"]
[null,1,{"$f":"IFERROR(+IF(B18>0,VLOOKUP(B18,#REF!,3,0),\" \"),\" \")","v":" "},{"$f":"IFERROR(+IF(B18>0,VLOOKUP(B18,#REF!,13,0),\" \"),\" \")","v":" "},{"$f":"IFERROR(+IF(B18>0,VLOOKUP(B18,Simulador_v2!$A$33:$AJ$273,12,0),\" \"),\" \")","v":15379.95},{"$f":"IFERROR(+IF(B18>0,VLOOKUP(B18,#REF!,15,0),\" \"),\" \")","v":" "},{"$f":"IFERROR(+IF(B18>0,VLOOKUP(B18,Simulador_v2!$A$33:$AJ$273,20,0),\" \"),\" \")","v":6478.33},{"$f":"IFERROR(+IF(B18>0,VLOOKUP(B18,#REF!,20,0),\" \"),\" \")","v":" "},{"$f":"IFERROR(+IF(B18>0,VLOOKUP(B18,#REF!,22,0),\" \"),\" \")","v":" "},{"$f":"IFERROR(+IF(B18>0,VLOOKUP(B18,#REF!,23,0),\" \"),\" \")","v":" "}]
[null,{"$f":"IF(B18=0,\" \",IF(B18>=$D$12,\"\",B18+1))","v":2},{"$f":"IF($D$12=0,\" \",IF(B18=$D$12,\"TOTALES\",+IF(B19>0,VLOOKUP(B19,#REF!,3,0),\" \")))","v":{"$error":"#REF!"}},{"$f":"IF($D$12=0,\" \",IF(B18=$D$12,#REF!,+IF(B19>0,VLOOKUP(B19,#REF!,13,0),\" \")))","v":{"$error":"#REF!"}},{"$f":"IF($D$12=0,\" \",IF(B18=$D$12,#REF!,+IF(B19>0,VLOOKUP(B19,#REF!,14,0),\" \")))","v":{"$error":"#REF!"}},{"$f":"IF($D$12=0,\" \",IF(B18=$D$12,#REF!,+IF(B19>0,VLOOKUP(B19,#REF!,15,0),\" \")))","v":{"$error":"#REF!"}},{"$f":"IF($D$12=0,\" \",IF(B18=$D$12,Simulador_v2!$T$32,+IF(B19>0,VLOOKUP(B19,Simulador_v2!$A$33:$AJ$273,20,0),\" \")))","v":3089.95},{"$f":"IF($D$12=0,\" \",IF(B18=$D$12,#REF!,+IF(B19>0,VLOOKUP(B19,#REF!,20,0),\" \")))","v":{"$error":"#REF!"}},{"$f":"IF($D$12=0,\" \",IF(B18=$D$12,#REF!,+IF(B19>0,VLOOKUP(B19,#REF!,22,0),\" \")))","v":{"$error":"#REF!"}},{"$f":"IF($D$12=0,\" \",IF(B18=$D$12,#REF!,+IF(B19>0,VLOOKUP(B19,#REF!,23,0),\" \")))","v":{"$error":"#REF!"}}]
[null,3,{"$f":"IF($D$12=0,\" \",IF(B19=$D$12,\"TOTALES\",+IF(B20>0,VLOOKUP(B20,#REF!,3,0),\" \")))","v":{"$error":"#REF!"}},{"$f":"IF($D$12=0,\" \",IF(B19=$D$12,#REF!,+IF(B20>0,VLOOKUP(B20,#REF!,13,0),\" \")))","v":{"$error":"#REF!"}},{"$f":"IF($D$12=0,\" \",IF(B19=$D$12,#REF!,+IF(B20>0,VLOOKUP(B20,#REF!,14,0),\" \")))","v":{"$error":"#REF!"}},{"$f":"IF($D$12=0,\" \",IF(B19=$D$12,#REF!,+IF(B20>0,VLOOKUP(B20,#REF!,15,0),\" \")))","v":{"$error":"#REF!"}},{"$f":"IF($D$12=0,\" \",IF(B19=$D$12,Simulador_v2!$T$32,+IF(B20>0,VLOOKUP(B20,Simulador_v2!$A$33:$AJ$273,20,0),\" \")))","v":2978.92},{"$f":"IF($D$12=0,\" \",IF(B19=$D$12,#REF!,+IF(B20>0,VLOOKUP(B20,#REF!,20,0),\" \")))","v":{"$error":"#REF!"}},{"$f":"IF($D$12=0,\" \",IF(B19=$D$12,#REF!,+IF(B20>0,VLOOKUP(B20,#REF!,22,0),\" \")))","v":{"$error":"#REF!"}},{"$f":"IF($D$12=0,\" \",IF(B19=$D$12,#REF!,+IF(B20>0,VLOOKUP(B20,#REF!,23,0),\" \")))","v":{"$error":"#REF!"}}]
[null,4,{"$f":"IF($D$12=0,\" \",IF(B20=$D$12,\"TOTALES\",+IF(B21>0,VLOOKUP(B21,#REF!,3,0),\" \")))","v":{"$error":"#REF!"}},{"$f":"IF($D$12=0,\" \",IF(B20=$D$12,#REF!,+IF(B21>0,VLOOKUP(B21,#REF!,13,0),\" \")))","v":{"$error":"#REF!"}},{"$f":"IF($D$12=0,\" \",IF(B20=$D$12,#REF!,+IF(B21>0,VLOOKUP(B21,#REF!,14,0),\" \")))","v":{"$error":"#REF!"}},{"$f":"IF($D$12=0,\" \",IF(B20=$D$12,#REF!,+IF(B21>0,VLOOKUP(B21,#REF!,15,0),\" \")))","v":{"$error":"#REF!"}},{"$f":"IF($D$12=0,\" \",IF(B20=$D$12,Simulador_v2!$T$32,+IF(B21>0,VLOOKUP(B21,Simulador_v2!$A$33:$AJ$273,20,0),\" \")))","v":3064.36},{"$f":"IF($D$12=0,\" \",IF(B20=$D$12,#REF!,+IF(B21>0,VLOOKUP(B21,#REF!,20,0),\" \")))","v":{"$error":"#REF!"}},{"$f":"IF($D$12=0,\" \",IF(B20=$D$12,#REF!,+IF(B21>0,VLOOKUP(B21,#REF!,22,0),\" \")))","v":{"$error":"#REF!"}},{"$f":"IF($D$12=0,\" \",IF(B20=$D$12,#REF!,+IF(B21>0,VLOOKUP(B21,#REF!,23,0),\" \")))","v":{"$error":"#REF!"}}]
[null,5,{"$f":"IF($D$12=0,\" \",IF(B21=$D$12,\"TOTALES\",+IF(B22>0,VLOOKUP(B22,#REF!,3,0),\" \")))","v":{"$error":"#REF!"}},{"$f":"IF($D$12=0,\" \",IF(B21=$D$12,#REF!,+IF(B22>0,VLOOKUP(B22,#REF!,13,0),\" \")))","v":{"$error":"#REF!"}},{"$f":"IF($D$12=0,\" \",IF(B21=$D$12,#REF!,+IF(B22>0,VLOOKUP(B22,#REF!,14,0),\" \")))","v":{"$error":"#REF!"}},{"$f":"IF($D$12=0,\" \",IF(B21=$D$12,#REF!,+IF(B22>0,VLOOKUP(B22,#REF!,15,0),\" \")))","v":{"$error":"#REF!"}},{"$f":"IF($D$12=0,\" \",IF(B21=$D$12,Simulador_v2!$T$32,+IF(B22>0,VLOOKUP(B22,Simulador_v2!$A$33:$AJ$273,20,0),\" \")))","v":3052.14},{"$f":"IF($D$12=0,\" \",IF(B21=$D$12,#REF!,+IF(B22>0,VLOOKUP(B22,#REF!,20,0),\" \")))","v":{"$error":"#REF!"}},{"$f":"IF($D$12=0,\" \",IF(B21=$D$12,#REF!,+IF(B22>0,VLOOKUP(B22,#REF!,22,0),\" \")))","v":{"$error":"#REF!"}},{"$f":"IF($D$12=0,\" \",IF(B21=$D$12,#REF!,+IF(B22>0,VLOOKUP(B22,#REF!,23,0),\" \")))","v":{"$error":"#REF!"}}]
[null,6,{"$f":"IF($D$12=0,\" \",IF(B22=$D$12,\"TOTALES\",+IF(B23>0,VLOOKUP(B23,#REF!,3,0),\" \")))","v":{"$error":"#REF!"}},{"$f":"IF($D$12=0,\" \",IF(B22=$D$12,#REF!,+IF(B23>0,VLOOKUP(B23,#REF!,13,0),\" \")))","v":{"$error":"#REF!"}},{"$f":"IF($D$12=0,\" \",IF(B22=$D$12,#REF!,+IF(B23>0,VLOOKUP(B23,#REF!,14,0),\" \")))","v":{"$error":"#REF!"}},{"$f":"IF($D$12=0,\" \",IF(B22=$D$12,#REF!,+IF(B23>0,VLOOKUP(B23,#REF!,15,0),\" \")))","v":{"$error":"#REF!"}},{"$f":"IF($D$12=0,\" \",IF(B22=$D$12,Simulador_v2!$T$32,+IF(B23>0,VLOOKUP(B23,Simulador_v2!$A$33:$AJ$273,20,0),\" \")))","v":2745.53},{"$f":"IF($D$12=0,\" \",IF(B22=$D$12,#REF!,+IF(B23>0,VLOOKUP(B23,#REF!,20,0),\" \")))","v":{"$error":"#REF!"}},{"$f":"IF($D$12=0,\" \",IF(B22=$D$12,#REF!,+IF(B23>0,VLOOKUP(B23,#REF!,22,0),\" \")))","v":{"$error":"#REF!"}},{"$f":"IF($D$12=0,\" \",IF(B22=$D$12,#REF!,+IF(B23>0,VLOOKUP(B23,#REF!,23,0),\" \")))","v":{"$error":"#REF!"}}]
[null,7,{"$f":"IF($D$12=0,\" \",IF(B23=$D$12,\"TOTALES\",+IF(B24>0,VLOOKUP(B24,#REF!,3,0),\" \")))","v":{"$error":"#REF!"}},{"$f":"IF($D$12=0,\" \",IF(B23=$D$12,#REF!,+IF(B24>0,VLOOKUP(B24,#REF!,13,0),\" \")))","v":{"$error":"#REF!"}},{"$f":"IF($D$12=0,\" \",IF(B23=$D$12,#REF!,+IF(B24>0,VLOOKUP(B24,#REF!,14,0),\" \")))","v":{"$error":"#REF!"}},{"$f":"IF($D$12=0,\" \",IF(B23=$D$12,#REF!,+IF(B24>0,VLOOKUP(B24,#REF!,15,0),\" \")))","v":{"$error":"#REF!"}},{"$f":"IF($D$12=0,\" \",IF(B23=$D$12,Simulador_v2!$T$32,+IF(B24>0,VLOOKUP(B24,Simulador_v2!$A$33:$AJ$273,20,0),\" \")))","v":3021.38},{"$f":"IF($D$12=0,\" \",IF(B23=$D$12,#REF!,+IF(B24>0,VLOOKUP(B24,#REF!,20,0),\" \")))","v":{"$error":"#REF!"}},{"$f":"IF($D$12=0,\" \",IF(B23=$D$12,#REF!,+IF(B24>0,VLOOKUP(B24,#REF!,22,0),\" \")))","v":{"$error":"#REF!"}},{"$f":"IF($D$12=0,\" \",IF(B23=$D$12,#REF!,+IF(B24>0,VLOOKUP(B24,#REF!,23,0),\" \")))","v":{"$error":"#REF!"}}]
[null,8,{"$f":"IF($D$12=0,\" \",IF(B24=$D$12,\"TOTALES\",+IF(B25>0,VLOOKUP(B25,#REF!,3,0),\" \")))","v":{"$error":"#REF!"}},{"$f":"IF($D$12=0,\" \",IF(B24=$D$12,#REF!,+IF(B25>0,VLOOKUP(B25,#REF!,13,0),\" \")))","v":{"$error":"#REF!"}},{"$f":"IF($D$12=0,\" \",IF(B24=$D$12,#REF!,+IF(B25>0,VLOOKUP(B25,#REF!,14,0),\" \")))","v":{"$error":"#REF!"}},{"$f":"IF($D$12=0,\" \",IF(B24=$D$12,#REF!,+IF(B25>0,VLOOKUP(B25,#REF!,15,0),\" \")))","v":{"$error":"#REF!"}},{"$f":"IF($D$12=0,\" \",IF(B24=$D$12,Simulador_v2!$T$32,+IF(B25>0,VLOOKUP(B25,Simulador_v2!$A$33:$AJ$273,20,0),\" \")))","v":2911.3},{"$f":"IF($D$12=0,\" \",IF(B24=$D$12,#REF!,+IF(B25>0,VLOOKUP(B25,#REF!,20,0),\" \")))","v":{"$error":"#REF!"}},{"$f":"IF($D$12=0,\" \",IF(B24=$D$12,#REF!,+IF(B25>0,VLOOKUP(B25,#REF!,22,0),\" \")))","v":{"$error":"#REF!"}},{"$f":"IF($D$12=0,\" \",IF(B24=$D$12,#REF!,+IF(B25>0,VLOOKUP(B25,#REF!,23,0),\" \")))","v":{"$error":"#REF!"}}]
[null,9,{"$f":"IF($D$12=0,\" \",IF(B25=$D$12,\"TOTALES\",+IF(B26>0,VLOOKUP(B26,#REF!,3,0),\" \")))","v":{"$error":"#REF!"}},{"$f":"IF($D$12=0,\" \",IF(B25=$D$12,#REF!,+IF(B26>0,VLOOKUP(B26,#REF!,13,0),\" \")))","v":{"$error":"#REF!"}},{"$f":"IF($D$12=0,\" \",IF(B25=$D$12,#REF!,+IF(B26>0,VLOOKUP(B26,#REF!,14,0),\" \")))","v":{"$error":"#REF!"}},{"$f":"IF($D$12=0,\" \",IF(B25=$D$12,#REF!,+IF(B26>0,VLOOKUP(B26,#REF!,15,0),\" \")))","v":{"$error":"#REF!"}},{"$f":"IF($D$12=0,\" \",IF(B25=$D$12,Simulador_v2!$T$32,+IF(B26>0,VLOOKUP(B26,Simulador_v2!$A$33:$AJ$273,20,0),\" \")))","v":2993.21},{"$f":"IF($D$12=0,\" \",IF(B25=$D$12,#REF!,+IF(B26>0,VLOOKUP(B26,#REF!,20,0),\" \")))","v":{"$error":"#REF!"}},{"$f":"IF($D$12=0,\" \",IF(B25=$D$12,#REF!,+IF(B26>0,VLOOKUP(B26,#REF!,22,0),\" \")))","v":{"$error":"#REF!"}},{"$f":"IF($D$12=0,\" \",IF(B25=$D$12,#REF!,+IF(B26>0,VLOOKUP(B26,#REF!,23,0),\" \")))","v":{"$error":"#REF!"}}]
[null,10,{"$f":"IF($D$12=0,\" \",IF(B26=$D$12,\"TOTALES\",+IF(B27>0,VLOOKUP(B27,#REF!,3,0),\" \")))","v":{"$error":"#REF!"}},{"$f":"IF($D$12=0,\" \",IF(B26=$D$12,#REF!,+IF(B27>0,VLOOKUP(B27,#REF!,13,0),\" \")))","v":{"$error":"#REF!"}},{"$f":"IF($D$12=0,\" \",IF(B26=$D$12,#REF!,+IF(B27>0,VLOOKUP(B27,#REF!,14,0),\" \")))","v":{"$error":"#REF!"}},{"$f":"IF($D$12=0,\" \",IF(B26=$D$12,#REF!,+IF(B27>0,VLOOKUP(B27,#REF!,15,0),\" \")))","v":{"$error":"#REF!"}},{"$f":"IF($D$12=0,\" \",IF(B26=$D$12,Simulador_v2!$T$32,+IF(B27>0,VLOOKUP(B27,Simulador_v2!$A$33:$AJ$273,20,0),\" \")))","v":2883.52},{"$f":"IF($D$12=0,\" \",IF(B26=$D$12,#REF!,+IF(B27>0,VLOOKUP(B27,#REF!,20,0),\" \")))","v":{"$error":"#REF!"}},{"$f":"IF($D$12=0,\" \",IF(B26=$D$12,#REF!,+IF(B27>0,VLOOKUP(B27,#REF!,22,0),\" \")))","v":{"$error":"#REF!"}},{"$f":"IF($D$12=0,\" \",IF(B26=$D$12,#REF!,+IF(B27>0,VLOOKUP(B27,#REF!,23,0),\" \")))","v":{"$error":"#REF!"}}]
[null,11,{"$f":"IF($D$12=0,\" \",IF(B27=$D$12,\"TOTALES\",+IF(B28>0,VLOOKUP(B28,#REF!,3,0),\" \")))","v":{"$error":"#REF!"}},{"$f":"IF($D$12=0,\" \",IF(B27=$D$12,#REF!,+IF(B28>0,VLOOKUP(B28,#REF!,13,0),\" \")))","v":{"$error":"#REF!"}},{"$f":"IF($D$12=0,\" \",IF(B27=$D$12,#REF!,+IF(B28>0,VLOOKUP(B28,#REF!,14,0),\" \")))","v":{"$error":"#REF!"}},{"$f":"IF($D$12=0,\" \",IF(B27=$D$12,#REF!,+IF(B28>0,VLOOKUP(B28,#REF!,15,0),\" \")))","v":{"$error":"#REF!"}},{"$f":"IF($D$12=0,\" \",IF(B27=$D$12,Simulador_v2!$T$32,+IF(B28>0,VLOOKUP(B28,Simulador_v2!$A$33:$AJ$273,20,0),\" \")))","v":2963.97},{"$f":"IF($D$12=0,\" \",IF(B27=$D$12,#REF!,+IF(B28>0,VLOOKUP(B28,#REF!,20,0),\" \")))","v":{"$error":"#REF!"}},{"$f":"IF($D$12=0,\" \",IF(B27=$D$12,#REF!,+IF(B28>0,VLOOKUP(B28,#REF!,22,0),\" \")))","v":{"$error":"#REF!"}},{"$f":"IF($D$12=0,\" \",IF(B27=$D$12,#REF!,+IF(B28>0,VLOOKUP(B28,#REF!,23,0),\" \")))","v":{"$error":"#REF!"}}]
[null,12,{"$f":"IF($D$12=0,\" \",IF(B28=$D$12,\"TOTALES\",+IF(B29>0,VLOOKUP(B29,#REF!,3,0),\" \")))","v":{"$error":"#REF!"}},{"$f":"IF($D$12=0,\" \",IF(B28=$D$12,#REF!,+IF(B29>0,VLOOKUP(B29,#REF!,13,0),\" \")))","v":{"$error":"#REF!"}},{"$f":"IF($D$12=0,\" \",IF(B28=$D$12,#REF!,+IF(B29>0,VLOOKUP(B29,#REF!,14,0),\" \")))","v":{"$error":"#REF!"}},{"$f":"IF($D$12=0,\" \",IF(B28=$D$12,#REF!,+IF(B29>0,VLOOKUP(B29,#REF!,15,0),\" \")))","v":{"$error":"#REF!"}},{"$f":"IF($D$12=0,\" \",IF(B28=$D$12,Simulador_v2!$T$32,+IF(B29>0,VLOOKUP(B29,Simulador_v2!$A$33:$AJ$273,20,0),\" \")))","v":2949.84},{"$f":"IF($D$12=0,\" \",IF(B28=$D$12,#REF!,+IF(B29>0,VLOOKUP(B29,#REF!,20,0),\" \")))","v":{"$error":"#REF!"}},{"$f":"IF($D$12=0,\" \",IF(B28=$D$12,#REF!,+IF(B29>0,VLOOKUP(B29,#REF!,22,0),\" \")))","v":{"$error":"#REF!"}},{"$f":"IF($D$12=0,\" \",IF(B28=$D$12,#REF!,+IF(B29>0,VLOOKUP(B29,#REF!,23,0),\" \")))","v":{"$error":"#REF!"}}]
[null,13,{"$f":"IF($D$12=0,\" \",IF(B29=$D$12,\"TOTALES\",+IF(B30>0,VLOOKUP(B30,#REF!,3,0),\" \")))","v":{"$error":"#REF!"}},{"$f":"IF($D$12=0,\" \",IF(B29=$D$12,#REF!,+IF(B30>0,VLOOKUP(B30,#REF!,13,0),\" \")))","v":{"$error":"#REF!"}},{"$f":"IF($D$12=0,\" \",IF(B29=$D$12,#REF!,+IF(B30>0,VLOOKUP(B30,#REF!,14,0),\" \")))","v":{"$error":"#REF!"}},{"$f":"IF($D$12=0,\" \",IF(B29=$D$12,#REF!,+IF(B30>0,VLOOKUP(B30,#REF!,15,0),\" \")))","v":{"$error":"#REF!"}},{"$f":"IF($D$12=0,\" \",IF(B29=$D$12,Simulador_v2!$T$32,+IF(B30>0,VLOOKUP(B30,Simulador_v2!$A$33:$AJ$273,20,0),\" \")))","v":2840.76},{"$f":"IF($D$12=0,\" \",IF(B29=$D$12,#REF!,+IF(B30>0,VLOOKUP(B30,#REF!,20,0),\" \")))","v":{"$error":"#REF!"}},{"$f":"IF($D$12=0,\" \",IF(B29=$D$12,#REF!,+IF(B30>0,VLOOKUP(B30,#REF!,22,0),\" \")))","v":{"$error":"#REF!"}},{"$f":"IF($D$12=0,\" \",IF(B29=$D$12,#REF!,+IF(B30>0,VLOOKUP(B30,#REF!,23,0),\" \")))","v":{"$error":"#REF!"}}]
[null,14,{"$f":"IF($D$12=0,\" \",IF(B30=$D$12,\"TOTALES\",+IF(B31>0,VLOOKUP(B31,#REF!,3,0),\" \")))","v":{"$error":"#REF!"}},{"$f":"IF($D$12=0,\" \",IF(B30=$D$12,#REF!,+IF(B31>0,VLOOKUP(B31,#REF!,13,0),\" \")))","v":{"$error":"#REF!"}},{"$f":"IF($D$12=0,\" \",IF(B30=$D$12,#REF!,+IF(B31>0,VLOOKUP(B31,#REF!,14,0),\" \")))","v":{"$error":"#REF!"}},{"$f":"IF($D$12=0,\" \",IF(B30=$D$12,#REF!,+IF(B31>0,VLOOKUP(B31,#REF!,15,0),\" \")))","v":{"$error":"#REF!"}},{"$f":"IF($D$12=0,\" \",IF(B30=$D$12,Simulador_v2!$T$32,+IF(B31>0,VLOOKUP(B31,Simulador_v2!$A$33:$AJ$273,20,0),\" \")))","v":2918.97},{"$f":"IF($D$12=0,\" \",IF(B30=$D$12,#REF!,+IF(B31>0,VLOOKUP(B31,#REF!,20,0),\" \")))","v":{"$error":"#REF!"}},{"$f":"IF($D$12=0,\" \",IF(B30=$D$12,#REF!,+IF(B31>0,VLOOKUP(B31,#REF!,22,0),\" \")))","v":{"$error":"#REF!"}},{"$f":"IF($D$12=0,\" \",IF(B30=$D$12,#REF!,+IF(B31>0,VLOOKUP(B31,#REF!,23,0),\" \")))","v":{"$error":"#REF!"}}]
[null,15,{"$f":"IF($D$12=0,\" \",IF(B31=$D$12,\"TOTALES\",+IF(B32>0,VLOOKUP(B32,#REF!,3,0),\" \")))","v":{"$error":"#REF!"}},{"$f":"IF($D$12=0,\" \",IF(B31=$D$12,#REF!,+IF(B32>0,VLOOKUP(B32,#REF!,13,0),\" \")))","v":{"$error":"#REF!"}},{"$f":"IF($D$12=0,\" \",IF(B31=$D$12,#REF!,+IF(B32>0,VLOOKUP(B32,#REF!,14,0),\" \")))","v":{"$error":"#REF!"}},{"$f":"IF($D$12=0,\" \",IF(B31=$D$12,#REF!,+IF(B32>0,VLOOKUP(B32,#REF!,15,0),\" \")))","v":{"$error":"#REF!"}},{"$f":"IF($D$12=0,\" \",IF(B31=$D$12,Simulador_v2!$T$32,+IF(B32>0,VLOOKUP(B32,Simulador_v2!$A$33:$AJ$273,20,0),\" \")))","v":2810.31},{"$f":"IF($D$12=0,\" \",IF(B31=$D$12,#REF!,+IF(B32>0,VLOOKUP(B32,#REF!,20,0),\" \")))","v":{"$error":"#REF!"}},{"$f":"IF($D$12=0,\" \",IF(B31=$D$12,#REF!,+IF(B32>0,VLOOKUP(B32,#REF!,22,0),\" \")))","v":{"$error":"#REF!"}},{"$f":"IF($D$12=0,\" \",IF(B31=$D$12,#REF!,+IF(B32>0,VLOOKUP(B32,#REF!,23,0),\" \")))","v":{"$error":"#REF!"}}]
[null,16,{"$f":"IF($D$12=0,\" \",IF(B32=$D$12,\"TOTALES\",+IF(B33>0,VLOOKUP(B33,#REF!,3,0),\" \")))","v":{"$error":"#REF!"}},{"$f":"IF($D$12=0,\" \",IF(B32=$D$12,#REF!,+IF(B33>0,VLOOKUP(B33,#REF!,13,0),\" \")))","v":{"$error":"#REF!"}},{"$f":"IF($D$12=0,\" \",IF(B32=$D$12,#REF!,+IF(B33>0,VLOOKUP(B33,#REF!,14,0),\" \")))","v":{"$error":"#REF!"}},{"$f":"IF($D$12=0,\" \",IF(B32=$D$12,#REF!,+IF(B33>0,VLOOKUP(B33,#REF!,15,0),\" \")))","v":{"$error":"#REF!"}},{"$f":"IF($D$12=0,\" \",IF(B32=$D$12,Simulador_v2!$T$32,+IF(B33>0,VLOOKUP(B33,Simulador_v2!$A$33:$AJ$273,20,0),\" \")))","v":2886.93},{"$f":"IF($D$12=0,\" \",IF(B32=$D$12,#REF!,+IF(B33>0,VLOOKUP(B33,#REF!,20,0),\" \")))","v":{"$error":"#REF!"}},{"$f":"IF($D$12=0,\" \",IF(B32=$D$12,#REF!,+IF(B33>0,VLOOKUP(B33,#REF!,22,0),\" \")))","v":{"$error":"#REF!"}},{"$f":"IF($D$12=0,\" \",IF(B32=$D$12,#REF!,+IF(B33>0,VLOOKUP(B33,#REF!,23,0),\" \")))","v":{"$error":"#REF!"}}]
[null,17,{"$f":"IF($D$12=0,\" \",IF(B33=$D$12,\"TOTALES\",+IF(B34>0,VLOOKUP(B34,#REF!,3,0),\" \")))","v":{"$error":"#REF!"}},{"$f":"IF($D$12=0,\" \",IF(B33=$D$12,#REF!,+IF(B34>0,VLOOKUP(B34,#REF!,13,0),\" \")))","v":{"$error":"#REF!"}},{"$f":"IF($D$12=0,\" \",IF(B33=$D$12,#REF!,+IF(B34>0,VLOOKUP(B34,#REF!,14,0),\" \")))","v":{"$error":"#REF!"}},{"$f":"IF($D$12=0,\" \",IF(B33=$D$12,#REF!,+IF(B34>0,VLOOKUP(B34,#REF!,15,0),\" \")))","v":{"$error":"#REF!"}},{"$f":"IF($D$12=0,\" \",IF(B33=$D$12,Simulador_v2!$T$32,+IF(B34>0,VLOOKUP(B34,Simulador_v2!$A$33:$AJ$273,20,0),\" \")))","v":2871.34},{"$f":"IF($D$12=0,\" \",IF(B33=$D$12,#REF!,+IF(B34>0,VLOOKUP(B34,#REF!,20,0),\" \")))","v":{"$error":"#REF!"}},{"$f":"IF($D$12=0,\" \",IF(B33=$D$12,#REF!,+IF(B34>0,VLOOKUP(B34,#REF!,22,0),\" \")))","v":{"$error":"#REF!"}},{"$f":"IF($D$12=0,\" \",IF(B33=$D$12,#REF!,+IF(B34>0,VLOOKUP(B34,#REF!,23,0),\" \")))","v":{"$error":"#REF!"}}]
[null,18,{"$f":"IF($D$12=0,\" \",IF(B34=$D$12,\"TOTALES\",+IF(B35>0,VLOOKUP(B35,#REF!,3,0),\" \")))","v":{"$error":"#REF!"}},{"$f":"IF($D$12=0,\" \",IF(B34=$D$12,#REF!,+IF(B35>0,VLOOKUP(B35,#REF!,13,0),\" \")))","v":{"$error":"#REF!"}},{"$f":"IF($D$12=0,\" \",IF(B34=$D$12,#REF!,+IF(B35>0,VLOOKUP(B35,#REF!,14,0),\" \")))","v":{"$error":"#REF!"}},{"$f":"IF($D$12=0,\" \",IF(B34=$D$12,#REF!,+IF(B35>0,VLOOKUP(B35,#REF!,15,0),\" \")))","v":{"$error":"#REF!"}},{"$f":"IF($D$12=0,\" \",IF(B34=$D$12,Simulador_v2!$T$32,+IF(B35>0,VLOOKUP(B35,Simulador_v2!$A$33:$AJ$273,20,0),\" \")))","v":2671.23},{"$f":"IF($D$12=0,\" \",IF(B34=$D$12,#REF!,+IF(B35>0,VLOOKUP(B35,#REF!,20,0),\" \")))","v":{"$error":"#REF!"}},{"$f":"IF($D$12=0,\" \",IF(B34=$D$12,#REF!,+IF(B35>0,VLOOKUP(B35,#REF!,22,0),\" \")))","v":{"$error":"#REF!"}},{"$f":"IF($D$12=0,\" \",IF(B34=$D$12,#REF!,+IF(B35>0,VLOOKUP(B35,#REF!,23,0),\" \")))","v":{"$error":"#REF!"}}]
[null,19,{"$f":"IF($D$12=0,\" \",IF(B35=$D$12,\"TOTALES\",+IF(B36>0,VLOOKUP(B36,#REF!,3,0),\" \")))","v":{"$error":"#REF!"}},{"$f":"IF($D$12=0,\" \",IF(B35=$D$12,#REF!,+IF(B36>0,VLOOKUP(B36,#REF!,13,0),\" \")))","v":{"$error":"#REF!"}},{"$f":"IF($D$12=0,\" \",IF(B35=$D$12,#REF!,+IF(B36>0,VLOOKUP(B36,#REF!,14,0),\" \")))","v":{"$error":"#REF!"}},{"$f":"IF($D$12=0,\" \",IF(B35=$D$12,#REF!,+IF(B36>0,VLOOKUP(B36,#REF!,15,0),\" \")))","v":{"$error":"#REF!"}},{"$f":"IF($D$12=0,\" \",IF(B35=$D$12,Simulador_v2!$T$32,+IF(B36>0,VLOOKUP(B36,Simulador_v2!$A$33:$AJ$273,20,0),\" \")))","v":2835.75},{"$f":"IF($D$12=0,\" \",IF(B35=$D$12,#REF!,+IF(B36>0,VLOOKUP(B36,#REF!,20,0),\" \")))","v":{"$error":"#REF!"}},{"$f":"IF($D$12=0,\" \",IF(B35=$D$12,#REF!,+IF(B36>0,VLOOKUP(B36,#REF!,22,0),\" \")))","v":{"$error":"#REF!"}},{"$f":"IF($D$12=0,\" \",IF(B35=$D$12,#REF!,+IF(B36>0,VLOOKUP(B36,#REF!,23,0),\" \")))","v":{"$error":"#REF!"}}]
[null,20,{"$f":"IF($D$12=0,\" \",IF(B36=$D$12,\"TOTALES\",+IF(B37>0,VLOOKUP(B37,#REF!,3,0),\" \")))","v":{"$error":"#REF!"}},{"$f":"IF($D$12=0,\" \",IF(B36=$D$12,#REF!,+IF(B37>0,VLOOKUP(B37,#REF!,13,0),\" \")))","v":{"$error":"#REF!"}},{"$f":"IF($D$12=0,\" \",IF(B36=$D$12,#REF!,+IF(B37>0,VLOOKUP(B37,#REF!,14,0),\" \")))","v":{"$error":"#REF!"}},{"$f":"IF($D$12=0,\" \",IF(B36=$D$12,#REF!,+IF(B37>0,VLOOKUP(B37,#REF!,15,0),\" \")))","v":{"$error":"#REF!"}},{"$f":"IF($D$12=0,\" \",IF(B36=$D$12,Simulador_v2!$T$32,+IF(B37>0,VLOOKUP(B37,Simulador_v2!$A$33:$AJ$273,20,0),\" \")))","v":2728.25},{"$f":"IF($D$12=0,\" \",IF(B36=$D$12,#REF!,+IF(B37>0,VLOOKUP(B37,#REF!,20,0),\" \")))","v":{"$error":"#REF!"}},{"$f":"IF($D$12=0,\" \",IF(B36=$D$12,#REF!,+IF(B37>0,VLOOKUP(B37,#REF!,22,0),\" \")))","v":{"$error":"#REF!"}},{"$f":"IF($D$12=0,\" \",IF(B36=$D$12,#REF!,+IF(B37>0,VLOOKUP(B37,#REF!,23,0),\" \")))","v":{"$error":"#REF!"}}]
[null,21,{"$f":"IF($D$12=0,\" \",IF(B37=$D$12,\"TOTALES\",+IF(B38>0,VLOOKUP(B38,#REF!,3,0),\" \")))","v":{"$error":"#REF!"}},{"$f":"IF($D$12=0,\" \",IF(B37=$D$12,#REF!,+IF(B38>0,VLOOKUP(B38,#REF!,13,0),\" \")))","v":{"$error":"#REF!"}},{"$f":"IF($D$12=0,\" \",IF(B37=$D$12,#REF!,+IF(B38>0,VLOOKUP(B38,#REF!,14,0),\" \")))","v":{"$error":"#REF!"}},{"$f":"IF($D$12=0,\" \",IF(B37=$D$12,#REF!,+IF(B38>0,VLOOKUP(B38,#REF!,15,0),\" \")))","v":{"$error":"#REF!"}},{"$f":"IF($D$12=0,\" \",IF(B37=$D$12,Simulador_v2!$T$32,+IF(B38>0,VLOOKUP(B38,Simulador_v2!$A$33:$AJ$273,20,0),\" \")))","v":2800.58},{"$f":"IF($D$12=0,\" \",IF(B37=$D$12,#REF!,+IF(B38>0,VLOOKUP(B38,#REF!,20,0),\" \")))","v":{"$error":"#REF!"}},{"$f":"IF($D$12=0,\" \",IF(B37=$D$12,#REF!,+IF(B38>0,VLOOKUP(B38,#REF!,22,0),\" \")))","v":{"$error":"#REF!"}},{"$f":"IF($D$12=0,\" \",IF(B37=$D$12,#REF!,+IF(B38>0,VLOOKUP(B38,#REF!,23,0),\" \")))","v":{"$error":"#REF!"}}]
[null,22,{"$f":"IF($D$12=0,\" \",IF(B38=$D$12,\"TOTALES\",+IF(B39>0,VLOOKUP(B39,#REF!,3,0),\" \")))","v":{"$error":"#REF!"}},{"$f":"IF($D$12=0,\" \",IF(B38=$D$12,#REF!,+IF(B39>0,VLOOKUP(B39,#REF!,13,0),\" \")))","v":{"$error":"#REF!"}},{"$f":"IF($D$12=0,\" \",IF(B38=$D$12,#REF!,+IF(B39>0,VLOOKUP(B39,#REF!,14,0),\" \")))","v":{"$error":"#REF!"}},{"$f":"IF($D$12=0,\" \",IF(B38=$D$12,#REF!,+IF(B39>0,VLOOKUP(B39,#REF!,15,0),\" \")))","v":{"$error":"#REF!"}},{"$f":"IF($D$12=0,\" \",IF(B38=$D$12,Simulador_v2!$T$32,+IF(B39>0,VLOOKUP(B39,Simulador_v2!$A$33:$AJ$273,20,0),\" \")))","v":2693.56},{"$f":"IF($D$12=0,\" \",IF(B38=$D$12,#REF!,+IF(B39>0,VLOOKUP(B39,#REF!,20,0),\" \")))","v":{"$error":"#REF!"}},{"$f":"IF($D$12=0,\" \",IF(B38=$D$12,#REF!,+IF(B39>0,VLOOKUP(B39,#REF!,22,0),\" \")))","v":{"$error":"#REF!"}},{"$f":"IF($D$12=0,\" \",IF(B38=$D$12,#REF!,+IF(B39>0,VLOOKUP(B39,#REF!,23,0),\" \")))","v":{"$error":"#REF!"}}]
[null,23,{"$f":"IF($D$12=0,\" \",IF(B39=$D$12,\"TOTALES\",+IF(B40>0,VLOOKUP(B40,#REF!,3,0),\" \")))","v":{"$error":"#REF!"}},{"$f":"IF($D$12=0,\" \",IF(B39=$D$12,#REF!,+IF(B40>0,VLOOKUP(B40,#REF!,13,0),\" \")))","v":{"$error":"#REF!"}},{"$f":"IF($D$12=0,\" \",IF(B39=$D$12,#REF!,+IF(B40>0,VLOOKUP(B40,#REF!,14,0),\" \")))","v":{"$error":"#REF!"}},{"$f":"IF($D$12=0,\" \",IF(B39=$D$12,#REF!,+IF(B40>0,VLOOKUP(B40,#REF!,15,0),\" \")))","v":{"$error":"#REF!"}},{"$f":"IF($D$12=0,\" \",IF(B39=$D$12,Simulador_v2!$T$32,+IF(B40>0,VLOOKUP(B40,Simulador_v2!$A$33:$AJ$273,20,0),\" \")))","v":2764.08},{"$f":"IF($D$12=0,\" \",IF(B39=$D$12,#REF!,+IF(B40>0,VLOOKUP(B40,#REF!,20,0),\" \")))","v":{"$error":"#REF!"}},{"$f":"IF($D$12=0,\" \",IF(B39=$D$12,#REF!,+IF(B40>0,VLOOKUP(B40,#REF!,22,0),\" \")))","v":{"$error":"#REF!"}},{"$f":"IF($D$12=0,\" \",IF(B39=$D$12,#REF!,+IF(B40>0,VLOOKUP(B40,#REF!,23,0),\" \")))","v":{"$error":"#REF!"}}]
[null,24,{"$f":"IF($D$12=0,\" \",IF(B40=$D$12,\"TOTALES\",+IF(B41>0,VLOOKUP(B41,#REF!,3,0),\" \")))","v":{"$error":"#REF!"}},{"$f":"IF($D$12=0,\" \",IF(B40=$D$12,#REF!,+IF(B41>0,VLOOKUP(B41,#REF!,13,0),\" \")))","v":{"$error":"#REF!"}},{"$f":"IF($D$12=0,\" \",IF(B40=$D$12,#REF!,+IF(B41>0,VLOOKUP(B41,#REF!,14,0),\" \")))","v":{"$error":"#REF!"}},{"$f":"IF($D$12=0,\" \",IF(B40=$D$12,#REF!,+IF(B41>0,VLOOKUP(B41,#REF!,15,0),\" \")))","v":{"$error":"#REF!"}},{"$f":"IF($D$12=0,\" \",IF(B40=$D$12,Simulador_v2!$T$32,+IF(B41>0,VLOOKUP(B41,Simulador_v2!$A$33:$AJ$273,20,0),\" \")))","v":2746.15},{"$f":"IF($D$12=0,\" \",IF(B40=$D$12,#REF!,+IF(B41>0,VLOOKUP(B41,#REF!,20,0),\" \")))","v":{"$error":"#REF!"}},{"$f":"IF($D$12=0,\" \",IF(B40=$D$12,#REF!,+IF(B41>0,VLOOKUP(B41,#REF!,22,0),\" \")))","v":{"$error":"#REF!"}},{"$f":"IF($D$12=0,\" \",IF(B40=$D$12,#REF!,+IF(B41>0,VLOOKUP(B41,#REF!,23,0),\" \")))","v":{"$error":"#REF!"}}]
[null,25,{"$f":"IF($D$12=0,\" \",IF(B41=$D$12,\"TOTALES\",+IF(B42>0,VLOOKUP(B42,#REF!,3,0),\" \")))","v":{"$error":"#REF!"}},{"$f":"IF($D$12=0,\" \",IF(B41=$D$12,#REF!,+IF(B42>0,VLOOKUP(B42,#REF!,13,0),\" \")))","v":{"$error":"#REF!"}},{"$f":"IF($D$12=0,\" \",IF(B41=$D$12,#REF!,+IF(B42>0,VLOOKUP(B42,#REF!,14,0),\" \")))","v":{"$error":"#REF!"}},{"$f":"IF($D$12=0,\" \",IF(B41=$D$12,#REF!,+IF(B42>0,VLOOKUP(B42,#REF!,15,0),\" \")))","v":{"$error":"#REF!"}},{"$f":"IF($D$12=0,\" \",IF(B41=$D$12,Simulador_v2!$T$32,+IF(B42>0,VLOOKUP(B42,Simulador_v2!$A$33:$AJ$273,20,0),\" \")))","v":2639.9},{"$f":"IF($D$12=0,\" \",IF(B41=$D$12,#REF!,+IF(B42>0,VLOOKUP(B42,#REF!,20,0),\" \")))","v":{"$error":"#REF!"}},{"$f":"IF($D$12=0,\" \",IF(B41=$D$12,#REF!,+IF(B42>0,VLOOKUP(B42,#REF!,22,0),\" \")))","v":{"$error":"#REF!"}},{"$f":"IF($D$12=0,\" \",IF(B41=$D$12,#REF!,+IF(B42>0,VLOOKUP(B42,#REF!,23,0),\" \")))","v":{"$error":"#REF!"}}]
[null,26,{"$f":"IF($D$12=0,\" \",IF(B42=$D$12,\"TOTALES\",+IF(B43>0,VLOOKUP(B43,#REF!,3,0),\" \")))","v":{"$error":"#REF!"}},{"$f":"IF($D$12=0,\" \",IF(B42=$D$12,#REF!,+IF(B43>0,VLOOKUP(B43,#REF!,13,0),\" \")))","v":{"$error":"#REF!"}},{"$f":"IF($D$12=0,\" \",IF(B42=$D$12,#REF!,+IF(B43>0,VLOOKUP(B43,#REF!,14,0),\" \")))","v":{"$error":"#REF!"}},{"$f":"IF($D$12=0,\" \",IF(B42=$D$12,#REF!,+IF(B43>0,VLOOKUP(B43,#REF!,15,0),\" \")))","v":{"$error":"#REF!"}},{"$f":"IF($D$12=0,\" \",IF(B42=$D$12,Simulador_v2!$T$32,+IF(B43>0,VLOOKUP(B43,Simulador_v2!$A$33:$AJ$273,20,0),\" \")))","v":2707.6},{"$f":"IF($D$12=0,\" \",IF(B42=$D$12,#REF!,+IF(B43>0,VLOOKUP(B43,#REF!,20,0),\" \")))","v":{"$error":"#REF!"}},{"$f":"IF($D$12=0,\" \",IF(B42=$D$12,#REF!,+IF(B43>0,VLOOKUP(B43,#REF!,22,0),\" \")))","v":{"$error":"#REF!"}},{"$f":"IF($D$12=0,\" \",IF(B42=$D$12,#REF!,+IF(B43>0,VLOOKUP(B43,#REF!,23,0),\" \")))","v":{"$error":"#REF!"}}]
[null,27,{"$f":"IF($D$12=0,\" \",IF(B43=$D$12,\"TOTALES\",+IF(B44>0,VLOOKUP(B44,#REF!,3,0),\" \")))","v":{"$error":"#REF!"}},{"$f":"IF($D$12=0,\" \",IF(B43=$D$12,#REF!,+IF(B44>0,VLOOKUP(B44,#REF!,13,0),\" \")))","v":{"$error":"#REF!"}},{"$f":"IF($D$12=0,\" \",IF(B43=$D$12,#REF!,+IF(B44>0,VLOOKUP(B44,#REF!,14,0),\" \")))","v":{"$error":"#REF!"}},{"$f":"IF($D$12=0,\" \",IF(B43=$D$12,#REF!,+IF(B44>0,VLOOKUP(B44,#REF!,15,0),\" \")))","v":{"$error":"#REF!"}},{"$f":"IF($D$12=0,\" \",IF(B43=$D$12,Simulador_v2!$T$32,+IF(B44>0,VLOOKUP(B44,Simulador_v2!$A$33:$AJ$273,20,0),\" \")))","v":2601.88},{"$f":"IF($D$12=0,\" \",IF(B43=$D$12,#REF!,+IF(B44>0,VLOOKUP(B44,#REF!,20,0),\" \")))","v":{"$error":"#REF!"}},{"$f":"IF($D$12=0,\" \",IF(B43=$D$12,#REF!,+IF(B44>0,VLOOKUP(B44,#REF!,22,0),\" \")))","v":{"$error":"#REF!"}},{"$f":"IF($D$12=0,\" \",IF(B43=$D$12,#REF!,+IF(B44>0,VLOOKUP(B44,#REF!,23,0),\" \")))","v":{"$error":"#REF!"}}]
[null,28,{"$f":"IF($D$12=0,\" \",IF(B44=$D$12,\"TOTALES\",+IF(B45>0,VLOOKUP(B45,#REF!,3,0),\" \")))","v":{"$error":"#REF!"}},{"$f":"IF($D$12=0,\" \",IF(B44=$D$12,#REF!,+IF(B45>0,VLOOKUP(B45,#REF!,13,0),\" \")))","v":{"$error":"#REF!"}},{"$f":"IF($D$12=0,\" \",IF(B44=$D$12,#REF!,+IF(B45>0,VLOOKUP(B45,#REF!,14,0),\" \")))","v":{"$error":"#REF!"}},{"$f":"IF($D$12=0,\" \",IF(B44=$D$12,#REF!,+IF(B45>0,VLOOKUP(B45,#REF!,15,0),\" \")))","v":{"$error":"#REF!"}},{"$f":"IF($D$12=0,\" \",IF(B44=$D$12,Simulador_v2!$T$32,+IF(B45>0,VLOOKUP(B45,Simulador_v2!$A$33:$AJ$273,20,0),\" \")))","v":2667.59},{"$f":"IF($D$12=0,\" \",IF(B44=$D$12,#REF!,+IF(B45>0,VLOOKUP(B45,#REF!,20,0),\" \")))","v":{"$error":"#REF!"}},{"$f":"IF($D$12=0,\" \",IF(B44=$D$12,#REF!,+IF(B45>0,VLOOKUP(B45,#REF!,22,0),\" \")))","v":{"$error":"#REF!"}},{"$f":"IF($D$12=0,\" \",IF(B44=$D$12,#REF!,+IF(B45>0,VLOOKUP(B45,#REF!,23,0),\" \")))","v":{"$error":"#REF!"}}]
[null,29,{"$f":"IF($D$12=0,\" \",IF(B45=$D$12,\"TOTALES\",+IF(B46>0,VLOOKUP(B46,#REF!,3,0),\" \")))","v":{"$error":"#REF!"}},{"$f":"IF($D$12=0,\" \",IF(B45=$D$12,#REF!,+IF(B46>0,VLOOKUP(B46,#REF!,13,0),\" \")))","v":{"$error":"#REF!"}},{"$f":"IF($D$12=0,\" \",IF(B45=$D$12,#REF!,+IF(B46>0,VLOOKUP(B46,#REF!,14,0),\" \")))","v":{"$error":"#REF!"}},{"$f":"IF($D$12=0,\" \",IF(B45=$D$12,#REF!,+IF(B46>0,VLOOKUP(B46,#REF!,15,0),\" \")))","v":{"$error":"#REF!"}},{"$f":"IF($D$12=0,\" \",IF(B45=$D$12,Simulador_v2!$T$32,+IF(B46>0,VLOOKUP(B46,Simulador_v2!$A$33:$AJ$273,20,0),\" \")))","v":2647.84},{"$f":"IF($D$12=0,\" \",IF(B45=$D$12,#REF!,+IF(B46>0,VLOOKUP(B46,#REF!,20,0),\" \")))","v":{"$error":"#REF!"}},{"$f":"IF($D$12=0,\" \",IF(B45=$D$12,#REF!,+IF(B46>0,VLOOKUP(B46,#REF!,22,0),\" \")))","v":{"$error":"#REF!"}},{"$f":"IF($D$12=0,\" \",IF(B45=$D$12,#REF!,+IF(B46>0,VLOOKUP(B46,#REF!,23,0),\" \")))","v":{"$error":"#REF!"}}]
[null,30,{"$f":"IF($D$12=0,\" \",IF(B46=$D$12,\"TOTALES\",+IF(B47>0,VLOOKUP(B47,#REF!,3,0),\" \")))","v":{"$error":"#REF!"}},{"$f":"IF($D$12=0,\" \",IF(B46=$D$12,#REF!,+IF(B47>0,VLOOKUP(B47,#REF!,13,0),\" \")))","v":{"$error":"#REF!"}},{"$f":"IF($D$12=0,\" \",IF(B46=$D$12,#REF!,+IF(B47>0,VLOOKUP(B47,#REF!,14,0),\" \")))","v":{"$error":"#REF!"}},{"$f":"IF($D$12=0,\" \",IF(B46=$D$12,#REF!,+IF(B47>0,VLOOKUP(B47,#REF!,15,0),\" \")))","v":{"$error":"#REF!"}},{"$f":"IF($D$12=0,\" \",IF(B46=$D$12,Simulador_v2!$T$32,+IF(B47>0,VLOOKUP(B47,Simulador_v2!$A$33:$AJ$273,20,0),\" \")))","v":2373.42},{"$f":"IF($D$12=0,\" \",IF(B46=$D$12,#REF!,+IF(B47>0,VLOOKUP(B47,#REF!,20,0),\" \")))","v":{"$error":"#REF!"}},{"$f":"IF($D$12=0,\" \",IF(B46=$D$12,#REF!,+IF(B47>0,VLOOKUP(B47,#REF!,22,0),\" \")))","v":{"$error":"#REF!"}},{"$f":"IF($D$12=0,\" \",IF(B46=$D$12,#REF!,+IF(B47>0,VLOOKUP(B47,#REF!,23,0),\" \")))","v":{"$error":"#REF!"}}]
[null,31,{"$f":"IF($D$12=0,\" \",IF(B47=$D$12,\"TOTALES\",+IF(B48>0,VLOOKUP(B48,#REF!,3,0),\" \")))","v":{"$error":"#REF!"}},{"$f":"IF($D$12=0,\" \",IF(B47=$D$12,#REF!,+IF(B48>0,VLOOKUP(B48,#REF!,13,0),\" \")))","v":{"$error":"#REF!"}},{"$f":"IF($D$12=0,\" \",IF(B47=$D$12,#REF!,+IF(B48>0,VLOOKUP(B48,#REF!,14,0),\" \")))","v":{"$error":"#REF!"}},{"$f":"IF($D$12=0,\" \",IF(B47=$D$12,#REF!,+IF(B48>0,VLOOKUP(B48,#REF!,15,0),\" \")))","v":{"$error":"#REF!"}},{"$f":"IF($D$12=0,\" \",IF(B47=$D$12,Simulador_v2!$T$32,+IF(B48>0,VLOOKUP(B48,Simulador_v2!$A$33:$AJ$273,20,0),\" \")))","v":2602.34},{"$f":"IF($D$12=0,\" \",IF(B47=$D$12,#REF!,+IF(B48>0,VLOOKUP(B48,#REF!,20,0),\" \")))","v":{"$error":"#REF!"}},{"$f":"IF($D$12=0,\" \",IF(B47=$D$12,#REF!,+IF(B48>0,VLOOKUP(B48,#REF!,22,0),\" \")))","v":{"$error":"#REF!"}},{"$f":"IF($D$12=0,\" \",IF(B47=$D$12,#REF!,+IF(B48>0,VLOOKUP(B48,#REF!,23,0),\" \")))","v":{"$error":"#REF!"}}]
[null,32,{"$f":"IF($D$12=0,\" \",IF(B48=$D$12,\"TOTALES\",+IF(B49>0,VLOOKUP(B49,#REF!,3,0),\" \")))","v":{"$error":"#REF!"}},{"$f":"IF($D$12=0,\" \",IF(B48=$D$12,#REF!,+IF(B49>0,VLOOKUP(B49,#REF!,13,0),\" \")))","v":{"$error":"#REF!"}},{"$f":"IF($D$12=0,\" \",IF(B48=$D$12,#REF!,+IF(B49>0,VLOOKUP(B49,#REF!,14,0),\" \")))","v":{"$error":"#REF!"}},{"$f":"IF($D$12=0,\" \",IF(B48=$D$12,#REF!,+IF(B49>0,VLOOKUP(B49,#REF!,15,0),\" \")))","v":{"$error":"#REF!"}},{"$f":"IF($D$12=0,\" \",IF(B48=$D$12,Simulador_v2!$T$32,+IF(B49>0,VLOOKUP(B49,Simulador_v2!$A$33:$AJ$273,20,0),\" \")))","v":2498.08},{"$f":"IF($D$12=0,\" \",IF(B48=$D$12,#REF!,+IF(B49>0,VLOOKUP(B49,#REF!,20,0),\" \")))","v":{"$error":"#REF!"}},{"$f":"IF($D$12=0,\" \",IF(B48=$D$12,#REF!,+IF(B49>0,VLOOKUP(B49,#REF!,22,0),\" \")))","v":{"$error":"#REF!"}},{"$f":"IF($D$12=0,\" \",IF(B48=$D$12,#REF!,+IF(B49>0,VLOOKUP(B49,#REF!,23,0),\" \")))","v":{"$error":"#REF!"}}]
[null,33,{"$f":"IF($D$12=0,\" \",IF(B49=$D$12,\"TOTALES\",+IF(B50>0,VLOOKUP(B50,#REF!,3,0),\" \")))","v":{"$error":"#REF!"}},{"$f":"IF($D$12=0,\" \",IF(B49=$D$12,#REF!,+IF(B50>0,VLOOKUP(B50,#REF!,13,0),\" \")))","v":{"$error":"#REF!"}},{"$f":"IF($D$12=0,\" \",IF(B49=$D$12,#REF!,+IF(B50>0,VLOOKUP(B50,#REF!,14,0),\" \")))","v":{"$error":"#REF!"}},{"$f":"IF($D$12=0,\" \",IF(B49=$D$12,#REF!,+IF(B50>0,VLOOKUP(B50,#REF!,15,0),\" \")))","v":{"$error":"#REF!"}},{"$f":"IF($D$12=0,\" \",IF(B49=$D$12,Simulador_v2!$T$32,+IF(B50>0,VLOOKUP(B50,Simulador_v2!$A$33:$AJ$273,20,0),\" \")))","v":2558.37},{"$f":"IF($D$12=0,\" \",IF(B49=$D$12,#REF!,+IF(B50>0,VLOOKUP(B50,#REF!,20,0),\" \")))","v":{"$error":"#REF!"}},{"$f":"IF($D$12=0,\" \",IF(B49=$D$12,#REF!,+IF(B50>0,VLOOKUP(B50,#REF!,22,0),\" \")))","v":{"$error":"#REF!"}},{"$f":"IF($D$12=0,\" \",IF(B49=$D$12,#REF!,+IF(B50>0,VLOOKUP(B50,#REF!,23,0),\" \")))","v":{"$error":"#REF!"}}]
[null,34,{"$f":"IF($D$12=0,\" \",IF(B50=$D$12,\"TOTALES\",+IF(B51>0,VLOOKUP(B51,#REF!,3,0),\" \")))","v":{"$error":"#REF!"}},{"$f":"IF($D$12=0,\" \",IF(B50=$D$12,#REF!,+IF(B51>0,VLOOKUP(B51,#REF!,13,0),\" \")))","v":{"$error":"#REF!"}},{"$f":"IF($D$12=0,\" \",IF(B50=$D$12,#REF!,+IF(B51>0,VLOOKUP(B51,#REF!,14,0),\" \")))","v":{"$error":"#REF!"}},{"$f":"IF($D$12=0,\" \",IF(B50=$D$12,#REF!,+IF(B51>0,VLOOKUP(B51,#REF!,15,0),\" \")))","v":{"$error":"#REF!"}},{"$f":"IF($D$12=0,\" \",IF(B50=$D$12,Simulador_v2!$T$32,+IF(B51>0,VLOOKUP(B51,Simulador_v2!$A$33:$AJ$273,20,0),\" \")))","v":2454.7199999999998},{"$f":"IF($D$12=0,\" \",IF(B50=$D$12,#REF!,+IF(B51>0,VLOOKUP(B51,#REF!,20,0),\" \")))","v":{"$error":"#REF!"}},{"$f":"IF($D$12=0,\" \",IF(B50=$D$12,#REF!,+IF(B51>0,VLOOKUP(B51,#REF!,22,0),\" \")))","v":{"$error":"#REF!"}},{"$f":"IF($D$12=0,\" \",IF(B50=$D$12,#REF!,+IF(B51>0,VLOOKUP(B51,#REF!,23,0),\" \")))","v":{"$error":"#REF!"}}]
[null,35,{"$f":"IF($D$12=0,\" \",IF(B51=$D$12,\"TOTALES\",+IF(B52>0,VLOOKUP(B52,#REF!,3,0),\" \")))","v":{"$error":"#REF!"}},{"$f":"IF($D$12=0,\" \",IF(B51=$D$12,#REF!,+IF(B52>0,VLOOKUP(B52,#REF!,13,0),\" \")))","v":{"$error":"#REF!"}},{"$f":"IF($D$12=0,\" \",IF(B51=$D$12,#REF!,+IF(B52>0,VLOOKUP(B52,#REF!,14,0),\" \")))","v":{"$error":"#REF!"}},{"$f":"IF($D$12=0,\" \",IF(B51=$D$12,#REF!,+IF(B52>0,VLOOKUP(B52,#REF!,15,0),\" \")))","v":{"$error":"#REF!"}},{"$f":"IF($D$12=0,\" \",IF(B51=$D$12,Simulador_v2!$T$32,+IF(B52>0,VLOOKUP(B52,Simulador_v2!$A$33:$AJ$273,20,0),\" \")))","v":2512.7399999999998},{"$f":"IF($D$12=0,\" \",IF(B51=$D$12,#REF!,+IF(B52>0,VLOOKUP(B52,#REF!,20,0),\" \")))","v":{"$error":"#REF!"}},{"$f":"IF($D$12=0,\" \",IF(B51=$D$12,#REF!,+IF(B52>0,VLOOKUP(B52,#REF!,22,0),\" \")))","v":{"$error":"#REF!"}},{"$f":"IF($D$12=0,\" \",IF(B51=$D$12,#REF!,+IF(B52>0,VLOOKUP(B52,#REF!,23,0),\" \")))","v":{"$error":"#REF!"}}]
[null,36,{"$f":"IF($D$12=0,\" \",IF(B52=$D$12,\"TOTALES\",+IF(B53>0,VLOOKUP(B53,#REF!,3,0),\" \")))","v":{"$error":"#REF!"}},{"$f":"IF($D$12=0,\" \",IF(B52=$D$12,#REF!,+IF(B53>0,VLOOKUP(B53,#REF!,13,0),\" \")))","v":{"$error":"#REF!"}},{"$f":"IF($D$12=0,\" \",IF(B52=$D$12,#REF!,+IF(B53>0,VLOOKUP(B53,#REF!,14,0),\" \")))","v":{"$error":"#REF!"}},{"$f":"IF($D$12=0,\" \",IF(B52=$D$12,#REF!,+IF(B53>0,VLOOKUP(B53,#REF!,15,0),\" \")))","v":{"$error":"#REF!"}},{"$f":"IF($D$12=0,\" \",IF(B52=$D$12,Simulador_v2!$T$32,+IF(B53>0,VLOOKUP(B53,Simulador_v2!$A$33:$AJ$273,20,0),\" \")))","v":2490.04},{"$f":"IF($D$12=0,\" \",IF(B52=$D$12,#REF!,+IF(B53>0,VLOOKUP(B53,#REF!,20,0),\" \")))","v":{"$error":"#REF!"}},{"$f":"IF($D$12=0,\" \",IF(B52=$D$12,#REF!,+IF(B53>0,VLOOKUP(B53,#REF!,22,0),\" \")))","v":{"$error":"#REF!"}},{"$f":"IF($D$12=0,\" \",IF(B52=$D$12,#REF!,+IF(B53>0,VLOOKUP(B53,#REF!,23,0),\" \")))","v":{"$error":"#REF!"}}]
[null,37,{"$f":"IF($D$12=0,\" \",IF(B53=$D$12,\"TOTALES\",+IF(B54>0,VLOOKUP(B54,#REF!,3,0),\" \")))","v":{"$error":"#REF!"}},{"$f":"IF($D$12=0,\" \",IF(B53=$D$12,#REF!,+IF(B54>0,VLOOKUP(B54,#REF!,13,0),\" \")))","v":{"$error":"#REF!"}},{"$f":"IF($D$12=0,\" \",IF(B53=$D$12,#REF!,+IF(B54>0,VLOOKUP(B54,#REF!,14,0),\" \")))","v":{"$error":"#REF!"}},{"$f":"IF($D$12=0,\" \",IF(B53=$D$12,#REF!,+IF(B54>0,VLOOKUP(B54,#REF!,15,0),\" \")))","v":{"$error":"#REF!"}},{"$f":"IF($D$12=0,\" \",IF(B53=$D$12,Simulador_v2!$T$32,+IF(B54>0,VLOOKUP(B54,Simulador_v2!$A$33:$AJ$273,20,0),\" \")))","v":2387.34},{"$f":"IF($D$12=0,\" \",IF(B53=$D$12,#REF!,+IF(B54>0,VLOOKUP(B54,#REF!,20,0),\" \")))","v":{"$error":"#REF!"}},{"$f":"IF($D$12=0,\" \",IF(B53=$D$12,#REF!,+IF(B54>0,VLOOKUP(B54,#REF!,22,0),\" \")))","v":{"$error":"#REF!"}},{"$f":"IF($D$12=0,\" \",IF(B53=$D$12,#REF!,+IF(B54>0,VLOOKUP(B54,#REF!,23,0),\" \")))","v":{"$error":"#REF!"}}]
[null,38,{"$f":"IF($D$12=0,\" \",IF(B54=$D$12,\"TOTALES\",+IF(B55>0,VLOOKUP(B55,#REF!,3,0),\" \")))","v":{"$error":"#REF!"}},{"$f":"IF($D$12=0,\" \",IF(B54=$D$12,#REF!,+IF(B55>0,VLOOKUP(B55,#REF!,13,0),\" \")))","v":{"$error":"#REF!"}},{"$f":"IF($D$12=0,\" \",IF(B54=$D$12,#REF!,+IF(B55>0,VLOOKUP(B55,#REF!,14,0),\" \")))","v":{"$error":"#REF!"}},{"$f":"IF($D$12=0,\" \",IF(B54=$D$12,#REF!,+IF(B55>0,VLOOKUP(B55,#REF!,15,0),\" \")))","v":{"$error":"#REF!"}},{"$f":"IF($D$12=0,\" \",IF(B54=$D$12,Simulador_v2!$T$32,+IF(B55>0,VLOOKUP(B55,Simulador_v2!$A$33:$AJ$273,20,0),\" \")))","v":2441.83},{"$f":"IF($D$12=0,\" \",IF(B54=$D$12,#REF!,+IF(B55>0,VLOOKUP(B55,#REF!,20,0),\" \")))","v":{"$error":"#REF!"}},{"$f":"IF($D$12=0,\" \",IF(B54=$D$12,#REF!,+IF(B55>0,VLOOKUP(B55,#REF!,22,0),\" \")))","v":{"$error":"#REF!"}},{"$f":"IF($D$12=0,\" \",IF(B54=$D$12,#REF!,+IF(B55>0,VLOOKUP(B55,#REF!,23,0),\" \")))","v":{"$error":"#REF!"}}]
[null,39,{"$f":"IF($D$12=0,\" \",IF(B55=$D$12,\"TOTALES\",+IF(B56>0,VLOOKUP(B56,#REF!,3,0),\" \")))","v":{"$error":"#REF!"}},{"$f":"IF($D$12=0,\" \",IF(B55=$D$12,#REF!,+IF(B56>0,VLOOKUP(B56,#REF!,13,0),\" \")))","v":{"$error":"#REF!"}},{"$f":"IF($D$12=0,\" \",IF(B55=$D$12,#REF!,+IF(B56>0,VLOOKUP(B56,#REF!,14,0),\" \")))","v":{"$error":"#REF!"}},{"$f":"IF($D$12=0,\" \",IF(B55=$D$12,#REF!,+IF(B56>0,VLOOKUP(B56,#REF!,15,0),\" \")))","v":{"$error":"#REF!"}},{"$f":"IF($D$12=0,\" \",IF(B55=$D$12,Simulador_v2!$T$32,+IF(B56>0,VLOOKUP(B56,Simulador_v2!$A$33:$AJ$273,20,0),\" \")))","v":2339.8000000000002},{"$f":"IF($D$12=0,\" \",IF(B55=$D$12,#REF!,+IF(B56>0,VLOOKUP(B56,#REF!,20,0),\" \")))","v":{"$error":"#REF!"}},{"$f":"IF($D$12=0,\" \",IF(B55=$D$12,#REF!,+IF(B56>0,VLOOKUP(B56,#REF!,22,0),\" \")))","v":{"$error":"#REF!"}},{"$f":"IF($D$12=0,\" \",IF(B55=$D$12,#REF!,+IF(B56>0,VLOOKUP(B56,#REF!,23,0),\" \")))","v":{"$error":"#REF!"}}]
[null,40,{"$f":"IF($D$12=0,\" \",IF(B56=$D$12,\"TOTALES\",+IF(B57>0,VLOOKUP(B57,#REF!,3,0),\" \")))","v":{"$error":"#REF!"}},{"$f":"IF($D$12=0,\" \",IF(B56=$D$12,#REF!,+IF(B57>0,VLOOKUP(B57,#REF!,13,0),\" \")))","v":{"$error":"#REF!"}},{"$f":"IF($D$12=0,\" \",IF(B56=$D$12,#REF!,+IF(B57>0,VLOOKUP(B57,#REF!,14,0),\" \")))","v":{"$error":"#REF!"}},{"$f":"IF($D$12=0,\" \",IF(B56=$D$12,#REF!,+IF(B57>0,VLOOKUP(B57,#REF!,15,0),\" \")))","v":{"$error":"#REF!"}},{"$f":"IF($D$12=0,\" \",IF(B56=$D$12,Simulador_v2!$T$32,+IF(B57>0,VLOOKUP(B57,Simulador_v2!$A$33:$AJ$273,20,0),\" \")))","v":2391.8000000000002},{"$f":"IF($D$12=0,\" \",IF(B56=$D$12,#REF!,+IF(B57>0,VLOOKUP(B57,#REF!,20,0),\" \")))","v":{"$error":"#REF!"}},{"$f":"IF($D$12=0,\" \",IF(B56=$D$12,#REF!,+IF(B57>0,VLOOKUP(B57,#REF!,22,0),\" \")))","v":{"$error":"#REF!"}},{"$f":"IF($D$12=0,\" \",IF(B56=$D$12,#REF!,+IF(B57>0,VLOOKUP(B57,#REF!,23,0),\" \")))","v":{"$error":"#REF!"}}]
[null,41,{"$f":"IF($D$12=0,\" \",IF(B57=$D$12,\"TOTALES\",+IF(B58>0,VLOOKUP(B58,#REF!,3,0),\" \")))","v":{"$error":"#REF!"}},{"$f":"IF($D$12=0,\" \",IF(B57=$D$12,#REF!,+IF(B58>0,VLOOKUP(B58,#REF!,13,0),\" \")))","v":{"$error":"#REF!"}},{"$f":"IF($D$12=0,\" \",IF(B57=$D$12,#REF!,+IF(B58>0,VLOOKUP(B58,#REF!,14,0),\" \")))","v":{"$error":"#REF!"}},{"$f":"IF($D$12=0,\" \",IF(B57=$D$12,#REF!,+IF(B58>0,VLOOKUP(B58,#REF!,15,0),\" \")))","v":{"$error":"#REF!"}},{"$f":"IF($D$12=0,\" \",IF(B57=$D$12,Simulador_v2!$T$32,+IF(B58>0,VLOOKUP(B58,Simulador_v2!$A$33:$AJ$273,20,0),\" \")))","v":2366.81},{"$f":"IF($D$12=0,\" \",IF(B57=$D$12,#REF!,+IF(B58>0,VLOOKUP(B58,#REF!,20,0),\" \")))","v":{"$error":"#REF!"}},{"$f":"IF($D$12=0,\" \",IF(B57=$D$12,#REF!,+IF(B58>0,VLOOKUP(B58,#REF!,22,0),\" \")))","v":{"$error":"#REF!"}},{"$f":"IF($D$12=0,\" \",IF(B57=$D$12,#REF!,+IF(B58>0,VLOOKUP(B58,#REF!,23,0),\" \")))","v":{"$error":"#REF!"}}]
[null,42,{"$f":"IF($D$12=0,\" \",IF(B58=$D$12,\"TOTALES\",+IF(B59>0,VLOOKUP(B59,#REF!,3,0),\" \")))","v":{"$error":"#REF!"}},{"$f":"IF($D$12=0,\" \",IF(B58=$D$12,#REF!,+IF(B59>0,VLOOKUP(B59,#REF!,13,0),\" \")))","v":{"$error":"#REF!"}},{"$f":"IF($D$12=0,\" \",IF(B58=$D$12,#REF!,+IF(B59>0,VLOOKUP(B59,#REF!,14,0),\" \")))","v":{"$error":"#REF!"}},{"$f":"IF($D$12=0,\" \",IF(B58=$D$12,#REF!,+IF(B59>0,VLOOKUP(B59,#REF!,15,0),\" \")))","v":{"$error":"#REF!"}},{"$f":"IF($D$12=0,\" \",IF(B58=$D$12,Simulador_v2!$T$32,+IF(B59>0,VLOOKUP(B59,Simulador_v2!$A$33:$AJ$273,20,0),\" \")))","v":2114.77},{"$f":"IF($D$12=0,\" \",IF(B58=$D$12,#REF!,+IF(B59>0,VLOOKUP(B59,#REF!,20,0),\" \")))","v":{"$error":"#REF!"}},{"$f":"IF($D$12=0,\" \",IF(B58=$D$12,#REF!,+IF(B59>0,VLOOKUP(B59,#REF!,22,0),\" \")))","v":{"$error":"#REF!"}},{"$f":"IF($D$12=0,\" \",IF(B58=$D$12,#REF!,+IF(B59>0,VLOOKUP(B59,#REF!,23,0),\" \")))","v":{"$error":"#REF!"}}]
[null,43,{"$f":"IF($D$12=0,\" \",IF(B59=$D$12,\"TOTALES\",+IF(B60>0,VLOOKUP(B60,#REF!,3,0),\" \")))","v":{"$error":"#REF!"}},{"$f":"IF($D$12=0,\" \",IF(B59=$D$12,#REF!,+IF(B60>0,VLOOKUP(B60,#REF!,13,0),\" \")))","v":{"$error":"#REF!"}},{"$f":"IF($D$12=0,\" \",IF(B59=$D$12,#REF!,+IF(B60>0,VLOOKUP(B60,#REF!,14,0),\" \")))","v":{"$error":"#REF!"}},{"$f":"IF($D$12=0,\" \",IF(B59=$D$12,#REF!,+IF(B60>0,VLOOKUP(B60,#REF!,15,0),\" \")))","v":{"$error":"#REF!"}},{"$f":"IF($D$12=0,\" \",IF(B59=$D$12,Simulador_v2!$T$32,+IF(B60>0,VLOOKUP(B60,Simulador_v2!$A$33:$AJ$273,20,0),\" \")))","v":2311.0700000000002},{"$f":"IF($D$12=0,\" \",IF(B59=$D$12,#REF!,+IF(B60>0,VLOOKUP(B60,#REF!,20,0),\" \")))","v":{"$error":"#REF!"}},{"$f":"IF($D$12=0,\" \",IF(B59=$D$12,#REF!,+IF(B60>0,VLOOKUP(B60,#REF!,22,0),\" \")))","v":{"$error":"#REF!"}},{"$f":"IF($D$12=0,\" \",IF(B59=$D$12,#REF!,+IF(B60>0,VLOOKUP(B60,#REF!,23,0),\" \")))","v":{"$error":"#REF!"}}]
[null,44,{"$f":"IF($D$12=0,\" \",IF(B60=$D$12,\"TOTALES\",+IF(B61>0,VLOOKUP(B61,#REF!,3,0),\" \")))","v":{"$error":"#REF!"}},{"$f":"IF($D$12=0,\" \",IF(B60=$D$12,#REF!,+IF(B61>0,VLOOKUP(B61,#REF!,13,0),\" \")))","v":{"$error":"#REF!"}},{"$f":"IF($D$12=0,\" \",IF(B60=$D$12,#REF!,+IF(B61>0,VLOOKUP(B61,#REF!,14,0),\" \")))","v":{"$error":"#REF!"}},{"$f":"IF($D$12=0,\" \",IF(B60=$D$12,#REF!,+IF(B61>0,VLOOKUP(B61,#REF!,15,0),\" \")))","v":{"$error":"#REF!"}},{"$f":"IF($D$12=0,\" \",IF(B60=$D$12,Simulador_v2!$T$32,+IF(B61>0,VLOOKUP(B61,Simulador_v2!$A$33:$AJ$273,20,0),\" \")))","v":2210.86},{"$f":"IF($D$12=0,\" \",IF(B60=$D$12,#REF!,+IF(B61>0,VLOOKUP(B61,#REF!,20,0),\" \")))","v":{"$error":"#REF!"}},{"$f":"IF($D$12=0,\" \",IF(B60=$D$12,#REF!,+IF(B61>0,VLOOKUP(B61,#REF!,22,0),\" \")))","v":{"$error":"#REF!"}},{"$f":"IF($D$12=0,\" \",IF(B60=$D$12,#REF!,+IF(B61>0,VLOOKUP(B61,#REF!,23,0),\" \")))","v":{"$error":"#REF!"}}]
[null,45,{"$f":"IF($D$12=0,\" \",IF(B61=$D$12,\"TOTALES\",+IF(B62>0,VLOOKUP(B62,#REF!,3,0),\" \")))","v":{"$error":"#REF!"}},{"$f":"IF($D$12=0,\" \",IF(B61=$D$12,#REF!,+IF(B62>0,VLOOKUP(B62,#REF!,13,0),\" \")))","v":{"$error":"#REF!"}},{"$f":"IF($D$12=0,\" \",IF(B61=$D$12,#REF!,+IF(B62>0,VLOOKUP(B62,#REF!,14,0),\" \")))","v":{"$error":"#REF!"}},{"$f":"IF($D$12=0,\" \",IF(B61=$D$12,#REF!,+IF(B62>0,VLOOKUP(B62,#REF!,15,0),\" \")))","v":{"$error":"#REF!"}},{"$f":"IF($D$12=0,\" \",IF(B61=$D$12,Simulador_v2!$T$32,+IF(B62>0,VLOOKUP(B62,Simulador_v2!$A$33:$AJ$273,20,0),\" \")))","v":2256.12},{"$f":"IF($D$12=0,\" \",IF(B61=$D$12,#REF!,+IF(B62>0,VLOOKUP(B62,#REF!,20,0),\" \")))","v":{"$error":"#REF!"}},{"$f":"IF($D$12=0,\" \",IF(B61=$D$12,#REF!,+IF(B62>0,VLOOKUP(B62,#REF!,22,0),\" \")))","v":{"$error":"#REF!"}},{"$f":"IF($D$12=0,\" \",IF(B61=$D$12,#REF!,+IF(B62>0,VLOOKUP(B62,#REF!,23,0),\" \")))","v":{"$error":"#REF!"}}]
[null,46,{"$f":"IF($D$12=0,\" \",IF(B62=$D$12,\"TOTALES\",+IF(B63>0,VLOOKUP(B63,#REF!,3,0),\" \")))","v":{"$error":"#REF!"}},{"$f":"IF($D$12=0,\" \",IF(B62=$D$12,#REF!,+IF(B63>0,VLOOKUP(B63,#REF!,13,0),\" \")))","v":{"$error":"#REF!"}},{"$f":"IF($D$12=0,\" \",IF(B62=$D$12,#REF!,+IF(B63>0,VLOOKUP(B63,#REF!,14,0),\" \")))","v":{"$error":"#REF!"}},{"$f":"IF($D$12=0,\" \",IF(B62=$D$12,#REF!,+IF(B63>0,VLOOKUP(B63,#REF!,15,0),\" \")))","v":{"$error":"#REF!"}},{"$f":"IF($D$12=0,\" \",IF(B62=$D$12,Simulador_v2!$T$32,+IF(B63>0,VLOOKUP(B63,Simulador_v2!$A$33:$AJ$273,20,0),\" \")))","v":2156.66},{"$f":"IF($D$12=0,\" \",IF(B62=$D$12,#REF!,+IF(B63>0,VLOOKUP(B63,#REF!,20,0),\" \")))","v":{"$error":"#REF!"}},{"$f":"IF($D$12=0,\" \",IF(B62=$D$12,#REF!,+IF(B63>0,VLOOKUP(B63,#REF!,22,0),\" \")))","v":{"$error":"#REF!"}},{"$f":"IF($D$12=0,\" \",IF(B62=$D$12,#REF!,+IF(B63>0,VLOOKUP(B63,#REF!,23,0),\" \")))","v":{"$error":"#REF!"}}]
[null,47,{"$f":"IF($D$12=0,\" \",IF(B63=$D$12,\"TOTALES\",+IF(B64>0,VLOOKUP(B64,#REF!,3,0),\" \")))","v":{"$error":"#REF!"}},{"$f":"IF($D$12=0,\" \",IF(B63=$D$12,#REF!,+IF(B64>0,VLOOKUP(B64,#REF!,13,0),\" \")))","v":{"$error":"#REF!"}},{"$f":"IF($D$12=0,\" \",IF(B63=$D$12,#REF!,+IF(B64>0,VLOOKUP(B64,#REF!,14,0),\" \")))","v":{"$error":"#REF!"}},{"$f":"IF($D$12=0,\" \",IF(B63=$D$12,#REF!,+IF(B64>0,VLOOKUP(B64,#REF!,15,0),\" \")))","v":{"$error":"#REF!"}},{"$f":"IF($D$12=0,\" \",IF(B63=$D$12,Simulador_v2!$T$32,+IF(B64>0,VLOOKUP(B64,Simulador_v2!$A$33:$AJ$273,20,0),\" \")))","v":2199.09},{"$f":"IF($D$12=0,\" \",IF(B63=$D$12,#REF!,+IF(B64>0,VLOOKUP(B64,#REF!,20,0),\" \")))","v":{"$error":"#REF!"}},{"$f":"IF($D$12=0,\" \",IF(B63=$D$12,#REF!,+IF(B64>0,VLOOKUP(B64,#REF!,22,0),\" \")))","v":{"$error":"#REF!"}},{"$f":"IF($D$12=0,\" \",IF(B63=$D$12,#REF!,+IF(B64>0,VLOOKUP(B64,#REF!,23,0),\" \")))","v":{"$error":"#REF!"}}]
[null,48,{"$f":"IF($D$12=0,\" \",IF(B64=$D$12,\"TOTALES\",+IF(B65>0,VLOOKUP(B65,#REF!,3,0),\" \")))","v":{"$error":"#REF!"}},{"$f":"IF($D$12=0,\" \",IF(B64=$D$12,#REF!,+IF(B65>0,VLOOKUP(B65,#REF!,13,0),\" \")))","v":{"$error":"#REF!"}},{"$f":"IF($D$12=0,\" \",IF(B64=$D$12,#REF!,+IF(B65>0,VLOOKUP(B65,#REF!,14,0),\" \")))","v":{"$error":"#REF!"}},{"$f":"IF($D$12=0,\" \",IF(B64=$D$12,#REF!,+IF(B65>0,VLOOKUP(B65,#REF!,15,0),\" \")))","v":{"$error":"#REF!"}},{"$f":"IF($D$12=0,\" \",IF(B64=$D$12,Simulador_v2!$T$32,+IF(B65>0,VLOOKUP(B65,Simulador_v2!$A$33:$AJ$273,20,0),\" \")))","v":2170.44},{"$f":"IF($D$12=0,\" \",IF(B64=$D$12,#REF!,+IF(B65>0,VLOOKUP(B65,#REF!,20,0),\" \")))","v":{"$error":"#REF!"}},{"$f":"IF($D$12=0,\" \",IF(B64=$D$12,#REF!,+IF(B65>0,VLOOKUP(B65,#REF!,22,0),\" \")))","v":{"$error":"#REF!"}},{"$f":"IF($D$12=0,\" \",IF(B64=$D$12,#REF!,+IF(B65>0,VLOOKUP(B65,#REF!,23,0),\" \")))","v":{"$error":"#REF!"}}]
[null,49,{"$f":"IF($D$12=0,\" \",IF(B65=$D$12,\"TOTALES\",+IF(B66>0,VLOOKUP(B66,#REF!,3,0),\" \")))","v":{"$error":"#REF!"}},{"$f":"IF($D$12=0,\" \",IF(B65=$D$12,#REF!,+IF(B66>0,VLOOKUP(B66,#REF!,13,0),\" \")))","v":{"$error":"#REF!"}},{"$f":"IF($D$12=0,\" \",IF(B65=$D$12,#REF!,+IF(B66>0,VLOOKUP(B66,#REF!,14,0),\" \")))","v":{"$error":"#REF!"}},{"$f":"IF($D$12=0,\" \",IF(B65=$D$12,#REF!,+IF(B66>0,VLOOKUP(B66,#REF!,15,0),\" \")))","v":{"$error":"#REF!"}},{"$f":"IF($D$12=0,\" \",IF(B65=$D$12,Simulador_v2!$T$32,+IF(B66>0,VLOOKUP(B66,Simulador_v2!$A$33:$AJ$273,20,0),\" \")))","v":2072.17},{"$f":"IF($D$12=0,\" \",IF(B65=$D$12,#REF!,+IF(B66>0,VLOOKUP(B66,#REF!,20,0),\" \")))","v":{"$error":"#REF!"}},{"$f":"IF($D$12=0,\" \",IF(B65=$D$12,#REF!,+IF(B66>0,VLOOKUP(B66,#REF!,22,0),\" \")))","v":{"$error":"#REF!"}},{"$f":"IF($D$12=0,\" \",IF(B65=$D$12,#REF!,+IF(B66>0,VLOOKUP(B66,#REF!,23,0),\" \")))","v":{"$error":"#REF!"}}]
[null,50,{"$f":"IF($D$12=0,\" \",IF(B66=$D$12,\"TOTALES\",+IF(B67>0,VLOOKUP(B67,#REF!,3,0),\" \")))","v":{"$error":"#REF!"}},{"$f":"IF($D$12=0,\" \",IF(B66=$D$12,#REF!,+IF(B67>0,VLOOKUP(B67,#REF!,13,0),\" \")))","v":{"$error":"#REF!"}},{"$f":"IF($D$12=0,\" \",IF(B66=$D$12,#REF!,+IF(B67>0,VLOOKUP(B67,#REF!,14,0),\" \")))","v":{"$error":"#REF!"}},{"$f":"IF($D$12=0,\" \",IF(B66=$D$12,#REF!,+IF(B67>0,VLOOKUP(B67,#REF!,15,0),\" \")))","v":{"$error":"#REF!"}},{"$f":"IF($D$12=0,\" \",IF(B66=$D$12,Simulador_v2!$T$32,+IF(B67>0,VLOOKUP(B67,Simulador_v2!$A$33:$AJ$273,20,0),\" \")))","v":2110.1799999999998},{"$f":"IF($D$12=0,\" \",IF(B66=$D$12,#REF!,+IF(B67>0,VLOOKUP(B67,#REF!,20,0),\" \")))","v":{"$error":"#REF!"}},{"$f":"IF($D$12=0,\" \",IF(B66=$D$12,#REF!,+IF(B67>0,VLOOKUP(B67,#REF!,22,0),\" \")))","v":{"$error":"#REF!"}},{"$f":"IF($D$12=0,\" \",IF(B66=$D$12,#REF!,+IF(B67>0,VLOOKUP(B67,#REF!,23,0),\" \")))","v":{"$error":"#REF!"}}]
[null,51,{"$f":"IF($D$12=0,\" \",IF(B67=$D$12,\"TOTALES\",+IF(B68>0,VLOOKUP(B68,#REF!,3,0),\" \")))","v":{"$error":"#REF!"}},{"$f":"IF($D$12=0,\" \",IF(B67=$D$12,#REF!,+IF(B68>0,VLOOKUP(B68,#REF!,13,0),\" \")))","v":{"$error":"#REF!"}},{"$f":"IF($D$12=0,\" \",IF(B67=$D$12,#REF!,+IF(B68>0,VLOOKUP(B68,#REF!,14,0),\" \")))","v":{"$error":"#REF!"}},{"$f":"IF($D$12=0,\" \",IF(B67=$D$12,#REF!,+IF(B68>0,VLOOKUP(B68,#REF!,15,0),\" \")))","v":{"$error":"#REF!"}},{"$f":"IF($D$12=0,\" \",IF(B67=$D$12,Simulador_v2!$T$32,+IF(B68>0,VLOOKUP(B68,Simulador_v2!$A$33:$AJ$273,20,0),\" \")))","v":2012.75},{"$f":"IF($D$12=0,\" \",IF(B67=$D$12,#REF!,+IF(B68>0,VLOOKUP(B68,#REF!,20,0),\" \")))","v":{"$error":"#REF!"}},{"$f":"IF($D$12=0,\" \",IF(B67=$D$12,#REF!,+IF(B68>0,VLOOKUP(B68,#REF!,22,0),\" \")))","v":{"$error":"#REF!"}},{"$f":"IF($D$12=0,\" \",IF(B67=$D$12,#REF!,+IF(B68>0,VLOOKUP(B68,#REF!,23,0),\" \")))","v":{"$error":"#REF!"}}]
[null,52,{"$f":"IF($D$12=0,\" \",IF(B68=$D$12,\"TOTALES\",+IF(B69>0,VLOOKUP(B69,#REF!,3,0),\" \")))","v":{"$error":"#REF!"}},{"$f":"IF($D$12=0,\" \",IF(B68=$D$12,#REF!,+IF(B69>0,VLOOKUP(B69,#REF!,13,0),\" \")))","v":{"$error":"#REF!"}},{"$f":"IF($D$12=0,\" \",IF(B68=$D$12,#REF!,+IF(B69>0,VLOOKUP(B69,#REF!,14,0),\" \")))","v":{"$error":"#REF!"}},{"$f":"IF($D$12=0,\" \",IF(B68=$D$12,#REF!,+IF(B69>0,VLOOKUP(B69,#REF!,15,0),\" \")))","v":{"$error":"#REF!"}},{"$f":"IF($D$12=0,\" \",IF(B68=$D$12,Simulador_v2!$T$32,+IF(B69>0,VLOOKUP(B69,Simulador_v2!$A$33:$AJ$273,20,0),\" \")))","v":2047.64},{"$f":"IF($D$12=0,\" \",IF(B68=$D$12,#REF!,+IF(B69>0,VLOOKUP(B69,#REF!,20,0),\" \")))","v":{"$error":"#REF!"}},{"$f":"IF($D$12=0,\" \",IF(B68=$D$12,#REF!,+IF(B69>0,VLOOKUP(B69,#REF!,22,0),\" \")))","v":{"$error":"#REF!"}},{"$f":"IF($D$12=0,\" \",IF(B68=$D$12,#REF!,+IF(B69>0,VLOOKUP(B69,#REF!,23,0),\" \")))","v":{"$error":"#REF!"}}]
[null,53,{"$f":"IF($D$12=0,\" \",IF(B69=$D$12,\"TOTALES\",+IF(B70>0,VLOOKUP(B70,#REF!,3,0),\" \")))","v":{"$error":"#REF!"}},{"$f":"IF($D$12=0,\" \",IF(B69=$D$12,#REF!,+IF(B70>0,VLOOKUP(B70,#REF!,13,0),\" \")))","v":{"$error":"#REF!"}},{"$f":"IF($D$12=0,\" \",IF(B69=$D$12,#REF!,+IF(B70>0,VLOOKUP(B70,#REF!,14,0),\" \")))","v":{"$error":"#REF!"}},{"$f":"IF($D$12=0,\" \",IF(B69=$D$12,#REF!,+IF(B70>0,VLOOKUP(B70,#REF!,15,0),\" \")))","v":{"$error":"#REF!"}},{"$f":"IF($D$12=0,\" \",IF(B69=$D$12,Simulador_v2!$T$32,+IF(B70>0,VLOOKUP(B70,Simulador_v2!$A$33:$AJ$273,20,0),\" \")))","v":2016.12},{"$f":"IF($D$12=0,\" \",IF(B69=$D$12,#REF!,+IF(B70>0,VLOOKUP(B70,#REF!,20,0),\" \")))","v":{"$error":"#REF!"}},{"$f":"IF($D$12=0,\" \",IF(B69=$D$12,#REF!,+IF(B70>0,VLOOKUP(B70,#REF!,22,0),\" \")))","v":{"$error":"#REF!"}},{"$f":"IF($D$12=0,\" \",IF(B69=$D$12,#REF!,+IF(B70>0,VLOOKUP(B70,#REF!,23,0),\" \")))","v":{"$error":"#REF!"}}]
[null,54,{"$f":"IF($D$12=0,\" \",IF(B70=$D$12,\"TOTALES\",+IF(B71>0,VLOOKUP(B71,#REF!,3,0),\" \")))","v":{"$error":"#REF!"}},{"$f":"IF($D$12=0,\" \",IF(B70=$D$12,#REF!,+IF(B71>0,VLOOKUP(B71,#REF!,13,0),\" \")))","v":{"$error":"#REF!"}},{"$f":"IF($D$12=0,\" \",IF(B70=$D$12,#REF!,+IF(B71>0,VLOOKUP(B71,#REF!,14,0),\" \")))","v":{"$error":"#REF!"}},{"$f":"IF($D$12=0,\" \",IF(B70=$D$12,#REF!,+IF(B71>0,VLOOKUP(B71,#REF!,15,0),\" \")))","v":{"$error":"#REF!"}},{"$f":"IF($D$12=0,\" \",IF(B70=$D$12,Simulador_v2!$T$32,+IF(B71>0,VLOOKUP(B71,Simulador_v2!$A$33:$AJ$273,20,0),\" \")))","v":1792},{"$f":"IF($D$12=0,\" \",IF(B70=$D$12,#REF!,+IF(B71>0,VLOOKUP(B71,#REF!,20,0),\" \")))","v":{"$error":"#REF!"}},{"$f":"IF($D$12=0,\" \",IF(B70=$D$12,#REF!,+IF(B71>0,VLOOKUP(B71,#REF!,22,0),\" \")))","v":{"$error":"#REF!"}},{"$f":"IF($D$12=0,\" \",IF(B70=$D$12,#REF!,+IF(B71>0,VLOOKUP(B71,#REF!,23,0),\" \")))","v":{"$error":"#REF!"}}]
[null,55,{"$f":"IF($D$12=0,\" \",IF(B71=$D$12,\"TOTALES\",+IF(B72>0,VLOOKUP(B72,#REF!,3,0),\" \")))","v":{"$error":"#REF!"}},{"$f":"IF($D$12=0,\" \",IF(B71=$D$12,#REF!,+IF(B72>0,VLOOKUP(B72,#REF!,13,0),\" \")))","v":{"$error":"#REF!"}},{"$f":"IF($D$12=0,\" \",IF(B71=$D$12,#REF!,+IF(B72>0,VLOOKUP(B72,#REF!,14,0),\" \")))","v":{"$error":"#REF!"}},{"$f":"IF($D$12=0,\" \",IF(B71=$D$12,#REF!,+IF(B72>0,VLOOKUP(B72,#REF!,15,0),\" \")))","v":{"$error":"#REF!"}},{"$f":"IF($D$12=0,\" \",IF(B71=$D$12,Simulador_v2!$T$32,+IF(B72>0,VLOOKUP(B72,Simulador_v2!$A$33:$AJ$273,20,0),\" \")))","v":1947.6},{"$f":"IF($D$12=0,\" \",IF(B71=$D$12,#REF!,+IF(B72>0,VLOOKUP(B72,#REF!,20,0),\" \")))","v":{"$error":"#REF!"}},{"$f":"IF($D$12=0,\" \",IF(B71=$D$12,#REF!,+IF(B72>0,VLOOKUP(B72,#REF!,22,0),\" \")))","v":{"$error":"#REF!"}},{"$f":"IF($D$12=0,\" \",IF(B71=$D$12,#REF!,+IF(B72>0,VLOOKUP(B72,#REF!,23,0),\" \")))","v":{"$error":"#REF!"}}]
[null,56,{"$f":"IF($D$12=0,\" \",IF(B72=$D$12,\"TOTALES\",+IF(B73>0,VLOOKUP(B73,#REF!,3,0),\" \")))","v":{"$error":"#REF!"}},{"$f":"IF($D$12=0,\" \",IF(B72=$D$12,#REF!,+IF(B73>0,VLOOKUP(B73,#REF!,13,0),\" \")))","v":{"$error":"#REF!"}},{"$f":"IF($D$12=0,\" \",IF(B72=$D$12,#REF!,+IF(B73>0,VLOOKUP(B73,#REF!,14,0),\" \")))","v":{"$error":"#REF!"}},{"$f":"IF($D$12=0,\" \",IF(B72=$D$12,#REF!,+IF(B73>0,VLOOKUP(B73,#REF!,15,0),\" \")))","v":{"$error":"#REF!"}},{"$f":"IF($D$12=0,\" \",IF(B72=$D$12,Simulador_v2!$T$32,+IF(B73>0,VLOOKUP(B73,Simulador_v2!$A$33:$AJ$273,20,0),\" \")))","v":1852.43},{"$f":"IF($D$12=0,\" \",IF(B72=$D$12,#REF!,+IF(B73>0,VLOOKUP(B73,#REF!,20,0),\" \")))","v":{"$error":"#REF!"}},{"$f":"IF($D$12=0,\" \",IF(B72=$D$12,#REF!,+IF(B73>0,VLOOKUP(B73,#REF!,22,0),\" \")))","v":{"$error":"#REF!"}},{"$f":"IF($D$12=0,\" \",IF(B72=$D$12,#REF!,+IF(B73>0,VLOOKUP(B73,#REF!,23,0),\" \")))","v":{"$error":"#REF!"}}]
[null,57,{"$f":"IF($D$12=0,\" \",IF(B73=$D$12,\"TOTALES\",+IF(B74>0,VLOOKUP(B74,#REF!,3,0),\" \")))","v":{"$error":"#REF!"}},{"$f":"IF($D$12=0,\" \",IF(B73=$D$12,#REF!,+IF(B74>0,VLOOKUP(B74,#REF!,13,0),\" \")))","v":{"$error":"#REF!"}},{"$f":"IF($D$12=0,\" \",IF(B73=$D$12,#REF!,+IF(B74>0,VLOOKUP(B74,#REF!,14,0),\" \")))","v":{"$error":"#REF!"}},{"$f":"IF($D$12=0,\" \",IF(B73=$D$12,#REF!,+IF(B74>0,VLOOKUP(B74,#REF!,15,0),\" \")))","v":{"$error":"#REF!"}},{"$f":"IF($D$12=0,\" \",IF(B73=$D$12,Simulador_v2!$T$32,+IF(B74>0,VLOOKUP(B74,Simulador_v2!$A$33:$AJ$273,20,0),\" \")))","v":1878.93},{"$f":"IF($D$12=0,\" \",IF(B73=$D$12,#REF!,+IF(B74>0,VLOOKUP(B74,#REF!,20,0),\" \")))","v":{"$error":"#REF!"}},{"$f":"IF($D$12=0,\" \",IF(B73=$D$12,#REF!,+IF(B74>0,VLOOKUP(B74,#REF!,22,0),\" \")))","v":{"$error":"#REF!"}},{"$f":"IF($D$12=0,\" \",IF(B73=$D$12,#REF!,+IF(B74>0,VLOOKUP(B74,#REF!,23,0),\" \")))","v":{"$error":"#REF!"}}]
[null,58,{"$f":"IF($D$12=0,\" \",IF(B74=$D$12,\"TOTALES\",+IF(B75>0,VLOOKUP(B75,#REF!,3,0),\" \")))","v":{"$error":"#REF!"}},{"$f":"IF($D$12=0,\" \",IF(B74=$D$12,#REF!,+IF(B75>0,VLOOKUP(B75,#REF!,13,0),\" \")))","v":{"$error":"#REF!"}},{"$f":"IF($D$12=0,\" \",IF(B74=$D$12,#REF!,+IF(B75>0,VLOOKUP(B75,#REF!,14,0),\" \")))","v":{"$error":"#REF!"}},{"$f":"IF($D$12=0,\" \",IF(B74=$D$12,#REF!,+IF(B75>0,VLOOKUP(B75,#REF!,15,0),\" \")))","v":{"$error":"#REF!"}},{"$f":"IF($D$12=0,\" \",IF(B74=$D$12,Simulador_v2!$T$32,+IF(B75>0,VLOOKUP(B75,Simulador_v2!$A$33:$AJ$273,20,0),\" \")))","v":1784.72},{"$f":"IF($D$12=0,\" \",IF(B74=$D$12,#REF!,+IF(B75>0,VLOOKUP(B75,#REF!,20,0),\" \")))","v":{"$error":"#REF!"}},{"$f":"IF($D$12=0,\" \",IF(B74=$D$12,#REF!,+IF(B75>0,VLOOKUP(B75,#REF!,22,0),\" \")))","v":{"$error":"#REF!"}},{"$f":"IF($D$12=0,\" \",IF(B74=$D$12,#REF!,+IF(B75>0,VLOOKUP(B75,#REF!,23,0),\" \")))","v":{"$error":"#REF!"}}]
[null,59,{"$f":"IF($D$12=0,\" \",IF(B75=$D$12,\"TOTALES\",+IF(B76>0,VLOOKUP(B76,#REF!,3,0),\" \")))","v":{"$error":"#REF!"}},{"$f":"IF($D$12=0,\" \",IF(B75=$D$12,#REF!,+IF(B76>0,VLOOKUP(B76,#REF!,13,0),\" \")))","v":{"$error":"#REF!"}},{"$f":"IF($D$12=0,\" \",IF(B75=$D$12,#REF!,+IF(B76>0,VLOOKUP(B76,#REF!,14,0),\" \")))","v":{"$error":"#REF!"}},{"$f":"IF($D$12=0,\" \",IF(B75=$D$12,#REF!,+IF(B76>0,VLOOKUP(B76,#REF!,15,0),\" \")))","v":{"$error":"#REF!"}},{"$f":"IF($D$12=0,\" \",IF(B75=$D$12,Simulador_v2!$T$32,+IF(B76>0,VLOOKUP(B76,Simulador_v2!$A$33:$AJ$273,20,0),\" \")))","v":1807.68},{"$f":"IF($D$12=0,\" \",IF(B75=$D$12,#REF!,+IF(B76>0,VLOOKUP(B76,#REF!,20,0),\" \")))","v":{"$error":"#REF!"}},{"$f":"IF($D$12=0,\" \",IF(B75=$D$12,#REF!,+IF(B76>0,VLOOKUP(B76,#REF!,22,0),\" \")))","v":{"$error":"#REF!"}},{"$f":"IF($D$12=0,\" \",IF(B75=$D$12,#REF!,+IF(B76>0,VLOOKUP(B76,#REF!,23,0),\" \")))","v":{"$error":"#REF!"}}]
[null,60,{"$f":"IF($D$12=0,\" \",IF(B76=$D$12,\"TOTALES\",+IF(B77>0,VLOOKUP(B77,#REF!,3,0),\" \")))","v":{"$error":"#REF!"}},{"$f":"IF($D$12=0,\" \",IF(B76=$D$12,#REF!,+IF(B77>0,VLOOKUP(B77,#REF!,13,0),\" \")))","v":{"$error":"#REF!"}},{"$f":"IF($D$12=0,\" \",IF(B76=$D$12,#REF!,+IF(B77>0,VLOOKUP(B77,#REF!,14,0),\" \")))","v":{"$error":"#REF!"}},{"$f":"IF($D$12=0,\" \",IF(B76=$D$12,#REF!,+IF(B77>0,VLOOKUP(B77,#REF!,15,0),\" \")))","v":{"$error":"#REF!"}},{"$f":"IF($D$12=0,\" \",IF(B76=$D$12,Simulador_v2!$T$32,+IF(B77>0,VLOOKUP(B77,Simulador_v2!$A$33:$AJ$273,20,0),\" \")))","v":1771.6},{"$f":"IF($D$12=0,\" \",IF(B76=$D$12,#REF!,+IF(B77>0,VLOOKUP(B77,#REF!,20,0),\" \")))","v":{"$error":"#REF!"}},{"$f":"IF($D$12=0,\" \",IF(B76=$D$12,#REF!,+IF(B77>0,VLOOKUP(B77,#REF!,22,0),\" \")))","v":{"$error":"#REF!"}},{"$f":"IF($D$12=0,\" \",IF(B76=$D$12,#REF!,+IF(B77>0,VLOOKUP(B77,#REF!,23,0),\" \")))","v":{"$error":"#REF!"}}]
[null,61,{"$f":"IF($D$12=0,\" \",IF(B77=$D$12,\"TOTALES\",+IF(B78>0,VLOOKUP(B78,#REF!,3,0),\" \")))","v":{"$error":"#REF!"}},{"$f":"IF($D$12=0,\" \",IF(B77=$D$12,#REF!,+IF(B78>0,VLOOKUP(B78,#REF!,13,0),\" \")))","v":{"$error":"#REF!"}},{"$f":"IF($D$12=0,\" \",IF(B77=$D$12,#REF!,+IF(B78>0,VLOOKUP(B78,#REF!,14,0),\" \")))","v":{"$error":"#REF!"}},{"$f":"IF($D$12=0,\" \",IF(B77=$D$12,#REF!,+IF(B78>0,VLOOKUP(B78,#REF!,15,0),\" \")))","v":{"$error":"#REF!"}},{"$f":"IF($D$12=0,\" \",IF(B77=$D$12,Simulador_v2!$T$32,+IF(B78>0,VLOOKUP(B78,Simulador_v2!$A$33:$AJ$273,20,0),\" \")))","v":1678.87},{"$f":"IF($D$12=0,\" \",IF(B77=$D$12,#REF!,+IF(B78>0,VLOOKUP(B78,#REF!,20,0),\" \")))","v":{"$error":"#REF!"}},{"$f":"IF($D$12=0,\" \",IF(B77=$D$12,#REF!,+IF(B78>0,VLOOKUP(B78,#REF!,22,0),\" \")))","v":{"$error":"#REF!"}},{"$f":"IF($D$12=0,\" \",IF(B77=$D$12,#REF!,+IF(B78>0,VLOOKUP(B78,#REF!,23,0),\" \")))","v":{"$error":"#REF!"}}]
[null,62,{"$f":"IF($D$12=0,\" \",IF(B78=$D$12,\"TOTALES\",+IF(B79>0,VLOOKUP(B79,#REF!,3,0),\" \")))","v":{"$error":"#REF!"}},{"$f":"IF($D$12=0,\" \",IF(B78=$D$12,#REF!,+IF(B79>0,VLOOKUP(B79,#REF!,13,0),\" \")))","v":{"$error":"#REF!"}},{"$f":"IF($D$12=0,\" \",IF(B78=$D$12,#REF!,+IF(B79>0,VLOOKUP(B79,#REF!,14,0),\" \")))","v":{"$error":"#REF!"}},{"$f":"IF($D$12=0,\" \",IF(B78=$D$12,#REF!,+IF(B79>0,VLOOKUP(B79,#REF!,15,0),\" \")))","v":{"$error":"#REF!"}},{"$f":"IF($D$12=0,\" \",IF(B78=$D$12,Simulador_v2!$T$32,+IF(B79>0,VLOOKUP(B79,Simulador_v2!$A$33:$AJ$273,20,0),\" \")))","v":1696.3},{"$f":"IF($D$12=0,\" \",IF(B78=$D$12,#REF!,+IF(B79>0,VLOOKUP(B79,#REF!,20,0),\" \")))","v":{"$error":"#REF!"}},{"$f":"IF($D$12=0,\" \",IF(B78=$D$12,#REF!,+IF(B79>0,VLOOKUP(B79,#REF!,22,0),\" \")))","v":{"$error":"#REF!"}},{"$f":"IF($D$12=0,\" \",IF(B78=$D$12,#REF!,+IF(B79>0,VLOOKUP(B79,#REF!,23,0),\" \")))","v":{"$error":"#REF!"}}]
[null,63,{"$f":"IF($D$12=0,\" \",IF(B79=$D$12,\"TOTALES\",+IF(B80>0,VLOOKUP(B80,#REF!,3,0),\" \")))","v":{"$error":"#REF!"}},{"$f":"IF($D$12=0,\" \",IF(B79=$D$12,#REF!,+IF(B80>0,VLOOKUP(B80,#REF!,13,0),\" \")))","v":{"$error":"#REF!"}},{"$f":"IF($D$12=0,\" \",IF(B79=$D$12,#REF!,+IF(B80>0,VLOOKUP(B80,#REF!,14,0),\" \")))","v":{"$error":"#REF!"}},{"$f":"IF($D$12=0,\" \",IF(B79=$D$12,#REF!,+IF(B80>0,VLOOKUP(B80,#REF!,15,0),\" \")))","v":{"$error":"#REF!"}},{"$f":"IF($D$12=0,\" \",IF(B79=$D$12,Simulador_v2!$T$32,+IF(B80>0,VLOOKUP(B80,Simulador_v2!$A$33:$AJ$273,20,0),\" \")))","v":1604.62},{"$f":"IF($D$12=0,\" \",IF(B79=$D$12,#REF!,+IF(B80>0,VLOOKUP(B80,#REF!,20,0),\" \")))","v":{"$error":"#REF!"}},{"$f":"IF($D$12=0,\" \",IF(B79=$D$12,#REF!,+IF(B80>0,VLOOKUP(B80,#REF!,22,0),\" \")))","v":{"$error":"#REF!"}},{"$f":"IF($D$12=0,\" \",IF(B79=$D$12,#REF!,+IF(B80>0,VLOOKUP(B80,#REF!,23,0),\" \")))","v":{"$error":"#REF!"}}]
[null,64,{"$f":"IF($D$12=0,\" \",IF(B80=$D$12,\"TOTALES\",+IF(B81>0,VLOOKUP(B81,#REF!,3,0),\" \")))","v":{"$error":"#REF!"}},{"$f":"IF($D$12=0,\" \",IF(B80=$D$12,#REF!,+IF(B81>0,VLOOKUP(B81,#REF!,13,0),\" \")))","v":{"$error":"#REF!"}},{"$f":"IF($D$12=0,\" \",IF(B80=$D$12,#REF!,+IF(B81>0,VLOOKUP(B81,#REF!,14,0),\" \")))","v":{"$error":"#REF!"}},{"$f":"IF($D$12=0,\" \",IF(B80=$D$12,#REF!,+IF(B81>0,VLOOKUP(B81,#REF!,15,0),\" \")))","v":{"$error":"#REF!"}},{"$f":"IF($D$12=0,\" \",IF(B80=$D$12,Simulador_v2!$T$32,+IF(B81>0,VLOOKUP(B81,Simulador_v2!$A$33:$AJ$273,20,0),\" \")))","v":1618.17},{"$f":"IF($D$12=0,\" \",IF(B80=$D$12,#REF!,+IF(B81>0,VLOOKUP(B81,#REF!,20,0),\" \")))","v":{"$error":"#REF!"}},{"$f":"IF($D$12=0,\" \",IF(B80=$D$12,#REF!,+IF(B81>0,VLOOKUP(B81,#REF!,22,0),\" \")))","v":{"$error":"#REF!"}},{"$f":"IF($D$12=0,\" \",IF(B80=$D$12,#REF!,+IF(B81>0,VLOOKUP(B81,#REF!,23,0),\" \")))","v":{"$error":"#REF!"}}]
[null,65,{"$f":"IF($D$12=0,\" \",IF(B81=$D$12,\"TOTALES\",+IF(B82>0,VLOOKUP(B82,#REF!,3,0),\" \")))","v":{"$error":"#REF!"}},{"$f":"IF($D$12=0,\" \",IF(B81=$D$12,#REF!,+IF(B82>0,VLOOKUP(B82,#REF!,13,0),\" \")))","v":{"$error":"#REF!"}},{"$f":"IF($D$12=0,\" \",IF(B81=$D$12,#REF!,+IF(B82>0,VLOOKUP(B82,#REF!,14,0),\" \")))","v":{"$error":"#REF!"}},{"$f":"IF($D$12=0,\" \",IF(B81=$D$12,#REF!,+IF(B82>0,VLOOKUP(B82,#REF!,15,0),\" \")))","v":{"$error":"#REF!"}},{"$f":"IF($D$12=0,\" \",IF(B81=$D$12,Simulador_v2!$T$32,+IF(B82>0,VLOOKUP(B82,Simulador_v2!$A$33:$AJ$273,20,0),\" \")))","v":1578.49},{"$f":"IF($D$12=0,\" \",IF(B81=$D$12,#REF!,+IF(B82>0,VLOOKUP(B82,#REF!,20,0),\" \")))","v":{"$error":"#REF!"}},{"$f":"IF($D$12=0,\" \",IF(B81=$D$12,#REF!,+IF(B82>0,VLOOKUP(B82,#REF!,22,0),\" \")))","v":{"$error":"#REF!"}},{"$f":"IF($D$12=0,\" \",IF(B81=$D$12,#REF!,+IF(B82>0,VLOOKUP(B82,#REF!,23,0),\" \")))","v":{"$error":"#REF!"}}]
[null,{"$f":"IF(B82=0,\" \",IF(B82>=$D$12,\"\",B82+1))","v":66},{"$f":"IF($D$12=0,\" \",IF(B82=$D$12,\"TOTALES\",+IF(B83>0,VLOOKUP(B83,#REF!,3,0),\" \")))","v":{"$error":"#REF!"}},{"$f":"IF($D$12=0,\" \",IF(B82=$D$12,#REF!,+IF(B83>0,VLOOKUP(B83,#REF!,13,0),\" \")))","v":{"$error":"#REF!"}},{"$f":"IF($D$12=0,\" \",IF(B82=$D$12,#REF!,+IF(B83>0,VLOOKUP(B83,#REF!,14,0),\" \")))","v":{"$error":"#REF!"}},{"$f":"IF($D$12=0,\" \",IF(B82=$D$12,#REF!,+IF(B83>0,VLOOKUP(B83,#REF!,15,0),\" \")))","v":{"$error":"#REF!"}},{"$f":"IF($D$12=0,\" \",IF(B82=$D$12,Simulador_v2!$T$32,+IF(B83>0,VLOOKUP(B83,Simulador_v2!$A$33:$AJ$273,20,0),\" \")))","v":1438.83},{"$f":"IF($D$12=0,\" \",IF(B82=$D$12,#REF!,+IF(B83>0,VLOOKUP(B83,#REF!,20,0),\" \")))","v":{"$error":"#REF!"}},{"$f":"IF($D$12=0,\" \",IF(B82=$D$12,#REF!,+IF(B83>0,VLOOKUP(B83,#REF!,22,0),\" \")))","v":{"$error":"#REF!"}},{"$f":"IF($D$12=0,\" \",IF(B82=$D$12,#REF!,+IF(B83>0,VLOOKUP(B83,#REF!,23,0),\" \")))","v":{"$error":"#REF!"}}]
[null,67,{"$f":"IF($D$12=0,\" \",IF(B83=$D$12,\"TOTALES\",+IF(B84>0,VLOOKUP(B84,#REF!,3,0),\" \")))","v":{"$error":"#REF!"}},{"$f":"IF($D$12=0,\" \",IF(B83=$D$12,#REF!,+IF(B84>0,VLOOKUP(B84,#REF!,13,0),\" \")))","v":{"$error":"#REF!"}},{"$f":"IF($D$12=0,\" \",IF(B83=$D$12,#REF!,+IF(B84>0,VLOOKUP(B84,#REF!,14,0),\" \")))","v":{"$error":"#REF!"}},{"$f":"IF($D$12=0,\" \",IF(B83=$D$12,#REF!,+IF(B84>0,VLOOKUP(B84,#REF!,15,0),\" \")))","v":{"$error":"#REF!"}},{"$f":"IF($D$12=0,\" \",IF(B83=$D$12,Simulador_v2!$T$32,+IF(B84>0,VLOOKUP(B84,Simulador_v2!$A$33:$AJ$273,20,0),\" \")))","v":1494.96},{"$f":"IF($D$12=0,\" \",IF(B83=$D$12,#REF!,+IF(B84>0,VLOOKUP(B84,#REF!,20,0),\" \")))","v":{"$error":"#REF!"}},{"$f":"IF($D$12=0,\" \",IF(B83=$D$12,#REF!,+IF(B84>0,VLOOKUP(B84,#REF!,22,0),\" \")))","v":{"$error":"#REF!"}},{"$f":"IF($D$12=0,\" \",IF(B83=$D$12,#REF!,+IF(B84>0,VLOOKUP(B84,#REF!,23,0),\" \")))","v":{"$error":"#REF!"}}]
[null,68,{"$f":"IF($D$12=0,\" \",IF(B84=$D$12,\"TOTALES\",+IF(B85>0,VLOOKUP(B85,#REF!,3,0),\" \")))","v":{"$error":"#REF!"}},{"$f":"IF($D$12=0,\" \",IF(B84=$D$12,#REF!,+IF(B85>0,VLOOKUP(B85,#REF!,13,0),\" \")))","v":{"$error":"#REF!"}},{"$f":"IF($D$12=0,\" \",IF(B84=$D$12,#REF!,+IF(B85>0,VLOOKUP(B85,#REF!,14,0),\" \")))","v":{"$error":"#REF!"}},{"$f":"IF($D$12=0,\" \",IF(B84=$D$12,#REF!,+IF(B85>0,VLOOKUP(B85,#REF!,15,0),\" \")))","v":{"$error":"#REF!"}},{"$f":"IF($D$12=0,\" \",IF(B84=$D$12,Simulador_v2!$T$32,+IF(B85>0,VLOOKUP(B85,Simulador_v2!$A$33:$AJ$273,20,0),\" \")))","v":1406.07},{"$f":"IF($D$12=0,\" \",IF(B84=$D$12,#REF!,+IF(B85>0,VLOOKUP(B85,#REF!,20,0),\" \")))","v":{"$error":"#REF!"}},{"$f":"IF($D$12=0,\" \",IF(B84=$D$12,#REF!,+IF(B85>0,VLOOKUP(B85,#REF!,22,0),\" \")))","v":{"$error":"#REF!"}},{"$f":"IF($D$12=0,\" \",IF(B84=$D$12,#REF!,+IF(B85>0,VLOOKUP(B85,#REF!,23,0),\" \")))","v":{"$error":"#REF!"}}]
[null,69,{"$f":"IF($D$12=0,\" \",IF(B85=$D$12,\"TOTALES\",+IF(B86>0,VLOOKUP(B86,#REF!,3,0),\" \")))","v":{"$error":"#REF!"}},{"$f":"IF($D$12=0,\" \",IF(B85=$D$12,#REF!,+IF(B86>0,VLOOKUP(B86,#REF!,13,0),\" \")))","v":{"$error":"#REF!"}},{"$f":"IF($D$12=0,\" \",IF(B85=$D$12,#REF!,+IF(B86>0,VLOOKUP(B86,#REF!,14,0),\" \")))","v":{"$error":"#REF!"}},{"$f":"IF($D$12=0,\" \",IF(B85=$D$12,#REF!,+IF(B86>0,VLOOKUP(B86,#REF!,15,0),\" \")))","v":{"$error":"#REF!"}},{"$f":"IF($D$12=0,\" \",IF(B85=$D$12,Simulador_v2!$T$32,+IF(B86>0,VLOOKUP(B86,Simulador_v2!$A$33:$AJ$273,20,0),\" \")))","v":1409.23},{"$f":"IF($D$12=0,\" \",IF(B85=$D$12,#REF!,+IF(B86>0,VLOOKUP(B86,#REF!,20,0),\" \")))","v":{"$error":"#REF!"}},{"$f":"IF($D$12=0,\" \",IF(B85=$D$12,#REF!,+IF(B86>0,VLOOKUP(B86,#REF!,22,0),\" \")))","v":{"$error":"#REF!"}},{"$f":"IF($D$12=0,\" \",IF(B85=$D$12,#REF!,+IF(B86>0,VLOOKUP(B86,#REF!,23,0),\" \")))","v":{"$error":"#REF!"}}]
[null,70,{"$f":"IF($D$12=0,\" \",IF(B86=$D$12,\"TOTALES\",+IF(B87>0,VLOOKUP(B87,#REF!,3,0),\" \")))","v":{"$error":"#REF!"}},{"$f":"IF($D$12=0,\" \",IF(B86=$D$12,#REF!,+IF(B87>0,VLOOKUP(B87,#REF!,13,0),\" \")))","v":{"$error":"#REF!"}},{"$f":"IF($D$12=0,\" \",IF(B86=$D$12,#REF!,+IF(B87>0,VLOOKUP(B87,#REF!,14,0),\" \")))","v":{"$error":"#REF!"}},{"$f":"IF($D$12=0,\" \",IF(B86=$D$12,#REF!,+IF(B87>0,VLOOKUP(B87,#REF!,15,0),\" \")))","v":{"$error":"#REF!"}},{"$f":"IF($D$12=0,\" \",IF(B86=$D$12,Simulador_v2!$T$32,+IF(B87>0,VLOOKUP(B87,Simulador_v2!$A$33:$AJ$273,20,0),\" \")))","v":1321.54},{"$f":"IF($D$12=0,\" \",IF(B86=$D$12,#REF!,+IF(B87>0,VLOOKUP(B87,#REF!,20,0),\" \")))","v":{"$error":"#REF!"}},{"$f":"IF($D$12=0,\" \",IF(B86=$D$12,#REF!,+IF(B87>0,VLOOKUP(B87,#REF!,22,0),\" \")))","v":{"$error":"#REF!"}},{"$f":"IF($D$12=0,\" \",IF(B86=$D$12,#REF!,+IF(B87>0,VLOOKUP(B87,#REF!,23,0),\" \")))","v":{"$error":"#REF!"}}]
[null,71,{"$f":"IF($D$12=0,\" \",IF(B87=$D$12,\"TOTALES\",+IF(B88>0,VLOOKUP(B88,#REF!,3,0),\" \")))","v":{"$error":"#REF!"}},{"$f":"IF($D$12=0,\" \",IF(B87=$D$12,#REF!,+IF(B88>0,VLOOKUP(B88,#REF!,13,0),\" \")))","v":{"$error":"#REF!"}},{"$f":"IF($D$12=0,\" \",IF(B87=$D$12,#REF!,+IF(B88>0,VLOOKUP(B88,#REF!,14,0),\" \")))","v":{"$error":"#REF!"}},{"$f":"IF($D$12=0,\" \",IF(B87=$D$12,#REF!,+IF(B88>0,VLOOKUP(B88,#REF!,15,0),\" \")))","v":{"$error":"#REF!"}},{"$f":"IF($D$12=0,\" \",IF(B87=$D$12,Simulador_v2!$T$32,+IF(B88>0,VLOOKUP(B88,Simulador_v2!$A$33:$AJ$273,20,0),\" \")))","v":1320.27},{"$f":"IF($D$12=0,\" \",IF(B87=$D$12,#REF!,+IF(B88>0,VLOOKUP(B88,#REF!,20,0),\" \")))","v":{"$error":"#REF!"}},{"$f":"IF($D$12=0,\" \",IF(B87=$D$12,#REF!,+IF(B88>0,VLOOKUP(B88,#REF!,22,0),\" \")))","v":{"$error":"#REF!"}},{"$f":"IF($D$12=0,\" \",IF(B87=$D$12,#REF!,+IF(B88>0,VLOOKUP(B88,#REF!,23,0),\" \")))","v":{"$error":"#REF!"}}]
[null,72,{"$f":"IF($D$12=0,\" \",IF(B88=$D$12,\"TOTALES\",+IF(B89>0,VLOOKUP(B89,#REF!,3,0),\" \")))","v":{"$error":"#REF!"}},{"$f":"IF($D$12=0,\" \",IF(B88=$D$12,#REF!,+IF(B89>0,VLOOKUP(B89,#REF!,13,0),\" \")))","v":{"$error":"#REF!"}},{"$f":"IF($D$12=0,\" \",IF(B88=$D$12,#REF!,+IF(B89>0,VLOOKUP(B89,#REF!,14,0),\" \")))","v":{"$error":"#REF!"}},{"$f":"IF($D$12=0,\" \",IF(B88=$D$12,#REF!,+IF(B89>0,VLOOKUP(B89,#REF!,15,0),\" \")))","v":{"$error":"#REF!"}},{"$f":"IF($D$12=0,\" \",IF(B88=$D$12,Simulador_v2!$T$32,+IF(B89>0,VLOOKUP(B89,Simulador_v2!$A$33:$AJ$273,20,0),\" \")))","v":1274.94},{"$f":"IF($D$12=0,\" \",IF(B88=$D$12,#REF!,+IF(B89>0,VLOOKUP(B89,#REF!,20,0),\" \")))","v":{"$error":"#REF!"}},{"$f":"IF($D$12=0,\" \",IF(B88=$D$12,#REF!,+IF(B89>0,VLOOKUP(B89,#REF!,22,0),\" \")))","v":{"$error":"#REF!"}},{"$f":"IF($D$12=0,\" \",IF(B88=$D$12,#REF!,+IF(B89>0,VLOOKUP(B89,#REF!,23,0),\" \")))","v":{"$error":"#REF!"}}]
[null,73,{"$f":"IF($D$12=0,\" \",IF(B89=$D$12,\"TOTALES\",+IF(B90>0,VLOOKUP(B90,#REF!,3,0),\" \")))","v":{"$error":"#REF!"}},{"$f":"IF($D$12=0,\" \",IF(B89=$D$12,#REF!,+IF(B90>0,VLOOKUP(B90,#REF!,13,0),\" \")))","v":{"$error":"#REF!"}},{"$f":"IF($D$12=0,\" \",IF(B89=$D$12,#REF!,+IF(B90>0,VLOOKUP(B90,#REF!,14,0),\" \")))","v":{"$error":"#REF!"}},{"$f":"IF($D$12=0,\" \",IF(B89=$D$12,#REF!,+IF(B90>0,VLOOKUP(B90,#REF!,15,0),\" \")))","v":{"$error":"#REF!"}},{"$f":"IF($D$12=0,\" \",IF(B89=$D$12,Simulador_v2!$T$32,+IF(B90>0,VLOOKUP(B90,Simulador_v2!$A$33:$AJ$273,20,0),\" \")))","v":1189.0999999999999},{"$f":"IF($D$12=0,\" \",IF(B89=$D$12,#REF!,+IF(B90>0,VLOOKUP(B90,#REF!,20,0),\" \")))","v":{"$error":"#REF!"}},{"$f":"IF($D$12=0,\" \",IF(B89=$D$12,#REF!,+IF(B90>0,VLOOKUP(B90,#REF!,22,0),\" \")))","v":{"$error":"#REF!"}},{"$f":"IF($D$12=0,\" \",IF(B89=$D$12,#REF!,+IF(B90>0,VLOOKUP(B90,#REF!,23,0),\" \")))","v":{"$error":"#REF!"}}]
[null,74,{"$f":"IF($D$12=0,\" \",IF(B90=$D$12,\"TOTALES\",+IF(B91>0,VLOOKUP(B91,#REF!,3,0),\" \")))","v":{"$error":"#REF!"}},{"$f":"IF($D$12=0,\" \",IF(B90=$D$12,#REF!,+IF(B91>0,VLOOKUP(B91,#REF!,13,0),\" \")))","v":{"$error":"#REF!"}},{"$f":"IF($D$12=0,\" \",IF(B90=$D$12,#REF!,+IF(B91>0,VLOOKUP(B91,#REF!,14,0),\" \")))","v":{"$error":"#REF!"}},{"$f":"IF($D$12=0,\" \",IF(B90=$D$12,#REF!,+IF(B91>0,VLOOKUP(B91,#REF!,15,0),\" \")))","v":{"$error":"#REF!"}},{"$f":"IF($D$12=0,\" \",IF(B90=$D$12,Simulador_v2!$T$32,+IF(B91>0,VLOOKUP(B91,Simulador_v2!$A$33:$AJ$273,20,0),\" \")))","v":1180.9100000000001},{"$f":"IF($D$12=0,\" \",IF(B90=$D$12,#REF!,+IF(B91>0,VLOOKUP(B91,#REF!,20,0),\" \")))","v":{"$error":"#REF!"}},{"$f":"IF($D$12=0,\" \",IF(B90=$D$12,#REF!,+IF(B91>0,VLOOKUP(B91,#REF!,22,0),\" \")))","v":{"$error":"#REF!"}},{"$f":"IF($D$12=0,\" \",IF(B90=$D$12,#REF!,+IF(B91>0,VLOOKUP(B91,#REF!,23,0),\" \")))","v":{"$error":"#REF!"}}]
[null,75,{"$f":"IF($D$12=0,\" \",IF(B91=$D$12,\"TOTALES\",+IF(B92>0,VLOOKUP(B92,#REF!,3,0),\" \")))","v":{"$error":"#REF!"}},{"$f":"IF($D$12=0,\" \",IF(B91=$D$12,#REF!,+IF(B92>0,VLOOKUP(B92,#REF!,13,0),\" \")))","v":{"$error":"#REF!"}},{"$f":"IF($D$12=0,\" \",IF(B91=$D$12,#REF!,+IF(B92>0,VLOOKUP(B92,#REF!,14,0),\" \")))","v":{"$error":"#REF!"}},{"$f":"IF($D$12=0,\" \",IF(B91=$D$12,#REF!,+IF(B92>0,VLOOKUP(B92,#REF!,15,0),\" \")))","v":{"$error":"#REF!"}},{"$f":"IF($D$12=0,\" \",IF(B91=$D$12,Simulador_v2!$T$32,+IF(B92>0,VLOOKUP(B92,Simulador_v2!$A$33:$AJ$273,20,0),\" \")))","v":1096.3800000000001},{"$f":"IF($D$12=0,\" \",IF(B91=$D$12,#REF!,+IF(B92>0,VLOOKUP(B92,#REF!,20,0),\" \")))","v":{"$error":"#REF!"}},{"$f":"IF($D$12=0,\" \",IF(B91=$D$12,#REF!,+IF(B92>0,VLOOKUP(B92,#REF!,22,0),\" \")))","v":{"$error":"#REF!"}},{"$f":"IF($D$12=0,\" \",IF(B91=$D$12,#REF!,+IF(B92>0,VLOOKUP(B92,#REF!,23,0),\" \")))","v":{"$error":"#REF!"}}]
[null,76,{"$f":"IF($D$12=0,\" \",IF(B92=$D$12,\"TOTALES\",+IF(B93>0,VLOOKUP(B93,#REF!,3,0),\" \")))","v":{"$error":"#REF!"}},{"$f":"IF($D$12=0,\" \",IF(B92=$D$12,#REF!,+IF(B93>0,VLOOKUP(B93,#REF!,13,0),\" \")))","v":{"$error":"#REF!"}},{"$f":"IF($D$12=0,\" \",IF(B92=$D$12,#REF!,+IF(B93>0,VLOOKUP(B93,#REF!,14,0),\" \")))","v":{"$error":"#REF!"}},{"$f":"IF($D$12=0,\" \",IF(B92=$D$12,#REF!,+IF(B93>0,VLOOKUP(B93,#REF!,15,0),\" \")))","v":{"$error":"#REF!"}},{"$f":"IF($D$12=0,\" \",IF(B92=$D$12,Simulador_v2!$T$32,+IF(B93>0,VLOOKUP(B93,Simulador_v2!$A$33:$AJ$273,20,0),\" \")))","v":1083.3399999999999},{"$f":"IF($D$12=0,\" \",IF(B92=$D$12,#REF!,+IF(B93>0,VLOOKUP(B93,#REF!,20,0),\" \")))","v":{"$error":"#REF!"}},{"$f":"IF($D$12=0,\" \",IF(B92=$D$12,#REF!,+IF(B93>0,VLOOKUP(B93,#REF!,22,0),\" \")))","v":{"$error":"#REF!"}},{"$f":"IF($D$12=0,\" \",IF(B92=$D$12,#REF!,+IF(B93>0,VLOOKUP(B93,#REF!,23,0),\" \")))","v":{"$error":"#REF!"}}]